{"text_format":"1","workbook":"xlsx","n_sheets":9,"sheets":["Instructions","Dashboard","SA Charts","NSA Charts","Monthly","3Month","Historical","NSA","SA"],"not_rendered":{"charts":11,"images":6,"macros":1,"external_links":0,"defined_names":4,"comments":0,"pivot_tables":0},"unopened":[],"bounds":{"document_bytes":16777216,"sheet_cells":100000,"rows_first":2000,"rows_last":500,"rows_between":2000,"halvings":0,"cell_chars":16384,"cell_head_chars":4096},"cells_cut":0,"cells_raw":0,"read":"whole","date_system":"1900"}

{"sheet":"Instructions","index":0,"n_rows":41,"n_cols":3,"rows_kept":41,"cut":false,"hidden":false,"merged":[]}
["CES Dynamic Charts"]
[]
["Tool Instructions:",null,"Do not save under another name - the tool will break.  "]
[]
["Dashboard worksheet:  allows you to navigate to other worksheets in the tool by choosing one of the 5 options (SA Charts, NSA Charts, etc.).  Use green arrows to return to dashboard portal."]
[]
["SA and NSA Charts worksheets:  Use the drop down menus to choose different sectors.  The statistics in the table below it will automatically update."]
["For the number of months, the limit is 100."]
[]
[]
[]
[]
[]
[]
[]
[]
[]
["Enter a month and year to see the level and percentage changes since that date."]
[]
[]
[]
[]
[]
[]
[]
[]
[]
["Enter a start and finish date to see level and percentage changes between those dates."]
[]
[]
[]
[]
[]
[]
[]
[]
[]
["Historical worksheet:  Travel through the years by using the right arrow key on your keyboard, and watch the economic changes develop.  Begin your journey at the far left of the spreadsheet in January 2005."]
["Refer to the color key at the top of the page.  Each cell is color coded to represent how well the sector performed during that time frame."]
["Essentially, red colors show the lowest performance for that sector while blue colors show the best performance for that sector.  The darker color red represents"]
["the lowest 15% of each sector's performance compared to its own historical performance, while the darkest blue color represents the top 15% of its performance."]

{"sheet":"Dashboard","index":1,"n_rows":0,"n_cols":0,"rows_kept":0,"cut":false,"hidden":false,"merged":[]}

{"sheet":"SA Charts","index":2,"n_rows":79,"n_cols":108,"rows_kept":79,"cut":false,"hidden":false,"merged":[[5,2,5,4],[1,12,1,15],[2,9,2,11],[5,12,5,13],[5,5,5,6],[5,7,5,8],[5,10,5,11],[5,14,5,15],[1,2,1,4],[2,2,2,4],[3,2,3,4]]}
[]
[null,"Series 1","Total Nonfarm",null,null,null,null,null,null,null,null,null,"Compare arbitrary dates:"]
[null,"Series 2","Total Private",null,null,null,null,null,null,"Comparison to current month:",null,null,null,"Mo","Yr"]
[null,"Months",48,null,null,null,null,null,null,"Month","Yr",null,"Start",5,2017]
[null,null,null,null,null,null,null,null,null,5,2016,null,"Finish",8,2017]
[null,null,"Current",null,null,"OTM",null,"OTY",null,"Count","Change",null,"Counts",null,"Change"]
[null,null,"Count","% of TNF","% of other","Level","%","Level","%",{"$f":"IF(K5>2000,DATE(K5,J5,1),DATE(2000+K5,J5,1))","v":"2016-05-01"},"Level","%",{"$f":"IF(O4>1999,DATE(O4,N4,1),DATE(1999+O4,N4,1))","v":"2017-05-01"},{"$f":"IF(O5>1999,DATE(O5,N5,1),DATE(1999+O5,N5,1))","v":"2017-08-01"},"Level","%"]
[null,{"$f":"C2","v":"Total Nonfarm"},{"$f":"OFFSET(SA!A1,MATCH(C2,SA!D2:D34,0),COUNTA(SA!1:1)-1,1,1)","v":2958400},{"$f":"OFFSET(SA!A1,MATCH(C2,SA!D2:D34,0),COUNTA(SA!1:1)-1,1,1)/OFFSET(SA!A1,1,COUNTA(SA!1:1)-1,1,1)","v":1},{"$f":"D8/D9","v":1.1632588864422775},{"$f":"OFFSET(SA!A1,MATCH(C2,SA!D2:D34,0),COUNTA(SA!1:1)-1,1,1)-OFFSET(SA!A1,MATCH(C2,SA!D2:D34,0),COUNTA(SA!1:1)-2,1,1)","v":8600},{"$f":"F8/OFFSET(SA!A1,MATCH(C2,SA!D2:D34,0),COUNTA(SA!1:1)-2,1,1)","v":2.9154518950437317E-3},{"$f":"OFFSET(SA!A1,MATCH(C2,SA!D2:D34,0),COUNTA(SA!1:1)-1,1,1)-OFFSET(SA!A1,MATCH(C2,SA!D2:D34,0),COUNTA(SA!1:1)-13,1,1)","v":34600},{"$f":"H8/OFFSET(SA!A1,MATCH(C2,SA!D2:D34,0),COUNTA(SA!1:1)-13,1,1)","v":1.1833914768452015E-2},{"$f":"OFFSET(SA!A1,MATCH(C2,SA!D2:D34,0),MATCH(J7,SA!1:1,0)-1,1,1)","v":2916700},{"$f":"C8-J8","v":41700},{"$f":"K8/OFFSET(SA!A1,MATCH(C2,SA!D2:D34,0),MATCH(J7,SA!1:1,0)-1,1,1)","v":1.4296979463091851E-2},{"$f":"OFFSET(SA!A1,MATCH(C2,SA!D2:D34,0),MATCH(M7,SA!1:1,0)-1,1,1)","v":2956500},{"$f":"OFFSET(SA!A1,MATCH(C2,SA!D2:D34,0),MATCH(N7,SA!1:1,0)-1,1,1)","v":2949800},{"$f":"N8-M8","v":-6700},{"$f":"O8/M8","v":-2.2661931337730422E-3}]
[null,{"$f":"C3","v":"Total Private"},{"$f":"OFFSET(SA!A1,MATCH(C3,SA!D2:D45,0),COUNTA(SA!1:1)-1,1,1)","v":2543200},{"$f":"OFFSET(SA!A1,MATCH(C3,SA!D2:D45,0),COUNTA(SA!1:1)-1,1,1)/OFFSET(SA!A1,1,COUNTA(SA!1:1)-1,1,1)","v":0.85965386695511092},{"$f":"D9/D8","v":0.85965386695511092},{"$f":"OFFSET(SA!A1,MATCH(C3,SA!D2:D45,0),COUNTA(SA!1:1)-1,1,1)-OFFSET(SA!A1,MATCH(C3,SA!D2:D45,0),COUNTA(SA!1:1)-2,1,1)","v":5900},{"$f":"F9/OFFSET(SA!A1,MATCH(C3,SA!D2:D45,0),COUNTA(SA!1:1)-2,1,1)","v":2.3253064280928546E-3},{"$f":"OFFSET(SA!A1,MATCH(C3,SA!D2:D45,0),COUNTA(SA!1:1)-1,1,1)-OFFSET(SA!A1,MATCH(C3,SA!D2:D45,0),COUNTA(SA!1:1)-13,1,1)","v":28800},{"$f":"H9/OFFSET(SA!A1,MATCH(C3,SA!D2:D45,0),COUNTA(SA!1:1)-13,1,1)","v":1.145402481705377E-2},{"$f":"OFFSET(SA!A1,MATCH(C3,SA!D2:D45,0),MATCH(J7,SA!1:1,0)-1,1,1)","v":2509200},{"$f":"C9-J9","v":34000},{"$f":"K9/OFFSET(SA!A1,MATCH(C3,SA!D2:D45,0),MATCH(J7,SA!1:1,0)-1,1,1)","v":1.3550135501355014E-2},{"$f":"OFFSET(SA!A1,MATCH(C3,SA!D2:D34,0),MATCH(M7,SA!1:1,0)-1,1,1)","v":2539000},{"$f":"OFFSET(SA!A1,MATCH(C3,SA!D2:D34,0),MATCH(N7,SA!1:1,0)-1,1,1)","v":2537300},{"$f":"N9-M9","v":-1700},{"$f":"O9/M9","v":-6.6955494289090191E-4}]
[]
[]
[]
[]
[]
[]
[]
[]
[]
[]
[]
[]
[]
[]
[]
[]
[]
[]
[]
[]
[]
[]
[]
[]
[]
[]
[]
[]
[]
[null,{"$f":"CONCATENATE(\"SA \",TRIM(B42),\" / \",TRIM(B43))","v":"SA Total Nonfarm / Total Private"}]
[]
[null,"Month",{"$f":"OFFSET(SA!A1,0,COUNTA(SA!1:1)-'SA Charts'!C4,1,'SA Charts'!C4)","v":"2013-10-01"},"2013-11-01","2013-12-01","2014-01-01","2014-02-01","2014-03-01","2014-04-01","2014-05-01","2014-06-01","2014-07-01","2014-08-01","2014-09-01","2014-10-01","2014-11-01","2014-12-01","2015-01-01","2015-02-01","2015-03-01","2015-04-01","2015-05-01","2015-06-01","2015-07-01","2015-08-01","2015-09-01","2015-10-01","2015-11-01","2015-12-01","2016-01-01","2016-02-01","2016-03-01","2016-04-01","2016-05-01","2016-06-01","2016-07-01","2016-08-01","2016-09-01","2016-10-01","2016-11-01","2016-12-01","2017-01-01","2017-02-01","2017-03-01","2017-04-01","2017-05-01","2017-06-01","2017-07-01","2017-08-01","2017-09-01",{"$error":"#N/A"},{"$error":"#N/A"},{"$error":"#N/A"},{"$error":"#N/A"},{"$error":"#N/A"},{"$error":"#N/A"},{"$error":"#N/A"},{"$error":"#N/A"},{"$error":"#N/A"},{"$error":"#N/A"},{"$error":"#N/A"},{"$error":"#N/A"},{"$error":"#N/A"},{"$error":"#N/A"},{"$error":"#N/A"},{"$error":"#N/A"},{"$error":"#N/A"},{"$error":"#N/A"},{"$error":"#N/A"},{"$error":"#N/A"},{"$error":"#N/A"},{"$error":"#N/A"},{"$error":"#N/A"},{"$error":"#N/A"},{"$error":"#N/A"},{"$error":"#N/A"},{"$error":"#N/A"},{"$error":"#N/A"},{"$error":"#N/A"},{"$error":"#N/A"},{"$error":"#N/A"},{"$error":"#N/A"},{"$error":"#N/A"},{"$error":"#N/A"},{"$error":"#N/A"},{"$error":"#N/A"},{"$error":"#N/A"},{"$error":"#N/A"},{"$error":"#N/A"},{"$error":"#N/A"},{"$error":"#N/A"},{"$error":"#N/A"},{"$error":"#N/A"},{"$error":"#N/A"},{"$error":"#N/A"},{"$error":"#N/A"},{"$error":"#N/A"},{"$error":"#N/A"},{"$error":"#N/A"},{"$error":"#N/A"},{"$error":"#N/A"},{"$error":"#N/A"},{"$error":"#N/A"},{"$error":"#N/A"}]
[null,{"$f":"C2","v":"Total Nonfarm"},{"$f":"OFFSET(SA!A1,MATCH(C2,SA!D2:D34,0),COUNTA(SA!1:1)-'SA Charts'!C4,1,'SA Charts'!C4)","v":2820600},2823400,2826300,2831400,2832700,2836200,2843100,2845700,2852200,2852100,2864400,2862200,2863600,2875800,2870000,2874900,2877800,2882100,2882900,2888100,2890800,2893700,2896600,2896600,2901300,2901600,2907900,2918400,2922600,2923000,2924300,2916700,2916800,2928200,2929100,2923800,2930100,2933800,2934300,2939700,2950800,2947100,2960200,2956500,2951100,2956900,2949800,2958400,{"$error":"#N/A"},{"$error":"#N/A"},{"$error":"#N/A"},{"$error":"#N/A"},{"$error":"#N/A"},{"$error":"#N/A"},{"$error":"#N/A"},{"$error":"#N/A"},{"$error":"#N/A"},{"$error":"#N/A"},{"$error":"#N/A"},{"$error":"#N/A"},{"$error":"#N/A"},{"$error":"#N/A"},{"$error":"#N/A"},{"$error":"#N/A"},{"$error":"#N/A"},{"$error":"#N/A"},{"$error":"#N/A"},{"$error":"#N/A"},{"$error":"#N/A"},{"$error":"#N/A"},{"$error":"#N/A"},{"$error":"#N/A"},{"$error":"#N/A"},{"$error":"#N/A"},{"$error":"#N/A"},{"$error":"#N/A"},{"$error":"#N/A"},{"$error":"#N/A"},{"$error":"#N/A"},{"$error":"#N/A"},{"$error":"#N/A"},{"$error":"#N/A"},{"$error":"#N/A"},{"$error":"#N/A"},{"$error":"#N/A"},{"$error":"#N/A"},{"$error":"#N/A"},{"$error":"#N/A"},{"$error":"#N/A"},{"$error":"#N/A"},{"$error":"#N/A"},{"$error":"#N/A"},{"$error":"#N/A"},{"$error":"#N/A"},{"$error":"#N/A"},{"$error":"#N/A"},{"$error":"#N/A"},{"$error":"#N/A"},{"$error":"#N/A"},{"$error":"#N/A"},{"$error":"#N/A"},{"$error":"#N/A"}]
[null,{"$f":"C3","v":"Total Private"},{"$f":"OFFSET(SA!A1,MATCH(C3,SA!D2:D45,0),COUNTA(SA!1:1)-'SA Charts'!C4,1,'SA Charts'!C4)","v":2409100},2413800,2415600,2419600,2423700,2426000,2432300,2435300,2441200,2440300,2447000,2449200,2451800,2459400,2458800,2465000,2466900,2471700,2472600,2478800,2481300,2485200,2488500,2488400,2493300,2496800,2498900,2508300,2512600,2513200,2513800,2509200,2506900,2515400,2514500,2514400,2514500,2513300,2516100,2526500,2534800,2535600,2541600,2539000,2540300,2539800,2537300,2543200,{"$error":"#N/A"},{"$error":"#N/A"},{"$error":"#N/A"},{"$error":"#N/A"},{"$error":"#N/A"},{"$error":"#N/A"},{"$error":"#N/A"},{"$error":"#N/A"},{"$error":"#N/A"},{"$error":"#N/A"},{"$error":"#N/A"},{"$error":"#N/A"},{"$error":"#N/A"},{"$error":"#N/A"},{"$error":"#N/A"},{"$error":"#N/A"},{"$error":"#N/A"},{"$error":"#N/A"},{"$error":"#N/A"},{"$error":"#N/A"},{"$error":"#N/A"},{"$error":"#N/A"},{"$error":"#N/A"},{"$error":"#N/A"},{"$error":"#N/A"},{"$error":"#N/A"},{"$error":"#N/A"},{"$error":"#N/A"},{"$error":"#N/A"},{"$error":"#N/A"},{"$error":"#N/A"},{"$error":"#N/A"},{"$error":"#N/A"},{"$error":"#N/A"},{"$error":"#N/A"},{"$error":"#N/A"},{"$error":"#N/A"},{"$error":"#N/A"},{"$error":"#N/A"},{"$error":"#N/A"},{"$error":"#N/A"},{"$error":"#N/A"},{"$error":"#N/A"},{"$error":"#N/A"},{"$error":"#N/A"},{"$error":"#N/A"},{"$error":"#N/A"},{"$error":"#N/A"},{"$error":"#N/A"},{"$error":"#N/A"},{"$error":"#N/A"},{"$error":"#N/A"},{"$error":"#N/A"},{"$error":"#N/A"}]
[null,"OTM 1",null,{"$f":"D42-C42","v":2800},{"$f":"E42-D42","v":2900},5100,1300,3500,6900,{"$f":"J42-I42","v":2600},6500,-100,12300,-2200,1400,12200,-5800,4900,2900,4300,800,5200,2700,2900,2900,0,4700,300,6300,10500,4200,400,1300,-7600,100,11400,900,-5300,6300,3700,500,5400,11100,-3700,13100,-3700,-5400,5800,-7100,8600,{"$error":"#N/A"},{"$error":"#N/A"},{"$error":"#N/A"},{"$error":"#N/A"},{"$error":"#N/A"},{"$error":"#N/A"},{"$error":"#N/A"},{"$error":"#N/A"},{"$error":"#N/A"},{"$error":"#N/A"},{"$error":"#N/A"},{"$error":"#N/A"},{"$error":"#N/A"},{"$error":"#N/A"},{"$error":"#N/A"},{"$error":"#N/A"},{"$error":"#N/A"},{"$error":"#N/A"},{"$error":"#N/A"},{"$error":"#N/A"},{"$error":"#N/A"},{"$error":"#N/A"},{"$error":"#N/A"},{"$f":"BV42-BU42","v":{"$error":"#N/A"}},{"$error":"#N/A"},{"$error":"#N/A"},{"$error":"#N/A"},{"$error":"#N/A"},{"$error":"#N/A"},{"$error":"#N/A"},{"$error":"#N/A"},{"$error":"#N/A"},{"$error":"#N/A"},{"$error":"#N/A"},{"$error":"#N/A"},{"$error":"#N/A"},{"$error":"#N/A"},{"$error":"#N/A"},{"$error":"#N/A"},{"$error":"#N/A"},{"$error":"#N/A"},{"$error":"#N/A"},{"$error":"#N/A"},{"$error":"#N/A"},{"$error":"#N/A"},{"$error":"#N/A"},{"$error":"#N/A"},{"$error":"#N/A"},{"$error":"#N/A"},{"$error":"#N/A"},{"$error":"#N/A"},{"$error":"#N/A"},{"$error":"#N/A"},{"$error":"#N/A"}]
[null,"OTM 2",null,4700,1800,4000,4100,2300,6300,{"$f":"J43-I43","v":3000},5900,-900,6700,2200,2600,7600,-600,6200,1900,4800,900,6200,2500,3900,3300,-100,4900,3500,2100,9400,4300,600,600,-4600,-2300,8500,-900,-100,100,-1200,2800,10400,8300,800,6000,-2600,1300,-500,-2500,5900,{"$error":"#N/A"},{"$error":"#N/A"},{"$error":"#N/A"},{"$error":"#N/A"},{"$error":"#N/A"},{"$error":"#N/A"},{"$error":"#N/A"},{"$error":"#N/A"},{"$error":"#N/A"},{"$error":"#N/A"},{"$error":"#N/A"},{"$error":"#N/A"},{"$error":"#N/A"},{"$error":"#N/A"},{"$error":"#N/A"},{"$error":"#N/A"},{"$error":"#N/A"},{"$error":"#N/A"},{"$error":"#N/A"},{"$error":"#N/A"},{"$error":"#N/A"},{"$error":"#N/A"},{"$error":"#N/A"},{"$f":"BV43-BU43","v":{"$error":"#N/A"}},{"$error":"#N/A"},{"$error":"#N/A"},{"$error":"#N/A"},{"$error":"#N/A"},{"$error":"#N/A"},{"$error":"#N/A"},{"$error":"#N/A"},{"$error":"#N/A"},{"$error":"#N/A"},{"$error":"#N/A"},{"$error":"#N/A"},{"$error":"#N/A"},{"$error":"#N/A"},{"$error":"#N/A"},{"$error":"#N/A"},{"$error":"#N/A"},{"$error":"#N/A"},{"$error":"#N/A"},{"$error":"#N/A"},{"$error":"#N/A"},{"$error":"#N/A"},{"$error":"#N/A"},{"$error":"#N/A"},{"$error":"#N/A"},{"$error":"#N/A"},{"$error":"#N/A"},{"$error":"#N/A"},{"$error":"#N/A"},{"$error":"#N/A"},{"$error":"#N/A"}]
[null,"%OTM 1",null,{"$f":"D44/C42*100","v":9.9269658937814642E-2},0.10271304101437982,0.1804479354633266,4.5913682277318638E-2,0.12355703039502947,0.24328326634228897,{"$f":"J44/I42*100","v":9.1449474165523542E-2},0.22841480127912286,-3.5060654933034151E-3,0.43126117597559693,-7.6804915514592939E-2,4.8913423240863674E-2,0.42603715602737813,-0.20168300994505878,0.17073170731707318,0.10087307384604681,0.14941969560080617,2.7757537906387703E-2,0.18037392902979638,9.348706762231225E-2,0.10031825100318252,0.1002177143449563,0,0.1622592004418974,1.0340192327577293E-2,0.21712158808933005,0.36108531930258952,0.14391447368421051,1.368644357763635E-2,4.4474854601436881E-2,-0.25989125602708341,3.4285322453457673E-3,0.39083927591881518,3.0735605491428182E-2,-0.18094295175992625,0.21547301457008006,0.12627555373536739,1.7042743199945466E-2,0.18403026275431961,0.37758954995407695,-0.12538972482038768,0.44450476739845951,-0.12499155462468753,-0.18264840182648401,0.19653688455152316,-0.24011633805674865,0.29154518950437319,{"$error":"#N/A"},{"$error":"#N/A"},{"$error":"#N/A"},{"$error":"#N/A"},{"$error":"#N/A"},{"$error":"#N/A"},{"$error":"#N/A"},{"$error":"#N/A"},{"$error":"#N/A"},{"$error":"#N/A"},{"$error":"#N/A"},{"$error":"#N/A"},{"$error":"#N/A"},{"$error":"#N/A"},{"$error":"#N/A"},{"$error":"#N/A"},{"$error":"#N/A"},{"$error":"#N/A"},{"$error":"#N/A"},{"$error":"#N/A"},{"$error":"#N/A"},{"$error":"#N/A"},{"$error":"#N/A"},{"$f":"BV44/BU42*100","v":{"$error":"#N/A"}},{"$error":"#N/A"},{"$error":"#N/A"},{"$error":"#N/A"},{"$error":"#N/A"},{"$error":"#N/A"},{"$error":"#N/A"},{"$error":"#N/A"},{"$error":"#N/A"},{"$error":"#N/A"},{"$error":"#N/A"},{"$error":"#N/A"},{"$error":"#N/A"},{"$error":"#N/A"},{"$error":"#N/A"},{"$error":"#N/A"},{"$error":"#N/A"},{"$error":"#N/A"},{"$error":"#N/A"},{"$error":"#N/A"},{"$error":"#N/A"},{"$error":"#N/A"},{"$error":"#N/A"},{"$error":"#N/A"},{"$error":"#N/A"},{"$error":"#N/A"},{"$error":"#N/A"},{"$error":"#N/A"},{"$error":"#N/A"},{"$error":"#N/A"},{"$error":"#N/A"}]
[null,"%OTM 2",null,0.19509360342036447,7.4571215510812819E-2,0.16559032952475575,0.16944949578442717,9.4896233032140953E-2,0.25968672712283591,{"$f":"J45/I43*100","v":0.12334004851375241},0.24226994620785941,-3.6867114533835822E-2,0.27455640699913947,8.9906007355946047E-2,0.10615711252653928,0.30997634391059631,-2.439619419370578E-2,0.25215552301935901,7.7079107505070993E-2,0.19457618873890309,3.6412185944896223E-2,0.25074820027501415,0.10085525254155236,0.15717567404183291,0.13278609367455335,-4.0184850311432586E-3,0.19691367947275357,0.14037620823807803,8.4107657801986549E-2,0.37616551282564331,0.17143084957939639,2.3879646581230599E-2,2.3873945567404107E-2,-0.18298989577532024,-9.1662681332695686E-2,0.33906418285531931,-3.5779597678301661E-2,-3.9769337840524959E-3,3.9770919503658922E-3,-4.7723205408629947E-2,0.11140731309433813,0.41333810261913279,0.32851771225014842,3.1560675398453523E-2,0.236630383341221,-0.1022977651872836,5.1201260338716026E-2,-1.9682714640003148E-2,-9.8432947476179228E-2,0.23253064280928545,{"$error":"#N/A"},{"$error":"#N/A"},{"$error":"#N/A"},{"$error":"#N/A"},{"$error":"#N/A"},{"$error":"#N/A"},{"$error":"#N/A"},{"$error":"#N/A"},{"$error":"#N/A"},{"$error":"#N/A"},{"$error":"#N/A"},{"$error":"#N/A"},{"$error":"#N/A"},{"$error":"#N/A"},{"$error":"#N/A"},{"$error":"#N/A"},{"$error":"#N/A"},{"$error":"#N/A"},{"$error":"#N/A"},{"$error":"#N/A"},{"$error":"#N/A"},{"$error":"#N/A"},{"$error":"#N/A"},{"$f":"BV45/BU43*100","v":{"$error":"#N/A"}},{"$error":"#N/A"},{"$error":"#N/A"},{"$error":"#N/A"},{"$error":"#N/A"},{"$error":"#N/A"},{"$error":"#N/A"},{"$error":"#N/A"},{"$error":"#N/A"},{"$error":"#N/A"},{"$error":"#N/A"},{"$error":"#N/A"},{"$error":"#N/A"},{"$error":"#N/A"},{"$error":"#N/A"},{"$error":"#N/A"},{"$error":"#N/A"},{"$error":"#N/A"},{"$error":"#N/A"},{"$error":"#N/A"},{"$error":"#N/A"},{"$error":"#N/A"},{"$error":"#N/A"},{"$error":"#N/A"},{"$error":"#N/A"},{"$error":"#N/A"},{"$error":"#N/A"},{"$error":"#N/A"},{"$error":"#N/A"},{"$error":"#N/A"},{"$error":"#N/A"}]
[null,null,"Used for pop-up menus. -->","None",null,null,null,null,null,null,null,null,null,null,null,null,null,null,null,null,null,null,null,null,null,null,null,null,null,null,null,null,null,null,null,null,null,null,null,null,null,null,null,null,null,null,null,null,null,null,null,null,null,null,null,null,null,null,null,null,null,{"$f":"(BJ42-BI42)/(BB42-BI42)","v":{"$error":"#N/A"}}]
[null,null,"May need to change if",{"$f":"SA!D2","v":"Total Nonfarm"},null,null,null,null,null,null,null,null,null,null,null,null,null,null,null,null,null,null,null,null,null,null,null,null,null,null,null,null,null,null,null,null,null,null,null,null,null,null,null,null,null,null,null,null,null,null,null,null,null,null,null,null,null,null,null,null,null,{"$f":"(BJ43-BI43)/(BB43-BI43)","v":{"$error":"#N/A"}},null,null,null,null,null,null,null,null,null,null,null,null,null,null,null,null,null,null,null,null,null,null,null,null,null,null,null,null,null,null,null,null,null,null,null,null,null,null,null,null,null,null,null,null,null,"`"]
[null,null,"SA sector names change.",{"$f":"SA!D3","v":"Total Private"}]
[null,null,null,{"$f":"SA!D4","v":"Goods Producing"}]
[null,null,null,{"$f":"SA!D5","v":"Service-Providing"},null,null,null,null,null,null,null,null,"<-- Button no longer needed; relevant code called directly when parameter cells change."]
[null,null,null,{"$f":"SA!D6","v":"Private Service Providing"}]
[null,null,null,{"$f":"SA!D7","v":"Mining and Logging"},null,null,null,null,null,null,"Axis range calculations (referenced in axis-manipulation code)"]
[null,null,null,{"$f":"SA!D9","v":"Construction"},null,null,null,null,null,null,"Ave","SD","Min","Max","SDMin","SDMax","AxisSDMin","AxisSDMax","AxisMin","AxisMax"]
[null,null,null,{"$f":"SA!D10","v":"Manufacturing"},null,null,null,null,null,null,{"$f":"AVERAGE(OFFSET($C42,0,0,1,$C$4))","v":2897200},{"$f":"STDEV(OFFSET($C42,0,0,1,$C$4))","v":41716.046200932054},{"$f":"MIN(OFFSET($C42,0,0,1,$C$4))","v":2820600},{"$f":"MAX(OFFSET($C42,0,0,1,$C$4))","v":2960200},{"$f":"(M56-$K56)/$L56","v":-1.8362238748860273},{"$f":"(N56-$K56)/$L56","v":1.5102102365250618},{"$f":"IF(ISNA(O57),FLOOR(O56,0.25),FLOOR(MIN($O$56:$O$57),0.25))","v":-2},{"$f":"IF(ISNA(P57),CEILING(P56,0.25),CEILING(MAX($P$56:$P$57),0.25))","v":1.75},{"$f":"Q56*$L56+$K56","v":2813767.907598136},{"$f":"R56*$L56+$K56","v":2970203.0808516312}]
[null,null,null,{"$f":"SA!D11","v":"Durable Goods"},null,null,null,null,null,null,{"$f":"AVERAGE(OFFSET($C43,0,0,1,$C$4))","v":2485433.3333333335},{"$f":"STDEV(OFFSET($C43,0,0,1,$C$4))","v":40575.69408346097},{"$f":"MIN(OFFSET($C43,0,0,1,$C$4))","v":2409100},{"$f":"MAX(OFFSET($C43,0,0,1,$C$4))","v":2543200},{"$f":"(M57-$K57)/$L57","v":-1.8812576114242656},{"$f":"(N57-$K57)/$L57","v":1.4236766116149506},{"$f":"IF(ISNA(O56),FLOOR(O57,0.25),FLOOR(MIN($O$56:$O$57),0.25))","v":-2},{"$f":"IF(ISNA(P56),CEILING(P57,0.25),CEILING(MAX($P$56:$P$57),0.25))","v":1.75},{"$f":"Q57*$L57+$K57","v":2404281.9451664113},{"$f":"R57*$L57+$K57","v":2556440.7979793902}]
[null,null,null,{"$f":"SA!D12","v":"Non-Durable Goods"}]
[null,null,null,{"$f":"SA!D13","v":"Trade, Transportation, and Utilities"}]
[null,null,null,{"$f":"SA!D14","v":"Wholesale Trade"}]
[null,null,null,{"$f":"SA!D15","v":"Retail Trade"}]
[null,null,null,{"$f":"SA!D16","v":"Transportation, Warehousing, and Utilities"}]
[null,null,null,{"$f":"SA!D17","v":"Information"}]
[null,null,null,{"$f":"SA!D18","v":"Financial Activities"}]
[null,null,null,{"$f":"SA!D19","v":"Real Estate and Rental and Leasing"}]
[null,null,null,{"$f":"SA!D20","v":"Professional and Business Services"}]
[null,null,null,{"$f":"SA!D21","v":"Professional, Scientific, and Technical Services"}]
[null,null,null,{"$f":"SA!D23","v":"Administrative and Support and Waste Management and Remediation Services"}]
[null,null,null,{"$f":"SA!D24","v":"Education and Health Services"}]
[null,null,null,{"$f":"SA!D25","v":"Educational Services"}]
[null,null,null,{"$f":"SA!D26","v":"Health Care and Social Assistance"}]
[null,null,null,{"$f":"SA!D27","v":"Leisure and Hospitality"}]
[null,null,null,{"$f":"SA!D28","v":"Arts, Entertainment, and Recreation"}]
[null,null,null,{"$f":"SA!D29","v":"Accommodation and Food Services"}]
[null,null,null,{"$f":"SA!D30","v":"Other Services"}]
[null,null,null,{"$f":"SA!D31","v":"Government"}]
[null,null,null,{"$f":"SA!D32","v":"Federal Government"}]
[null,null,null,{"$f":"SA!D33","v":"State Government"}]
[null,null,null,{"$f":"SA!D34","v":"Local Government"}]

{"sheet":"NSA Charts","index":3,"n_rows":153,"n_cols":104,"rows_kept":153,"cut":false,"hidden":false,"merged":[[6,15,6,16],[1,2,1,4],[1,13,1,16],[2,2,2,4],[3,2,3,4],[6,2,6,4],[6,5,6,6],[6,7,6,8],[6,13,6,14],[1,6,1,8],[2,6,2,8],[1,10,1,12],[3,5,3,8]]}
[]
[null,"Series 1","Total Nonfarm",null,null,"Series 3","Manufacturing",null,null,null,"Comparison to current month:",null,null,"Compare arbitrary dates:"]
[null,"Series 2","Construction",null,null,"Series 4","Construction",null,null,null,null,null,null,null,"Mo","Yr"]
[null,"Months",48,null,null,null,null,null,null,null,"Month","Yr",null,"Start",5,2017]
[null,null,null,null,null,null,null,null,null,null,5,2016,null,"Finish",8,2017]
[]
[null,null,"Current",null,null,"OTM",null,"OTY",null,{"$f":"B7","v":0},"Count","Change",null,"Counts",null,"Change"]
[null,null,"Count","% of TNF","% of SS","Level","%","Level","%",0,{"$f":"IF(L5>2000,DATE(L5,K5,1),DATE(2000+L5,K5,1))","v":"2016-05-01"},"Level","%",{"$f":"IF(P4>2000,DATE(P4,O4,1),DATE(2000+P4,O4,1))","v":"2017-05-01"},{"$f":"IF(P5>2000,DATE(P5,O5,1),DATE(2000+P5,O5,1))","v":"2017-08-01"},"Level","%"]
[null,{"$f":"C2","v":"Total Nonfarm"},{"$f":"OFFSET(NSA!A1,MATCH(C2,NSA!D2:D89,0),COUNTA(NSA!1:1)+1,1,1)","v":2975500},{"$f":"OFFSET(NSA!A1,MATCH(C2,NSA!D2:D89,0),COUNTA(NSA!1:1),1,1)/OFFSET(NSA!A1,1,COUNTA(NSA!1:1),1,1)","v":1},"SS",{"$f":"OFFSET(NSA!A1,MATCH(C2,NSA!D2:D89,0),COUNTA(NSA!1:1)+1,1,1)-OFFSET(NSA!A1,MATCH(C2,NSA!D2:D89,0),COUNTA(NSA!1:1),1,1)","v":-2000},{"$f":"F9/OFFSET(NSA!C1,MATCH(C2,NSA!D2:D89,0),COUNTA(NSA!1:1)-2,1,1)","v":-6.7170445004198151E-4},{"$f":"OFFSET(NSA!A1,MATCH(C2,NSA!D2:D89,0),COUNTA(NSA!1:1)+1,1,1)-OFFSET(NSA!A1,MATCH(C2,NSA!D2:D89,0),COUNTA(NSA!1:1)-11,1,1)","v":33600},{"$f":"H9/OFFSET(NSA!C1,MATCH(C2,NSA!D2:D89,0),COUNTA(NSA!1:1)-13,1,1)","v":1.1421190387164758E-2},"Total Nonfarm",{"$f":"OFFSET(NSA!A1,MATCH(C2,NSA!D2:D98,0),MATCH(K8,NSA!1:1,0)-1,1,1)","v":2933200},{"$f":"C9-K9","v":42300},{"$f":"L9/OFFSET(NSA!A1,MATCH(C2,NSA!D2:D89,0),MATCH(K8,NSA!1:1,0),1,1)","v":1.4329753717944375E-2},{"$f":"OFFSET(NSA!C1,MATCH(C2,NSA!D2:D89,0),MATCH(N8,NSA!1:1,0)-3,1,1)","v":2968800},{"$f":"OFFSET(NSA!C1,MATCH(C2,NSA!D2:D89,0),MATCH(O8,NSA!1:1,0)-3,1,1)","v":2977500},{"$f":"O9-N9","v":8700},{"$f":"P9/N9","v":2.9304769603880356E-3}]
[null,{"$f":"C3","v":"Construction"},{"$f":"OFFSET(NSA!A1,MATCH(C3,NSA!D2:D89,0),COUNTA(NSA!1:1)+1,1,1)","v":120900},{"$f":"OFFSET(NSA!A1,MATCH(C3,NSA!D2:D89,0),COUNTA(NSA!1:1),1,1)/OFFSET(NSA!A1,1,COUNTA(NSA!1:1),1,1)","v":4.1544920235096559E-2},{"$f":"C10/C9","v":4.0631826583767433E-2},{"$f":"OFFSET(NSA!A1,MATCH(C3,NSA!D2:D89,0),COUNTA(NSA!1:1)+1,1,1)-OFFSET(NSA!A1,MATCH(C3,NSA!D2:D89,0),COUNTA(NSA!1:1),1,1)","v":-2800},{"$f":"F10/OFFSET(NSA!C1,MATCH(C3,NSA!D2:D89,0),COUNTA(NSA!1:1)-2,1,1)","v":-2.2635408245755859E-2},{"$f":"OFFSET(NSA!A1,MATCH(C3,NSA!D2:D89,0),COUNTA(NSA!1:1)+1,1,1)-OFFSET(NSA!A1,MATCH(C3,NSA!D2:D89,0),COUNTA(NSA!1:1)-11,1,1)","v":2000},{"$f":"H10/OFFSET(NSA!C1,MATCH(C3,NSA!D2:D89,0),COUNTA(NSA!1:1)-13,1,1)","v":1.6820857863751051E-2},"Construction",{"$f":"OFFSET(NSA!A1,MATCH(C3,NSA!D2:D89,0),MATCH(K8,NSA!1:1,0)-1,1,1)","v":114700},{"$f":"C10-K10","v":6200},{"$f":"L10/OFFSET(NSA!A1,MATCH(C3,NSA!D2:D89,0),MATCH(K8,NSA!1:1,0),1,1)","v":5.1882845188284517E-2},{"$f":"OFFSET(NSA!C1,MATCH(C3,NSA!D2:D89,0),MATCH(N8,NSA!1:1,0)-3,1,1)","v":117100},{"$f":"OFFSET(NSA!C1,MATCH(C3,NSA!D2:D89,0),MATCH(O8,NSA!1:1,0)-3,1,1)","v":123700},{"$f":"O10-N10","v":6600},{"$f":"P10/N10","v":5.6362083689154567E-2}]
[null,{"$f":"G2","v":"Manufacturing"},{"$f":"OFFSET(NSA!A1,MATCH(G2,NSA!D2:D89,0),COUNTA(NSA!1:1)+1,1,1)","v":476000},{"$f":"OFFSET(NSA!A1,MATCH(G2,NSA!D2:D89,0),COUNTA(NSA!1:1),1,1)/OFFSET(NSA!A1,1,COUNTA(NSA!1:1),1,1)","v":0.16174643157010915},{"$f":"C11/C9","v":0.15997311376239287},{"$f":"OFFSET(NSA!A1,MATCH(G2,NSA!D2:D89,0),COUNTA(NSA!1:1)+1,1,1)-OFFSET(NSA!A1,MATCH(G2,NSA!D2:D89,0),COUNTA(NSA!1:1),1,1)","v":-5600},{"$f":"F11/OFFSET(NSA!C1,MATCH(G2,NSA!D2:D89,0),COUNTA(NSA!1:1)-2,1,1)","v":-1.1627906976744186E-2},{"$f":"OFFSET(NSA!A1,MATCH(G2,NSA!D2:D89,0),COUNTA(NSA!1:1)+1,1,1)-OFFSET(NSA!A1,MATCH(G2,NSA!D2:D89,0),COUNTA(NSA!1:1)-11,1,1)","v":10600},{"$f":"H11/OFFSET(NSA!C1,MATCH(G2,NSA!D2:D89,0),COUNTA(NSA!1:1)-13,1,1)","v":2.2776106574989255E-2},"Manufacturing",{"$f":"OFFSET(NSA!A1,MATCH(G2,NSA!D2:D89,0),MATCH(K8,NSA!1:1,0)-1,1,1)","v":462400},13600,{"$f":"L11/OFFSET(NSA!A1,MATCH(G2,NSA!D2:D89,0),MATCH(K8,NSA!1:1,0),1,1)","v":2.8942328154926582E-2},{"$f":"OFFSET(NSA!C1,MATCH(G2,NSA!D2:D89,0),MATCH(N8,NSA!1:1,0)-3,1,1)","v":470400},{"$f":"OFFSET(NSA!C1,MATCH(G2,NSA!D2:D89,0),MATCH(O8,NSA!1:1,0)-3,1,1)","v":481600},{"$f":"O11-N11","v":11200},{"$f":"P11/N11","v":2.3809523809523808E-2}]
[null,{"$f":"G3","v":"Construction"},{"$f":"OFFSET(NSA!A1,MATCH(G3,NSA!D2:D89,0),COUNTA(NSA!1:1)+1,1,1)","v":120900},{"$f":"OFFSET(NSA!A1,MATCH(G3,NSA!D2:D89,0),COUNTA(NSA!1:1),1,1)/OFFSET(NSA!A1,1,COUNTA(NSA!1:1),1,1)","v":4.1544920235096559E-2},{"$f":"C12/C9","v":4.0631826583767433E-2},{"$f":"OFFSET(NSA!A1,MATCH(G3,NSA!D2:D89,0),COUNTA(NSA!1:1)+1,1,1)-OFFSET(NSA!A1,MATCH(G3,NSA!D2:D89,0),COUNTA(NSA!1:1),1,1)","v":-2800},{"$f":"F12/OFFSET(NSA!C1,MATCH(G3,NSA!D2:D89,0),COUNTA(NSA!1:1)-2,1,1)","v":-2.2635408245755859E-2},{"$f":"OFFSET(NSA!A1,MATCH(G3,NSA!D2:D89,0),COUNTA(NSA!1:1)+1,1,1)-OFFSET(NSA!A1,MATCH(G3,NSA!D2:D89,0),COUNTA(NSA!1:1)-11,1,1)","v":2000},{"$f":"H12/OFFSET(NSA!C1,MATCH(G3,NSA!D2:D89,0),COUNTA(NSA!1:1)-13,1,1)","v":1.6820857863751051E-2},"Construction",{"$f":"OFFSET(NSA!A1,MATCH(G3,NSA!D2:D89,0),MATCH(K8,NSA!1:1,0)-1,1,1)","v":114700},6200,{"$f":"L12/OFFSET(NSA!A1,MATCH(G3,NSA!D2:D89,0),MATCH(K8,NSA!1:1,0),1,1)","v":5.1882845188284517E-2},{"$f":"OFFSET(NSA!C1,MATCH(G3,NSA!D2:D89,0),MATCH(N8,NSA!1:1,0)-3,1,1)","v":117100},{"$f":"OFFSET(NSA!C1,MATCH(G3,NSA!D2:D89,0),MATCH(O8,NSA!1:1,0)-3,1,1)","v":123700},{"$f":"O12-N12","v":6600},{"$f":"P12/N12","v":5.6362083689154567E-2}]
[]
[]
[]
[]
[]
[]
[]
[]
[]
[]
[]
[]
[]
[]
[]
[]
[]
[]
[]
[]
[]
[]
[]
[]
[]
[]
[]
[]
[]
[]
[]
[]
[]
[]
[]
[]
[]
[]
[]
[]
[]
[]
[null,{"$f":"CONCATENATE(\"NSA \",TRIM(B57),\" / \",TRIM(B58))","v":"NSA Total Nonfarm / Construction"},0,{"$f":"C55+1","v":1},{"$f":"D55+1","v":2},{"$f":"E55+1","v":3},4,5,6,7,8,9,10,11,12,13,14,15,16,17,18,19,20,21,22,23,24,25,26,27,28,29,30,31,32,33,34,35,36,37,38,39,40,41,42,43,44,45,46,47,48,49,50,51,52,53,54,55,56,57,58,59,60,61,62,63,64,65,66,{"$f":"BQ55+1","v":67},68,69,70,71,72,73,74,75,76,77,78,79,80,81,82,83,84,85,86,87,88,89,90,91,92,93,94,95,96,97,98,99,100,101]
[null,"Month",{"$f":"OFFSET(SA!A1,0,COUNTA(SA!1:1)-'NSA Charts'!C4,1,'NSA Charts'!C4)","v":"2013-10-01"},"2013-11-01","2013-12-01","2014-01-01","2014-02-01","2014-03-01","2014-04-01","2014-05-01","2014-06-01","2014-07-01","2014-08-01","2014-09-01","2014-10-01","2014-11-01","2014-12-01","2015-01-01","2015-02-01","2015-03-01","2015-04-01","2015-05-01","2015-06-01","2015-07-01","2015-08-01","2015-09-01","2015-10-01","2015-11-01","2015-12-01","2016-01-01","2016-02-01","2016-03-01","2016-04-01","2016-05-01","2016-06-01","2016-07-01","2016-08-01","2016-09-01","2016-10-01","2016-11-01","2016-12-01","2017-01-01","2017-02-01","2017-03-01","2017-04-01","2017-05-01","2017-06-01","2017-07-01","2017-08-01","2017-09-01",{"$error":"#N/A"},{"$error":"#N/A"},{"$error":"#N/A"},{"$error":"#N/A"},{"$error":"#N/A"},{"$error":"#N/A"},{"$error":"#N/A"},{"$error":"#N/A"},{"$error":"#N/A"},{"$error":"#N/A"},{"$error":"#N/A"},{"$error":"#N/A"},{"$error":"#N/A"},{"$error":"#N/A"},{"$error":"#N/A"},{"$error":"#N/A"},{"$error":"#N/A"},{"$error":"#N/A"},{"$error":"#N/A"},{"$error":"#N/A"},{"$error":"#N/A"},{"$error":"#N/A"},{"$error":"#N/A"},{"$error":"#N/A"},{"$error":"#N/A"},{"$error":"#N/A"},{"$error":"#N/A"},{"$error":"#N/A"},{"$error":"#N/A"},{"$error":"#N/A"},{"$error":"#N/A"},{"$error":"#N/A"},{"$error":"#N/A"},{"$error":"#N/A"},{"$error":"#N/A"},{"$error":"#N/A"},{"$error":"#N/A"},{"$error":"#N/A"},{"$error":"#N/A"},{"$error":"#N/A"},{"$error":"#N/A"},{"$error":"#N/A"},{"$error":"#N/A"},{"$error":"#N/A"},{"$error":"#N/A"},{"$error":"#N/A"},{"$error":"#N/A"},{"$error":"#N/A"},{"$error":"#N/A"},{"$error":"#N/A"},{"$error":"#N/A"},{"$error":"#N/A"},{"$error":"#N/A"},{"$error":"#N/A"}]
[null,{"$f":"C2","v":"Total Nonfarm"},{"$f":"OFFSET(NSA!$C$1,MATCH($C$2,NSA!$D$2:$D$89,0),COUNTA(NSA!1:1)-($C$4-C$55))","v":2849800},{"$f":"OFFSET(NSA!$C$1,MATCH($C$2,NSA!$D$2:$D$89,0),COUNTA(NSA!1:1)-($C$4-D$55))","v":2853400},{"$f":"OFFSET(NSA!$C$1,MATCH($C$2,NSA!$D$2:$D$88,0),COUNTA(NSA!1:1)-($C$4-E55))","v":2847000},{"$f":"OFFSET(NSA!$C$1,MATCH($C$2,NSA!$D$2:$D$88,0),COUNTA(NSA!1:1)-($C$4-F55))","v":2761800},{"$f":"OFFSET(NSA!$C$1,MATCH($C$2,NSA!$D$2:$D$88,0),COUNTA(NSA!1:1)-($C$4-G55))","v":2778500},{"$f":"OFFSET(NSA!$C$1,MATCH($C$2,NSA!$D$2:$D$88,0),COUNTA(NSA!1:1)-($C$4-H55))","v":2792100},{"$f":"OFFSET(NSA!$C$1,MATCH($C$2,NSA!$D$2:$D$88,0),COUNTA(NSA!1:1)-($C$4-I55))","v":2827800},{"$f":"OFFSET(NSA!$C$1,MATCH($C$2,NSA!$D$2:$D$88,0),COUNTA(NSA!1:1)-($C$4-J55))","v":2863000},{"$f":"OFFSET(NSA!$C$1,MATCH($C$2,NSA!$D$2:$D$88,0),COUNTA(NSA!1:1)-($C$4-K55))","v":2888600},{"$f":"OFFSET(NSA!$C$1,MATCH($C$2,NSA!$D$2:$D$88,0),COUNTA(NSA!1:1)-($C$4-L55))","v":2867000},{"$f":"OFFSET(NSA!$C$1,MATCH($C$2,NSA!$D$2:$D$88,0),COUNTA(NSA!1:1)-($C$4-M55))","v":2880300},{"$f":"OFFSET(NSA!$C$1,MATCH($C$2,NSA!$D$2:$D$88,0),COUNTA(NSA!1:1)-($C$4-N55))","v":2881700},{"$f":"OFFSET(NSA!$C$1,MATCH($C$2,NSA!$D$2:$D$88,0),COUNTA(NSA!1:1)-($C$4-O55))","v":2892900},{"$f":"OFFSET(NSA!$C$1,MATCH($C$2,NSA!$D$2:$D$88,0),COUNTA(NSA!1:1)-($C$4-P55))","v":2902800},{"$f":"OFFSET(NSA!$C$1,MATCH($C$2,NSA!$D$2:$D$88,0),COUNTA(NSA!1:1)-($C$4-Q55))","v":2891100},{"$f":"OFFSET(NSA!$C$1,MATCH($C$2,NSA!$D$2:$D$88,0),COUNTA(NSA!1:1)-($C$4-R55))","v":2805000},{"$f":"OFFSET(NSA!$C$1,MATCH($C$2,NSA!$D$2:$D$88,0),COUNTA(NSA!1:1)-($C$4-S55))","v":2824400},{"$f":"OFFSET(NSA!$C$1,MATCH($C$2,NSA!$D$2:$D$88,0),COUNTA(NSA!1:1)-($C$4-T55))","v":2838100},{"$f":"OFFSET(NSA!$C$1,MATCH($C$2,NSA!$D$2:$D$88,0),COUNTA(NSA!1:1)-($C$4-U55))","v":2877300},{"$f":"OFFSET(NSA!$C$1,MATCH($C$2,NSA!$D$2:$D$88,0),COUNTA(NSA!1:1)-($C$4-V55))","v":2905400},{"$f":"OFFSET(NSA!$C$1,MATCH($C$2,NSA!$D$2:$D$88,0),COUNTA(NSA!1:1)-($C$4-W55))","v":2927300},{"$f":"OFFSET(NSA!$C$1,MATCH($C$2,NSA!$D$2:$D$88,0),COUNTA(NSA!1:1)-($C$4-X55))","v":2911000},{"$f":"OFFSET(NSA!$C$1,MATCH($C$2,NSA!$D$2:$D$88,0),COUNTA(NSA!1:1)-($C$4-Y55))","v":2912900},{"$f":"OFFSET(NSA!$C$1,MATCH($C$2,NSA!$D$2:$D$88,0),COUNTA(NSA!1:1)-($C$4-Z55))","v":2915400},{"$f":"OFFSET(NSA!$C$1,MATCH($C$2,NSA!$D$2:$D$88,0),COUNTA(NSA!1:1)-($C$4-AA55))","v":2929700},{"$f":"OFFSET(NSA!$C$1,MATCH($C$2,NSA!$D$2:$D$88,0),COUNTA(NSA!1:1)-($C$4-AB55))","v":2928300},{"$f":"OFFSET(NSA!$C$1,MATCH($C$2,NSA!$D$2:$D$88,0),COUNTA(NSA!1:1)-($C$4-AC55))","v":2928900},{"$f":"OFFSET(NSA!$C$1,MATCH($C$2,NSA!$D$2:$D$88,0),COUNTA(NSA!1:1)-($C$4-AD55))","v":2847900},{"$f":"OFFSET(NSA!$C$1,MATCH($C$2,NSA!$D$2:$D$88,0),COUNTA(NSA!1:1)-($C$4-AE55))","v":2868700},{"$f":"OFFSET(NSA!$C$1,MATCH($C$2,NSA!$D$2:$D$88,0),COUNTA(NSA!1:1)-($C$4-AF55))","v":2878500},{"$f":"OFFSET(NSA!$C$1,MATCH($C$2,NSA!$D$2:$D$88,0),COUNTA(NSA!1:1)-($C$4-AG55))","v":2919100},{"$f":"OFFSET(NSA!$C$1,MATCH($C$2,NSA!$D$2:$D$88,0),COUNTA(NSA!1:1)-($C$4-AH55))","v":2933200},{"$f":"OFFSET(NSA!$C$1,MATCH($C$2,NSA!$D$2:$D$88,0),COUNTA(NSA!1:1)-($C$4-AI55))","v":2951900},{"$f":"OFFSET(NSA!$C$1,MATCH($C$2,NSA!$D$2:$D$88,0),COUNTA(NSA!1:1)-($C$4-AJ55))","v":2945000},{"$f":"OFFSET(NSA!$C$1,MATCH($C$2,NSA!$D$2:$D$88,0),COUNTA(NSA!1:1)-($C$4-AK55))","v":2946400},{"$f":"OFFSET(NSA!$C$1,MATCH($C$2,NSA!$D$2:$D$88,0),COUNTA(NSA!1:1)-($C$4-AL55))","v":2941900},{"$f":"OFFSET(NSA!$C$1,MATCH($C$2,NSA!$D$2:$D$88,0),COUNTA(NSA!1:1)-($C$4-AM55))","v":2961600},{"$f":"OFFSET(NSA!$C$1,MATCH($C$2,NSA!$D$2:$D$88,0),COUNTA(NSA!1:1)-($C$4-AN55))","v":2961200},{"$f":"OFFSET(NSA!$C$1,MATCH($C$2,NSA!$D$2:$D$88,0),COUNTA(NSA!1:1)-($C$4-AO55))","v":2935200},{"$f":"OFFSET(NSA!$C$1,MATCH($C$2,NSA!$D$2:$D$88,0),COUNTA(NSA!1:1)-($C$4-AP55))","v":2874000},{"$f":"OFFSET(NSA!$C$1,MATCH($C$2,NSA!$D$2:$D$88,0),COUNTA(NSA!1:1)-($C$4-AQ55))","v":2897600},{"$f":"OFFSET(NSA!$C$1,MATCH($C$2,NSA!$D$2:$D$88,0),COUNTA(NSA!1:1)-($C$4-AR55))","v":2901900},{"$f":"OFFSET(NSA!$C$1,MATCH($C$2,NSA!$D$2:$D$88,0),COUNTA(NSA!1:1)-($C$4-AS55))","v":2939800},{"$f":"OFFSET(NSA!$C$1,MATCH($C$2,NSA!$D$2:$D$88,0),COUNTA(NSA!1:1)-($C$4-AT55))","v":2968800},{"$f":"OFFSET(NSA!$C$1,MATCH($C$2,NSA!$D$2:$D$88,0),COUNTA(NSA!1:1)-($C$4-AU55))","v":2992200},{"$f":"OFFSET(NSA!$C$1,MATCH($C$2,NSA!$D$2:$D$88,0),COUNTA(NSA!1:1)-($C$4-AV55))","v":2979300},{"$f":"OFFSET(NSA!$C$1,MATCH($C$2,NSA!$D$2:$D$88,0),COUNTA(NSA!1:1)-($C$4-AW55))","v":2977500},{"$f":"OFFSET(NSA!$C$1,MATCH($C$2,NSA!$D$2:$D$89,0),COUNTA(NSA!1:1)-($C$4-AX55))","v":2975500},{"$f":"OFFSET(NSA!$C$1,MATCH($C$2,NSA!$D$2:$D$88,0),COUNTA(NSA!1:1)-($C$4-AY55))","v":0},{"$f":"OFFSET(NSA!$C$1,MATCH($C$2,NSA!$D$2:$D$88,0),COUNTA(NSA!1:1)-($C$4-AZ55))","v":0},{"$f":"OFFSET(NSA!$C$1,MATCH($C$2,NSA!$D$2:$D$88,0),COUNTA(NSA!1:1)-($C$4-BA55))","v":0},{"$f":"OFFSET(NSA!$C$1,MATCH($C$2,NSA!$D$2:$D$88,0),COUNTA(NSA!1:1)-($C$4-BB55))","v":0},{"$f":"OFFSET(NSA!$C$1,MATCH($C$2,NSA!$D$2:$D$88,0),COUNTA(NSA!1:1)-($C$4-BC55))","v":0},{"$f":"OFFSET(NSA!$C$1,MATCH($C$2,NSA!$D$2:$D$88,0),COUNTA(NSA!1:1)-($C$4-BD55))","v":0},{"$f":"OFFSET(NSA!$C$1,MATCH($C$2,NSA!$D$2:$D$88,0),COUNTA(NSA!1:1)-($C$4-BE55))","v":0},{"$f":"OFFSET(NSA!$C$1,MATCH($C$2,NSA!$D$2:$D$88,0),COUNTA(NSA!1:1)-($C$4-BF55))","v":0},{"$f":"OFFSET(NSA!$C$1,MATCH($C$2,NSA!$D$2:$D$88,0),COUNTA(NSA!1:1)-($C$4-BG55))","v":0},{"$f":"OFFSET(NSA!$C$1,MATCH($C$2,NSA!$D$2:$D$88,0),COUNTA(NSA!1:1)-($C$4-BH55))","v":0},{"$f":"OFFSET(NSA!$C$1,MATCH($C$2,NSA!$D$2:$D$88,0),COUNTA(NSA!1:1)-($C$4-BI55))","v":0},{"$f":"OFFSET(NSA!$C$1,MATCH($C$2,NSA!$D$2:$D$88,0),COUNTA(NSA!1:1)-($C$4-BJ55))","v":0},{"$f":"OFFSET(NSA!$C$1,MATCH($C$2,NSA!$D$2:$D$88,0),COUNTA(NSA!1:1)-($C$4-BK55))","v":0},{"$f":"OFFSET(NSA!$C$1,MATCH($C$2,NSA!$D$2:$D$88,0),COUNTA(NSA!1:1)-($C$4-BL55))","v":0},{"$f":"OFFSET(NSA!$C$1,MATCH($C$2,NSA!$D$2:$D$88,0),COUNTA(NSA!1:1)-($C$4-BM55))","v":0},{"$f":"OFFSET(NSA!$C$1,MATCH($C$2,NSA!$D$2:$D$88,0),COUNTA(NSA!1:1)-($C$4-BN55))","v":0},{"$f":"OFFSET(NSA!$C$1,MATCH($C$2,NSA!$D$2:$D$88,0),COUNTA(NSA!1:1)-($C$4-BO55))","v":0},{"$f":"OFFSET(NSA!$C$1,MATCH($C$2,NSA!$D$2:$D$88,0),COUNTA(NSA!1:1)-($C$4-BP55))","v":0},{"$f":"OFFSET(NSA!$C$1,MATCH($C$2,NSA!$D$2:$D$88,0),COUNTA(NSA!1:1)-($C$4-BQ55))","v":0},{"$f":"OFFSET(NSA!$C$1,MATCH($C$2,NSA!$D$2:$D$88,0),COUNTA(NSA!1:1)-($C$4-BR55))","v":0},{"$f":"OFFSET(NSA!$C$1,MATCH($C$2,NSA!$D$2:$D$88,0),COUNTA(NSA!1:1)-($C$4-BS55))","v":0},{"$f":"OFFSET(NSA!$C$1,MATCH($C$2,NSA!$D$2:$D$88,0),COUNTA(NSA!1:1)-($C$4-BT55))","v":0},{"$f":"OFFSET(NSA!$C$1,MATCH($C$2,NSA!$D$2:$D$88,0),COUNTA(NSA!1:1)-($C$4-BU55))","v":0},{"$f":"OFFSET(NSA!$C$1,MATCH($C$2,NSA!$D$2:$D$88,0),COUNTA(NSA!1:1)-($C$4-BV55))","v":0},{"$f":"OFFSET(NSA!$C$1,MATCH($C$2,NSA!$D$2:$D$88,0),COUNTA(NSA!1:1)-($C$4-BW55))","v":0},{"$f":"OFFSET(NSA!$C$1,MATCH($C$2,NSA!$D$2:$D$88,0),COUNTA(NSA!1:1)-($C$4-BX55))","v":0},{"$f":"OFFSET(NSA!$C$1,MATCH($C$2,NSA!$D$2:$D$88,0),COUNTA(NSA!1:1)-($C$4-BY55))","v":0},{"$f":"OFFSET(NSA!$C$1,MATCH($C$2,NSA!$D$2:$D$88,0),COUNTA(NSA!1:1)-($C$4-BZ55))","v":0},{"$f":"OFFSET(NSA!$C$1,MATCH($C$2,NSA!$D$2:$D$88,0),COUNTA(NSA!1:1)-($C$4-CA55))","v":0},{"$f":"OFFSET(NSA!$C$1,MATCH($C$2,NSA!$D$2:$D$88,0),COUNTA(NSA!1:1)-($C$4-CB55))","v":0},{"$f":"OFFSET(NSA!$C$1,MATCH($C$2,NSA!$D$2:$D$88,0),COUNTA(NSA!1:1)-($C$4-CC55))","v":0},{"$f":"OFFSET(NSA!$C$1,MATCH($C$2,NSA!$D$2:$D$88,0),COUNTA(NSA!1:1)-($C$4-CD55))","v":0},{"$f":"OFFSET(NSA!$C$1,MATCH($C$2,NSA!$D$2:$D$88,0),COUNTA(NSA!1:1)-($C$4-CE55))","v":0},{"$f":"OFFSET(NSA!$C$1,MATCH($C$2,NSA!$D$2:$D$88,0),COUNTA(NSA!1:1)-($C$4-CF55))","v":0},{"$f":"OFFSET(NSA!$C$1,MATCH($C$2,NSA!$D$2:$D$88,0),COUNTA(NSA!1:1)-($C$4-CG55))","v":0},{"$f":"OFFSET(NSA!$C$1,MATCH($C$2,NSA!$D$2:$D$88,0),COUNTA(NSA!1:1)-($C$4-CH55))","v":0},{"$f":"OFFSET(NSA!$C$1,MATCH($C$2,NSA!$D$2:$D$88,0),COUNTA(NSA!1:1)-($C$4-CI55))","v":0},{"$f":"OFFSET(NSA!$C$1,MATCH($C$2,NSA!$D$2:$D$88,0),COUNTA(NSA!1:1)-($C$4-CJ55))","v":0},{"$f":"OFFSET(NSA!$C$1,MATCH($C$2,NSA!$D$2:$D$88,0),COUNTA(NSA!1:1)-($C$4-CK55))","v":0},{"$f":"OFFSET(NSA!$C$1,MATCH($C$2,NSA!$D$2:$D$88,0),COUNTA(NSA!1:1)-($C$4-CL55))","v":0},{"$f":"OFFSET(NSA!$C$1,MATCH($C$2,NSA!$D$2:$D$88,0),COUNTA(NSA!1:1)-($C$4-CM55))","v":0},{"$f":"OFFSET(NSA!$C$1,MATCH($C$2,NSA!$D$2:$D$88,0),COUNTA(NSA!1:1)-($C$4-CN55))","v":0},{"$f":"OFFSET(NSA!$C$1,MATCH($C$2,NSA!$D$2:$D$88,0),COUNTA(NSA!1:1)-($C$4-CO55))","v":0},{"$f":"OFFSET(NSA!$C$1,MATCH($C$2,NSA!$D$2:$D$88,0),COUNTA(NSA!1:1)-($C$4-CP55))","v":0},{"$f":"OFFSET(NSA!$C$1,MATCH($C$2,NSA!$D$2:$D$88,0),COUNTA(NSA!1:1)-($C$4-CQ55))","v":0},{"$f":"OFFSET(NSA!$C$1,MATCH($C$2,NSA!$D$2:$D$88,0),COUNTA(NSA!1:1)-($C$4-CR55))","v":0},{"$f":"OFFSET(NSA!$C$1,MATCH($C$2,NSA!$D$2:$D$88,0),COUNTA(NSA!1:1)-($C$4-CS55))","v":0},{"$f":"OFFSET(NSA!$C$1,MATCH($C$2,NSA!$D$2:$D$88,0),COUNTA(NSA!1:1)-($C$4-CT55))","v":0},{"$f":"OFFSET(NSA!$C$1,MATCH($C$2,NSA!$D$2:$D$88,0),COUNTA(NSA!1:1)-($C$4-CU55))","v":0},{"$f":"OFFSET(NSA!$C$1,MATCH($C$2,NSA!$D$2:$D$88,0),COUNTA(NSA!1:1)-($C$4-CV55))","v":0},{"$f":"OFFSET(NSA!$C$1,MATCH($C$2,NSA!$D$2:$D$88,0),COUNTA(NSA!1:1)-($C$4-CW55))","v":0},{"$f":"OFFSET(NSA!$C$1,MATCH($C$2,NSA!$D$2:$D$88,0),COUNTA(NSA!1:1)-($C$4-CX55))","v":0},{"$f":"OFFSET(NSA!$C$1,MATCH($C$2,NSA!$D$2:$D$88,0),COUNTA(NSA!1:1)-($C$4-CY55))","v":0},{"$f":"OFFSET(NSA!$C$1,MATCH($C$2,NSA!$D$2:$D$88,0),COUNTA(NSA!1:1)-($C$4-CZ55))","v":0}]
[null,{"$f":"C3","v":"Construction"},{"$f":"OFFSET(NSA!$C$1,MATCH($C$3,NSA!$D$2:$D$89,0),COUNTA(NSA!1:1)-($C$4-C$55))","v":107200},{"$f":"OFFSET(NSA!$C$1,MATCH($C$3,NSA!$D$2:$D$88,0),COUNTA(NSA!1:1)-($C$4-D$55))","v":104400},{"$f":"OFFSET(NSA!$C$1,MATCH($C$3,NSA!$D$2:$D$88,0),COUNTA(NSA!1:1)-($C$4-E$55))","v":96100},{"$f":"OFFSET(NSA!$C$1,MATCH($C$3,NSA!$D$2:$D$88,0),COUNTA(NSA!1:1)-($C$4-F$55))","v":87100},{"$f":"OFFSET(NSA!$C$1,MATCH($C$3,NSA!$D$2:$D$88,0),COUNTA(NSA!1:1)-($C$4-G$55))","v":86200},{"$f":"OFFSET(NSA!$C$1,MATCH($C$3,NSA!$D$2:$D$88,0),COUNTA(NSA!1:1)-($C$4-H$55))","v":89100},{"$f":"OFFSET(NSA!$C$1,MATCH($C$3,NSA!$D$2:$D$88,0),COUNTA(NSA!1:1)-($C$4-I$55))","v":96200},{"$f":"OFFSET(NSA!$C$1,MATCH($C$3,NSA!$D$2:$D$88,0),COUNTA(NSA!1:1)-($C$4-J$55))","v":105200},{"$f":"OFFSET(NSA!$C$1,MATCH($C$3,NSA!$D$2:$D$88,0),COUNTA(NSA!1:1)-($C$4-K$55))","v":111700},{"$f":"OFFSET(NSA!$C$1,MATCH($C$3,NSA!$D$2:$D$88,0),COUNTA(NSA!1:1)-($C$4-L$55))","v":114100},{"$f":"OFFSET(NSA!$C$1,MATCH($C$3,NSA!$D$2:$D$88,0),COUNTA(NSA!1:1)-($C$4-M$55))","v":115100},{"$f":"OFFSET(NSA!$C$1,MATCH($C$3,NSA!$D$2:$D$88,0),COUNTA(NSA!1:1)-($C$4-N$55))","v":113000},{"$f":"OFFSET(NSA!$C$1,MATCH($C$3,NSA!$D$2:$D$88,0),COUNTA(NSA!1:1)-($C$4-O$55))","v":112500},{"$f":"OFFSET(NSA!$C$1,MATCH($C$3,NSA!$D$2:$D$88,0),COUNTA(NSA!1:1)-($C$4-P$55))","v":109400},{"$f":"OFFSET(NSA!$C$1,MATCH($C$3,NSA!$D$2:$D$88,0),COUNTA(NSA!1:1)-($C$4-Q$55))","v":103100},{"$f":"OFFSET(NSA!$C$1,MATCH($C$3,NSA!$D$2:$D$88,0),COUNTA(NSA!1:1)-($C$4-R$55))","v":94400},{"$f":"OFFSET(NSA!$C$1,MATCH($C$3,NSA!$D$2:$D$88,0),COUNTA(NSA!1:1)-($C$4-S$55))","v":93200},{"$f":"OFFSET(NSA!$C$1,MATCH($C$3,NSA!$D$2:$D$88,0),COUNTA(NSA!1:1)-($C$4-T$55))","v":95500},{"$f":"OFFSET(NSA!$C$1,MATCH($C$3,NSA!$D$2:$D$88,0),COUNTA(NSA!1:1)-($C$4-U$55))","v":105700},{"$f":"OFFSET(NSA!$C$1,MATCH($C$3,NSA!$D$2:$D$88,0),COUNTA(NSA!1:1)-($C$4-V$55))","v":112700},{"$f":"OFFSET(NSA!$C$1,MATCH($C$3,NSA!$D$2:$D$88,0),COUNTA(NSA!1:1)-($C$4-W$55))","v":117700},{"$f":"OFFSET(NSA!$C$1,MATCH($C$3,NSA!$D$2:$D$88,0),COUNTA(NSA!1:1)-($C$4-X$55))","v":120100},{"$f":"OFFSET(NSA!$C$1,MATCH($C$3,NSA!$D$2:$D$88,0),COUNTA(NSA!1:1)-($C$4-Y$55))","v":119400},{"$f":"OFFSET(NSA!$C$1,MATCH($C$3,NSA!$D$2:$D$88,0),COUNTA(NSA!1:1)-($C$4-Z$55))","v":116600},{"$f":"OFFSET(NSA!$C$1,MATCH($C$3,NSA!$D$2:$D$88,0),COUNTA(NSA!1:1)-($C$4-AA$55))","v":116200},{"$f":"OFFSET(NSA!$C$1,MATCH($C$3,NSA!$D$2:$D$88,0),COUNTA(NSA!1:1)-($C$4-AB$55))","v":113300},{"$f":"OFFSET(NSA!$C$1,MATCH($C$3,NSA!$D$2:$D$88,0),COUNTA(NSA!1:1)-($C$4-AC$55))","v":108000},{"$f":"OFFSET(NSA!$C$1,MATCH($C$3,NSA!$D$2:$D$88,0),COUNTA(NSA!1:1)-($C$4-AD$55))","v":98300},{"$f":"OFFSET(NSA!$C$1,MATCH($C$3,NSA!$D$2:$D$88,0),COUNTA(NSA!1:1)-($C$4-AE$55))","v":98100},{"$f":"OFFSET(NSA!$C$1,MATCH($C$3,NSA!$D$2:$D$88,0),COUNTA(NSA!1:1)-($C$4-AF$55))","v":101000},{"$f":"OFFSET(NSA!$C$1,MATCH($C$3,NSA!$D$2:$D$88,0),COUNTA(NSA!1:1)-($C$4-AG$55))","v":109400},{"$f":"OFFSET(NSA!$C$1,MATCH($C$3,NSA!$D$2:$D$88,0),COUNTA(NSA!1:1)-($C$4-AH$55))","v":114700},{"$f":"OFFSET(NSA!$C$1,MATCH($C$3,NSA!$D$2:$D$88,0),COUNTA(NSA!1:1)-($C$4-AI$55))","v":119500},{"$f":"OFFSET(NSA!$C$1,MATCH($C$3,NSA!$D$2:$D$88,0),COUNTA(NSA!1:1)-($C$4-AJ$55))","v":121700},{"$f":"OFFSET(NSA!$C$1,MATCH($C$3,NSA!$D$2:$D$88,0),COUNTA(NSA!1:1)-($C$4-AK$55))","v":121600},{"$f":"OFFSET(NSA!$C$1,MATCH($C$3,NSA!$D$2:$D$88,0),COUNTA(NSA!1:1)-($C$4-AL$55))","v":118900},{"$f":"OFFSET(NSA!$C$1,MATCH($C$3,NSA!$D$2:$D$88,0),COUNTA(NSA!1:1)-($C$4-AM$55))","v":117500},{"$f":"OFFSET(NSA!$C$1,MATCH($C$3,NSA!$D$2:$D$88,0),COUNTA(NSA!1:1)-($C$4-AN$55))","v":114800},{"$f":"OFFSET(NSA!$C$1,MATCH($C$3,NSA!$D$2:$D$88,0),COUNTA(NSA!1:1)-($C$4-AO$55))","v":106300},{"$f":"OFFSET(NSA!$C$1,MATCH($C$3,NSA!$D$2:$D$88,0),COUNTA(NSA!1:1)-($C$4-AP$55))","v":100700},{"$f":"OFFSET(NSA!$C$1,MATCH($C$3,NSA!$D$2:$D$88,0),COUNTA(NSA!1:1)-($C$4-AQ$55))","v":99200},{"$f":"OFFSET(NSA!$C$1,MATCH($C$3,NSA!$D$2:$D$88,0),COUNTA(NSA!1:1)-($C$4-AR$55))","v":100600},{"$f":"OFFSET(NSA!$C$1,MATCH($C$3,NSA!$D$2:$D$88,0),COUNTA(NSA!1:1)-($C$4-AS$55))","v":110200},{"$f":"OFFSET(NSA!$C$1,MATCH($C$3,NSA!$D$2:$D$88,0),COUNTA(NSA!1:1)-($C$4-AT$55))","v":117100},{"$f":"OFFSET(NSA!$C$1,MATCH($C$3,NSA!$D$2:$D$88,0),COUNTA(NSA!1:1)-($C$4-AU$55))","v":121900},{"$f":"OFFSET(NSA!$C$1,MATCH($C$3,NSA!$D$2:$D$88,0),COUNTA(NSA!1:1)-($C$4-AV$55))","v":123900},{"$f":"OFFSET(NSA!$C$1,MATCH($C$3,NSA!$D$2:$D$88,0),COUNTA(NSA!1:1)-($C$4-AW$55))","v":123700},{"$f":"OFFSET(NSA!$C$1,MATCH($C$3,NSA!$D$2:$D$88,0),COUNTA(NSA!1:1)-($C$4-AX$55))","v":120900},{"$f":"OFFSET(NSA!$C$1,MATCH($C$3,NSA!$D$2:$D$88,0),COUNTA(NSA!1:1)-($C$4-AY$55))","v":0},{"$f":"OFFSET(NSA!$C$1,MATCH($C$3,NSA!$D$2:$D$88,0),COUNTA(NSA!1:1)-($C$4-AZ$55))","v":0},{"$f":"OFFSET(NSA!$C$1,MATCH($C$3,NSA!$D$2:$D$88,0),COUNTA(NSA!1:1)-($C$4-BA$55))","v":0},{"$f":"OFFSET(NSA!$C$1,MATCH($C$3,NSA!$D$2:$D$88,0),COUNTA(NSA!1:1)-($C$4-BB$55))","v":0},{"$f":"OFFSET(NSA!$C$1,MATCH($C$3,NSA!$D$2:$D$88,0),COUNTA(NSA!1:1)-($C$4-BC$55))","v":0},{"$f":"OFFSET(NSA!$C$1,MATCH($C$3,NSA!$D$2:$D$88,0),COUNTA(NSA!1:1)-($C$4-BD$55))","v":0},{"$f":"OFFSET(NSA!$C$1,MATCH($C$3,NSA!$D$2:$D$88,0),COUNTA(NSA!1:1)-($C$4-BE$55))","v":0},{"$f":"OFFSET(NSA!$C$1,MATCH($C$3,NSA!$D$2:$D$88,0),COUNTA(NSA!1:1)-($C$4-BF$55))","v":0},{"$f":"OFFSET(NSA!$C$1,MATCH($C$3,NSA!$D$2:$D$88,0),COUNTA(NSA!1:1)-($C$4-BG$55))","v":0},{"$f":"OFFSET(NSA!$C$1,MATCH($C$3,NSA!$D$2:$D$88,0),COUNTA(NSA!1:1)-($C$4-BH$55))","v":0},{"$f":"OFFSET(NSA!$C$1,MATCH($C$3,NSA!$D$2:$D$88,0),COUNTA(NSA!1:1)-($C$4-BI$55))","v":0},{"$f":"OFFSET(NSA!$C$1,MATCH($C$3,NSA!$D$2:$D$88,0),COUNTA(NSA!1:1)-($C$4-BJ$55))","v":0},{"$f":"OFFSET(NSA!$C$1,MATCH($C$3,NSA!$D$2:$D$88,0),COUNTA(NSA!1:1)-($C$4-BK$55))","v":0},{"$f":"OFFSET(NSA!$C$1,MATCH($C$3,NSA!$D$2:$D$88,0),COUNTA(NSA!1:1)-($C$4-BL$55))","v":0},{"$f":"OFFSET(NSA!$C$1,MATCH($C$3,NSA!$D$2:$D$88,0),COUNTA(NSA!1:1)-($C$4-BM$55))","v":0},{"$f":"OFFSET(NSA!$C$1,MATCH($C$3,NSA!$D$2:$D$88,0),COUNTA(NSA!1:1)-($C$4-BN$55))","v":0},{"$f":"OFFSET(NSA!$C$1,MATCH($C$3,NSA!$D$2:$D$88,0),COUNTA(NSA!1:1)-($C$4-BO$55))","v":0},{"$f":"OFFSET(NSA!$C$1,MATCH($C$3,NSA!$D$2:$D$88,0),COUNTA(NSA!1:1)-($C$4-BP$55))","v":0},{"$f":"OFFSET(NSA!$C$1,MATCH($C$3,NSA!$D$2:$D$88,0),COUNTA(NSA!1:1)-($C$4-BQ$55))","v":0},{"$f":"OFFSET(NSA!$C$1,MATCH($C$3,NSA!$D$2:$D$88,0),COUNTA(NSA!1:1)-($C$4-BR$55))","v":0},{"$f":"OFFSET(NSA!$C$1,MATCH($C$3,NSA!$D$2:$D$88,0),COUNTA(NSA!1:1)-($C$4-BS$55))","v":0},{"$f":"OFFSET(NSA!$C$1,MATCH($C$3,NSA!$D$2:$D$88,0),COUNTA(NSA!1:1)-($C$4-BT$55))","v":0},{"$f":"OFFSET(NSA!$C$1,MATCH($C$3,NSA!$D$2:$D$88,0),COUNTA(NSA!1:1)-($C$4-BU$55))","v":0},{"$f":"OFFSET(NSA!$C$1,MATCH($C$3,NSA!$D$2:$D$88,0),COUNTA(NSA!1:1)-($C$4-BV$55))","v":0},{"$f":"OFFSET(NSA!$C$1,MATCH($C$3,NSA!$D$2:$D$88,0),COUNTA(NSA!1:1)-($C$4-BW$55))","v":0},{"$f":"OFFSET(NSA!$C$1,MATCH($C$3,NSA!$D$2:$D$88,0),COUNTA(NSA!1:1)-($C$4-BX$55))","v":0},{"$f":"OFFSET(NSA!$C$1,MATCH($C$3,NSA!$D$2:$D$88,0),COUNTA(NSA!1:1)-($C$4-BY$55))","v":0},{"$f":"OFFSET(NSA!$C$1,MATCH($C$3,NSA!$D$2:$D$88,0),COUNTA(NSA!1:1)-($C$4-BZ$55))","v":0},{"$f":"OFFSET(NSA!$C$1,MATCH($C$3,NSA!$D$2:$D$88,0),COUNTA(NSA!1:1)-($C$4-CA$55))","v":0},{"$f":"OFFSET(NSA!$C$1,MATCH($C$3,NSA!$D$2:$D$88,0),COUNTA(NSA!1:1)-($C$4-CB$55))","v":0},{"$f":"OFFSET(NSA!$C$1,MATCH($C$3,NSA!$D$2:$D$88,0),COUNTA(NSA!1:1)-($C$4-CC$55))","v":0},{"$f":"OFFSET(NSA!$C$1,MATCH($C$3,NSA!$D$2:$D$88,0),COUNTA(NSA!1:1)-($C$4-CD$55))","v":0},{"$f":"OFFSET(NSA!$C$1,MATCH($C$3,NSA!$D$2:$D$88,0),COUNTA(NSA!1:1)-($C$4-CE$55))","v":0},{"$f":"OFFSET(NSA!$C$1,MATCH($C$3,NSA!$D$2:$D$88,0),COUNTA(NSA!1:1)-($C$4-CF$55))","v":0},{"$f":"OFFSET(NSA!$C$1,MATCH($C$3,NSA!$D$2:$D$88,0),COUNTA(NSA!1:1)-($C$4-CG$55))","v":0},{"$f":"OFFSET(NSA!$C$1,MATCH($C$3,NSA!$D$2:$D$88,0),COUNTA(NSA!1:1)-($C$4-CH$55))","v":0},{"$f":"OFFSET(NSA!$C$1,MATCH($C$3,NSA!$D$2:$D$88,0),COUNTA(NSA!1:1)-($C$4-CI$55))","v":0},{"$f":"OFFSET(NSA!$C$1,MATCH($C$3,NSA!$D$2:$D$88,0),COUNTA(NSA!1:1)-($C$4-CJ$55))","v":0},{"$f":"OFFSET(NSA!$C$1,MATCH($C$3,NSA!$D$2:$D$88,0),COUNTA(NSA!1:1)-($C$4-CK$55))","v":0},{"$f":"OFFSET(NSA!$C$1,MATCH($C$3,NSA!$D$2:$D$88,0),COUNTA(NSA!1:1)-($C$4-CL$55))","v":0},{"$f":"OFFSET(NSA!$C$1,MATCH($C$3,NSA!$D$2:$D$88,0),COUNTA(NSA!1:1)-($C$4-CM$55))","v":0},{"$f":"OFFSET(NSA!$C$1,MATCH($C$3,NSA!$D$2:$D$88,0),COUNTA(NSA!1:1)-($C$4-CN$55))","v":0},{"$f":"OFFSET(NSA!$C$1,MATCH($C$3,NSA!$D$2:$D$88,0),COUNTA(NSA!1:1)-($C$4-CO$55))","v":0},{"$f":"OFFSET(NSA!$C$1,MATCH($C$3,NSA!$D$2:$D$88,0),COUNTA(NSA!1:1)-($C$4-CP$55))","v":0},{"$f":"OFFSET(NSA!$C$1,MATCH($C$3,NSA!$D$2:$D$88,0),COUNTA(NSA!1:1)-($C$4-CQ$55))","v":0},{"$f":"OFFSET(NSA!$C$1,MATCH($C$3,NSA!$D$2:$D$88,0),COUNTA(NSA!1:1)-($C$4-CR$55))","v":0},{"$f":"OFFSET(NSA!$C$1,MATCH($C$3,NSA!$D$2:$D$88,0),COUNTA(NSA!1:1)-($C$4-CS$55))","v":0},{"$f":"OFFSET(NSA!$C$1,MATCH($C$3,NSA!$D$2:$D$88,0),COUNTA(NSA!1:1)-($C$4-CT$55))","v":0},{"$f":"OFFSET(NSA!$C$1,MATCH($C$3,NSA!$D$2:$D$88,0),COUNTA(NSA!1:1)-($C$4-CU$55))","v":0},{"$f":"OFFSET(NSA!$C$1,MATCH($C$3,NSA!$D$2:$D$88,0),COUNTA(NSA!1:1)-($C$4-CV$55))","v":0},{"$f":"OFFSET(NSA!$C$1,MATCH($C$3,NSA!$D$2:$D$88,0),COUNTA(NSA!1:1)-($C$4-CW$55))","v":0},{"$f":"OFFSET(NSA!$C$1,MATCH($C$3,NSA!$D$2:$D$88,0),COUNTA(NSA!1:1)-($C$4-CX$55))","v":0},{"$f":"OFFSET(NSA!$C$1,MATCH($C$3,NSA!$D$2:$D$88,0),COUNTA(NSA!1:1)-($C$4-CY$55))","v":0},{"$f":"OFFSET(NSA!$C$1,MATCH($C$3,NSA!$D$2:$D$88,0),COUNTA(NSA!1:1)-($C$4-CZ$55))","v":0}]
[null,{"$f":"CONCATENATE(\"NSA \",TRIM(B60),\" / \",TRIM(B61))","v":"NSA Manufacturing / Construction"}]
[null,{"$f":"G2","v":"Manufacturing"},{"$f":"OFFSET(NSA!$C$1,MATCH($G$2,NSA!$D$2:$D$88,0),COUNTA(NSA!1:1)-($C$4-C$55))","v":457800},{"$f":"OFFSET(NSA!$C$1,MATCH($G$2,NSA!$D$2:$D$88,0),COUNTA(NSA!1:1)-($C$4-D$55))","v":458000},{"$f":"OFFSET(NSA!$C$1,MATCH($G$2,NSA!$D$2:$D$88,0),COUNTA(NSA!1:1)-($C$4-E$55))","v":458300},{"$f":"OFFSET(NSA!$C$1,MATCH($G$2,NSA!$D$2:$D$88,0),COUNTA(NSA!1:1)-($C$4-F$55))","v":455700},{"$f":"OFFSET(NSA!$C$1,MATCH($G$2,NSA!$D$2:$D$88,0),COUNTA(NSA!1:1)-($C$4-G$55))","v":454800},{"$f":"OFFSET(NSA!$C$1,MATCH($G$2,NSA!$D$2:$D$88,0),COUNTA(NSA!1:1)-($C$4-H$55))","v":456700},{"$f":"OFFSET(NSA!$C$1,MATCH($G$2,NSA!$D$2:$D$88,0),COUNTA(NSA!1:1)-($C$4-I$55))","v":459000},{"$f":"OFFSET(NSA!$C$1,MATCH($G$2,NSA!$D$2:$D$88,0),COUNTA(NSA!1:1)-($C$4-J$55))","v":462200},{"$f":"OFFSET(NSA!$C$1,MATCH($G$2,NSA!$D$2:$D$88,0),COUNTA(NSA!1:1)-($C$4-K$55))","v":469900},{"$f":"OFFSET(NSA!$C$1,MATCH($G$2,NSA!$D$2:$D$88,0),COUNTA(NSA!1:1)-($C$4-L$55))","v":474800},{"$f":"OFFSET(NSA!$C$1,MATCH($G$2,NSA!$D$2:$D$88,0),COUNTA(NSA!1:1)-($C$4-M$55))","v":474600},{"$f":"OFFSET(NSA!$C$1,MATCH($G$2,NSA!$D$2:$D$88,0),COUNTA(NSA!1:1)-($C$4-N$55))","v":468300},{"$f":"OFFSET(NSA!$C$1,MATCH($G$2,NSA!$D$2:$D$88,0),COUNTA(NSA!1:1)-($C$4-O$55))","v":466200},{"$f":"OFFSET(NSA!$C$1,MATCH($G$2,NSA!$D$2:$D$88,0),COUNTA(NSA!1:1)-($C$4-P$55))","v":466100},{"$f":"OFFSET(NSA!$C$1,MATCH($G$2,NSA!$D$2:$D$88,0),COUNTA(NSA!1:1)-($C$4-Q$55))","v":467000},{"$f":"OFFSET(NSA!$C$1,MATCH($G$2,NSA!$D$2:$D$88,0),COUNTA(NSA!1:1)-($C$4-R$55))","v":463500},{"$f":"OFFSET(NSA!$C$1,MATCH($G$2,NSA!$D$2:$D$88,0),COUNTA(NSA!1:1)-($C$4-S$55))","v":463000},{"$f":"OFFSET(NSA!$C$1,MATCH($G$2,NSA!$D$2:$D$88,0),COUNTA(NSA!1:1)-($C$4-T$55))","v":463900},{"$f":"OFFSET(NSA!$C$1,MATCH($G$2,NSA!$D$2:$D$88,0),COUNTA(NSA!1:1)-($C$4-U$55))","v":463400},{"$f":"OFFSET(NSA!$C$1,MATCH($G$2,NSA!$D$2:$D$88,0),COUNTA(NSA!1:1)-($C$4-V$55))","v":465100},{"$f":"OFFSET(NSA!$C$1,MATCH($G$2,NSA!$D$2:$D$88,0),COUNTA(NSA!1:1)-($C$4-W$55))","v":472900},{"$f":"OFFSET(NSA!$C$1,MATCH($G$2,NSA!$D$2:$D$88,0),COUNTA(NSA!1:1)-($C$4-X$55))","v":475700},{"$f":"OFFSET(NSA!$C$1,MATCH($G$2,NSA!$D$2:$D$88,0),COUNTA(NSA!1:1)-($C$4-Y$55))","v":474900},{"$f":"OFFSET(NSA!$C$1,MATCH($G$2,NSA!$D$2:$D$88,0),COUNTA(NSA!1:1)-($C$4-Z$55))","v":468500},{"$f":"OFFSET(NSA!$C$1,MATCH($G$2,NSA!$D$2:$D$88,0),COUNTA(NSA!1:1)-($C$4-AA$55))","v":465500},{"$f":"OFFSET(NSA!$C$1,MATCH($G$2,NSA!$D$2:$D$88,0),COUNTA(NSA!1:1)-($C$4-AB$55))","v":465000},{"$f":"OFFSET(NSA!$C$1,MATCH($G$2,NSA!$D$2:$D$88,0),COUNTA(NSA!1:1)-($C$4-AC$55))","v":465300},{"$f":"OFFSET(NSA!$C$1,MATCH($G$2,NSA!$D$2:$D$88,0),COUNTA(NSA!1:1)-($C$4-AD$55))","v":462000},{"$f":"OFFSET(NSA!$C$1,MATCH($G$2,NSA!$D$2:$D$88,0),COUNTA(NSA!1:1)-($C$4-AE$55))","v":460000},{"$f":"OFFSET(NSA!$C$1,MATCH($G$2,NSA!$D$2:$D$88,0),COUNTA(NSA!1:1)-($C$4-AF$55))","v":461000},{"$f":"OFFSET(NSA!$C$1,MATCH($G$2,NSA!$D$2:$D$88,0),COUNTA(NSA!1:1)-($C$4-AG$55))","v":461000},{"$f":"OFFSET(NSA!$C$1,MATCH($G$2,NSA!$D$2:$D$88,0),COUNTA(NSA!1:1)-($C$4-AH$55))","v":462400},{"$f":"OFFSET(NSA!$C$1,MATCH($G$2,NSA!$D$2:$D$88,0),COUNTA(NSA!1:1)-($C$4-AI$55))","v":469900},{"$f":"OFFSET(NSA!$C$1,MATCH($G$2,NSA!$D$2:$D$88,0),COUNTA(NSA!1:1)-($C$4-AJ$55))","v":472900},{"$f":"OFFSET(NSA!$C$1,MATCH($G$2,NSA!$D$2:$D$88,0),COUNTA(NSA!1:1)-($C$4-AK$55))","v":471800},{"$f":"OFFSET(NSA!$C$1,MATCH($G$2,NSA!$D$2:$D$88,0),COUNTA(NSA!1:1)-($C$4-AL$55))","v":465400},{"$f":"OFFSET(NSA!$C$1,MATCH($G$2,NSA!$D$2:$D$88,0),COUNTA(NSA!1:1)-($C$4-AM$55))","v":466600},{"$f":"OFFSET(NSA!$C$1,MATCH($G$2,NSA!$D$2:$D$88,0),COUNTA(NSA!1:1)-($C$4-AN$55))","v":464600},{"$f":"OFFSET(NSA!$C$1,MATCH($G$2,NSA!$D$2:$D$88,0),COUNTA(NSA!1:1)-($C$4-AO$55))","v":465700},{"$f":"OFFSET(NSA!$C$1,MATCH($G$2,NSA!$D$2:$D$88,0),COUNTA(NSA!1:1)-($C$4-AP$55))","v":464300},{"$f":"OFFSET(NSA!$C$1,MATCH($G$2,NSA!$D$2:$D$88,0),COUNTA(NSA!1:1)-($C$4-AQ$55))","v":463600},{"$f":"OFFSET(NSA!$C$1,MATCH($G$2,NSA!$D$2:$D$88,0),COUNTA(NSA!1:1)-($C$4-AR$55))","v":464400},{"$f":"OFFSET(NSA!$C$1,MATCH($G$2,NSA!$D$2:$D$88,0),COUNTA(NSA!1:1)-($C$4-AS$55))","v":468200},{"$f":"OFFSET(NSA!$C$1,MATCH($G$2,NSA!$D$2:$D$88,0),COUNTA(NSA!1:1)-($C$4-AT$55))","v":470400},{"$f":"OFFSET(NSA!$C$1,MATCH($G$2,NSA!$D$2:$D$88,0),COUNTA(NSA!1:1)-($C$4-AU$55))","v":478300},{"$f":"OFFSET(NSA!$C$1,MATCH($G$2,NSA!$D$2:$D$88,0),COUNTA(NSA!1:1)-($C$4-AV$55))","v":481200},{"$f":"OFFSET(NSA!$C$1,MATCH($G$2,NSA!$D$2:$D$88,0),COUNTA(NSA!1:1)-($C$4-AW$55))","v":481600},{"$f":"OFFSET(NSA!$C$1,MATCH($G$2,NSA!$D$2:$D$88,0),COUNTA(NSA!1:1)-($C$4-AX$55))","v":476000},{"$f":"OFFSET(NSA!$C$1,MATCH($G$2,NSA!$D$2:$D$88,0),COUNTA(NSA!1:1)-($C$4-AY$55))","v":0},{"$f":"OFFSET(NSA!$C$1,MATCH($G$2,NSA!$D$2:$D$88,0),COUNTA(NSA!1:1)-($C$4-AZ$55))","v":0},{"$f":"OFFSET(NSA!$C$1,MATCH($G$2,NSA!$D$2:$D$88,0),COUNTA(NSA!1:1)-($C$4-BA$55))","v":0},{"$f":"OFFSET(NSA!$C$1,MATCH($G$2,NSA!$D$2:$D$88,0),COUNTA(NSA!1:1)-($C$4-BB$55))","v":0},{"$f":"OFFSET(NSA!$C$1,MATCH($G$2,NSA!$D$2:$D$88,0),COUNTA(NSA!1:1)-($C$4-BC$55))","v":0},{"$f":"OFFSET(NSA!$C$1,MATCH($G$2,NSA!$D$2:$D$88,0),COUNTA(NSA!1:1)-($C$4-BD$55))","v":0},{"$f":"OFFSET(NSA!$C$1,MATCH($G$2,NSA!$D$2:$D$88,0),COUNTA(NSA!1:1)-($C$4-BE$55))","v":0},{"$f":"OFFSET(NSA!$C$1,MATCH($G$2,NSA!$D$2:$D$88,0),COUNTA(NSA!1:1)-($C$4-BF$55))","v":0},{"$f":"OFFSET(NSA!$C$1,MATCH($G$2,NSA!$D$2:$D$88,0),COUNTA(NSA!1:1)-($C$4-BG$55))","v":0},{"$f":"OFFSET(NSA!$C$1,MATCH($G$2,NSA!$D$2:$D$88,0),COUNTA(NSA!1:1)-($C$4-BH$55))","v":0},{"$f":"OFFSET(NSA!$C$1,MATCH($G$2,NSA!$D$2:$D$88,0),COUNTA(NSA!1:1)-($C$4-BI$55))","v":0},{"$f":"OFFSET(NSA!$C$1,MATCH($G$2,NSA!$D$2:$D$88,0),COUNTA(NSA!1:1)-($C$4-BJ$55))","v":0},{"$f":"OFFSET(NSA!$C$1,MATCH($G$2,NSA!$D$2:$D$88,0),COUNTA(NSA!1:1)-($C$4-BK$55))","v":0},{"$f":"OFFSET(NSA!$C$1,MATCH($G$2,NSA!$D$2:$D$88,0),COUNTA(NSA!1:1)-($C$4-BL$55))","v":0},{"$f":"OFFSET(NSA!$C$1,MATCH($G$2,NSA!$D$2:$D$88,0),COUNTA(NSA!1:1)-($C$4-BM$55))","v":0},{"$f":"OFFSET(NSA!$C$1,MATCH($G$2,NSA!$D$2:$D$88,0),COUNTA(NSA!1:1)-($C$4-BN$55))","v":0},{"$f":"OFFSET(NSA!$C$1,MATCH($G$2,NSA!$D$2:$D$88,0),COUNTA(NSA!1:1)-($C$4-BO$55))","v":0},{"$f":"OFFSET(NSA!$C$1,MATCH($G$2,NSA!$D$2:$D$88,0),COUNTA(NSA!1:1)-($C$4-BP$55))","v":0},{"$f":"OFFSET(NSA!$C$1,MATCH($G$2,NSA!$D$2:$D$88,0),COUNTA(NSA!1:1)-($C$4-BQ$55))","v":0},{"$f":"OFFSET(NSA!$C$1,MATCH($G$2,NSA!$D$2:$D$88,0),COUNTA(NSA!1:1)-($C$4-BR$55))","v":0},{"$f":"OFFSET(NSA!$C$1,MATCH($G$2,NSA!$D$2:$D$88,0),COUNTA(NSA!1:1)-($C$4-BS$55))","v":0},{"$f":"OFFSET(NSA!$C$1,MATCH($G$2,NSA!$D$2:$D$88,0),COUNTA(NSA!1:1)-($C$4-BT$55))","v":0},{"$f":"OFFSET(NSA!$C$1,MATCH($G$2,NSA!$D$2:$D$88,0),COUNTA(NSA!1:1)-($C$4-BU$55))","v":0},{"$f":"OFFSET(NSA!$C$1,MATCH($G$2,NSA!$D$2:$D$88,0),COUNTA(NSA!1:1)-($C$4-BV$55))","v":0},{"$f":"OFFSET(NSA!$C$1,MATCH($G$2,NSA!$D$2:$D$88,0),COUNTA(NSA!1:1)-($C$4-BW$55))","v":0},{"$f":"OFFSET(NSA!$C$1,MATCH($G$2,NSA!$D$2:$D$88,0),COUNTA(NSA!1:1)-($C$4-BX$55))","v":0},{"$f":"OFFSET(NSA!$C$1,MATCH($G$2,NSA!$D$2:$D$88,0),COUNTA(NSA!1:1)-($C$4-BY$55))","v":0},{"$f":"OFFSET(NSA!$C$1,MATCH($G$2,NSA!$D$2:$D$88,0),COUNTA(NSA!1:1)-($C$4-BZ$55))","v":0},{"$f":"OFFSET(NSA!$C$1,MATCH($G$2,NSA!$D$2:$D$88,0),COUNTA(NSA!1:1)-($C$4-CA$55))","v":0},{"$f":"OFFSET(NSA!$C$1,MATCH($G$2,NSA!$D$2:$D$88,0),COUNTA(NSA!1:1)-($C$4-CB$55))","v":0},{"$f":"OFFSET(NSA!$C$1,MATCH($G$2,NSA!$D$2:$D$88,0),COUNTA(NSA!1:1)-($C$4-CC$55))","v":0},{"$f":"OFFSET(NSA!$C$1,MATCH($G$2,NSA!$D$2:$D$88,0),COUNTA(NSA!1:1)-($C$4-CD$55))","v":0},{"$f":"OFFSET(NSA!$C$1,MATCH($G$2,NSA!$D$2:$D$88,0),COUNTA(NSA!1:1)-($C$4-CE$55))","v":0},{"$f":"OFFSET(NSA!$C$1,MATCH($G$2,NSA!$D$2:$D$88,0),COUNTA(NSA!1:1)-($C$4-CF$55))","v":0},{"$f":"OFFSET(NSA!$C$1,MATCH($G$2,NSA!$D$2:$D$88,0),COUNTA(NSA!1:1)-($C$4-CG$55))","v":0},{"$f":"OFFSET(NSA!$C$1,MATCH($G$2,NSA!$D$2:$D$88,0),COUNTA(NSA!1:1)-($C$4-CH$55))","v":0},{"$f":"OFFSET(NSA!$C$1,MATCH($G$2,NSA!$D$2:$D$88,0),COUNTA(NSA!1:1)-($C$4-CI$55))","v":0},{"$f":"OFFSET(NSA!$C$1,MATCH($G$2,NSA!$D$2:$D$88,0),COUNTA(NSA!1:1)-($C$4-CJ$55))","v":0},{"$f":"OFFSET(NSA!$C$1,MATCH($G$2,NSA!$D$2:$D$88,0),COUNTA(NSA!1:1)-($C$4-CK$55))","v":0},{"$f":"OFFSET(NSA!$C$1,MATCH($G$2,NSA!$D$2:$D$88,0),COUNTA(NSA!1:1)-($C$4-CL$55))","v":0},{"$f":"OFFSET(NSA!$C$1,MATCH($G$2,NSA!$D$2:$D$88,0),COUNTA(NSA!1:1)-($C$4-CM$55))","v":0},{"$f":"OFFSET(NSA!$C$1,MATCH($G$2,NSA!$D$2:$D$88,0),COUNTA(NSA!1:1)-($C$4-CN$55))","v":0},{"$f":"OFFSET(NSA!$C$1,MATCH($G$2,NSA!$D$2:$D$88,0),COUNTA(NSA!1:1)-($C$4-CO$55))","v":0},{"$f":"OFFSET(NSA!$C$1,MATCH($G$2,NSA!$D$2:$D$88,0),COUNTA(NSA!1:1)-($C$4-CP$55))","v":0},{"$f":"OFFSET(NSA!$C$1,MATCH($G$2,NSA!$D$2:$D$88,0),COUNTA(NSA!1:1)-($C$4-CQ$55))","v":0},{"$f":"OFFSET(NSA!$C$1,MATCH($G$2,NSA!$D$2:$D$88,0),COUNTA(NSA!1:1)-($C$4-CR$55))","v":0},{"$f":"OFFSET(NSA!$C$1,MATCH($G$2,NSA!$D$2:$D$88,0),COUNTA(NSA!1:1)-($C$4-CS$55))","v":0},{"$f":"OFFSET(NSA!$C$1,MATCH($G$2,NSA!$D$2:$D$88,0),COUNTA(NSA!1:1)-($C$4-CT$55))","v":0},{"$f":"OFFSET(NSA!$C$1,MATCH($G$2,NSA!$D$2:$D$88,0),COUNTA(NSA!1:1)-($C$4-CU$55))","v":0},{"$f":"OFFSET(NSA!$C$1,MATCH($G$2,NSA!$D$2:$D$88,0),COUNTA(NSA!1:1)-($C$4-CV$55))","v":0},{"$f":"OFFSET(NSA!$C$1,MATCH($G$2,NSA!$D$2:$D$88,0),COUNTA(NSA!1:1)-($C$4-CW$55))","v":0},{"$f":"OFFSET(NSA!$C$1,MATCH($G$2,NSA!$D$2:$D$88,0),COUNTA(NSA!1:1)-($C$4-CX$55))","v":0},{"$f":"OFFSET(NSA!$C$1,MATCH($G$2,NSA!$D$2:$D$88,0),COUNTA(NSA!1:1)-($C$4-CY$55))","v":0},{"$f":"OFFSET(NSA!$C$1,MATCH($G$2,NSA!$D$2:$D$88,0),COUNTA(NSA!1:1)-($C$4-CZ$55))","v":0}]
[null,{"$f":"G3","v":"Construction"},{"$f":"OFFSET(NSA!$C$1,MATCH($G$3,NSA!$D$2:$D$88,0),COUNTA(NSA!1:1)-($C$4-C$55))","v":107200},{"$f":"OFFSET(NSA!$C$1,MATCH($G$3,NSA!$D$2:$D$88,0),COUNTA(NSA!1:1)-($C$4-D$55))","v":104400},{"$f":"OFFSET(NSA!$C$1,MATCH($G$3,NSA!$D$2:$D$88,0),COUNTA(NSA!1:1)-($C$4-E$55))","v":96100},{"$f":"OFFSET(NSA!$C$1,MATCH($G$3,NSA!$D$2:$D$88,0),COUNTA(NSA!1:1)-($C$4-F$55))","v":87100},{"$f":"OFFSET(NSA!$C$1,MATCH($G$3,NSA!$D$2:$D$88,0),COUNTA(NSA!1:1)-($C$4-G$55))","v":86200},{"$f":"OFFSET(NSA!$C$1,MATCH($G$3,NSA!$D$2:$D$88,0),COUNTA(NSA!1:1)-($C$4-H$55))","v":89100},{"$f":"OFFSET(NSA!$C$1,MATCH($G$3,NSA!$D$2:$D$88,0),COUNTA(NSA!1:1)-($C$4-I$55))","v":96200},{"$f":"OFFSET(NSA!$C$1,MATCH($G$3,NSA!$D$2:$D$88,0),COUNTA(NSA!1:1)-($C$4-J$55))","v":105200},{"$f":"OFFSET(NSA!$C$1,MATCH($G$3,NSA!$D$2:$D$88,0),COUNTA(NSA!1:1)-($C$4-K$55))","v":111700},{"$f":"OFFSET(NSA!$C$1,MATCH($G$3,NSA!$D$2:$D$88,0),COUNTA(NSA!1:1)-($C$4-L$55))","v":114100},{"$f":"OFFSET(NSA!$C$1,MATCH($G$3,NSA!$D$2:$D$88,0),COUNTA(NSA!1:1)-($C$4-M$55))","v":115100},{"$f":"OFFSET(NSA!$C$1,MATCH($G$3,NSA!$D$2:$D$88,0),COUNTA(NSA!1:1)-($C$4-N$55))","v":113000},{"$f":"OFFSET(NSA!$C$1,MATCH($G$3,NSA!$D$2:$D$88,0),COUNTA(NSA!1:1)-($C$4-O$55))","v":112500},{"$f":"OFFSET(NSA!$C$1,MATCH($G$3,NSA!$D$2:$D$88,0),COUNTA(NSA!1:1)-($C$4-P$55))","v":109400},{"$f":"OFFSET(NSA!$C$1,MATCH($G$3,NSA!$D$2:$D$88,0),COUNTA(NSA!1:1)-($C$4-Q$55))","v":103100},{"$f":"OFFSET(NSA!$C$1,MATCH($G$3,NSA!$D$2:$D$88,0),COUNTA(NSA!1:1)-($C$4-R$55))","v":94400},{"$f":"OFFSET(NSA!$C$1,MATCH($G$3,NSA!$D$2:$D$88,0),COUNTA(NSA!1:1)-($C$4-S$55))","v":93200},{"$f":"OFFSET(NSA!$C$1,MATCH($G$3,NSA!$D$2:$D$88,0),COUNTA(NSA!1:1)-($C$4-T$55))","v":95500},{"$f":"OFFSET(NSA!$C$1,MATCH($G$3,NSA!$D$2:$D$88,0),COUNTA(NSA!1:1)-($C$4-U$55))","v":105700},{"$f":"OFFSET(NSA!$C$1,MATCH($G$3,NSA!$D$2:$D$88,0),COUNTA(NSA!1:1)-($C$4-V$55))","v":112700},{"$f":"OFFSET(NSA!$C$1,MATCH($G$3,NSA!$D$2:$D$88,0),COUNTA(NSA!1:1)-($C$4-W$55))","v":117700},{"$f":"OFFSET(NSA!$C$1,MATCH($G$3,NSA!$D$2:$D$88,0),COUNTA(NSA!1:1)-($C$4-X$55))","v":120100},{"$f":"OFFSET(NSA!$C$1,MATCH($G$3,NSA!$D$2:$D$88,0),COUNTA(NSA!1:1)-($C$4-Y$55))","v":119400},{"$f":"OFFSET(NSA!$C$1,MATCH($G$3,NSA!$D$2:$D$88,0),COUNTA(NSA!1:1)-($C$4-Z$55))","v":116600},{"$f":"OFFSET(NSA!$C$1,MATCH($G$3,NSA!$D$2:$D$88,0),COUNTA(NSA!1:1)-($C$4-AA$55))","v":116200},{"$f":"OFFSET(NSA!$C$1,MATCH($G$3,NSA!$D$2:$D$88,0),COUNTA(NSA!1:1)-($C$4-AB$55))","v":113300},{"$f":"OFFSET(NSA!$C$1,MATCH($G$3,NSA!$D$2:$D$88,0),COUNTA(NSA!1:1)-($C$4-AC$55))","v":108000},{"$f":"OFFSET(NSA!$C$1,MATCH($G$3,NSA!$D$2:$D$88,0),COUNTA(NSA!1:1)-($C$4-AD$55))","v":98300},{"$f":"OFFSET(NSA!$C$1,MATCH($G$3,NSA!$D$2:$D$88,0),COUNTA(NSA!1:1)-($C$4-AE$55))","v":98100},{"$f":"OFFSET(NSA!$C$1,MATCH($G$3,NSA!$D$2:$D$88,0),COUNTA(NSA!1:1)-($C$4-AF$55))","v":101000},{"$f":"OFFSET(NSA!$C$1,MATCH($G$3,NSA!$D$2:$D$88,0),COUNTA(NSA!1:1)-($C$4-AG$55))","v":109400},{"$f":"OFFSET(NSA!$C$1,MATCH($G$3,NSA!$D$2:$D$88,0),COUNTA(NSA!1:1)-($C$4-AH$55))","v":114700},{"$f":"OFFSET(NSA!$C$1,MATCH($G$3,NSA!$D$2:$D$88,0),COUNTA(NSA!1:1)-($C$4-AI$55))","v":119500},{"$f":"OFFSET(NSA!$C$1,MATCH($G$3,NSA!$D$2:$D$88,0),COUNTA(NSA!1:1)-($C$4-AJ$55))","v":121700},{"$f":"OFFSET(NSA!$C$1,MATCH($G$3,NSA!$D$2:$D$88,0),COUNTA(NSA!1:1)-($C$4-AK$55))","v":121600},{"$f":"OFFSET(NSA!$C$1,MATCH($G$3,NSA!$D$2:$D$88,0),COUNTA(NSA!1:1)-($C$4-AL$55))","v":118900},{"$f":"OFFSET(NSA!$C$1,MATCH($G$3,NSA!$D$2:$D$88,0),COUNTA(NSA!1:1)-($C$4-AM$55))","v":117500},{"$f":"OFFSET(NSA!$C$1,MATCH($G$3,NSA!$D$2:$D$88,0),COUNTA(NSA!1:1)-($C$4-AN$55))","v":114800},{"$f":"OFFSET(NSA!$C$1,MATCH($G$3,NSA!$D$2:$D$88,0),COUNTA(NSA!1:1)-($C$4-AO$55))","v":106300},{"$f":"OFFSET(NSA!$C$1,MATCH($G$3,NSA!$D$2:$D$88,0),COUNTA(NSA!1:1)-($C$4-AP$55))","v":100700},{"$f":"OFFSET(NSA!$C$1,MATCH($G$3,NSA!$D$2:$D$88,0),COUNTA(NSA!1:1)-($C$4-AQ$55))","v":99200},{"$f":"OFFSET(NSA!$C$1,MATCH($G$3,NSA!$D$2:$D$88,0),COUNTA(NSA!1:1)-($C$4-AR$55))","v":100600},{"$f":"OFFSET(NSA!$C$1,MATCH($G$3,NSA!$D$2:$D$88,0),COUNTA(NSA!1:1)-($C$4-AS$55))","v":110200},{"$f":"OFFSET(NSA!$C$1,MATCH($G$3,NSA!$D$2:$D$88,0),COUNTA(NSA!1:1)-($C$4-AT$55))","v":117100},{"$f":"OFFSET(NSA!$C$1,MATCH($G$3,NSA!$D$2:$D$88,0),COUNTA(NSA!1:1)-($C$4-AU$55))","v":121900},{"$f":"OFFSET(NSA!$C$1,MATCH($G$3,NSA!$D$2:$D$88,0),COUNTA(NSA!1:1)-($C$4-AV$55))","v":123900},{"$f":"OFFSET(NSA!$C$1,MATCH($G$3,NSA!$D$2:$D$88,0),COUNTA(NSA!1:1)-($C$4-AW$55))","v":123700},{"$f":"OFFSET(NSA!$C$1,MATCH($G$3,NSA!$D$2:$D$88,0),COUNTA(NSA!1:1)-($C$4-AX$55))","v":120900},{"$f":"OFFSET(NSA!$C$1,MATCH($G$3,NSA!$D$2:$D$88,0),COUNTA(NSA!1:1)-($C$4-AY$55))","v":0},{"$f":"OFFSET(NSA!$C$1,MATCH($G$3,NSA!$D$2:$D$88,0),COUNTA(NSA!1:1)-($C$4-AZ$55))","v":0},{"$f":"OFFSET(NSA!$C$1,MATCH($G$3,NSA!$D$2:$D$88,0),COUNTA(NSA!1:1)-($C$4-BA$55))","v":0},{"$f":"OFFSET(NSA!$C$1,MATCH($G$3,NSA!$D$2:$D$88,0),COUNTA(NSA!1:1)-($C$4-BB$55))","v":0},{"$f":"OFFSET(NSA!$C$1,MATCH($G$3,NSA!$D$2:$D$88,0),COUNTA(NSA!1:1)-($C$4-BC$55))","v":0},{"$f":"OFFSET(NSA!$C$1,MATCH($G$3,NSA!$D$2:$D$88,0),COUNTA(NSA!1:1)-($C$4-BD$55))","v":0},{"$f":"OFFSET(NSA!$C$1,MATCH($G$3,NSA!$D$2:$D$88,0),COUNTA(NSA!1:1)-($C$4-BE$55))","v":0},{"$f":"OFFSET(NSA!$C$1,MATCH($G$3,NSA!$D$2:$D$88,0),COUNTA(NSA!1:1)-($C$4-BF$55))","v":0},{"$f":"OFFSET(NSA!$C$1,MATCH($G$3,NSA!$D$2:$D$88,0),COUNTA(NSA!1:1)-($C$4-BG$55))","v":0},{"$f":"OFFSET(NSA!$C$1,MATCH($G$3,NSA!$D$2:$D$88,0),COUNTA(NSA!1:1)-($C$4-BH$55))","v":0},{"$f":"OFFSET(NSA!$C$1,MATCH($G$3,NSA!$D$2:$D$88,0),COUNTA(NSA!1:1)-($C$4-BI$55))","v":0},{"$f":"OFFSET(NSA!$C$1,MATCH($G$3,NSA!$D$2:$D$88,0),COUNTA(NSA!1:1)-($C$4-BJ$55))","v":0},{"$f":"OFFSET(NSA!$C$1,MATCH($G$3,NSA!$D$2:$D$88,0),COUNTA(NSA!1:1)-($C$4-BK$55))","v":0},{"$f":"OFFSET(NSA!$C$1,MATCH($G$3,NSA!$D$2:$D$88,0),COUNTA(NSA!1:1)-($C$4-BL$55))","v":0},{"$f":"OFFSET(NSA!$C$1,MATCH($G$3,NSA!$D$2:$D$88,0),COUNTA(NSA!1:1)-($C$4-BM$55))","v":0},{"$f":"OFFSET(NSA!$C$1,MATCH($G$3,NSA!$D$2:$D$88,0),COUNTA(NSA!1:1)-($C$4-BN$55))","v":0},{"$f":"OFFSET(NSA!$C$1,MATCH($G$3,NSA!$D$2:$D$88,0),COUNTA(NSA!1:1)-($C$4-BO$55))","v":0},{"$f":"OFFSET(NSA!$C$1,MATCH($G$3,NSA!$D$2:$D$88,0),COUNTA(NSA!1:1)-($C$4-BP$55))","v":0},{"$f":"OFFSET(NSA!$C$1,MATCH($G$3,NSA!$D$2:$D$88,0),COUNTA(NSA!1:1)-($C$4-BQ$55))","v":0},{"$f":"OFFSET(NSA!$C$1,MATCH($G$3,NSA!$D$2:$D$88,0),COUNTA(NSA!1:1)-($C$4-BR$55))","v":0},{"$f":"OFFSET(NSA!$C$1,MATCH($G$3,NSA!$D$2:$D$88,0),COUNTA(NSA!1:1)-($C$4-BS$55))","v":0},{"$f":"OFFSET(NSA!$C$1,MATCH($G$3,NSA!$D$2:$D$88,0),COUNTA(NSA!1:1)-($C$4-BT$55))","v":0},{"$f":"OFFSET(NSA!$C$1,MATCH($G$3,NSA!$D$2:$D$88,0),COUNTA(NSA!1:1)-($C$4-BU$55))","v":0},{"$f":"OFFSET(NSA!$C$1,MATCH($G$3,NSA!$D$2:$D$88,0),COUNTA(NSA!1:1)-($C$4-BV$55))","v":0},{"$f":"OFFSET(NSA!$C$1,MATCH($G$3,NSA!$D$2:$D$88,0),COUNTA(NSA!1:1)-($C$4-BW$55))","v":0},{"$f":"OFFSET(NSA!$C$1,MATCH($G$3,NSA!$D$2:$D$88,0),COUNTA(NSA!1:1)-($C$4-BX$55))","v":0},{"$f":"OFFSET(NSA!$C$1,MATCH($G$3,NSA!$D$2:$D$88,0),COUNTA(NSA!1:1)-($C$4-BY$55))","v":0},{"$f":"OFFSET(NSA!$C$1,MATCH($G$3,NSA!$D$2:$D$88,0),COUNTA(NSA!1:1)-($C$4-BZ$55))","v":0},{"$f":"OFFSET(NSA!$C$1,MATCH($G$3,NSA!$D$2:$D$88,0),COUNTA(NSA!1:1)-($C$4-CA$55))","v":0},{"$f":"OFFSET(NSA!$C$1,MATCH($G$3,NSA!$D$2:$D$88,0),COUNTA(NSA!1:1)-($C$4-CB$55))","v":0},{"$f":"OFFSET(NSA!$C$1,MATCH($G$3,NSA!$D$2:$D$88,0),COUNTA(NSA!1:1)-($C$4-CC$55))","v":0},{"$f":"OFFSET(NSA!$C$1,MATCH($G$3,NSA!$D$2:$D$88,0),COUNTA(NSA!1:1)-($C$4-CD$55))","v":0},{"$f":"OFFSET(NSA!$C$1,MATCH($G$3,NSA!$D$2:$D$88,0),COUNTA(NSA!1:1)-($C$4-CE$55))","v":0},{"$f":"OFFSET(NSA!$C$1,MATCH($G$3,NSA!$D$2:$D$88,0),COUNTA(NSA!1:1)-($C$4-CF$55))","v":0},{"$f":"OFFSET(NSA!$C$1,MATCH($G$3,NSA!$D$2:$D$88,0),COUNTA(NSA!1:1)-($C$4-CG$55))","v":0},{"$f":"OFFSET(NSA!$C$1,MATCH($G$3,NSA!$D$2:$D$88,0),COUNTA(NSA!1:1)-($C$4-CH$55))","v":0},{"$f":"OFFSET(NSA!$C$1,MATCH($G$3,NSA!$D$2:$D$88,0),COUNTA(NSA!1:1)-($C$4-CI$55))","v":0},{"$f":"OFFSET(NSA!$C$1,MATCH($G$3,NSA!$D$2:$D$88,0),COUNTA(NSA!1:1)-($C$4-CJ$55))","v":0},{"$f":"OFFSET(NSA!$C$1,MATCH($G$3,NSA!$D$2:$D$88,0),COUNTA(NSA!1:1)-($C$4-CK$55))","v":0},{"$f":"OFFSET(NSA!$C$1,MATCH($G$3,NSA!$D$2:$D$88,0),COUNTA(NSA!1:1)-($C$4-CL$55))","v":0},{"$f":"OFFSET(NSA!$C$1,MATCH($G$3,NSA!$D$2:$D$88,0),COUNTA(NSA!1:1)-($C$4-CM$55))","v":0},{"$f":"OFFSET(NSA!$C$1,MATCH($G$3,NSA!$D$2:$D$88,0),COUNTA(NSA!1:1)-($C$4-CN$55))","v":0},{"$f":"OFFSET(NSA!$C$1,MATCH($G$3,NSA!$D$2:$D$88,0),COUNTA(NSA!1:1)-($C$4-CO$55))","v":0},{"$f":"OFFSET(NSA!$C$1,MATCH($G$3,NSA!$D$2:$D$88,0),COUNTA(NSA!1:1)-($C$4-CP$55))","v":0},{"$f":"OFFSET(NSA!$C$1,MATCH($G$3,NSA!$D$2:$D$88,0),COUNTA(NSA!1:1)-($C$4-CQ$55))","v":0},{"$f":"OFFSET(NSA!$C$1,MATCH($G$3,NSA!$D$2:$D$88,0),COUNTA(NSA!1:1)-($C$4-CR$55))","v":0},{"$f":"OFFSET(NSA!$C$1,MATCH($G$3,NSA!$D$2:$D$88,0),COUNTA(NSA!1:1)-($C$4-CS$55))","v":0},{"$f":"OFFSET(NSA!$C$1,MATCH($G$3,NSA!$D$2:$D$88,0),COUNTA(NSA!1:1)-($C$4-CT$55))","v":0},{"$f":"OFFSET(NSA!$C$1,MATCH($G$3,NSA!$D$2:$D$88,0),COUNTA(NSA!1:1)-($C$4-CU$55))","v":0},{"$f":"OFFSET(NSA!$C$1,MATCH($G$3,NSA!$D$2:$D$88,0),COUNTA(NSA!1:1)-($C$4-CV$55))","v":0},{"$f":"OFFSET(NSA!$C$1,MATCH($G$3,NSA!$D$2:$D$88,0),COUNTA(NSA!1:1)-($C$4-CW$55))","v":0},{"$f":"OFFSET(NSA!$C$1,MATCH($G$3,NSA!$D$2:$D$88,0),COUNTA(NSA!1:1)-($C$4-CX$55))","v":0},{"$f":"OFFSET(NSA!$C$1,MATCH($G$3,NSA!$D$2:$D$88,0),COUNTA(NSA!1:1)-($C$4-CY$55))","v":0},{"$f":"OFFSET(NSA!$C$1,MATCH($G$3,NSA!$D$2:$D$88,0),COUNTA(NSA!1:1)-($C$4-CZ$55))","v":0}]
[null,"OTM 1",null,{"$f":"D57-C57","v":3600},-6400,-85200,16700,13600,35700,35200,25600,-21600,13300,1400,11200,9900,-11700,-86100,19400,13700,39200,28100,21900,-16300,1900,2500,14300,-1400,600,-81000,20800,9800,40600,14100,18700,{"$f":"AJ57-AI57","v":-6900},1400,-4500,19700,-400,-26000,-61200,23600,4300,37900,29000,23400,-12900,-1800,-2000,-2975500,0,0,0,0,0,0,0,0,0,0,0,0,0,0,0,0,{"$f":"BP57-BO57","v":0},0,0,0,0,0,0,0,0,0,0,0,0,0,0,0,0,0,0,0,0,0,0,0,0,0,0,0,0,0,0,0,0,0,0,0,0]
[null,"OTM 2",null,{"$f":"D58-C58","v":-2800},-8300,-9000,-900,2900,7100,9000,6500,2400,1000,-2100,-500,-3100,-6300,-8700,-1200,2300,10200,7000,5000,2400,-700,-2800,-400,-2900,-5300,-9700,-200,2900,8400,5300,4800,{"$f":"AJ58-AI58","v":2200},-100,-2700,-1400,-2700,-8500,-5600,-1500,1400,9600,6900,4800,2000,-200,-2800,-120900,0,0,0,0,0,0,0,0,0,0,0,0,0,0,0,0,{"$f":"BP58-BO58","v":0},0,0,0,0,0,0,0,0,0,0,0,0,0,0,0,0,0,0,0,0,0,0,0,0,0,0,0,0,0,0,0,0,0,0,0,0]
[null,"%OTM 1",null,{"$f":"D62/C57*100","v":0.12632465436170959},-0.22429382491063293,-2.9926238145416226,0.60467810847997683,0.48947273708835703,1.278607499731385,1.2447839309710729,0.8941669577366399,-0.74776708440074768,0.46389954656435295,4.8606047981113079E-2,0.38865947183953914,0.34221715233848388,-0.40305911533691613,-2.9781052194666389,0.69162210338680929,0.48505877354482368,1.3812057362319863,0.9766100163347583,0.75376884422110546,-0.55682711030642573,6.5269666781174851E-2,8.5825122729925499E-2,0.49049873087740958,-4.7786462777758817E-2,2.0489703923778302E-2,-2.7655433780600225,0.73036272341023212,0.34161815456478545,1.4104568351571998,0.48302559007913393,0.63752897858993585,{"$f":"AJ62/AI57*100","v":-0.23374775568278058},4.7538200339558571E-2,-0.15272875373336953,0.66963526972364795,-1.350621285791464E-2,-0.87802242334188851,-2.0850367947669661,0.82115518441196933,0.14839867476532301,1.306040869774975,0.98646166405877944,0.78819725141471308,-0.4311209143773812,-6.0416876447487659E-2,-6.7170445004198151E-2,-100,{"$error":"#DIV/0!"},{"$error":"#DIV/0!"},{"$error":"#DIV/0!"},{"$error":"#DIV/0!"},{"$error":"#DIV/0!"},{"$error":"#DIV/0!"},{"$error":"#DIV/0!"},{"$error":"#DIV/0!"},{"$error":"#DIV/0!"},{"$error":"#DIV/0!"},{"$error":"#DIV/0!"},{"$error":"#DIV/0!"},{"$error":"#DIV/0!"},{"$error":"#DIV/0!"},{"$error":"#DIV/0!"},{"$error":"#DIV/0!"},{"$f":"BP62/BO57*100","v":{"$error":"#DIV/0!"}},{"$error":"#DIV/0!"},{"$error":"#DIV/0!"},{"$error":"#DIV/0!"},{"$error":"#DIV/0!"},{"$error":"#DIV/0!"},{"$error":"#DIV/0!"},{"$error":"#DIV/0!"},{"$error":"#DIV/0!"},{"$error":"#DIV/0!"},{"$error":"#DIV/0!"},{"$error":"#DIV/0!"},{"$error":"#DIV/0!"},{"$error":"#DIV/0!"},{"$error":"#DIV/0!"},{"$error":"#DIV/0!"},{"$error":"#DIV/0!"},{"$error":"#DIV/0!"},{"$error":"#DIV/0!"},{"$error":"#DIV/0!"},{"$error":"#DIV/0!"},{"$error":"#DIV/0!"},{"$error":"#DIV/0!"},{"$error":"#DIV/0!"},{"$error":"#DIV/0!"},{"$error":"#DIV/0!"},{"$error":"#DIV/0!"},{"$error":"#DIV/0!"},{"$error":"#DIV/0!"},{"$error":"#DIV/0!"},{"$error":"#DIV/0!"},{"$error":"#DIV/0!"},{"$error":"#DIV/0!"},{"$error":"#DIV/0!"},{"$error":"#DIV/0!"},{"$error":"#DIV/0!"},{"$error":"#DIV/0!"}]
[null,"%OTM 2",null,{"$f":"D63/C58*100","v":-2.6119402985074625},-7.950191570881227,-9.3652445369406863,-1.0332950631458095,3.3642691415313224,7.9685746352413016,9.3555093555093567,6.1787072243346008,2.1486123545210387,0.87642418930762489,-1.8245004344048652,-0.44247787610619471,-2.7555555555555555,-5.7586837294332724,-8.4384093113482059,-1.2711864406779663,2.4678111587982832,10.68062827225131,6.6225165562913908,4.4365572315882877,2.0390824129141887,-0.58284762697751868,-2.3450586264656614,-0.34305317324185247,-2.495697074010327,-4.6778464254192409,-8.9814814814814827,-0.20345879959308238,2.9561671763506627,8.3168316831683171,4.8446069469835464,4.184829991281604,{"$f":"AJ63/AI58*100","v":1.8410041841004186},-8.2169268693508629E-2,-2.2203947368421053,-1.1774600504625736,-2.2978723404255321,-7.4041811846689898,-5.2681091251175918,-1.4895729890764648,1.411290322580645,9.5427435387673949,6.2613430127041738,4.0990606319385146,1.6406890894175554,-0.16142050040355124,-2.2635408245755859,-100,{"$error":"#DIV/0!"},{"$error":"#DIV/0!"},{"$error":"#DIV/0!"},{"$error":"#DIV/0!"},{"$error":"#DIV/0!"},{"$error":"#DIV/0!"},{"$error":"#DIV/0!"},{"$error":"#DIV/0!"},{"$error":"#DIV/0!"},{"$error":"#DIV/0!"},{"$error":"#DIV/0!"},{"$error":"#DIV/0!"},{"$error":"#DIV/0!"},{"$error":"#DIV/0!"},{"$error":"#DIV/0!"},{"$error":"#DIV/0!"},{"$f":"BP63/BO58*100","v":{"$error":"#DIV/0!"}},{"$error":"#DIV/0!"},{"$error":"#DIV/0!"},{"$error":"#DIV/0!"},{"$error":"#DIV/0!"},{"$error":"#DIV/0!"},{"$error":"#DIV/0!"},{"$error":"#DIV/0!"},{"$error":"#DIV/0!"},{"$error":"#DIV/0!"},{"$error":"#DIV/0!"},{"$error":"#DIV/0!"},{"$error":"#DIV/0!"},{"$error":"#DIV/0!"},{"$error":"#DIV/0!"},{"$error":"#DIV/0!"},{"$error":"#DIV/0!"},{"$error":"#DIV/0!"},{"$error":"#DIV/0!"},{"$error":"#DIV/0!"},{"$error":"#DIV/0!"},{"$error":"#DIV/0!"},{"$error":"#DIV/0!"},{"$error":"#DIV/0!"},{"$error":"#DIV/0!"},{"$error":"#DIV/0!"},{"$error":"#DIV/0!"},{"$error":"#DIV/0!"},{"$error":"#DIV/0!"},{"$error":"#DIV/0!"},{"$error":"#DIV/0!"},{"$error":"#DIV/0!"},{"$error":"#DIV/0!"},{"$error":"#DIV/0!"},{"$error":"#DIV/0!"},{"$error":"#DIV/0!"},{"$error":"#DIV/0!"}]
[null,null,"Used for pop-up menus. -->","None",null,null,null,null,null,null,null,null,null,null,null,null,null,null,null,null,null,null,null,null,null,null,null,null,null,null,null,null,null,null,null,null,null,null,null,null,null,null,null,null,null,null,null,null,null,null,null,null,null,null,null,null,null,null,null,null,null,{"$f":"(BJ57-BI57)/(BB57-BI57)","v":{"$error":"#DIV/0!"}}]
[null,null,"May need to change if",{"$f":"NSA!D2","v":"Total Nonfarm"},null,null,null,null,null,null,null,null,null,null,null,null,null,null,null,null,null,null,null,null,null,null,null,null,null,null,null,null,null,null,null,null,null,null,null,null,null,null,null,null,null,null,null,null,null,null,null,null,null,null,null,null,null,null,null,null,null,{"$f":"(BJ58-BI58)/(BB58-BI58)","v":{"$error":"#DIV/0!"}}]
[null,null,"NSA sector names change.",{"$f":"NSA!D3","v":"Total Private"},null,null,null,null,null,null,null,null,null,null,null,null,null,null,null,null,null,null,null,null,null,null,null,null,null,null,null,null,null,null,null,null,{"$f":"(AK57-AE57)/AE57*100","v":2.7085439397636559}]
[null,null,null,{"$f":"NSA!D4","v":"Goods Producing"}]
[null,null,null,{"$f":"NSA!D5","v":"Service-Providing"},null,null,null,null,null,null,null,null,"<-- Button no longer needed; relevant code called directly when parameter cells change."]
[null,null,null,{"$f":"NSA!D6","v":"Private Service Providing"}]
[null,null,null,{"$f":"NSA!D7","v":"Mining and Logging"},null,null,null,null,null,null,"Axis range calculations (referenced in axis-manipulation code)"]
[null,null,null,{"$f":"NSA!D9","v":"Construction"},null,null,null,null,null,null,"Ave","SD","Min","Max","SDMin","SDMax","AxisSDMin","AxisSDMax","AxisMin","AxisMax"]
[null,null,null,{"$f":"NSA!D10","v":"Construction of Buildings"},null,null,null,null,null,null,{"$f":"AVERAGE(OFFSET($C57,0,0,1,$C$4))","v":2897472.9166666665},{"$f":"STDEV(OFFSET($C57,0,0,1,$C$4))","v":54731.836546361097},{"$f":"MIN(OFFSET($C57,0,0,1,$C$4))-($C57*0.05)","v":2619310},{"$f":"MAX(OFFSET($C57,0,0,1,$C$4))*1.05","v":3141810},{"$f":"(M74-$K74)/$L74","v":-5.0822872795625287},{"$f":"(N74-$K74)/$L74","v":4.4642588071453719},{"$f":"IF(ISNA(O75),FLOOR(O74,0.25),FLOOR(MIN($O$74:$O$75),0.25))","v":-5.25},{"$f":"IF(ISNA(P75),CEILING(P74,0.25),CEILING(MAX($P$74:$P$75),0.25))","v":4.5},{"$f":"Q74*$L74+$K74","v":2610130.7747982708},{"$f":"R74*$L74+$K74","v":3143766.1811252916}]
[null,null,null,{"$f":"NSA!D11","v":"Heavy and Civil Engineering Construction"},null,null,null,null,null,null,{"$f":"AVERAGE(OFFSET($C58,0,0,1,$C$4))","v":108816.66666666667},{"$f":"STDEV(OFFSET($C58,0,0,1,$C$4))","v":10337.441416301281},{"$f":"MIN(OFFSET($C58,0,0,1,$C$4))-($C58*0.05)","v":80840},{"$f":"MAX(OFFSET($C58,0,0,1,$C$4))*1.05","v":130095},{"$f":"(M75-$K75)/$L75","v":-2.7063434306432739},{"$f":"(N75-$K75)/$L75","v":2.0583752281081056},{"$f":"IF(ISNA(O74),FLOOR(O75,0.25),FLOOR(MIN($O$74:$O$75),0.25))","v":-5.25},{"$f":"IF(ISNA(P74),CEILING(P75,0.25),CEILING(MAX($P$74:$P$75),0.25))","v":4.5},{"$f":"Q75*$L75+$K75","v":54545.099231084947},{"$f":"R75*$L75+$K75","v":155335.15304002244}]
[null,null,null,{"$f":"NSA!D12","v":"Specialty Trade Contractors"}]
[null,null,null,{"$f":"NSA!D13","v":"Building Equipment Contractors"}]
[null,null,null,{"$f":"NSA!D14","v":"Manufacturing"}]
[null,null,null,{"$f":"NSA!D15","v":"Durable Goods"},null,null,null,null,null,null,"Ave","SD","Min","Max","SDMin","SDMax","AxisSDMin","AxisSDMax","AxisMin","AxisMax"]
[null,null,null,{"$f":"NSA!D16","v":"Wood Product Manufacturing"},null,null,null,null,null,null,{"$f":"AVERAGE(OFFSET($C60,0,0,1,$C$4))","v":466404.16666666669},{"$f":"STDEV(OFFSET($C60,0,0,1,$C$4))","v":6471.7375197718502},{"$f":"MIN(OFFSET($C60,0,0,1,$C$4))-($C60*0.05)","v":431910},{"$f":"MAX(OFFSET($C60,0,0,1,$C$4))*1.05","v":505680},{"$f":"(M80-$K80)/$L80","v":-5.3299699750311751},{"$f":"(N80-$K80)/$L80","v":6.0688235907809061},{"$f":"IF(ISNA(O75),FLOOR(O80,0.25),FLOOR(MIN($O$74:$O$75),0.25))","v":-5.25},{"$f":"IF(ISNA(P75),CEILING(P80,0.25),CEILING(MAX($P$74:$P$75),0.25))","v":4.5},{"$f":"Q80*$L80+$K80","v":432427.54468786449},{"$f":"R80*$L80+$K80","v":495526.98550564004}]
[null,null,null,{"$f":"NSA!D17","v":"Fabricated Metal Product Manufacturing"},null,null,null,null,null,null,{"$f":"AVERAGE(OFFSET($C61,0,0,1,$C$4))","v":108816.66666666667},{"$f":"STDEV(OFFSET($C61,0,0,1,$C$4))","v":10337.441416301281},{"$f":"MIN(OFFSET($C61,0,0,1,$C$4))-($C61*0.05)","v":80840},{"$f":"MAX(OFFSET($C61,0,0,1,$C$4))*1.05","v":130095},{"$f":"(M81-$K81)/$L81","v":-2.7063434306432739},{"$f":"(N81-$K81)/$L81","v":2.0583752281081056},{"$f":"IF(ISNA(O80),FLOOR(O81,0.25),FLOOR(MIN($O$74:$O$75),0.25))","v":-5.25},{"$f":"IF(ISNA(P80),CEILING(P81,0.25),CEILING(MAX($P$74:$P$75),0.25))","v":4.5},{"$f":"Q81*$L81+$K81","v":54545.099231084947},{"$f":"R81*$L81+$K81","v":155335.15304002244}]
[null,null,null,{"$f":"NSA!D18","v":"Machinery Manufacturing"}]
[null,null,null,{"$f":"NSA!D19","v":"Electrical Equipment, Appliance, and Component Manufacturing"}]
[null,null,null,{"$f":"NSA!D20","v":"Transportation Equipment Manufacturing"}]
[null,null,null,{"$f":"NSA!D21","v":"Non-Durable Goods"}]
[null,null,null,{"$f":"NSA!D22","v":"Food Manufacturing"}]
[null,null,null,{"$f":"NSA!D23","v":"Animal Slaughtering and Processing"}]
[null,null,null,{"$f":"NSA!D24","v":"Paper Manufacturing"}]
[null,null,null,{"$f":"NSA!D25","v":"Printing and Related Support Activities"}]
[null,null,null,{"$f":"NSA!D26","v":"Plastics and Rubber Products Manufacturing"}]
[null,null,null,{"$f":"NSA!D27","v":"Plastics Product Manufacturing"}]
[null,null,null,{"$f":"NSA!D28","v":"Trade, Transportation, and Utilities"}]
[null,null,null,{"$f":"NSA!D29","v":"Wholesale Trade"}]
[null,null,null,{"$f":"NSA!D30","v":"Merchant Wholesalers, Durable Goods"}]
[null,null,null,{"$f":"NSA!D31","v":"Merchant Wholesalers, Nondurable Goods"}]
[null,null,null,{"$f":"NSA!D32","v":"Grocery and Related Product Merchant Wholesalers"}]
[null,null,null,{"$f":"NSA!D33","v":"Retail Trade"}]
[null,null,null,{"$f":"NSA!D34","v":"Motor Vehicle and Parts Dealers"}]
[null,null,null,{"$f":"NSA!D35","v":"Building Material and Garden Equipment and Supplies Dealers"}]
[null,null,null,{"$f":"NSA!D36","v":"Food and Beverage Stores"}]
[null,null,null,{"$f":"NSA!D37","v":"Grocery Stores"}]
[null,null,null,{"$f":"NSA!D38","v":"Gasoline Stations"}]
[null,null,null,{"$f":"NSA!D39","v":"General Merchandise Stores"}]
[null,null,null,{"$f":"NSA!D40","v":"Department Stores"}]
[null,null,null,{"$f":"NSA!D41","v":"Nonstore Retailers"}]
[null,null,null,{"$f":"NSA!D42","v":"Electronic Shopping and Mail-Order Houses"}]
[null,null,null,{"$f":"NSA!D43","v":"Transportation, Warehousing, and Utilities"}]
[null,null,null,{"$f":"NSA!D44","v":"Utilities"}]
[null,null,null,{"$f":"NSA!D45","v":"Transportation and Warehousing"}]
[null,null,null,{"$f":"NSA!D46","v":"Truck Transportation"}]
[null,null,null,{"$f":"NSA!D47","v":"Information"}]
[null,null,null,{"$f":"NSA!D48","v":"Financial Activities"}]
[null,null,null,{"$f":"NSA!D49","v":"Finance and Insurance"}]
[null,null,null,{"$f":"NSA!D50","v":"Credit Intermediation and Related Activities including Monetary Authorities-Central Bank"}]
[null,null,null,{"$f":"NSA!D51","v":"Depository Credit Intermediation including Monetary Authorities-Central Bank"}]
[null,null,null,{"$f":"NSA!D52","v":"Insurance Carriers and Related Activities"}]
[null,null,null,{"$f":"NSA!D53","v":"Real Estate and Rental and Leasing"}]
[null,null,null,{"$f":"NSA!D54","v":"Professional and Business Services"}]
[null,null,null,{"$f":"NSA!D55","v":"Professional, Scientific, and Technical Services"}]
[null,null,null,{"$f":"NSA!D56","v":"Architectural, Engineering, and Related Services"}]
[null,null,null,{"$f":"NSA!D57","v":"Management of Companies and Enterprises"}]
[null,null,null,{"$f":"NSA!D58","v":"Administrative and Support and Waste Management and Remediation Services"}]
[null,null,null,{"$f":"NSA!D59","v":"Employment Services"}]
[null,null,null,{"$f":"NSA!D60","v":"Services to Buildings and Dwellings"}]
[null,null,null,{"$f":"NSA!D61","v":"Education and Health Services"}]
[null,null,null,{"$f":"NSA!D62","v":"Educational Services"}]
[null,null,null,{"$f":"NSA!D63","v":"Colleges, Universities, and Professional Schools"}]
[null,null,null,{"$f":"NSA!D64","v":"Health Care and Social Assistance"}]
[null,null,null,{"$f":"NSA!D65","v":"Ambulatory Health Care Services"}]
[null,null,null,{"$f":"NSA!D66","v":"Offices of Physicians"}]
[null,null,null,{"$f":"NSA!D67","v":"Outpatient Care Centers"}]
[null,null,null,{"$f":"NSA!D68","v":"Hospitals"}]
[null,null,null,{"$f":"NSA!D69","v":"Nursing and Residential Care Facilities"}]
[null,null,null,{"$f":"NSA!D70","v":"Nursing Care Facilities"}]
[null,null,null,{"$f":"NSA!D71","v":"Social Assistance"}]
[null,null,null,{"$f":"NSA!D72","v":"Leisure and Hospitality"}]
[null,null,null,{"$f":"NSA!D73","v":"Arts, Entertainment, and Recreation"}]
[null,null,null,{"$f":"NSA!D74","v":"Accommodation and Food Services"}]
[null,null,null,{"$f":"NSA!D75","v":"Accommodation"}]
[null,null,null,{"$f":"NSA!D76","v":"Food Services and Drinking Places"}]
[null,null,null,{"$f":"NSA!D77","v":"Drinking Places (Alcoholic Beverages)"}]
[null,null,null,{"$f":"NSA!D78","v":"Restaurants and Other Eating Places"}]
[null,null,null,{"$f":"NSA!D79","v":"Full-service restaurants"}]
[null,null,null,{"$f":"NSA!D80","v":"Limited Service Eating Places and Other Eating Places"}]
[null,null,null,{"$f":"NSA!D81","v":"Other Services"}]
[null,null,null,{"$f":"NSA!D82","v":"Repair and Maintenance"}]
[null,null,null,{"$f":"NSA!D83","v":"Personal and Laundry Services"}]
[null,null,null,{"$f":"NSA!D84","v":"Religious, Grantmaking, Civic, Professional, and Similar Organizations"}]
[null,null,null,{"$f":"NSA!D85","v":"Government"}]
[null,null,null,{"$f":"NSA!D86","v":"Federal Government"}]
[null,null,null,{"$f":"NSA!D87","v":"State Government"}]
[null,null,null,{"$f":"NSA!D88","v":"Local Government"}]
[null,null,null,{"$f":"NSA!D89","v":"Local Government Educational Services"}]

{"sheet":"Monthly","index":4,"n_rows":70,"n_cols":104,"rows_kept":70,"cut":false,"hidden":false,"merged":[]}
[]
[]
[]
[]
[]
[]
[]
[]
[]
[]
[]
[]
[]
[]
[]
[]
[]
[]
[]
[]
[]
[]
[]
[]
[]
[]
[]
[]
[]
[]
[]
[]
[]
[]
[]
[]
[]
[]
[]
["This graph is based on your selection in SA charts and shows the monthly fluctuations"]
[]
[]
[]
[]
[]
[]
[]
[]
[]
[]
[]
[]
[]
[]
[]
[]
[]
[]
[]
[]
[]
[]
[]
[]
[null,null,null,null,null,1,{"$f":"F65+1","v":2},{"$f":"G65+1","v":3},4,5,6,7,8,9,10,11,12,13,14,15,16,17,18,19,20,21,22,23,24,25,26,27,28,29,30,31,32,33,34,35,36,37,38,39,40,41,42,43,44,45]
[null,"3 Month Chg",null,null,{"$f":"AVERAGE('SA Charts'!C44:E44)","v":2850},{"$f":"AVERAGE('SA Charts'!D44:F44)","v":3600},{"$f":"AVERAGE('SA Charts'!E44:G44)","v":3100},{"$f":"AVERAGE('SA Charts'!F44:H44)","v":3300},{"$f":"AVERAGE('SA Charts'!G44:I44)","v":3900},{"$f":"AVERAGE('SA Charts'!H44:J44)","v":4333.333333333333},{"$f":"AVERAGE('SA Charts'!I44:K44)","v":5333.333333333333},{"$f":"AVERAGE('SA Charts'!J44:L44)","v":3000},{"$f":"AVERAGE('SA Charts'!K44:M44)","v":6233.333333333333},{"$f":"AVERAGE('SA Charts'!L44:N44)","v":3333.3333333333335},{"$f":"AVERAGE('SA Charts'!M44:O44)","v":3833.3333333333335},{"$f":"AVERAGE('SA Charts'!N44:P44)","v":3800},{"$f":"AVERAGE('SA Charts'!O44:Q44)","v":2600},{"$f":"AVERAGE('SA Charts'!P44:R44)","v":3766.6666666666665},{"$f":"AVERAGE('SA Charts'!Q44:S44)","v":666.66666666666663},{"$f":"AVERAGE('SA Charts'!R44:T44)","v":4033.3333333333335},{"$f":"AVERAGE('SA Charts'!S44:U44)","v":2666.6666666666665},{"$f":"AVERAGE('SA Charts'!T44:V44)","v":3433.3333333333335},{"$f":"AVERAGE('SA Charts'!U44:W44)","v":2900},{"$f":"AVERAGE('SA Charts'!V44:X44)","v":3600},{"$f":"AVERAGE('SA Charts'!W44:Y44)","v":2833.3333333333335},{"$f":"AVERAGE('SA Charts'!X44:Z44)","v":1933.3333333333333},{"$f":"AVERAGE('SA Charts'!Y44:AA44)","v":2533.3333333333335},{"$f":"AVERAGE('SA Charts'!Z44:AB44)","v":1666.6666666666667},{"$f":"AVERAGE('SA Charts'!AA44:AC44)","v":3766.6666666666665},{"$f":"AVERAGE('SA Charts'!AB44:AD44)","v":5700},{"$f":"AVERAGE('SA Charts'!AC44:AE44)","v":7000},{"$f":"AVERAGE('SA Charts'!AD44:AF44)","v":5033.333333333333},{"$f":"AVERAGE('SA Charts'!AE44:AG44)","v":1966.6666666666667},{"$f":"AVERAGE('SA Charts'!AF44:AH44)","v":-1966.6666666666667},{"$f":"AVERAGE('SA Charts'!AG44:AI44)","v":-2066.6666666666665},{"$f":"AVERAGE('SA Charts'!AH44:AJ44)","v":1300},{"$f":"AVERAGE('SA Charts'!AI44:AK44)","v":4133.333333333333},{"$f":"AVERAGE('SA Charts'!AJ44:AL44)","v":2333.3333333333335},{"$f":"AVERAGE('SA Charts'!AK44:AM44)","v":633.33333333333337},{"$f":"AVERAGE('SA Charts'!AL44:AN44)","v":1566.6666666666667},{"$f":"AVERAGE('SA Charts'!AM44:AO44)","v":3500},{"$f":"AVERAGE('SA Charts'!AN44:AP44)","v":3200},{"$f":"AVERAGE('SA Charts'!AO44:AQ44)","v":5666.666666666667},{"$f":"AVERAGE('SA Charts'!AP44:AR44)","v":4266.666666666667},{"$f":"AVERAGE('SA Charts'!AQ44:AS44)","v":6833.333333333333},{"$f":"AVERAGE('SA Charts'!AR44:AT44)","v":1900},{"$f":"AVERAGE('SA Charts'!AS44:AU44)","v":1333.3333333333333},{"$f":"AVERAGE('SA Charts'!AT44:AV44)","v":-1100},{"$f":"AVERAGE('SA Charts'!AU44:AW44)","v":-2233.3333333333335},{"$f":"AVERAGE('SA Charts'!AV44:AX44)","v":2433.3333333333335},{"$f":"AVERAGE('SA Charts'!AW44:AY44)","v":{"$error":"#N/A"}},{"$f":"AVERAGE('SA Charts'!AX44:AZ44)","v":{"$error":"#N/A"}},{"$f":"AVERAGE('SA Charts'!AY44:BA44)","v":{"$error":"#N/A"}},{"$f":"AVERAGE('SA Charts'!AZ44:BB44)","v":{"$error":"#N/A"}},{"$f":"AVERAGE('SA Charts'!BA44:BC44)","v":{"$error":"#N/A"}},{"$f":"AVERAGE('SA Charts'!BB44:BD44)","v":{"$error":"#N/A"}},{"$f":"AVERAGE('SA Charts'!BC44:BE44)","v":{"$error":"#N/A"}},{"$f":"AVERAGE('SA Charts'!BD44:BF44)","v":{"$error":"#N/A"}},{"$f":"AVERAGE('SA Charts'!BE44:BG44)","v":{"$error":"#N/A"}},{"$f":"AVERAGE('SA Charts'!BF44:BH44)","v":{"$error":"#N/A"}},{"$f":"AVERAGE('SA Charts'!BG44:BI44)","v":{"$error":"#N/A"}},{"$f":"AVERAGE('SA Charts'!BH44:BJ44)","v":{"$error":"#N/A"}},{"$f":"AVERAGE('SA Charts'!BI44:BK44)","v":{"$error":"#N/A"}},{"$f":"AVERAGE('SA Charts'!BJ44:BL44)","v":{"$error":"#N/A"}},{"$f":"AVERAGE('SA Charts'!BK44:BM44)","v":{"$error":"#N/A"}},{"$f":"AVERAGE('SA Charts'!BL44:BN44)","v":{"$error":"#N/A"}},{"$f":"AVERAGE('SA Charts'!BM44:BO44)","v":{"$error":"#N/A"}},{"$f":"AVERAGE('SA Charts'!BN44:BP44)","v":{"$error":"#N/A"}},{"$f":"AVERAGE('SA Charts'!BO44:BQ44)","v":{"$error":"#N/A"}},{"$f":"AVERAGE('SA Charts'!BP44:BR44)","v":{"$error":"#N/A"}},{"$f":"AVERAGE('SA Charts'!BQ44:BS44)","v":{"$error":"#N/A"}},{"$f":"AVERAGE('SA Charts'!BR44:BT44)","v":{"$error":"#N/A"}},{"$f":"AVERAGE('SA Charts'!BS44:BU44)","v":{"$error":"#N/A"}},{"$f":"AVERAGE('SA Charts'!BT44:BV44)","v":{"$error":"#N/A"}},{"$f":"AVERAGE('SA Charts'!BU44:BW44)","v":{"$error":"#N/A"}},{"$f":"AVERAGE('SA Charts'!BV44:BX44)","v":{"$error":"#N/A"}},{"$f":"AVERAGE('SA Charts'!BW44:BY44)","v":{"$error":"#N/A"}},{"$f":"AVERAGE('SA Charts'!BX44:BZ44)","v":{"$error":"#N/A"}},{"$f":"AVERAGE('SA Charts'!BY44:CA44)","v":{"$error":"#N/A"}},{"$f":"AVERAGE('SA Charts'!BZ44:CB44)","v":{"$error":"#N/A"}},{"$f":"AVERAGE('SA Charts'!CA44:CC44)","v":{"$error":"#N/A"}},{"$f":"AVERAGE('SA Charts'!CB44:CD44)","v":{"$error":"#N/A"}},{"$f":"AVERAGE('SA Charts'!CC44:CE44)","v":{"$error":"#N/A"}},{"$f":"AVERAGE('SA Charts'!CD44:CF44)","v":{"$error":"#N/A"}},{"$f":"AVERAGE('SA Charts'!CE44:CG44)","v":{"$error":"#N/A"}},{"$f":"AVERAGE('SA Charts'!CF44:CH44)","v":{"$error":"#N/A"}},{"$f":"AVERAGE('SA Charts'!CG44:CI44)","v":{"$error":"#N/A"}},{"$f":"AVERAGE('SA Charts'!CH44:CJ44)","v":{"$error":"#N/A"}},{"$f":"AVERAGE('SA Charts'!CI44:CK44)","v":{"$error":"#N/A"}},{"$f":"AVERAGE('SA Charts'!CJ44:CL44)","v":{"$error":"#N/A"}},{"$f":"AVERAGE('SA Charts'!CK44:CM44)","v":{"$error":"#N/A"}},{"$f":"AVERAGE('SA Charts'!CL44:CN44)","v":{"$error":"#N/A"}},{"$f":"AVERAGE('SA Charts'!CM44:CO44)","v":{"$error":"#N/A"}},{"$f":"AVERAGE('SA Charts'!CN44:CP44)","v":{"$error":"#N/A"}},{"$f":"AVERAGE('SA Charts'!CO44:CQ44)","v":{"$error":"#N/A"}},{"$f":"AVERAGE('SA Charts'!CP44:CR44)","v":{"$error":"#N/A"}},{"$f":"AVERAGE('SA Charts'!CQ44:CS44)","v":{"$error":"#N/A"}},{"$f":"AVERAGE('SA Charts'!CR44:CT44)","v":{"$error":"#N/A"}},{"$f":"AVERAGE('SA Charts'!CS44:CU44)","v":{"$error":"#N/A"}},{"$f":"AVERAGE('SA Charts'!CT44:CV44)","v":{"$error":"#N/A"}},{"$f":"AVERAGE('SA Charts'!CU44:CW44)","v":{"$error":"#N/A"}},{"$f":"AVERAGE('SA Charts'!CV44:CX44)","v":{"$error":"#N/A"}},{"$f":"AVERAGE('SA Charts'!CW44:CY44)","v":{"$error":"#N/A"}},{"$f":"AVERAGE('SA Charts'!CX44:CZ44)","v":{"$error":"#N/A"}}]
[]
[]
[null,"6 mo trend","Current","Diff","Expected value",{"$f":"'SA Charts'!AX41","v":"2017-09-01"},{"$f":"'SA Charts'!AW41","v":"2017-08-01"},{"$f":"'SA Charts'!AL41","v":"2016-09-01"},null,"AVG 48 mo","AVG 24 mo","AVG 12 mo","AVG 6 mo","AVG 3 mo",null,"12 mo var","6 mo var","3 mo var"]
[{"$f":"'SA Charts'!C2","v":"Total Nonfarm"},null,null,null,{"$f":"(N70)-(F70+G70)","v":933.33333333333348},{"$f":"'SA Charts'!AX44","v":8600},{"$f":"'SA Charts'!AW44","v":-7100},{"$f":"'SA Charts'!AL44","v":-5300},null,{"$f":"AVERAGE('SA Charts'!D44:AX44)","v":2931.9148936170213},{"$f":"AVERAGE('SA Charts'!AA44:AX44)","v":2575},{"$f":"AVERAGE('SA Charts'!AM44:AX44)","v":2883.3333333333335},{"$f":"AVERAGE('SA Charts'!AS44:AX44)","v":1883.3333333333333},{"$f":"AVERAGE('SA Charts'!AV44:AX44)","v":2433.3333333333335},null,{"$f":"F70-L70","v":5716.6666666666661},{"$f":"F70-M70","v":6716.666666666667},{"$f":"F70-N70","v":6166.6666666666661}]

{"sheet":"3Month","index":5,"n_rows":44,"n_cols":1,"rows_kept":44,"cut":false,"hidden":false,"merged":[]}
[]
[]
[]
[]
[]
[]
[]
[]
[]
[]
[]
[]
[]
[]
[]
[]
[]
[]
[]
[]
[]
[]
[]
[]
[]
[]
[]
[]
[]
[]
[]
[]
[]
[]
[]
[]
[]
[]
[]
[]
[]
["This graph is based on your selection in SA charts"]
[]
["This graph shows how providing a 3 month-view of the data smoothes out volatility.  Where you see no data are months where the 3 month average=0."]

{"sheet":"Historical","index":6,"n_rows":145,"n_cols":170,"rows_kept":145,"cut":false,"hidden":false,"merged":[[0,106,1,106],[0,107,0,114],[1,107,1,114],[2,106,2,114],[5,108,5,112],[39,108,39,112],[74,108,74,112],[75,46,75,54],[40,46,40,54],[4,13,4,15],[39,25,39,27],[39,13,39,15],[74,13,74,15],[4,46,4,54],[4,73,4,77],[4,90,4,95],[39,90,39,95],[74,90,74,95],[39,73,39,77],[74,73,74,77]]}
["CES Historical Analysis","Key","<15%","15 to 30%","31 to 45%","46 to 55%","56 to 70%","71 to 85%",">85%",null,null,null,null,null,null,null,null,null,null,null,null,null,null,null,null,null,null,null,null,null,null,null,null,null,null,null,null,null,null,null,null,null,null,null,null,null,null,null,null,null,null,null,null,null,null,null,null,null,null,null,null,null,null,null,null,null,null,null,null,null,null,null,null,null,null,null,null,null,null,null,null,null,null,null,null,null,null,null,null,null,null,null,null,null,null,null,null,"Key","<15%","15 to 30%","31 to 45%","46 to 55%","56 to 70%","71 to 85%",">85%",null,"Key","Significantly Higher Change (bolded italicized black text)"]
[null,null,"Bottom 15%",null,null,null,null,null,"Top 15%",null,null,null,null,null,null,null,null,null,null,null,null,null,null,null,null,null,null,null,null,null,null,null,null,null,null,null,null,null,null,null,null,null,null,null,null,null,null,null,null,null,null,null,null,null,null,null,null,null,null,null,null,null,null,null,null,null,null,null,null,null,null,null,null,null,null,null,null,null,null,null,null,null,null,null,null,null,null,null,null,null,null,null,null,null,null,null,null,null,"Bottom 15%",null,null,null,null,null,"Top 15%",null,null,"Significantly Lower Change (bolded italicized red text)"]
[null,null,null,null,null,null,null,null,null,null,null,null,null,null,null,null,null,null,null,null,null,null,null,null,null,null,null,null,null,null,null,null,null,null,null,null,null,null,null,null,null,null,null,null,null,null,null,null,"GM Closes",null,null,null,null,null,null,null,null,null,null,null,null,null,null,null,null,null,null,null,null,null,null,null,null,null,null,null,null,null,null,null,null,null,null,null,null,null,null,null,null,null,null,null,null,null,null,null,null,null,null,null,null,null,null,null,null,null,"Above Key applies to values starting October 2013 (non-benchmarked data)"]
[]
[null,null,null,null,null,null,null,null,null,null,null,null,null,"Housing Market Prices Peaks",null,null,null,null,null,null,null,null,null,null,null,"Housing Market Price Declines Begin",null,null,null,null,"Peak","Decline begins",null,"Floods",null,null,null,null,null,null,null,null,null,null,null,null,"Great Recession",null,null,null,null,null,null,null,null,null,null,null,null,null,null,null,null,null,null,null,null,null,null,null,null,null,null,"Act 10 Protests",null,null,null,null,"Act 10 Passes",null,null,"Education Cuts begin",null,null,null,null,null,null,null,null,"Severe Drought",null,null,null,null,null,null,null,null,null,null,null,null,null,null,null,null,null,null,"Dodd Frank"]
[null,null,null,null,null,null,null,null,null,null,null,null,null,null,null,null,null,null,null,null,null,null,null,null,null,null,null,null,null,null,null,null,null,null,null,null,null,null,null,null,null,null,null,null,null,null,null,null,null,null,null,null,null,null,null,null,null,null,null,null,null,null,null,null,null,null,null,null,null,null,null,null,null,null,null,null,null,null,null,null,null,null,null,null,null,null,null,null,null,null,null,null,null,null,null,null,null,null,null,null,null,null,null,null,null,null,null,null,"Severe Winter Weather/Late Spring",null,null,null,null,null,null,null,null,null,null,null,null,null,null,null,null,null,null,null,null,null,null,null,null,null,null,null,null,null,null,null,null,null,"Post Benchmark Re-estimates"]
["Year over Year Change","2005-01-01","2005-02-01","2005-03-01","2005-04-01","2005-05-01","2005-06-01","2005-07-01","2005-08-01","2005-09-01","2005-10-01","2005-11-01","2005-12-01","2006-01-01","2006-02-01","2006-03-01","2006-04-01","2006-05-01","2006-06-01","2006-07-01","2006-08-01","2006-09-01","2006-10-01","2006-11-01","2006-12-01","2007-01-01","2007-02-01","2007-03-01","2007-04-01","2007-05-01","2007-06-01","2007-07-01","2007-08-01","2007-09-01","2007-10-01","2007-11-01","2007-12-01","2008-01-01","2008-02-01","2008-03-01","2008-04-01","2008-05-01","2008-06-01","2008-07-01","2008-08-01","2008-09-01","2008-10-01","2008-11-01","2008-12-01","2009-01-01","2009-02-01","2009-03-01","2009-04-01","2009-05-01","2009-06-01","2009-07-01","2009-08-01","2009-09-01","2009-10-01","2009-11-01","2009-12-01","2010-01-01","2010-02-01","2010-03-01","2010-04-01","2010-05-01","2010-06-01","2010-07-01","2010-08-01","2010-09-01","2010-10-01","2010-11-01","2010-12-01","2011-01-01","2011-02-01","2011-03-01","2011-04-01","2011-05-01","2011-06-01","2011-07-01","2011-08-01","2011-09-01","2011-10-01","2011-11-01","2011-12-01","2012-01-01","2012-02-01","2012-03-01","2012-04-01","2012-05-01","2012-06-01","2012-07-01","2012-08-01","2012-09-01","2012-10-01","2012-11-01","2012-12-01","2013-01-01","2013-02-01","2013-03-01","2013-04-01","2013-05-01","2013-06-01","2013-07-01","2013-08-01","2013-09-01","2013-10-01","2013-11-01","2013-12-01","2014-01-01","2014-02-01","2014-03-01","2014-04-01","2014-05-01","2014-06-01",{"$f":"EDATE(DK7, 1)","v":"2014-07-01"},{"$f":"EDATE(DL7, 1)","v":"2014-08-01"},"2014-09-01","2014-10-01","2014-11-01","2014-12-01","2015-01-01","2015-02-01","2015-03-01","2015-04-01","2015-05-01","2015-06-01","2015-07-01","2015-08-01","2015-09-01","2015-10-01","2015-11-01","2015-12-01","2016-01-01",{"$f":"EDATE(ED7, 1)","v":"2016-02-01"},{"$f":"EDATE(EE7, 1)","v":"2016-03-01"},{"$f":"EDATE(EF7, 1)","v":"2016-04-01"},{"$f":"EDATE(EG7, 1)","v":"2016-05-01"},{"$f":"EDATE(EH7, 1)","v":"2016-06-01"},{"$f":"EDATE(EI7, 1)","v":"2016-07-01"},{"$f":"EDATE(EJ7, 1)","v":"2016-08-01"},{"$f":"EDATE(EK7, 1)","v":"2016-09-01"},"2016-10-01","2016-11-01",{"$f":"EDATE(EN7, 1)","v":"2016-12-01"},{"$f":"EDATE(EO7, 1)","v":"2017-01-01"},{"$f":"EDATE(EP7, 1)","v":"2017-02-01"},{"$f":"EDATE(EQ7, 1)","v":"2017-03-01"},"2017-04-01","2017-05-01","2017-06-01","2017-07-01","2017-08-01","2017-09-01","2017-10-01","2017-11-01",{"$f":"EDATE(EZ7, 1)","v":"2017-12-01"},"Y/Y Sig","# Positive Sig Changes since October 2016","12 mo Trend","Year over Year Change","Min",0.15,0.3,0.45,0.55000000000000004,0.7,0.85,"Max","Std Deviation"]
["Total Non Farm",{"$f":"SA!BN2-SA!BB2","v":37400},{"$f":"SA!BO2-SA!BC2","v":39800},{"$f":"SA!BP2-SA!BD2","v":38700},{"$f":"SA!BQ2-SA!BE2","v":46200},{"$f":"SA!BR2-SA!BF2","v":35700},{"$f":"SA!BS2-SA!BG2","v":28500},{"$f":"SA!BT2-SA!BH2","v":28500},{"$f":"SA!BU2-SA!BI2","v":24000},{"$f":"SA!BV2-SA!BJ2","v":39000},{"$f":"SA!BW2-SA!BK2","v":25700},{"$f":"SA!BX2-SA!BL2","v":27200},{"$f":"SA!BY2-SA!BM2","v":32800},{"$f":"SA!BZ2-SA!BN2","v":31100},{"$f":"SA!CA2-SA!BO2","v":28100},{"$f":"SA!CB2-SA!BP2","v":28000},{"$f":"SA!CC2-SA!BQ2","v":26100},{"$f":"SA!CD2-SA!BR2","v":23600},{"$f":"SA!CE2-SA!BS2","v":34700},{"$f":"SA!CF2-SA!BT2","v":23800},{"$f":"SA!CG2-SA!BU2","v":21300},{"$f":"SA!CH2-SA!BV2","v":18200},{"$f":"SA!CI2-SA!BW2","v":19500},{"$f":"SA!CJ2-SA!BX2","v":17500},{"$f":"SA!CK2-SA!BY2","v":15700},{"$f":"SA!CL2-SA!BZ2","v":21200},{"$f":"SA!CM2-SA!CA2","v":15900},{"$f":"SA!CN2-SA!CB2","v":18200},{"$f":"SA!CO2-SA!CC2","v":10800},{"$f":"SA!CP2-SA!CD2","v":23400},{"$f":"SA!CQ2-SA!CE2","v":24700},{"$f":"SA!CR2-SA!CF2","v":20200},{"$f":"SA!CS2-SA!CG2","v":19000},{"$f":"SA!CT2-SA!CH2","v":14800},{"$f":"SA!CU2-SA!CI2","v":10800},{"$f":"SA!CV2-SA!CJ2","v":9700},{"$f":"SA!CW2-SA!CK2","v":12200},{"$f":"SA!CX2-SA!CL2","v":12300},{"$f":"SA!CY2-SA!CM2","v":12900},{"$f":"SA!CZ2-SA!CN2","v":5200},{"$f":"SA!DA2-SA!CO2","v":1000},{"$f":"SA!DB2-SA!CP2","v":-1800},{"$f":"SA!DC2-SA!CQ2","v":-13000},{"$f":"SA!DD2-SA!CR2","v":-8900},{"$f":"SA!DE2-SA!CS2","v":-12500},{"$f":"SA!DF2-SA!CT2","v":-9200},{"$f":"SA!DG2-SA!CU2","v":-15200},{"$f":"SA!DH2-SA!CV2","v":-23400},{"$f":"SA!DI2-SA!CW2","v":-42900},{"$f":"SA!DJ2-SA!CX2","v":-73900},{"$f":"SA!DK2-SA!CY2","v":-89600},{"$f":"SA!DL2-SA!CZ2","v":-107800},{"$f":"SA!DM2-SA!DA2","v":-126100},{"$f":"SA!DN2-SA!DB2","v":-128900},{"$f":"SA!DO2-SA!DC2","v":-139300},{"$f":"SA!DP2-SA!DD2","v":-148700},{"$f":"SA!DQ2-SA!DE2","v":-151300},{"$f":"SA!DR2-SA!DF2","v":-155300},{"$f":"SA!DS2-SA!DG2","v":-143300},{"$f":"SA!DT2-SA!DH2","v":-137500},{"$f":"SA!DU2-SA!DI2","v":-124300},{"$f":"SA!DV2-SA!DJ2","v":-98700},{"$f":"SA!DW2-SA!DK2","v":-82200},{"$f":"SA!DX2-SA!DL2","v":-58800},{"$f":"SA!DY2-SA!DM2","v":-25500},{"$f":"SA!DZ2-SA!DN2","v":-22800},{"$f":"SA!EA2-SA!DO2","v":-11700},{"$f":"SA!EB2-SA!DP2","v":3400},{"$f":"SA!EC2-SA!DQ2","v":13400},{"$f":"SA!ED2-SA!DR2","v":13500},{"$f":"SA!EE2-SA!DS2","v":22900},{"$f":"SA!EF2-SA!DT2","v":27200},{"$f":"SA!EG2-SA!DU2","v":26000},{"$f":"SA!EH2-SA!DV2","v":30500},{"$f":"SA!EI2-SA!DW2","v":32600},{"$f":"SA!EJ2-SA!DX2","v":33100},{"$f":"SA!EK2-SA!DY2","v":26400},{"$f":"SA!EL2-SA!DZ2","v":24100},{"$f":"SA!EM2-SA!EA2","v":23000},{"$f":"SA!EN2-SA!EB2","v":33200},{"$f":"SA!EO2-SA!EC2","v":26800},{"$f":"SA!EP2-SA!ED2","v":31300},{"$f":"SA!EQ2-SA!EE2","v":17500},{"$f":"SA!ER2-SA!EF2","v":16600},{"$f":"SA!ES2-SA!EG2","v":25100},{"$f":"SA!ET2-SA!EH2","v":16500},{"$f":"SA!EU2-SA!EI2","v":20700},{"$f":"SA!EV2-SA!EJ2","v":33000},{"$f":"SA!EW2-SA!EK2","v":37400},{"$f":"SA!EX2-SA!EL2","v":34600},{"$f":"SA!EY2-SA!EM2","v":37200},{"$f":"SA!EZ2-SA!EN2","v":14100},{"$f":"SA!FA2-SA!EO2","v":22400},{"$f":"SA!FB2-SA!EP2","v":24900},{"$f":"SA!FC2-SA!EQ2","v":33700},{"$f":"SA!FD2-SA!ER2","v":41000},{"$f":"SA!FE2-SA!ES2","v":32000},{"$f":"SA!FF2-SA!ET2","v":27500},{"$f":"SA!FG2-SA!EU2","v":40500},{"$f":"SA!FH2-SA!EV2","v":26500},{"$f":"SA!FI2-SA!EW2","v":9300},{"$f":"SA!FJ2-SA!EX2","v":20500},{"$f":"SA!FK2-SA!EY2","v":24200},{"$f":"SA!FL2-SA!EZ2","v":32800},{"$f":"SA!FM2-SA!FA2","v":35500},{"$f":"SA!FN2-SA!FB2","v":36100},{"$f":"SA!FO2-SA!FC2","v":31800},{"$f":"SA!FP2-SA!FD2","v":26900},{"$f":"SA!FQ2-SA!FE2","v":32800},{"$f":"SA!FR2-SA!FF2","v":46700},{"$f":"SA!FS2-SA!FG2","v":28900},{"$f":"SA!FT2-SA!FH2","v":31600},{"$f":"SA!FU2-SA!FI2","v":47500},{"$f":"SA!FV2-SA!FJ2","v":41300},{"$f":"SA!FW2-SA!FK2","v":44300},{"$f":"SA!FX2-SA!FL2","v":45000},{"$f":"SA!FY2-SA!FM2","v":49900},{"$f":"SA!FZ2-SA!FN2","v":41900},{"$f":"SA!GA2-SA!FO2","v":43000},{"$f":"SA!GB2-SA!FP2","v":52400},{"$f":"SA!GC2-SA!FQ2","v":43700},{"$f":"SA!GD2-SA!FR2","v":43500},{"$f":"SA!GE2-SA!FS2","v":45100},{"$f":"SA!GF2-SA!FT2","v":45900},{"$f":"SA!GG2-SA!FU2","v":39800},{"$f":"SA!GH2-SA!FV2","v":42400},{"$f":"SA!GI2-SA!FW2","v":38600},{"$f":"SA!GJ2-SA!FX2","v":41600},{"$f":"SA!GK2-SA!FY2","v":32200},{"$f":"SA!GL2-SA!FZ2","v":34400},{"$f":"SA!GM2-SA!GA2","v":37700},{"$f":"SA!GN2-SA!GB2","v":25800},{"$f":"SA!GO2-SA!GC2","v":37900},{"$f":"SA!GP2-SA!GD2","v":43500},{"$f":"SA!GQ2-SA!GE2","v":44800},{"$f":"SA!GR2-SA!GF2","v":40900},{"$f":"SA!GS2-SA!GG2","v":41400},{"$f":"SA!GT2-SA!GH2","v":28600},{"$f":"SA!GU2-SA!GI2","v":26000},{"$f":"SA!GV2-SA!GJ2","v":34500},{"$f":"SA!GW2-SA!GK2","v":32500},{"$f":"SA!GX2-SA!GL2","v":27200},{"$f":"SA!GY2-SA!GM2","v":28800},{"$f":"SA!GZ2-SA!GN2","v":32200},{"$f":"SA!HA2-SA!GO2","v":26400},{"$f":"SA!HB2-SA!GP2","v":21300},{"$f":"SA!HC2-SA!GQ2","v":28200},{"$f":"SA!HD2-SA!GR2","v":24100},{"$f":"SA!HE2-SA!GS2","v":35900},{"$f":"SA!HF2-SA!GT2","v":39800},{"$f":"SA!HG2-SA!GU2","v":34300},{"$f":"SA!HH2-SA!GV2","v":28700},{"$f":"SA!HI2-SA!GW2","v":20700},{"$f":"SA!HJ2-SA!GX2","v":34600},{"$f":"SA!HK2-SA!GY2","v":-2930100},{"$f":"SA!HL2-SA!GZ2","v":-2933800},{"$f":"SA!HM2-SA!HA2","v":-2934300},29416,{"$f":"COUNTIF(EM8:FA8, \">\" &FB8)","v":5},null,"Total Non Farm",{"$f":"MIN(B8:EO8)","v":-155300},{"$f":"_xlfn.PERCENTILE.EXC($B8:$EO8,0.15)","v":-12625},{"$f":"_xlfn.PERCENTILE.EXC($B8:$EO8,0.3)","v":16550},{"$f":"_xlfn.PERCENTILE.EXC($B8:$EO8,0.45)","v":24750},{"$f":"_xlfn.PERCENTILE.EXC($B8:$EO8,0.55)","v":27200},{"$f":"_xlfn.PERCENTILE.EXC($B8:$EO8,0.7)","v":32900},{"$f":"_xlfn.PERCENTILE.EXC($B8:$EO8,0.85)","v":40600},{"$f":"MAX(B8:EO8)","v":52400},{"$f":"STDEVP(B8:EO8)","v":47422.172351712812}]
["Total Private",{"$f":"SA!BN3-SA!BB3","v":29100},{"$f":"SA!BO3-SA!BC3","v":35300},{"$f":"SA!BP3-SA!BD3","v":36600},{"$f":"SA!BQ3-SA!BE3","v":41500},{"$f":"SA!BR3-SA!BF3","v":32300},{"$f":"SA!BS3-SA!BG3","v":29200},{"$f":"SA!BT3-SA!BH3","v":27200},{"$f":"SA!BU3-SA!BI3","v":24100},{"$f":"SA!BV3-SA!BJ3","v":31000},{"$f":"SA!BW3-SA!BK3","v":23200},{"$f":"SA!BX3-SA!BL3","v":27900},{"$f":"SA!BY3-SA!BM3","v":27900},{"$f":"SA!BZ3-SA!BN3","v":32100},{"$f":"SA!CA3-SA!BO3","v":29700},{"$f":"SA!CB3-SA!BP3","v":26700},{"$f":"SA!CC3-SA!BQ3","v":25300},{"$f":"SA!CD3-SA!BR3","v":24000},{"$f":"SA!CE3-SA!BS3","v":30600},{"$f":"SA!CF3-SA!BT3","v":22200},{"$f":"SA!CG3-SA!BU3","v":19300},{"$f":"SA!CH3-SA!BV3","v":18500},{"$f":"SA!CI3-SA!BW3","v":21200},{"$f":"SA!CJ3-SA!BX3","v":16600},{"$f":"SA!CK3-SA!BY3","v":18000},{"$f":"SA!CL3-SA!BZ3","v":22700},{"$f":"SA!CM3-SA!CA3","v":17500},{"$f":"SA!CN3-SA!CB3","v":19900},{"$f":"SA!CO3-SA!CC3","v":11200},{"$f":"SA!CP3-SA!CD3","v":21300},{"$f":"SA!CQ3-SA!CE3","v":21100},{"$f":"SA!CR3-SA!CF3","v":18900},{"$f":"SA!CS3-SA!CG3","v":16500},{"$f":"SA!CT3-SA!CH3","v":11700},{"$f":"SA!CU3-SA!CI3","v":9400},{"$f":"SA!CV3-SA!CJ3","v":10700},{"$f":"SA!CW3-SA!CK3","v":9100},{"$f":"SA!CX3-SA!CL3","v":5800},{"$f":"SA!CY3-SA!CM3","v":6400},{"$f":"SA!CZ3-SA!CN3","v":600},{"$f":"SA!DA3-SA!CO3","v":-1100},{"$f":"SA!DB3-SA!CP3","v":-5900},{"$f":"SA!DC3-SA!CQ3","v":-12000},{"$f":"SA!DD3-SA!CR3","v":-13800},{"$f":"SA!DE3-SA!CS3","v":-14800},{"$f":"SA!DF3-SA!CT3","v":-19700},{"$f":"SA!DG3-SA!CU3","v":-24400},{"$f":"SA!DH3-SA!CV3","v":-37900},{"$f":"SA!DI3-SA!CW3","v":-50200},{"$f":"SA!DJ3-SA!CX3","v":-76000},{"$f":"SA!DK3-SA!CY3","v":-93600},{"$f":"SA!DL3-SA!CZ3","v":-112400},{"$f":"SA!DM3-SA!DA3","v":-131300},{"$f":"SA!DN3-SA!DB3","v":-132600},{"$f":"SA!DO3-SA!DC3","v":-140500},{"$f":"SA!DP3-SA!DD3","v":-147900},{"$f":"SA!DQ3-SA!DE3","v":-149300},{"$f":"SA!DR3-SA!DF3","v":-140500},{"$f":"SA!DS3-SA!DG3","v":-138200},{"$f":"SA!DT3-SA!DH3","v":-127300},{"$f":"SA!DU3-SA!DI3","v":-119700},{"$f":"SA!DV3-SA!DJ3","v":-95200},{"$f":"SA!DW3-SA!DK3","v":-76000},{"$f":"SA!DX3-SA!DL3","v":-53900},{"$f":"SA!DY3-SA!DM3","v":-24900},{"$f":"SA!DZ3-SA!DN3","v":-24800},{"$f":"SA!EA3-SA!DO3","v":-13900},{"$f":"SA!EB3-SA!DP3","v":5400},{"$f":"SA!EC3-SA!DQ3","v":14700},{"$f":"SA!ED3-SA!DR3","v":12200},{"$f":"SA!EE3-SA!DS3","v":24000},{"$f":"SA!EF3-SA!DT3","v":25700},{"$f":"SA!EG3-SA!DU3","v":31500},{"$f":"SA!EH3-SA!DV3","v":32700},{"$f":"SA!EI3-SA!DW3","v":31300},{"$f":"SA!EJ3-SA!DX3","v":32500},{"$f":"SA!EK3-SA!DY3","v":32200},{"$f":"SA!EL3-SA!DZ3","v":32300},{"$f":"SA!EM3-SA!EA3","v":31300},{"$f":"SA!EN3-SA!EB3","v":33300},{"$f":"SA!EO3-SA!EC3","v":30200},{"$f":"SA!EP3-SA!ED3","v":37300},{"$f":"SA!EQ3-SA!EE3","v":27300},{"$f":"SA!ER3-SA!EF3","v":29900},{"$f":"SA!ES3-SA!EG3","v":29000},{"$f":"SA!ET3-SA!EH3","v":32200},{"$f":"SA!EU3-SA!EI3","v":35100},{"$f":"SA!EV3-SA!EJ3","v":41100},{"$f":"SA!EW3-SA!EK3","v":39200},{"$f":"SA!EX3-SA!EL3","v":33900},{"$f":"SA!EY3-SA!EM3","v":39200},{"$f":"SA!EZ3-SA!EN3","v":23300},{"$f":"SA!FA3-SA!EO3","v":23600},{"$f":"SA!FB3-SA!EP3","v":26300},{"$f":"SA!FC3-SA!EQ3","v":31000},{"$f":"SA!FD3-SA!ER3","v":31600},{"$f":"SA!FE3-SA!ES3","v":31600},{"$f":"SA!FF3-SA!ET3","v":28300},{"$f":"SA!FG3-SA!EU3","v":31800},{"$f":"SA!FH3-SA!EV3","v":26400},{"$f":"SA!FI3-SA!EW3","v":14200},{"$f":"SA!FJ3-SA!EX3","v":30100},{"$f":"SA!FK3-SA!EY3","v":27900},{"$f":"SA!FL3-SA!EZ3","v":33000},{"$f":"SA!FM3-SA!FA3","v":39000},{"$f":"SA!FN3-SA!FB3","v":35000},{"$f":"SA!FO3-SA!FC3","v":32000},{"$f":"SA!FP3-SA!FD3","v":33200},{"$f":"SA!FQ3-SA!FE3","v":33400},{"$f":"SA!FR3-SA!FF3","v":35500},{"$f":"SA!FS3-SA!FG3","v":32800},{"$f":"SA!FT3-SA!FH3","v":32100},{"$f":"SA!FU3-SA!FI3","v":45900},{"$f":"SA!FV3-SA!FJ3","v":39500},{"$f":"SA!FW3-SA!FK3","v":42200},{"$f":"SA!FX3-SA!FL3","v":42900},{"$f":"SA!FY3-SA!FM3","v":41800},{"$f":"SA!FZ3-SA!FN3","v":40800},{"$f":"SA!GA3-SA!FO3","v":42700},{"$f":"SA!GB3-SA!FP3","v":45600},{"$f":"SA!GC3-SA!FQ3","v":43200},{"$f":"SA!GD3-SA!FR3","v":45400},{"$f":"SA!GE3-SA!FS3","v":43200},{"$f":"SA!GF3-SA!FT3","v":45700},{"$f":"SA!GG3-SA!FU3","v":40300},{"$f":"SA!GH3-SA!FV3","v":43500},{"$f":"SA!GI3-SA!FW3","v":40100},{"$f":"SA!GJ3-SA!FX3","v":44900},{"$f":"SA!GK3-SA!FY3","v":41500},{"$f":"SA!GL3-SA!FZ3","v":39200},{"$f":"SA!GM3-SA!GA3","v":41500},{"$f":"SA!GN3-SA!GB3","v":37400},{"$f":"SA!GO3-SA!GC3","v":40100},{"$f":"SA!GP3-SA!GD3","v":43300},{"$f":"SA!GQ3-SA!GE3","v":45700},{"$f":"SA!GR3-SA!GF3","v":41500},{"$f":"SA!GS3-SA!GG3","v":41200},{"$f":"SA!GT3-SA!GH3","v":30400},{"$f":"SA!GU3-SA!GI3","v":25600},{"$f":"SA!GV3-SA!GJ3","v":30200},{"$f":"SA!GW3-SA!GK3","v":26000},{"$f":"SA!GX3-SA!GL3","v":26000},{"$f":"SA!GY3-SA!GM3","v":21200},{"$f":"SA!GZ3-SA!GN3","v":16500},{"$f":"SA!HA3-SA!GO3","v":17200},{"$f":"SA!HB3-SA!GP3","v":18200},{"$f":"SA!HC3-SA!GQ3","v":22200},{"$f":"SA!HD3-SA!GR3","v":22400},{"$f":"SA!HE3-SA!GS3","v":27800},{"$f":"SA!HF3-SA!GT3","v":29800},{"$f":"SA!HG3-SA!GU3","v":33400},{"$f":"SA!HH3-SA!GV3","v":24400},{"$f":"SA!HI3-SA!GW3","v":22800},{"$f":"SA!HJ3-SA!GX3","v":28800},{"$f":"SA!HK3-SA!GY3","v":-2514500},{"$f":"SA!HL3-SA!GZ3","v":-2513300},{"$f":"SA!HM3-SA!HA3","v":-2516100},28822,{"$f":"COUNTIF(EM9:FA9, \">\" &FB9)","v":2},null,"Total Private",-149300,-16025,17350,26000,29850,32600,40425,45900,47070.938260081595]
["Goods Producing",{"$f":"SA!BN4-SA!BB4","v":3700},{"$f":"SA!BO4-SA!BC4","v":7500},{"$f":"SA!BP4-SA!BD4","v":6200},{"$f":"SA!BQ4-SA!BE4","v":5200},{"$f":"SA!BR4-SA!BF4","v":3100},{"$f":"SA!BS4-SA!BG4","v":4600},{"$f":"SA!BT4-SA!BH4","v":3200},{"$f":"SA!BU4-SA!BI4","v":1400},{"$f":"SA!BV4-SA!BJ4","v":800},{"$f":"SA!BW4-SA!BK4","v":600},{"$f":"SA!BX4-SA!BL4","v":200},{"$f":"SA!BY4-SA!BM4","v":-1300},{"$f":"SA!BZ4-SA!BN4","v":6500},{"$f":"SA!CA4-SA!BO4","v":2200},{"$f":"SA!CB4-SA!BP4","v":2100},{"$f":"SA!CC4-SA!BQ4","v":3600},{"$f":"SA!CD4-SA!BR4","v":2000},{"$f":"SA!CE4-SA!BS4","v":4100},{"$f":"SA!CF4-SA!BT4","v":700},{"$f":"SA!CG4-SA!BU4","v":300},{"$f":"SA!CH4-SA!BV4","v":-400},{"$f":"SA!CI4-SA!BW4","v":-1700},{"$f":"SA!CJ4-SA!BX4","v":-4300},{"$f":"SA!CK4-SA!BY4","v":-2500},{"$f":"SA!CL4-SA!BZ4","v":-4900},{"$f":"SA!CM4-SA!CA4","v":-7100},{"$f":"SA!CN4-SA!CB4","v":-5200},{"$f":"SA!CO4-SA!CC4","v":-8200},{"$f":"SA!CP4-SA!CD4","v":-4600},{"$f":"SA!CQ4-SA!CE4","v":-6500},{"$f":"SA!CR4-SA!CF4","v":-5900},{"$f":"SA!CS4-SA!CG4","v":-6900},{"$f":"SA!CT4-SA!CH4","v":-7900},{"$f":"SA!CU4-SA!CI4","v":-7000},{"$f":"SA!CV4-SA!CJ4","v":-4900},{"$f":"SA!CW4-SA!CK4","v":-7200},{"$f":"SA!CX4-SA!CL4","v":-7900},{"$f":"SA!CY4-SA!CM4","v":-6100},{"$f":"SA!CZ4-SA!CN4","v":-8800},{"$f":"SA!DA4-SA!CO4","v":-10900},{"$f":"SA!DB4-SA!CP4","v":-12900},{"$f":"SA!DC4-SA!CQ4","v":-13100},{"$f":"SA!DD4-SA!CR4","v":-16900},{"$f":"SA!DE4-SA!CS4","v":-18200},{"$f":"SA!DF4-SA!CT4","v":-19700},{"$f":"SA!DG4-SA!CU4","v":-21800},{"$f":"SA!DH4-SA!CV4","v":-27100},{"$f":"SA!DI4-SA!CW4","v":-32800},{"$f":"SA!DJ4-SA!CX4","v":-44600},{"$f":"SA!DK4-SA!CY4","v":-55600},{"$f":"SA!DL4-SA!CZ4","v":-65900},{"$f":"SA!DM4-SA!DA4","v":-75300},{"$f":"SA!DN4-SA!DB4","v":-80100},{"$f":"SA!DO4-SA!DC4","v":-86500},{"$f":"SA!DP4-SA!DD4","v":-87300},{"$f":"SA!DQ4-SA!DE4","v":-86200},{"$f":"SA!DR4-SA!DF4","v":-78700},{"$f":"SA!DS4-SA!DG4","v":-78600},{"$f":"SA!DT4-SA!DH4","v":-74300},{"$f":"SA!DU4-SA!DI4","v":-68600},{"$f":"SA!DV4-SA!DJ4","v":-58200},{"$f":"SA!DW4-SA!DK4","v":-46800},{"$f":"SA!DX4-SA!DL4","v":-34200},{"$f":"SA!DY4-SA!DM4","v":-18800},{"$f":"SA!DZ4-SA!DN4","v":-14000},{"$f":"SA!EA4-SA!DO4","v":-6500},{"$f":"SA!EB4-SA!DP4","v":700},{"$f":"SA!EC4-SA!DQ4","v":3800},{"$f":"SA!ED4-SA!DR4","v":900},{"$f":"SA!EE4-SA!DS4","v":4500},{"$f":"SA!EF4-SA!DT4","v":5800},{"$f":"SA!EG4-SA!DU4","v":7700},{"$f":"SA!EH4-SA!DV4","v":10300},{"$f":"SA!EI4-SA!DW4","v":11600},{"$f":"SA!EJ4-SA!DX4","v":11600},{"$f":"SA!EK4-SA!DY4","v":11700},{"$f":"SA!EL4-SA!DZ4","v":13700},{"$f":"SA!EM4-SA!EA4","v":13000},{"$f":"SA!EN4-SA!EB4","v":13900},{"$f":"SA!EO4-SA!EC4","v":13700},{"$f":"SA!EP4-SA!ED4","v":13400},{"$f":"SA!EQ4-SA!EE4","v":11800},{"$f":"SA!ER4-SA!EF4","v":13400},{"$f":"SA!ES4-SA!EG4","v":14000},{"$f":"SA!ET4-SA!EH4","v":14400},{"$f":"SA!EU4-SA!EI4","v":14400},{"$f":"SA!EV4-SA!EJ4","v":15300},{"$f":"SA!EW4-SA!EK4","v":15500},{"$f":"SA!EX4-SA!EL4","v":10900},{"$f":"SA!EY4-SA!EM4","v":12400},{"$f":"SA!EZ4-SA!EN4","v":9700},{"$f":"SA!FA4-SA!EO4","v":8400},{"$f":"SA!FB4-SA!EP4","v":9200},{"$f":"SA!FC4-SA!EQ4","v":11600},{"$f":"SA!FD4-SA!ER4","v":9600},{"$f":"SA!FE4-SA!ES4","v":10900},{"$f":"SA!FF4-SA!ET4","v":10000},{"$f":"SA!FG4-SA!EU4","v":10000},{"$f":"SA!FH4-SA!EV4","v":7300},{"$f":"SA!FI4-SA!EW4","v":400},{"$f":"SA!FJ4-SA!EX4","v":7400},{"$f":"SA!FK4-SA!EY4","v":6400},{"$f":"SA!FL4-SA!EZ4","v":5800},{"$f":"SA!FM4-SA!FA4","v":7800},{"$f":"SA!FN4-SA!FB4","v":7700},{"$f":"SA!FO4-SA!FC4","v":7500},{"$f":"SA!FP4-SA!FD4","v":8900},{"$f":"SA!FQ4-SA!FE4","v":5300},{"$f":"SA!FR4-SA!FF4","v":7000},{"$f":"SA!FS4-SA!FG4","v":6500},{"$f":"SA!FT4-SA!FH4","v":7900},{"$f":"SA!FU4-SA!FI4","v":13400},{"$f":"SA!FV4-SA!FJ4","v":11900},{"$f":"SA!FW4-SA!FK4","v":12700},{"$f":"SA!FX4-SA!FL4","v":15500},{"$f":"SA!FY4-SA!FM4","v":15100},{"$f":"SA!FZ4-SA!FN4","v":15400},{"$f":"SA!GA4-SA!FO4","v":14600},{"$f":"SA!GB4-SA!FP4","v":14500},{"$f":"SA!GC4-SA!FQ4","v":16400},{"$f":"SA!GD4-SA!FR4","v":15200},{"$f":"SA!GE4-SA!FS4","v":15100},{"$f":"SA!GF4-SA!FT4","v":14000},{"$f":"SA!GG4-SA!FU4","v":12500},{"$f":"SA!GH4-SA!FV4","v":10700},{"$f":"SA!GI4-SA!FW4","v":9300},{"$f":"SA!GJ4-SA!FX4","v":7200},{"$f":"SA!GK4-SA!FY4","v":5300},{"$f":"SA!GL4-SA!FZ4","v":3800},{"$f":"SA!GM4-SA!GA4","v":3100},{"$f":"SA!GN4-SA!GB4","v":2800},{"$f":"SA!GO4-SA!GC4","v":2800},{"$f":"SA!GP4-SA!GD4","v":1900},{"$f":"SA!GQ4-SA!GE4","v":1000},{"$f":"SA!GR4-SA!GF4","v":2100},{"$f":"SA!GS4-SA!GG4","v":600},{"$f":"SA!GT4-SA!GH4","v":-1200},{"$f":"SA!GU4-SA!GI4","v":-2200},{"$f":"SA!GV4-SA!GJ4","v":-2000},{"$f":"SA!GW4-SA!GK4","v":-1300},{"$f":"SA!GX4-SA!GL4","v":-1200},{"$f":"SA!GY4-SA!GM4","v":1400},{"$f":"SA!GZ4-SA!GN4","v":300},{"$f":"SA!HA4-SA!GO4","v":3300},{"$f":"SA!HB4-SA!GP4","v":4800},{"$f":"SA!HC4-SA!GQ4","v":4900},{"$f":"SA!HD4-SA!GR4","v":3000},{"$f":"SA!HE4-SA!GS4","v":9800},{"$f":"SA!HF4-SA!GT4","v":10500},{"$f":"SA!HG4-SA!GU4","v":9500},{"$f":"SA!HH4-SA!GV4","v":11800},{"$f":"SA!HI4-SA!GW4","v":11700},{"$f":"SA!HJ4-SA!GX4","v":14300},{"$f":"SA!HK4-SA!GY4","v":-581500},{"$f":"SA!HL4-SA!GZ4","v":-581000},{"$f":"SA!HM4-SA!HA4","v":-584900},11918,1,null,"Goods Producing",-87300,-17225,-3400,1525,3800,7850,12775,16400,24104.355812504149]
["Service-Providing",{"$f":"SA!BN5-SA!BB5","v":33700},{"$f":"SA!BO5-SA!BC5","v":32300},{"$f":"SA!BP5-SA!BD5","v":32500},{"$f":"SA!BQ5-SA!BE5","v":41000},{"$f":"SA!BR5-SA!BF5","v":32600},{"$f":"SA!BS5-SA!BG5","v":23900},{"$f":"SA!BT5-SA!BH5","v":25300},{"$f":"SA!BU5-SA!BI5","v":22600},{"$f":"SA!BV5-SA!BJ5","v":38200},{"$f":"SA!BW5-SA!BK5","v":25100},{"$f":"SA!BX5-SA!BL5","v":27000},{"$f":"SA!BY5-SA!BM5","v":34100},{"$f":"SA!BZ5-SA!BN5","v":24600},{"$f":"SA!CA5-SA!BO5","v":25900},{"$f":"SA!CB5-SA!BP5","v":25900},{"$f":"SA!CC5-SA!BQ5","v":22500},{"$f":"SA!CD5-SA!BR5","v":21600},{"$f":"SA!CE5-SA!BS5","v":30600},{"$f":"SA!CF5-SA!BT5","v":23100},{"$f":"SA!CG5-SA!BU5","v":21000},{"$f":"SA!CH5-SA!BV5","v":18600},{"$f":"SA!CI5-SA!BW5","v":21200},{"$f":"SA!CJ5-SA!BX5","v":21800},{"$f":"SA!CK5-SA!BY5","v":18200},{"$f":"SA!CL5-SA!BZ5","v":26100},{"$f":"SA!CM5-SA!CA5","v":23000},{"$f":"SA!CN5-SA!CB5","v":23400},{"$f":"SA!CO5-SA!CC5","v":19000},{"$f":"SA!CP5-SA!CD5","v":28000},{"$f":"SA!CQ5-SA!CE5","v":31200},{"$f":"SA!CR5-SA!CF5","v":26100},{"$f":"SA!CS5-SA!CG5","v":25900},{"$f":"SA!CT5-SA!CH5","v":22700},{"$f":"SA!CU5-SA!CI5","v":17800},{"$f":"SA!CV5-SA!CJ5","v":14600},{"$f":"SA!CW5-SA!CK5","v":19400},{"$f":"SA!CX5-SA!CL5","v":20200},{"$f":"SA!CY5-SA!CM5","v":19000},{"$f":"SA!CZ5-SA!CN5","v":14000},{"$f":"SA!DA5-SA!CO5","v":11900},{"$f":"SA!DB5-SA!CP5","v":11100},{"$f":"SA!DC5-SA!CQ5","v":100},{"$f":"SA!DD5-SA!CR5","v":8000},{"$f":"SA!DE5-SA!CS5","v":5700},{"$f":"SA!DF5-SA!CT5","v":10500},{"$f":"SA!DG5-SA!CU5","v":6600},{"$f":"SA!DH5-SA!CV5","v":3700},{"$f":"SA!DI5-SA!CW5","v":-10100},{"$f":"SA!DJ5-SA!CX5","v":-29300},{"$f":"SA!DK5-SA!CY5","v":-34000},{"$f":"SA!DL5-SA!CZ5","v":-41900},{"$f":"SA!DM5-SA!DA5","v":-50800},{"$f":"SA!DN5-SA!DB5","v":-48800},{"$f":"SA!DO5-SA!DC5","v":-52800},{"$f":"SA!DP5-SA!DD5","v":-61400},{"$f":"SA!DQ5-SA!DE5","v":-65100},{"$f":"SA!DR5-SA!DF5","v":-76600},{"$f":"SA!DS5-SA!DG5","v":-64700},{"$f":"SA!DT5-SA!DH5","v":-63200},{"$f":"SA!DU5-SA!DI5","v":-55700},{"$f":"SA!DV5-SA!DJ5","v":-40500},{"$f":"SA!DW5-SA!DK5","v":-35400},{"$f":"SA!DX5-SA!DL5","v":-24600},{"$f":"SA!DY5-SA!DM5","v":-6700},{"$f":"SA!DZ5-SA!DN5","v":-8800},{"$f":"SA!EA5-SA!DO5","v":-5200},{"$f":"SA!EB5-SA!DP5","v":2700},{"$f":"SA!EC5-SA!DQ5","v":9600},{"$f":"SA!ED5-SA!DR5","v":12600},{"$f":"SA!EE5-SA!DS5","v":18400},{"$f":"SA!EF5-SA!DT5","v":21400},{"$f":"SA!EG5-SA!DU5","v":18300},{"$f":"SA!EH5-SA!DV5","v":20200},{"$f":"SA!EI5-SA!DW5","v":21000},{"$f":"SA!EJ5-SA!DX5","v":21500},{"$f":"SA!EK5-SA!DY5","v":14700},{"$f":"SA!EL5-SA!DZ5","v":10400},{"$f":"SA!EM5-SA!EA5","v":10000},{"$f":"SA!EN5-SA!EB5","v":19300},{"$f":"SA!EO5-SA!EC5","v":13100},{"$f":"SA!EP5-SA!ED5","v":17900},{"$f":"SA!EQ5-SA!EE5","v":5700},{"$f":"SA!ER5-SA!EF5","v":3200},{"$f":"SA!ES5-SA!EG5","v":11100},{"$f":"SA!ET5-SA!EH5","v":2100},{"$f":"SA!EU5-SA!EI5","v":6300},{"$f":"SA!EV5-SA!EJ5","v":17700},{"$f":"SA!EW5-SA!EK5","v":21900},{"$f":"SA!EX5-SA!EL5","v":23700},{"$f":"SA!EY5-SA!EM5","v":24800},{"$f":"SA!EZ5-SA!EN5","v":4400},{"$f":"SA!FA5-SA!EO5","v":14000},{"$f":"SA!FB5-SA!EP5","v":15700},{"$f":"SA!FC5-SA!EQ5","v":22100},{"$f":"SA!FD5-SA!ER5","v":31400},{"$f":"SA!FE5-SA!ES5","v":21100},{"$f":"SA!FF5-SA!ET5","v":17500},{"$f":"SA!FG5-SA!EU5","v":30500},{"$f":"SA!FH5-SA!EV5","v":19200},{"$f":"SA!FI5-SA!EW5","v":8900},{"$f":"SA!FJ5-SA!EX5","v":13100},{"$f":"SA!FK5-SA!EY5","v":17800},{"$f":"SA!FL5-SA!EZ5","v":27000},{"$f":"SA!FM5-SA!FA5","v":27700},{"$f":"SA!FN5-SA!FB5","v":28400},{"$f":"SA!FO5-SA!FC5","v":24300},{"$f":"SA!FP5-SA!FD5","v":18000},{"$f":"SA!FQ5-SA!FE5","v":27500},{"$f":"SA!FR5-SA!FF5","v":39700},{"$f":"SA!FS5-SA!FG5","v":22400},{"$f":"SA!FT5-SA!FH5","v":23700},{"$f":"SA!FU5-SA!FI5","v":34100},{"$f":"SA!FV5-SA!FJ5","v":29400},{"$f":"SA!FW5-SA!FK5","v":31600},{"$f":"SA!FX5-SA!FL5","v":29500},{"$f":"SA!FY5-SA!FM5","v":34800},{"$f":"SA!FZ5-SA!FN5","v":26500},{"$f":"SA!GA5-SA!FO5","v":28400},{"$f":"SA!GB5-SA!FP5","v":37900},{"$f":"SA!GC5-SA!FQ5","v":27300},{"$f":"SA!GD5-SA!FR5","v":28300},{"$f":"SA!GE5-SA!FS5","v":30000},{"$f":"SA!GF5-SA!FT5","v":31900},{"$f":"SA!GG5-SA!FU5","v":27300},{"$f":"SA!GH5-SA!FV5","v":31700},{"$f":"SA!GI5-SA!FW5","v":29300},{"$f":"SA!GJ5-SA!FX5","v":34400},{"$f":"SA!GK5-SA!FY5","v":26900},{"$f":"SA!GL5-SA!FZ5","v":30600},{"$f":"SA!GM5-SA!GA5","v":34600},{"$f":"SA!GN5-SA!GB5","v":23000},{"$f":"SA!GO5-SA!GC5","v":35100},{"$f":"SA!GP5-SA!GD5","v":41600},{"$f":"SA!GQ5-SA!GE5","v":43800},{"$f":"SA!GR5-SA!GF5","v":38800},{"$f":"SA!GS5-SA!GG5","v":40800},{"$f":"SA!GT5-SA!GH5","v":29800},{"$f":"SA!GU5-SA!GI5","v":28200},{"$f":"SA!GV5-SA!GJ5","v":36500},{"$f":"SA!GW5-SA!GK5","v":33800},{"$f":"SA!GX5-SA!GL5","v":28400},{"$f":"SA!GY5-SA!GM5","v":27400},{"$f":"SA!GZ5-SA!GN5","v":31900},{"$f":"SA!HA5-SA!GO5","v":23100},{"$f":"SA!HB5-SA!GP5","v":16500},{"$f":"SA!HC5-SA!GQ5","v":23300},{"$f":"SA!HD5-SA!GR5","v":21100},{"$f":"SA!HE5-SA!GS5","v":26100},{"$f":"SA!HF5-SA!GT5","v":29300},{"$f":"SA!HG5-SA!GU5","v":24800},{"$f":"SA!HH5-SA!GV5","v":16900},{"$f":"SA!HI5-SA!GW5","v":9000},{"$f":"SA!HJ5-SA!GX5","v":20300},{"$f":"SA!HK5-SA!GY5","v":-2348600},{"$f":"SA!HL5-SA!GZ5","v":-2352800},{"$f":"SA!HM5-SA!HA5","v":-2349400}," n/a ",0,null,"Service-Providing",-76600,2550,14300,21025,23075,27350,31900,43800,24619.554138685256]
["Private Service Providing",{"$f":"SA!BN6-SA!BB6","v":25400},{"$f":"SA!BO6-SA!BC6","v":27800},{"$f":"SA!BP6-SA!BD6","v":30400},{"$f":"SA!BQ6-SA!BE6","v":36300},{"$f":"SA!BR6-SA!BF6","v":29200},{"$f":"SA!BS6-SA!BG6","v":24600},{"$f":"SA!BT6-SA!BH6","v":24000},{"$f":"SA!BU6-SA!BI6","v":22700},{"$f":"SA!BV6-SA!BJ6","v":30200},{"$f":"SA!BW6-SA!BK6","v":22600},{"$f":"SA!BX6-SA!BL6","v":27700},{"$f":"SA!BY6-SA!BM6","v":29200},{"$f":"SA!BZ6-SA!BN6","v":25600},{"$f":"SA!CA6-SA!BO6","v":27500},{"$f":"SA!CB6-SA!BP6","v":24600},{"$f":"SA!CC6-SA!BQ6","v":21700},{"$f":"SA!CD6-SA!BR6","v":22000},{"$f":"SA!CE6-SA!BS6","v":26500},{"$f":"SA!CF6-SA!BT6","v":21500},{"$f":"SA!CG6-SA!BU6","v":19000},{"$f":"SA!CH6-SA!BV6","v":18900},{"$f":"SA!CI6-SA!BW6","v":22900},{"$f":"SA!CJ6-SA!BX6","v":20900},{"$f":"SA!CK6-SA!BY6","v":20500},{"$f":"SA!CL6-SA!BZ6","v":27600},{"$f":"SA!CM6-SA!CA6","v":24600},{"$f":"SA!CN6-SA!CB6","v":25100},{"$f":"SA!CO6-SA!CC6","v":19400},{"$f":"SA!CP6-SA!CD6","v":25900},{"$f":"SA!CQ6-SA!CE6","v":27600},{"$f":"SA!CR6-SA!CF6","v":24800},{"$f":"SA!CS6-SA!CG6","v":23400},{"$f":"SA!CT6-SA!CH6","v":19600},{"$f":"SA!CU6-SA!CI6","v":16400},{"$f":"SA!CV6-SA!CJ6","v":15600},{"$f":"SA!CW6-SA!CK6","v":16300},{"$f":"SA!CX6-SA!CL6","v":13700},{"$f":"SA!CY6-SA!CM6","v":12500},{"$f":"SA!CZ6-SA!CN6","v":9400},{"$f":"SA!DA6-SA!CO6","v":9800},{"$f":"SA!DB6-SA!CP6","v":7000},{"$f":"SA!DC6-SA!CQ6","v":1100},{"$f":"SA!DD6-SA!CR6","v":3100},{"$f":"SA!DE6-SA!CS6","v":3400},{"$f":"SA!DF6-SA!CT6","v":0},{"$f":"SA!DG6-SA!CU6","v":-2600},{"$f":"SA!DH6-SA!CV6","v":-10800},{"$f":"SA!DI6-SA!CW6","v":-17400},{"$f":"SA!DJ6-SA!CX6","v":-31400},{"$f":"SA!DK6-SA!CY6","v":-38000},{"$f":"SA!DL6-SA!CZ6","v":-46500},{"$f":"SA!DM6-SA!DA6","v":-56000},{"$f":"SA!DN6-SA!DB6","v":-52500},{"$f":"SA!DO6-SA!DC6","v":-54000},{"$f":"SA!DP6-SA!DD6","v":-60600},{"$f":"SA!DQ6-SA!DE6","v":-63100},{"$f":"SA!DR6-SA!DF6","v":-61800},{"$f":"SA!DS6-SA!DG6","v":-59600},{"$f":"SA!DT6-SA!DH6","v":-53000},{"$f":"SA!DU6-SA!DI6","v":-51100},{"$f":"SA!DV6-SA!DJ6","v":-37000},{"$f":"SA!DW6-SA!DK6","v":-29200},{"$f":"SA!DX6-SA!DL6","v":-19700},{"$f":"SA!DY6-SA!DM6","v":-6100},{"$f":"SA!DZ6-SA!DN6","v":-10800},{"$f":"SA!EA6-SA!DO6","v":-7400},{"$f":"SA!EB6-SA!DP6","v":4700},{"$f":"SA!EC6-SA!DQ6","v":10900},{"$f":"SA!ED6-SA!DR6","v":11300},{"$f":"SA!EE6-SA!DS6","v":19500},{"$f":"SA!EF6-SA!DT6","v":19900},{"$f":"SA!EG6-SA!DU6","v":23800},{"$f":"SA!EH6-SA!DV6","v":22400},{"$f":"SA!EI6-SA!DW6","v":19700},{"$f":"SA!EJ6-SA!DX6","v":20900},{"$f":"SA!EK6-SA!DY6","v":20500},{"$f":"SA!EL6-SA!DZ6","v":18600},{"$f":"SA!EM6-SA!EA6","v":18300},{"$f":"SA!EN6-SA!EB6","v":19400},{"$f":"SA!EO6-SA!EC6","v":16500},{"$f":"SA!EP6-SA!ED6","v":23900},{"$f":"SA!EQ6-SA!EE6","v":15500},{"$f":"SA!ER6-SA!EF6","v":16500},{"$f":"SA!ES6-SA!EG6","v":15000},{"$f":"SA!ET6-SA!EH6","v":17800},{"$f":"SA!EU6-SA!EI6","v":20700},{"$f":"SA!EV6-SA!EJ6","v":25800},{"$f":"SA!EW6-SA!EK6","v":23700},{"$f":"SA!EX6-SA!EL6","v":23000},{"$f":"SA!EY6-SA!EM6","v":26800},{"$f":"SA!EZ6-SA!EN6","v":13600},{"$f":"SA!FA6-SA!EO6","v":15200},{"$f":"SA!FB6-SA!EP6","v":17100},{"$f":"SA!FC6-SA!EQ6","v":19400},{"$f":"SA!FD6-SA!ER6","v":22000},{"$f":"SA!FE6-SA!ES6","v":20700},{"$f":"SA!FF6-SA!ET6","v":18300},{"$f":"SA!FG6-SA!EU6","v":21800},{"$f":"SA!FH6-SA!EV6","v":19100},{"$f":"SA!FI6-SA!EW6","v":13800},{"$f":"SA!FJ6-SA!EX6","v":22700},{"$f":"SA!FK6-SA!EY6","v":21500},{"$f":"SA!FL6-SA!EZ6","v":27200},{"$f":"SA!FM6-SA!FA6","v":31200},{"$f":"SA!FN6-SA!FB6","v":27300},{"$f":"SA!FO6-SA!FC6","v":24500},{"$f":"SA!FP6-SA!FD6","v":24300},{"$f":"SA!FQ6-SA!FE6","v":28100},{"$f":"SA!FR6-SA!FF6","v":28500},{"$f":"SA!FS6-SA!FG6","v":26300},{"$f":"SA!FT6-SA!FH6","v":24200},{"$f":"SA!FU6-SA!FI6","v":32500},{"$f":"SA!FV6-SA!FJ6","v":27600},{"$f":"SA!FW6-SA!FK6","v":29500},{"$f":"SA!FX6-SA!FL6","v":27400},{"$f":"SA!FY6-SA!FM6","v":26700},{"$f":"SA!FZ6-SA!FN6","v":25400},{"$f":"SA!GA6-SA!FO6","v":28100},{"$f":"SA!GB6-SA!FP6","v":31100},{"$f":"SA!GC6-SA!FQ6","v":26800},{"$f":"SA!GD6-SA!FR6","v":30200},{"$f":"SA!GE6-SA!FS6","v":28100},{"$f":"SA!GF6-SA!FT6","v":31700},{"$f":"SA!GG6-SA!FU6","v":27800},{"$f":"SA!GH6-SA!FV6","v":32800},{"$f":"SA!GI6-SA!FW6","v":30800},{"$f":"SA!GJ6-SA!FX6","v":37700},{"$f":"SA!GK6-SA!FY6","v":36200},{"$f":"SA!GL6-SA!FZ6","v":35400},{"$f":"SA!GM6-SA!GA6","v":38400},{"$f":"SA!GN6-SA!GB6","v":34600},{"$f":"SA!GO6-SA!GC6","v":37300},{"$f":"SA!GP6-SA!GD6","v":41400},{"$f":"SA!GQ6-SA!GE6","v":44700},{"$f":"SA!GR6-SA!GF6","v":39400},{"$f":"SA!GS6-SA!GG6","v":40600},{"$f":"SA!GT6-SA!GH6","v":31600},{"$f":"SA!GU6-SA!GI6","v":27800},{"$f":"SA!GV6-SA!GJ6","v":32200},{"$f":"SA!GW6-SA!GK6","v":27300},{"$f":"SA!GX6-SA!GL6","v":27200},{"$f":"SA!GY6-SA!GM6","v":19800},{"$f":"SA!GZ6-SA!GN6","v":16200},{"$f":"SA!HA6-SA!GO6","v":13900},{"$f":"SA!HB6-SA!GP6","v":13400},{"$f":"SA!HC6-SA!GQ6","v":17300},{"$f":"SA!HD6-SA!GR6","v":19400},{"$f":"SA!HE6-SA!GS6","v":18000},{"$f":"SA!HF6-SA!GT6","v":19300},{"$f":"SA!HG6-SA!GU6","v":23900},{"$f":"SA!HH6-SA!GV6","v":12600},{"$f":"SA!HI6-SA!GW6","v":11100},{"$f":"SA!HJ6-SA!GX6","v":14500},{"$f":"SA!HK6-SA!GY6","v":-1933000},{"$f":"SA!HL6-SA!GZ6","v":-1932300},{"$f":"SA!HM6-SA!HA6","v":-1931200},26243,0,null,"Private Service Providing",-63100,-650,16450,20750,23300,26800,30200,44700,23813.60657930762]
["Mining and Logging",{"$f":"SA!BN7-SA!BB7","v":100},{"$f":"SA!BO7-SA!BC7","v":100},{"$f":"SA!BP7-SA!BD7","v":200},{"$f":"SA!BQ7-SA!BE7","v":100},{"$f":"SA!BR7-SA!BF7","v":100},{"$f":"SA!BS7-SA!BG7","v":200},{"$f":"SA!BT7-SA!BH7","v":200},{"$f":"SA!BU7-SA!BI7","v":200},{"$f":"SA!BV7-SA!BJ7","v":200},{"$f":"SA!BW7-SA!BK7","v":0},{"$f":"SA!BX7-SA!BL7","v":0},{"$f":"SA!BY7-SA!BM7","v":-100},{"$f":"SA!BZ7-SA!BN7","v":100},{"$f":"SA!CA7-SA!BO7","v":100},{"$f":"SA!CB7-SA!BP7","v":0},{"$f":"SA!CC7-SA!BQ7","v":100},{"$f":"SA!CD7-SA!BR7","v":100},{"$f":"SA!CE7-SA!BS7","v":0},{"$f":"SA!CF7-SA!BT7","v":-100},{"$f":"SA!CG7-SA!BU7","v":-100},{"$f":"SA!CH7-SA!BV7","v":-100},{"$f":"SA!CI7-SA!BW7","v":0},{"$f":"SA!CJ7-SA!BX7","v":-200},{"$f":"SA!CK7-SA!BY7","v":-100},{"$f":"SA!CL7-SA!BZ7","v":-200},{"$f":"SA!CM7-SA!CA7","v":-200},{"$f":"SA!CN7-SA!CB7","v":-200},{"$f":"SA!CO7-SA!CC7","v":-200},{"$f":"SA!CP7-SA!CD7","v":-300},{"$f":"SA!CQ7-SA!CE7","v":-400},{"$f":"SA!CR7-SA!CF7","v":-200},{"$f":"SA!CS7-SA!CG7","v":-300},{"$f":"SA!CT7-SA!CH7","v":-300},{"$f":"SA!CU7-SA!CI7","v":-300},{"$f":"SA!CV7-SA!CJ7","v":-200},{"$f":"SA!CW7-SA!CK7","v":-400},{"$f":"SA!CX7-SA!CL7","v":-300},{"$f":"SA!CY7-SA!CM7","v":-300},{"$f":"SA!CZ7-SA!CN7","v":-400},{"$f":"SA!DA7-SA!CO7","v":-400},{"$f":"SA!DB7-SA!CP7","v":-400},{"$f":"SA!DC7-SA!CQ7","v":-200},{"$f":"SA!DD7-SA!CR7","v":-300},{"$f":"SA!DE7-SA!CS7","v":-200},{"$f":"SA!DF7-SA!CT7","v":-200},{"$f":"SA!DG7-SA!CU7","v":-300},{"$f":"SA!DH7-SA!CV7","v":-300},{"$f":"SA!DI7-SA!CW7","v":-200},{"$f":"SA!DJ7-SA!CX7","v":-300},{"$f":"SA!DK7-SA!CY7","v":-400},{"$f":"SA!DL7-SA!CZ7","v":-400},{"$f":"SA!DM7-SA!DA7","v":-500},{"$f":"SA!DN7-SA!DB7","v":-300},{"$f":"SA!DO7-SA!DC7","v":-500},{"$f":"SA!DP7-SA!DD7","v":-400},{"$f":"SA!DQ7-SA!DE7","v":-400},{"$f":"SA!DR7-SA!DF7","v":-400},{"$f":"SA!DS7-SA!DG7","v":-300},{"$f":"SA!DT7-SA!DH7","v":-400},{"$f":"SA!DU7-SA!DI7","v":-200},{"$f":"SA!DV7-SA!DJ7","v":-300},{"$f":"SA!DW7-SA!DK7","v":-200},{"$f":"SA!DX7-SA!DL7","v":-100},{"$f":"SA!DY7-SA!DM7","v":100},{"$f":"SA!DZ7-SA!DN7","v":0},{"$f":"SA!EA7-SA!DO7","v":0},{"$f":"SA!EB7-SA!DP7","v":0},{"$f":"SA!EC7-SA!DQ7","v":0},{"$f":"SA!ED7-SA!DR7","v":-100},{"$f":"SA!EE7-SA!DS7","v":0},{"$f":"SA!EF7-SA!DT7","v":0},{"$f":"SA!EG7-SA!DU7","v":-100},{"$f":"SA!EH7-SA!DV7","v":100},{"$f":"SA!EI7-SA!DW7","v":100},{"$f":"SA!EJ7-SA!DX7","v":100},{"$f":"SA!EK7-SA!DY7","v":-100},{"$f":"SA!EL7-SA!DZ7","v":-100},{"$f":"SA!EM7-SA!EA7","v":200},{"$f":"SA!EN7-SA!EB7","v":0},{"$f":"SA!EO7-SA!EC7","v":0},{"$f":"SA!EP7-SA!ED7","v":200},{"$f":"SA!EQ7-SA!EE7","v":200},{"$f":"SA!ER7-SA!EF7","v":400},{"$f":"SA!ES7-SA!EG7","v":400},{"$f":"SA!ET7-SA!EH7","v":300},{"$f":"SA!EU7-SA!EI7","v":400},{"$f":"SA!EV7-SA!EJ7","v":500},{"$f":"SA!EW7-SA!EK7","v":700},{"$f":"SA!EX7-SA!EL7","v":600},{"$f":"SA!EY7-SA!EM7","v":400},{"$f":"SA!EZ7-SA!EN7","v":500},{"$f":"SA!FA7-SA!EO7","v":500},{"$f":"SA!FB7-SA!EP7","v":400},{"$f":"SA!FC7-SA!EQ7","v":300},{"$f":"SA!FD7-SA!ER7","v":200},{"$f":"SA!FE7-SA!ES7","v":300},{"$f":"SA!FF7-SA!ET7","v":300},{"$f":"SA!FG7-SA!EU7","v":200},{"$f":"SA!FH7-SA!EV7","v":0},{"$f":"SA!FI7-SA!EW7","v":0},{"$f":"SA!FJ7-SA!EX7","v":200},{"$f":"SA!FK7-SA!EY7","v":200},{"$f":"SA!FL7-SA!EZ7","v":200},{"$f":"SA!FM7-SA!FA7","v":300},{"$f":"SA!FN7-SA!FB7","v":300},{"$f":"SA!FO7-SA!FC7","v":300},{"$f":"SA!FP7-SA!FD7","v":300},{"$f":"SA!FQ7-SA!FE7","v":200},{"$f":"SA!FR7-SA!FF7","v":200},{"$f":"SA!FS7-SA!FG7","v":300},{"$f":"SA!FT7-SA!FH7","v":300},{"$f":"SA!FU7-SA!FI7","v":400},{"$f":"SA!FV7-SA!FJ7","v":300},{"$f":"SA!FW7-SA!FK7","v":300},{"$f":"SA!FX7-SA!FL7","v":400},{"$f":"SA!FY7-SA!FM7","v":400},{"$f":"SA!FZ7-SA!FN7","v":400},{"$f":"SA!GA7-SA!FO7","v":500},{"$f":"SA!GB7-SA!FP7","v":500},{"$f":"SA!GC7-SA!FQ7","v":600},{"$f":"SA!GD7-SA!FR7","v":500},{"$f":"SA!GE7-SA!FS7","v":500},{"$f":"SA!GF7-SA!FT7","v":500},{"$f":"SA!GG7-SA!FU7","v":300},{"$f":"SA!GH7-SA!FV7","v":300},{"$f":"SA!GI7-SA!FW7","v":200},{"$f":"SA!GJ7-SA!FX7","v":0},{"$f":"SA!GK7-SA!FY7","v":-100},{"$f":"SA!GL7-SA!FZ7","v":-200},{"$f":"SA!GM7-SA!GA7","v":-300},{"$f":"SA!GN7-SA!GB7","v":-300},{"$f":"SA!GO7-SA!GC7","v":-400},{"$f":"SA!GP7-SA!GD7","v":-400},{"$f":"SA!GQ7-SA!GE7","v":-500},{"$f":"SA!GR7-SA!GF7","v":-400},{"$f":"SA!GS7-SA!GG7","v":-500},{"$f":"SA!GT7-SA!GH7","v":-500},{"$f":"SA!GU7-SA!GI7","v":-500},{"$f":"SA!GV7-SA!GJ7","v":-400},{"$f":"SA!GW7-SA!GK7","v":-400},{"$f":"SA!GX7-SA!GL7","v":-400},{"$f":"SA!GY7-SA!GM7","v":-300},{"$f":"SA!GZ7-SA!GN7","v":-200},{"$f":"SA!HA7-SA!GO7","v":-300},{"$f":"SA!HB7-SA!GP7","v":0},{"$f":"SA!HC7-SA!GQ7","v":100},{"$f":"SA!HD7-SA!GR7","v":0},{"$f":"SA!HE7-SA!GS7","v":100},{"$f":"SA!HF7-SA!GT7","v":200},{"$f":"SA!HG7-SA!GU7","v":300},{"$f":"SA!HH7-SA!GV7","v":300},{"$f":"SA!HI7-SA!GW7","v":200},{"$f":"SA!HJ7-SA!GX7","v":300},{"$f":"SA!HK7-SA!GY7","v":-3700},{"$f":"SA!HL7-SA!GZ7","v":-3800},{"$f":"SA!HM7-SA!HA7","v":-3700},701,0,null,"Mining and Logging",-500,-400,-200,-100,0,200,300,700,301.8964939437945]
["Construction",{"$f":"SA!BN9-SA!BB9","v":1100},{"$f":"SA!BO9-SA!BC9","v":1700},{"$f":"SA!BP9-SA!BD9","v":800},{"$f":"SA!BQ9-SA!BE9","v":1100},{"$f":"SA!BR9-SA!BF9","v":900},{"$f":"SA!BS9-SA!BG9","v":600},{"$f":"SA!BT9-SA!BH9","v":600},{"$f":"SA!BU9-SA!BI9","v":400},{"$f":"SA!BV9-SA!BJ9","v":500},{"$f":"SA!BW9-SA!BK9","v":600},{"$f":"SA!BX9-SA!BL9","v":600},{"$f":"SA!BY9-SA!BM9","v":-200},{"$f":"SA!BZ9-SA!BN9","v":2199.9999999999854},{"$f":"SA!CA9-SA!BO9","v":2299.9999999999854},{"$f":"SA!CB9-SA!BP9","v":1400},{"$f":"SA!CC9-SA!BQ9","v":2300},{"$f":"SA!CD9-SA!BR9","v":500},{"$f":"SA!CE9-SA!BS9","v":1500},{"$f":"SA!CF9-SA!BT9","v":-600},{"$f":"SA!CG9-SA!BU9","v":-600},{"$f":"SA!CH9-SA!BV9","v":-1300},{"$f":"SA!CI9-SA!BW9","v":-1800},{"$f":"SA!CJ9-SA!BX9","v":-3200},{"$f":"SA!CK9-SA!BY9","v":-1100},{"$f":"SA!CL9-SA!BZ9","v":-1899.9999999999854},{"$f":"SA!CM9-SA!CA9","v":-4399.9999999999854},{"$f":"SA!CN9-SA!CB9","v":-600},{"$f":"SA!CO9-SA!CC9","v":-3600},{"$f":"SA!CP9-SA!CD9","v":-700},{"$f":"SA!CQ9-SA!CE9","v":-1900},{"$f":"SA!CR9-SA!CF9","v":-1100},{"$f":"SA!CS9-SA!CG9","v":-1100},{"$f":"SA!CT9-SA!CH9","v":-1000},{"$f":"SA!CU9-SA!CI9","v":-300},{"$f":"SA!CV9-SA!CJ9","v":300},{"$f":"SA!CW9-SA!CK9","v":-2300},{"$f":"SA!CX9-SA!CL9","v":-4600},{"$f":"SA!CY9-SA!CM9","v":-3300},{"$f":"SA!CZ9-SA!CN9","v":-6500},{"$f":"SA!DA9-SA!CO9","v":-7000},{"$f":"SA!DB9-SA!CP9","v":-7500},{"$f":"SA!DC9-SA!CQ9","v":-7100},{"$f":"SA!DD9-SA!CR9","v":-7200},{"$f":"SA!DE9-SA!CS9","v":-7700},{"$f":"SA!DF9-SA!CT9","v":-8200},{"$f":"SA!DG9-SA!CU9","v":-9500},{"$f":"SA!DH9-SA!CV9","v":-11300},{"$f":"SA!DI9-SA!CW9","v":-12200},{"$f":"SA!DJ9-SA!CX9","v":-14200},{"$f":"SA!DK9-SA!CY9","v":-14300},{"$f":"SA!DL9-SA!CZ9","v":-16300},{"$f":"SA!DM9-SA!DA9","v":-16700},{"$f":"SA!DN9-SA!DB9","v":-16900},{"$f":"SA!DO9-SA!DC9","v":-18000},{"$f":"SA!DP9-SA!DD9","v":-18500},{"$f":"SA!DQ9-SA!DE9","v":-19000},{"$f":"SA!DR9-SA!DF9","v":-18200},{"$f":"SA!DS9-SA!DG9","v":-17700},{"$f":"SA!DT9-SA!DH9","v":-16000},{"$f":"SA!DU9-SA!DI9","v":-14800},{"$f":"SA!DV9-SA!DJ9","v":-12000},{"$f":"SA!DW9-SA!DK9","v":-11800},{"$f":"SA!DX9-SA!DL9","v":-9800},{"$f":"SA!DY9-SA!DM9","v":-5900},{"$f":"SA!DZ9-SA!DN9","v":-8500},{"$f":"SA!EA9-SA!DO9","v":-7600},{"$f":"SA!EB9-SA!DP9","v":-6800},{"$f":"SA!EC9-SA!DQ9","v":-5400},{"$f":"SA!ED9-SA!DR9","v":-5100},{"$f":"SA!EE9-SA!DS9","v":-3500},{"$f":"SA!EF9-SA!DT9","v":-4100},{"$f":"SA!EG9-SA!DU9","v":-3800},{"$f":"SA!EH9-SA!DV9","v":-3500},{"$f":"SA!EI9-SA!DW9","v":-3300},{"$f":"SA!EJ9-SA!DX9","v":-2800},{"$f":"SA!EK9-SA!DY9","v":-4500},{"$f":"SA!EL9-SA!DZ9","v":-1600},{"$f":"SA!EM9-SA!EA9","v":-1400},{"$f":"SA!EN9-SA!EB9","v":-500},{"$f":"SA!EO9-SA!EC9","v":-700},{"$f":"SA!EP9-SA!ED9","v":-700},{"$f":"SA!EQ9-SA!EE9","v":-2000},{"$f":"SA!ER9-SA!EF9","v":-600},{"$f":"SA!ES9-SA!EG9","v":-100},{"$f":"SA!ET9-SA!EH9","v":100},{"$f":"SA!EU9-SA!EI9","v":1000},{"$f":"SA!EV9-SA!EJ9","v":1900},{"$f":"SA!EW9-SA!EK9","v":4100},{"$f":"SA!EX9-SA!EL9","v":100},{"$f":"SA!EY9-SA!EM9","v":0},{"$f":"SA!EZ9-SA!EN9","v":-1000},{"$f":"SA!FA9-SA!EO9","v":-1200},{"$f":"SA!FB9-SA!EP9","v":-400},{"$f":"SA!FC9-SA!EQ9","v":1200},{"$f":"SA!FD9-SA!ER9","v":900},{"$f":"SA!FE9-SA!ES9","v":3000},{"$f":"SA!FF9-SA!ET9","v":3700},{"$f":"SA!FG9-SA!EU9","v":4600},{"$f":"SA!FH9-SA!EV9","v":3400},{"$f":"SA!FI9-SA!EW9","v":-1300},{"$f":"SA!FJ9-SA!EX9","v":5600},{"$f":"SA!FK9-SA!EY9","v":5900},{"$f":"SA!FL9-SA!EZ9","v":6800},{"$f":"SA!FM9-SA!FA9","v":7900},{"$f":"SA!FN9-SA!FB9","v":7300},{"$f":"SA!FO9-SA!FC9","v":6300},{"$f":"SA!FP9-SA!FD9","v":6500},{"$f":"SA!FQ9-SA!FE9","v":3200},{"$f":"SA!FR9-SA!FF9","v":3600},{"$f":"SA!FS9-SA!FG9","v":2700},{"$f":"SA!FT9-SA!FH9","v":3800},{"$f":"SA!FU9-SA!FI9","v":6400},{"$f":"SA!FV9-SA!FJ9","v":4000},{"$f":"SA!FW9-SA!FK9","v":5300},{"$f":"SA!FX9-SA!FL9","v":5200},{"$f":"SA!FY9-SA!FM9","v":5000},{"$f":"SA!FZ9-SA!FN9","v":5700},{"$f":"SA!GA9-SA!FO9","v":5700},{"$f":"SA!GB9-SA!FP9","v":5900},{"$f":"SA!GC9-SA!FQ9","v":7100},{"$f":"SA!GD9-SA!FR9","v":7200},{"$f":"SA!GE9-SA!FS9","v":6700},{"$f":"SA!GF9-SA!FT9","v":6400},{"$f":"SA!GG9-SA!FU9","v":7400},{"$f":"SA!GH9-SA!FV9","v":7400},{"$f":"SA!GI9-SA!FW9","v":6100},{"$f":"SA!GJ9-SA!FX9","v":5800},{"$f":"SA!GK9-SA!FY9","v":4900},{"$f":"SA!GL9-SA!FZ9","v":3800},{"$f":"SA!GM9-SA!GA9","v":3900},{"$f":"SA!GN9-SA!GB9","v":4100},{"$f":"SA!GO9-SA!GC9","v":5000},{"$f":"SA!GP9-SA!GD9","v":3900},{"$f":"SA!GQ9-SA!GE9","v":4600},{"$f":"SA!GR9-SA!GF9","v":5400},{"$f":"SA!GS9-SA!GG9","v":3400},{"$f":"SA!GT9-SA!GH9","v":1900},{"$f":"SA!GU9-SA!GI9","v":1500},{"$f":"SA!GV9-SA!GJ9","v":1700},{"$f":"SA!GW9-SA!GK9","v":2200},{"$f":"SA!GX9-SA!GL9","v":2600},{"$f":"SA!GY9-SA!GM9","v":900},{"$f":"SA!GZ9-SA!GN9","v":600},{"$f":"SA!HA9-SA!GO9","v":1500},{"$f":"SA!HB9-SA!GP9","v":3100},{"$f":"SA!HC9-SA!GQ9","v":1600},{"$f":"SA!HD9-SA!GR9","v":700},{"$f":"SA!HE9-SA!GS9","v":3100},{"$f":"SA!HF9-SA!GT9","v":3000},{"$f":"SA!HG9-SA!GU9","v":900},{"$f":"SA!HH9-SA!GV9","v":1100},{"$f":"SA!HI9-SA!GW9","v":400},{"$f":"SA!HJ9-SA!GX9","v":1400},{"$f":"SA!HK9-SA!GY9","v":-110700},{"$f":"SA!HL9-SA!GZ9","v":-111000},{"$f":"SA!HM9-SA!HA9","v":-112800},7917,0,null,"Construction",-19000,-7625,-2550,-575,600,2299.9999999999927,5225,7900,6467.4907821926508]
["Manufacturing",{"$f":"SA!BN10-SA!BB10","v":2500},{"$f":"SA!BO10-SA!BC10","v":5700},{"$f":"SA!BP10-SA!BD10","v":5200},{"$f":"SA!BQ10-SA!BE10","v":4000},{"$f":"SA!BR10-SA!BF10","v":2100},{"$f":"SA!BS10-SA!BG10","v":3800},{"$f":"SA!BT10-SA!BH10","v":2400},{"$f":"SA!BU10-SA!BI10","v":800},{"$f":"SA!BV10-SA!BJ10","v":100},{"$f":"SA!BW10-SA!BK10","v":0},{"$f":"SA!BX10-SA!BL10","v":-400},{"$f":"SA!BY10-SA!BM10","v":-1000},{"$f":"SA!BZ10-SA!BN10","v":4200},{"$f":"SA!CA10-SA!BO10","v":-200},{"$f":"SA!CB10-SA!BP10","v":700},{"$f":"SA!CC10-SA!BQ10","v":1200},{"$f":"SA!CD10-SA!BR10","v":1400},{"$f":"SA!CE10-SA!BS10","v":2600},{"$f":"SA!CF10-SA!BT10","v":1400},{"$f":"SA!CG10-SA!BU10","v":1000},{"$f":"SA!CH10-SA!BV10","v":1000},{"$f":"SA!CI10-SA!BW10","v":100},{"$f":"SA!CJ10-SA!BX10","v":-900},{"$f":"SA!CK10-SA!BY10","v":-1300},{"$f":"SA!CL10-SA!BZ10","v":-2800},{"$f":"SA!CM10-SA!CA10","v":-2500},{"$f":"SA!CN10-SA!CB10","v":-4400},{"$f":"SA!CO10-SA!CC10","v":-4400},{"$f":"SA!CP10-SA!CD10","v":-3600},{"$f":"SA!CQ10-SA!CE10","v":-4200},{"$f":"SA!CR10-SA!CF10","v":-4600},{"$f":"SA!CS10-SA!CG10","v":-5500},{"$f":"SA!CT10-SA!CH10","v":-6600},{"$f":"SA!CU10-SA!CI10","v":-6400},{"$f":"SA!CV10-SA!CJ10","v":-5000},{"$f":"SA!CW10-SA!CK10","v":-4500},{"$f":"SA!CX10-SA!CL10","v":-3000},{"$f":"SA!CY10-SA!CM10","v":-2500},{"$f":"SA!CZ10-SA!CN10","v":-1900},{"$f":"SA!DA10-SA!CO10","v":-3500},{"$f":"SA!DB10-SA!CP10","v":-5000},{"$f":"SA!DC10-SA!CQ10","v":-5800},{"$f":"SA!DD10-SA!CR10","v":-9400},{"$f":"SA!DE10-SA!CS10","v":-10300},{"$f":"SA!DF10-SA!CT10","v":-11300},{"$f":"SA!DG10-SA!CU10","v":-12000},{"$f":"SA!DH10-SA!CV10","v":-15500},{"$f":"SA!DI10-SA!CW10","v":-20400},{"$f":"SA!DJ10-SA!CX10","v":-30100},{"$f":"SA!DK10-SA!CY10","v":-40900},{"$f":"SA!DL10-SA!CZ10","v":-49200},{"$f":"SA!DM10-SA!DA10","v":-58100},{"$f":"SA!DN10-SA!DB10","v":-62900},{"$f":"SA!DO10-SA!DC10","v":-68000},{"$f":"SA!DP10-SA!DD10","v":-68400},{"$f":"SA!DQ10-SA!DE10","v":-66800},{"$f":"SA!DR10-SA!DF10","v":-60100},{"$f":"SA!DS10-SA!DG10","v":-60600},{"$f":"SA!DT10-SA!DH10","v":-57900},{"$f":"SA!DU10-SA!DI10","v":-53600},{"$f":"SA!DV10-SA!DJ10","v":-45900},{"$f":"SA!DW10-SA!DK10","v":-34800},{"$f":"SA!DX10-SA!DL10","v":-24300},{"$f":"SA!DY10-SA!DM10","v":-13000},{"$f":"SA!DZ10-SA!DN10","v":-5500},{"$f":"SA!EA10-SA!DO10","v":1100},{"$f":"SA!EB10-SA!DP10","v":7500},{"$f":"SA!EC10-SA!DQ10","v":9200},{"$f":"SA!ED10-SA!DR10","v":6100},{"$f":"SA!EE10-SA!DS10","v":8000},{"$f":"SA!EF10-SA!DT10","v":9900},{"$f":"SA!EG10-SA!DU10","v":11600},{"$f":"SA!EH10-SA!DV10","v":13700},{"$f":"SA!EI10-SA!DW10","v":14800},{"$f":"SA!EJ10-SA!DX10","v":14300},{"$f":"SA!EK10-SA!DY10","v":16300},{"$f":"SA!EL10-SA!DZ10","v":15400},{"$f":"SA!EM10-SA!EA10","v":14200},{"$f":"SA!EN10-SA!EB10","v":14400},{"$f":"SA!EO10-SA!EC10","v":14400},{"$f":"SA!EP10-SA!ED10","v":13900},{"$f":"SA!EQ10-SA!EE10","v":13600},{"$f":"SA!ER10-SA!EF10","v":13600},{"$f":"SA!ES10-SA!EG10","v":13700},{"$f":"SA!ET10-SA!EH10","v":14000},{"$f":"SA!EU10-SA!EI10","v":13000},{"$f":"SA!EV10-SA!EJ10","v":12900},{"$f":"SA!EW10-SA!EK10","v":10700},{"$f":"SA!EX10-SA!EL10","v":10200},{"$f":"SA!EY10-SA!EM10","v":12000},{"$f":"SA!EZ10-SA!EN10","v":10200},{"$f":"SA!FA10-SA!EO10","v":9100},{"$f":"SA!FB10-SA!EP10","v":9200},{"$f":"SA!FC10-SA!EQ10","v":10100},{"$f":"SA!FD10-SA!ER10","v":8500},{"$f":"SA!FE10-SA!ES10","v":7600},{"$f":"SA!FF10-SA!ET10","v":6000},{"$f":"SA!FG10-SA!EU10","v":5200},{"$f":"SA!FH10-SA!EV10","v":3900},{"$f":"SA!FI10-SA!EW10","v":1700},{"$f":"SA!FJ10-SA!EX10","v":1600},{"$f":"SA!FK10-SA!EY10","v":300},{"$f":"SA!FL10-SA!EZ10","v":-1200},{"$f":"SA!FM10-SA!FA10","v":-400},{"$f":"SA!FN10-SA!FB10","v":100},{"$f":"SA!FO10-SA!FC10","v":900},{"$f":"SA!FP10-SA!FD10","v":2100},{"$f":"SA!FQ10-SA!FE10","v":1900},{"$f":"SA!FR10-SA!FF10","v":3200},{"$f":"SA!FS10-SA!FG10","v":3500},{"$f":"SA!FT10-SA!FH10","v":3800},{"$f":"SA!FU10-SA!FI10","v":6600},{"$f":"SA!FV10-SA!FJ10","v":7600},{"$f":"SA!FW10-SA!FK10","v":7100},{"$f":"SA!FX10-SA!FL10","v":9900},{"$f":"SA!FY10-SA!FM10","v":9700},{"$f":"SA!FZ10-SA!FN10","v":9300},{"$f":"SA!GA10-SA!FO10","v":8400},{"$f":"SA!GB10-SA!FP10","v":8100},{"$f":"SA!GC10-SA!FQ10","v":8700},{"$f":"SA!GD10-SA!FR10","v":7500},{"$f":"SA!GE10-SA!FS10","v":7900},{"$f":"SA!GF10-SA!FT10","v":7100},{"$f":"SA!GG10-SA!FU10","v":4800},{"$f":"SA!GH10-SA!FV10","v":3000},{"$f":"SA!GI10-SA!FW10","v":3000},{"$f":"SA!GJ10-SA!FX10","v":1400},{"$f":"SA!GK10-SA!FY10","v":500},{"$f":"SA!GL10-SA!FZ10","v":200},{"$f":"SA!GM10-SA!GA10","v":-500},{"$f":"SA!GN10-SA!GB10","v":-1000},{"$f":"SA!GO10-SA!GC10","v":-1800},{"$f":"SA!GP10-SA!GD10","v":-1600},{"$f":"SA!GQ10-SA!GE10","v":-3100},{"$f":"SA!GR10-SA!GF10","v":-2900},{"$f":"SA!GS10-SA!GG10","v":-2300},{"$f":"SA!GT10-SA!GH10","v":-2600},{"$f":"SA!GU10-SA!GI10","v":-3200},{"$f":"SA!GV10-SA!GJ10","v":-3300},{"$f":"SA!GW10-SA!GK10","v":-3100},{"$f":"SA!GX10-SA!GL10","v":-3400},{"$f":"SA!GY10-SA!GM10","v":800},{"$f":"SA!GZ10-SA!GN10","v":-100},{"$f":"SA!HA10-SA!GO10","v":2100},{"$f":"SA!HB10-SA!GP10","v":1700},{"$f":"SA!HC10-SA!GQ10","v":3200},{"$f":"SA!HD10-SA!GR10","v":2300},{"$f":"SA!HE10-SA!GS10","v":6600},{"$f":"SA!HF10-SA!GT10","v":7300},{"$f":"SA!HG10-SA!GU10","v":8300},{"$f":"SA!HH10-SA!GV10","v":10400},{"$f":"SA!HI10-SA!GW10","v":11100},{"$f":"SA!HJ10-SA!GX10","v":12600},{"$f":"SA!HK10-SA!GY10","v":-467100},{"$f":"SA!HL10-SA!GZ10","v":-466200},{"$f":"SA!HM10-SA!HA10","v":-468400},8880,3,null,"Manufacturing",-68400,-9625,-2850,125,1550,5850,9950,16300,18514.865930291438]
["  Durable Goods",{"$f":"SA!BN11-SA!BB11","v":4600},{"$f":"SA!BO11-SA!BC11","v":8100},{"$f":"SA!BP11-SA!BD11","v":7800},{"$f":"SA!BQ11-SA!BE11","v":7600},{"$f":"SA!BR11-SA!BF11","v":5700},{"$f":"SA!BS11-SA!BG11","v":6900},{"$f":"SA!BT11-SA!BH11","v":4600},{"$f":"SA!BU11-SA!BI11","v":3500},{"$f":"SA!BV11-SA!BJ11","v":3000},{"$f":"SA!BW11-SA!BK11","v":3100},{"$f":"SA!BX11-SA!BL11","v":2000},{"$f":"SA!BY11-SA!BM11","v":1200},{"$f":"SA!BZ11-SA!BN11","v":6200},{"$f":"SA!CA11-SA!BO11","v":1700},{"$f":"SA!CB11-SA!BP11","v":2600},{"$f":"SA!CC11-SA!BQ11","v":2300},{"$f":"SA!CD11-SA!BR11","v":3000},{"$f":"SA!CE11-SA!BS11","v":3900},{"$f":"SA!CF11-SA!BT11","v":3400},{"$f":"SA!CG11-SA!BU11","v":2900},{"$f":"SA!CH11-SA!BV11","v":2800},{"$f":"SA!CI11-SA!BW11","v":1700},{"$f":"SA!CJ11-SA!BX11","v":1000},{"$f":"SA!CK11-SA!BY11","v":700},{"$f":"SA!CL11-SA!BZ11","v":-1300},{"$f":"SA!CM11-SA!CA11","v":-1300},{"$f":"SA!CN11-SA!CB11","v":-3400},{"$f":"SA!CO11-SA!CC11","v":-2600},{"$f":"SA!CP11-SA!CD11","v":-2800},{"$f":"SA!CQ11-SA!CE11","v":-4300},{"$f":"SA!CR11-SA!CF11","v":-4400},{"$f":"SA!CS11-SA!CG11","v":-5300},{"$f":"SA!CT11-SA!CH11","v":-6300},{"$f":"SA!CU11-SA!CI11","v":-6000},{"$f":"SA!CV11-SA!CJ11","v":-5100},{"$f":"SA!CW11-SA!CK11","v":-4900},{"$f":"SA!CX11-SA!CL11","v":-3200},{"$f":"SA!CY11-SA!CM11","v":-2800},{"$f":"SA!CZ11-SA!CN11","v":-2000},{"$f":"SA!DA11-SA!CO11","v":-4000},{"$f":"SA!DB11-SA!CP11","v":-4600},{"$f":"SA!DC11-SA!CQ11","v":-4700},{"$f":"SA!DD11-SA!CR11","v":-6500},{"$f":"SA!DE11-SA!CS11","v":-7800},{"$f":"SA!DF11-SA!CT11","v":-8400},{"$f":"SA!DG11-SA!CU11","v":-9500},{"$f":"SA!DH11-SA!CV11","v":-11600},{"$f":"SA!DI11-SA!CW11","v":-15300},{"$f":"SA!DJ11-SA!CX11","v":-23300},{"$f":"SA!DK11-SA!CY11","v":-32200},{"$f":"SA!DL11-SA!CZ11","v":-39400},{"$f":"SA!DM11-SA!DA11","v":-46900},{"$f":"SA!DN11-SA!DB11","v":-51000.000000000029},{"$f":"SA!DO11-SA!DC11","v":-54900.000000000029},{"$f":"SA!DP11-SA!DD11","v":-55500},{"$f":"SA!DQ11-SA!DE11","v":-54700},{"$f":"SA!DR11-SA!DF11","v":-49800},{"$f":"SA!DS11-SA!DG11","v":-48700},{"$f":"SA!DT11-SA!DH11","v":-47300},{"$f":"SA!DU11-SA!DI11","v":-44000},{"$f":"SA!DV11-SA!DJ11","v":-37800},{"$f":"SA!DW11-SA!DK11","v":-28500},{"$f":"SA!DX11-SA!DL11","v":-19600},{"$f":"SA!DY11-SA!DM11","v":-10100},{"$f":"SA!DZ11-SA!DN11","v":-4299.9999999999418},{"$f":"SA!EA11-SA!DO11","v":700.00000000005821},{"$f":"SA!EB11-SA!DP11","v":4199.9999999999709},{"$f":"SA!EC11-SA!DQ11","v":7100},{"$f":"SA!ED11-SA!DR11","v":5200},{"$f":"SA!EE11-SA!DS11","v":5799.9999999999709},{"$f":"SA!EF11-SA!DT11","v":7500},{"$f":"SA!EG11-SA!DU11","v":9400},{"$f":"SA!EH11-SA!DV11","v":11100},{"$f":"SA!EI11-SA!DW11","v":12200},{"$f":"SA!EJ11-SA!DX11","v":11700},{"$f":"SA!EK11-SA!DY11","v":12900},{"$f":"SA!EL11-SA!DZ11","v":12299.999999999971},{"$f":"SA!EM11-SA!EA11","v":12399.999999999971},{"$f":"SA!EN11-SA!EB11","v":13100.000000000029},{"$f":"SA!EO11-SA!EC11","v":12000},{"$f":"SA!EP11-SA!ED11","v":11300},{"$f":"SA!EQ11-SA!EE11","v":11100.000000000029},{"$f":"SA!ER11-SA!EF11","v":11500},{"$f":"SA!ES11-SA!EG11","v":11100},{"$f":"SA!ET11-SA!EH11","v":11700},{"$f":"SA!EU11-SA!EI11","v":10700},{"$f":"SA!EV11-SA!EJ11","v":10900},{"$f":"SA!EW11-SA!EK11","v":9100},{"$f":"SA!EX11-SA!EL11","v":9000},{"$f":"SA!EY11-SA!EM11","v":9800},{"$f":"SA!EZ11-SA!EN11","v":8400},{"$f":"SA!FA11-SA!EO11","v":7800},{"$f":"SA!FB11-SA!EP11","v":7700},{"$f":"SA!FC11-SA!EQ11","v":8200},{"$f":"SA!FD11-SA!ER11","v":6600},{"$f":"SA!FE11-SA!ES11","v":5800},{"$f":"SA!FF11-SA!ET11","v":4300},{"$f":"SA!FG11-SA!EU11","v":3400},{"$f":"SA!FH11-SA!EV11","v":2100},{"$f":"SA!FI11-SA!EW11","v":800},{"$f":"SA!FJ11-SA!EX11","v":500},{"$f":"SA!FK11-SA!EY11","v":-600},{"$f":"SA!FL11-SA!EZ11","v":-2200},{"$f":"SA!FM11-SA!FA11","v":-1600},{"$f":"SA!FN11-SA!FB11","v":-1100},{"$f":"SA!FO11-SA!FC11","v":-500},{"$f":"SA!FP11-SA!FD11","v":300},{"$f":"SA!FQ11-SA!FE11","v":100},{"$f":"SA!FR11-SA!FF11","v":700},{"$f":"SA!FS11-SA!FG11","v":500},{"$f":"SA!FT11-SA!FH11","v":800},{"$f":"SA!FU11-SA!FI11","v":3200},{"$f":"SA!FV11-SA!FJ11","v":4100},{"$f":"SA!FW11-SA!FK11","v":3900},{"$f":"SA!FX11-SA!FL11","v":6100},{"$f":"SA!FY11-SA!FM11","v":5900},{"$f":"SA!FZ11-SA!FN11","v":5700},{"$f":"SA!GA11-SA!FO11","v":5300},{"$f":"SA!GB11-SA!FP11","v":5300},{"$f":"SA!GC11-SA!FQ11","v":6100},{"$f":"SA!GD11-SA!FR11","v":5300},{"$f":"SA!GE11-SA!FS11","v":5800},{"$f":"SA!GF11-SA!FT11","v":5400},{"$f":"SA!GG11-SA!FU11","v":3100},{"$f":"SA!GH11-SA!FV11","v":1200},{"$f":"SA!GI11-SA!FW11","v":1100},{"$f":"SA!GJ11-SA!FX11","v":100},{"$f":"SA!GK11-SA!FY11","v":-300},{"$f":"SA!GL11-SA!FZ11","v":-900},{"$f":"SA!GM11-SA!GA11","v":-2100},{"$f":"SA!GN11-SA!GB11","v":-2800},{"$f":"SA!GO11-SA!GC11","v":-4000},{"$f":"SA!GP11-SA!GD11","v":-3700},{"$f":"SA!GQ11-SA!GE11","v":-4600},{"$f":"SA!GR11-SA!GF11","v":-5000},{"$f":"SA!GS11-SA!GG11","v":-4500},{"$f":"SA!GT11-SA!GH11","v":-4300},{"$f":"SA!GU11-SA!GI11","v":-4900},{"$f":"SA!GV11-SA!GJ11","v":-4800},{"$f":"SA!GW11-SA!GK11","v":-4700},{"$f":"SA!GX11-SA!GL11","v":-4500},{"$f":"SA!GY11-SA!GM11","v":-2700},{"$f":"SA!GZ11-SA!GN11","v":-2700},{"$f":"SA!HA11-SA!GO11","v":0},{"$f":"SA!HB11-SA!GP11","v":-200},{"$f":"SA!HC11-SA!GQ11","v":600},{"$f":"SA!HD11-SA!GR11","v":600},{"$f":"SA!HE11-SA!GS11","v":2700},{"$f":"SA!HF11-SA!GT11","v":2700},{"$f":"SA!HG11-SA!GU11","v":4200},{"$f":"SA!HH11-SA!GV11","v":5400},{"$f":"SA!HI11-SA!GW11","v":6500},{"$f":"SA!HJ11-SA!GX11","v":7200},{"$f":"SA!HK11-SA!GY11","v":-280200},{"$f":"SA!HL11-SA!GZ11","v":-279900},{"$f":"SA!HM11-SA!HA11","v":-282200},6907,1,null,"  Durable Goods",-55500,-6825,-3550,150,1925,5250,8125,13100.000000000029,15079.205092287784]
["  Non-Durable Goods",{"$f":"SA!BN12-SA!BB12","v":-2100},{"$f":"SA!BO12-SA!BC12","v":-2400},{"$f":"SA!BP12-SA!BD12","v":-2600},{"$f":"SA!BQ12-SA!BE12","v":-3600},{"$f":"SA!BR12-SA!BF12","v":-3600},{"$f":"SA!BS12-SA!BG12","v":-3100},{"$f":"SA!BT12-SA!BH12","v":-2200},{"$f":"SA!BU12-SA!BI12","v":-2700},{"$f":"SA!BV12-SA!BJ12","v":-2900},{"$f":"SA!BW12-SA!BK12","v":-3100},{"$f":"SA!BX12-SA!BL12","v":-2400},{"$f":"SA!BY12-SA!BM12","v":-2200},{"$f":"SA!BZ12-SA!BN12","v":-2000},{"$f":"SA!CA12-SA!BO12","v":-1900},{"$f":"SA!CB12-SA!BP12","v":-1900},{"$f":"SA!CC12-SA!BQ12","v":-1100},{"$f":"SA!CD12-SA!BR12","v":-1600},{"$f":"SA!CE12-SA!BS12","v":-1300},{"$f":"SA!CF12-SA!BT12","v":-2000},{"$f":"SA!CG12-SA!BU12","v":-1900},{"$f":"SA!CH12-SA!BV12","v":-1800},{"$f":"SA!CI12-SA!BW12","v":-1600},{"$f":"SA!CJ12-SA!BX12","v":-1900},{"$f":"SA!CK12-SA!BY12","v":-2000},{"$f":"SA!CL12-SA!BZ12","v":-1500},{"$f":"SA!CM12-SA!CA12","v":-1200},{"$f":"SA!CN12-SA!CB12","v":-1000},{"$f":"SA!CO12-SA!CC12","v":-1800},{"$f":"SA!CP12-SA!CD12","v":-800},{"$f":"SA!CQ12-SA!CE12","v":100},{"$f":"SA!CR12-SA!CF12","v":-200},{"$f":"SA!CS12-SA!CG12","v":-200},{"$f":"SA!CT12-SA!CH12","v":-300},{"$f":"SA!CU12-SA!CI12","v":-400},{"$f":"SA!CV12-SA!CJ12","v":100},{"$f":"SA!CW12-SA!CK12","v":400},{"$f":"SA!CX12-SA!CL12","v":200},{"$f":"SA!CY12-SA!CM12","v":300},{"$f":"SA!CZ12-SA!CN12","v":100},{"$f":"SA!DA12-SA!CO12","v":500},{"$f":"SA!DB12-SA!CP12","v":-400},{"$f":"SA!DC12-SA!CQ12","v":-1100},{"$f":"SA!DD12-SA!CR12","v":-2900},{"$f":"SA!DE12-SA!CS12","v":-2500},{"$f":"SA!DF12-SA!CT12","v":-2900},{"$f":"SA!DG12-SA!CU12","v":-2500},{"$f":"SA!DH12-SA!CV12","v":-3900},{"$f":"SA!DI12-SA!CW12","v":-5100},{"$f":"SA!DJ12-SA!CX12","v":-6800},{"$f":"SA!DK12-SA!CY12","v":-8700},{"$f":"SA!DL12-SA!CZ12","v":-9800},{"$f":"SA!DM12-SA!DA12","v":-11200},{"$f":"SA!DN12-SA!DB12","v":-11900},{"$f":"SA!DO12-SA!DC12","v":-13100},{"$f":"SA!DP12-SA!DD12","v":-12900},{"$f":"SA!DQ12-SA!DE12","v":-12100},{"$f":"SA!DR12-SA!DF12","v":-10300},{"$f":"SA!DS12-SA!DG12","v":-11900},{"$f":"SA!DT12-SA!DH12","v":-10600},{"$f":"SA!DU12-SA!DI12","v":-9600},{"$f":"SA!DV12-SA!DJ12","v":-8100},{"$f":"SA!DW12-SA!DK12","v":-6300},{"$f":"SA!DX12-SA!DL12","v":-4700},{"$f":"SA!DY12-SA!DM12","v":-2900},{"$f":"SA!DZ12-SA!DN12","v":-1200},{"$f":"SA!EA12-SA!DO12","v":400},{"$f":"SA!EB12-SA!DP12","v":3300},{"$f":"SA!EC12-SA!DQ12","v":2100},{"$f":"SA!ED12-SA!DR12","v":900},{"$f":"SA!EE12-SA!DS12","v":2200},{"$f":"SA!EF12-SA!DT12","v":2400},{"$f":"SA!EG12-SA!DU12","v":2200},{"$f":"SA!EH12-SA!DV12","v":2600},{"$f":"SA!EI12-SA!DW12","v":2600},{"$f":"SA!EJ12-SA!DX12","v":2600},{"$f":"SA!EK12-SA!DY12","v":3400},{"$f":"SA!EL12-SA!DZ12","v":3100},{"$f":"SA!EM12-SA!EA12","v":1800},{"$f":"SA!EN12-SA!EB12","v":1300},{"$f":"SA!EO12-SA!EC12","v":2400},{"$f":"SA!EP12-SA!ED12","v":2600},{"$f":"SA!EQ12-SA!EE12","v":2500},{"$f":"SA!ER12-SA!EF12","v":2100},{"$f":"SA!ES12-SA!EG12","v":2600},{"$f":"SA!ET12-SA!EH12","v":2300},{"$f":"SA!EU12-SA!EI12","v":2300},{"$f":"SA!EV12-SA!EJ12","v":2000},{"$f":"SA!EW12-SA!EK12","v":1600},{"$f":"SA!EX12-SA!EL12","v":1200},{"$f":"SA!EY12-SA!EM12","v":2200},{"$f":"SA!EZ12-SA!EN12","v":1800},{"$f":"SA!FA12-SA!EO12","v":1300},{"$f":"SA!FB12-SA!EP12","v":1500},{"$f":"SA!FC12-SA!EQ12","v":1900},{"$f":"SA!FD12-SA!ER12","v":1900},{"$f":"SA!FE12-SA!ES12","v":1800},{"$f":"SA!FF12-SA!ET12","v":1700},{"$f":"SA!FG12-SA!EU12","v":1800},{"$f":"SA!FH12-SA!EV12","v":1800},{"$f":"SA!FI12-SA!EW12","v":900},{"$f":"SA!FJ12-SA!EX12","v":1100},{"$f":"SA!FK12-SA!EY12","v":900},{"$f":"SA!FL12-SA!EZ12","v":1000},{"$f":"SA!FM12-SA!FA12","v":1200},{"$f":"SA!FN12-SA!FB12","v":1200},{"$f":"SA!FO12-SA!FC12","v":1400},{"$f":"SA!FP12-SA!FD12","v":1800},{"$f":"SA!FQ12-SA!FE12","v":1800},{"$f":"SA!FR12-SA!FF12","v":2500},{"$f":"SA!FS12-SA!FG12","v":3000},{"$f":"SA!FT12-SA!FH12","v":3000},{"$f":"SA!FU12-SA!FI12","v":3400},{"$f":"SA!FV12-SA!FJ12","v":3500},{"$f":"SA!FW12-SA!FK12","v":3200},{"$f":"SA!FX12-SA!FL12","v":3800},{"$f":"SA!FY12-SA!FM12","v":3800},{"$f":"SA!FZ12-SA!FN12","v":3600},{"$f":"SA!GA12-SA!FO12","v":3100},{"$f":"SA!GB12-SA!FP12","v":2800},{"$f":"SA!GC12-SA!FQ12","v":2600},{"$f":"SA!GD12-SA!FR12","v":2200},{"$f":"SA!GE12-SA!FS12","v":2100},{"$f":"SA!GF12-SA!FT12","v":1700},{"$f":"SA!GG12-SA!FU12","v":1700},{"$f":"SA!GH12-SA!FV12","v":1800},{"$f":"SA!GI12-SA!FW12","v":1900},{"$f":"SA!GJ12-SA!FX12","v":1300},{"$f":"SA!GK12-SA!FY12","v":800},{"$f":"SA!GL12-SA!FZ12","v":1100},{"$f":"SA!GM12-SA!GA12","v":1600},{"$f":"SA!GN12-SA!GB12","v":1800},{"$f":"SA!GO12-SA!GC12","v":2200},{"$f":"SA!GP12-SA!GD12","v":2100},{"$f":"SA!GQ12-SA!GE12","v":1500},{"$f":"SA!GR12-SA!GF12","v":2100},{"$f":"SA!GS12-SA!GG12","v":2200},{"$f":"SA!GT12-SA!GH12","v":1700},{"$f":"SA!GU12-SA!GI12","v":1700},{"$f":"SA!GV12-SA!GJ12","v":1500},{"$f":"SA!GW12-SA!GK12","v":1600},{"$f":"SA!GX12-SA!GL12","v":1100},{"$f":"SA!GY12-SA!GM12","v":3500},{"$f":"SA!GZ12-SA!GN12","v":2600},{"$f":"SA!HA12-SA!GO12","v":2100},{"$f":"SA!HB12-SA!GP12","v":1900},{"$f":"SA!HC12-SA!GQ12","v":2600},{"$f":"SA!HD12-SA!GR12","v":1700},{"$f":"SA!HE12-SA!GS12","v":3900},{"$f":"SA!HF12-SA!GT12","v":4600},{"$f":"SA!HG12-SA!GU12","v":4100},{"$f":"SA!HH12-SA!GV12","v":5000},{"$f":"SA!HI12-SA!GW12","v":4600},{"$f":"SA!HJ12-SA!GX12","v":5400},{"$f":"SA!HK12-SA!GY12","v":-186900},{"$f":"SA!HL12-SA!GZ12","v":-186300},{"$f":"SA!HM12-SA!HA12","v":-186200},5580,0,null,"  Non-Durable Goods",-13100,-2950,-1700,425,1300,1850,2525,3800,3839.6681126469484]
["Trade, Transportation, and Utilities",{"$f":"SA!BN13-SA!BB13","v":2600},{"$f":"SA!BO13-SA!BC13","v":3900},{"$f":"SA!BP13-SA!BD13","v":4300},{"$f":"SA!BQ13-SA!BE13","v":6200},{"$f":"SA!BR13-SA!BF13","v":4100},{"$f":"SA!BS13-SA!BG13","v":1200},{"$f":"SA!BT13-SA!BH13","v":1900},{"$f":"SA!BU13-SA!BI13","v":3100},{"$f":"SA!BV13-SA!BJ13","v":4200},{"$f":"SA!BW13-SA!BK13","v":6400},{"$f":"SA!BX13-SA!BL13","v":6100},{"$f":"SA!BY13-SA!BM13","v":7700},{"$f":"SA!BZ13-SA!BN13","v":3800},{"$f":"SA!CA13-SA!BO13","v":3800},{"$f":"SA!CB13-SA!BP13","v":3600},{"$f":"SA!CC13-SA!BQ13","v":1800},{"$f":"SA!CD13-SA!BR13","v":1400},{"$f":"SA!CE13-SA!BS13","v":4000},{"$f":"SA!CF13-SA!BT13","v":600},{"$f":"SA!CG13-SA!BU13","v":0},{"$f":"SA!CH13-SA!BV13","v":300},{"$f":"SA!CI13-SA!BW13","v":-2100},{"$f":"SA!CJ13-SA!BX13","v":-600},{"$f":"SA!CK13-SA!BY13","v":-400},{"$f":"SA!CL13-SA!BZ13","v":5100},{"$f":"SA!CM13-SA!CA13","v":4000},{"$f":"SA!CN13-SA!CB13","v":3800},{"$f":"SA!CO13-SA!CC13","v":1400},{"$f":"SA!CP13-SA!CD13","v":4500},{"$f":"SA!CQ13-SA!CE13","v":4100},{"$f":"SA!CR13-SA!CF13","v":4300},{"$f":"SA!CS13-SA!CG13","v":2100},{"$f":"SA!CT13-SA!CH13","v":1500},{"$f":"SA!CU13-SA!CI13","v":700},{"$f":"SA!CV13-SA!CJ13","v":-700},{"$f":"SA!CW13-SA!CK13","v":-2100},{"$f":"SA!CX13-SA!CL13","v":-1400},{"$f":"SA!CY13-SA!CM13","v":-2600},{"$f":"SA!CZ13-SA!CN13","v":-3200},{"$f":"SA!DA13-SA!CO13","v":-1600},{"$f":"SA!DB13-SA!CP13","v":-5300},{"$f":"SA!DC13-SA!CQ13","v":-7200},{"$f":"SA!DD13-SA!CR13","v":-6300},{"$f":"SA!DE13-SA!CS13","v":-5600},{"$f":"SA!DF13-SA!CT13","v":-7900},{"$f":"SA!DG13-SA!CU13","v":-9700},{"$f":"SA!DH13-SA!CV13","v":-12600},{"$f":"SA!DI13-SA!CW13","v":-14500},{"$f":"SA!DJ13-SA!CX13","v":-19500},{"$f":"SA!DK13-SA!CY13","v":-20400},{"$f":"SA!DL13-SA!CZ13","v":-23300},{"$f":"SA!DM13-SA!DA13","v":-26200},{"$f":"SA!DN13-SA!DB13","v":-23700},{"$f":"SA!DO13-SA!DC13","v":-22999.999999999942},{"$f":"SA!DP13-SA!DD13","v":-25600},{"$f":"SA!DQ13-SA!DE13","v":-25900},{"$f":"SA!DR13-SA!DF13","v":-24900},{"$f":"SA!DS13-SA!DG13","v":-23500},{"$f":"SA!DT13-SA!DH13","v":-22600},{"$f":"SA!DU13-SA!DI13","v":-22300},{"$f":"SA!DV13-SA!DJ13","v":-19100},{"$f":"SA!DW13-SA!DK13","v":-17500},{"$f":"SA!DX13-SA!DL13","v":-13800},{"$f":"SA!DY13-SA!DM13","v":-10700},{"$f":"SA!DZ13-SA!DN13","v":-11600},{"$f":"SA!EA13-SA!DO13","v":-11100.000000000058},{"$f":"SA!EB13-SA!DP13","v":-7700},{"$f":"SA!EC13-SA!DQ13","v":-6900},{"$f":"SA!ED13-SA!DR13","v":-5900},{"$f":"SA!EE13-SA!DS13","v":-2000},{"$f":"SA!EF13-SA!DT13","v":-1600},{"$f":"SA!EG13-SA!DU13","v":400},{"$f":"SA!EH13-SA!DV13","v":600},{"$f":"SA!EI13-SA!DW13","v":1100},{"$f":"SA!EJ13-SA!DX13","v":1200},{"$f":"SA!EK13-SA!DY13","v":3100},{"$f":"SA!EL13-SA!DZ13","v":1000},{"$f":"SA!EM13-SA!EA13","v":900},{"$f":"SA!EN13-SA!EB13","v":2700},{"$f":"SA!EO13-SA!EC13","v":3500},{"$f":"SA!EP13-SA!ED13","v":5200},{"$f":"SA!EQ13-SA!EE13","v":2100.0000000000582},{"$f":"SA!ER13-SA!EF13","v":3800},{"$f":"SA!ES13-SA!EG13","v":3399.9999999999418},{"$f":"SA!ET13-SA!EH13","v":3700.0000000000582},{"$f":"SA!EU13-SA!EI13","v":3200.0000000000582},{"$f":"SA!EV13-SA!EJ13","v":2899.9999999999418},{"$f":"SA!EW13-SA!EK13","v":400},{"$f":"SA!EX13-SA!EL13","v":2300},{"$f":"SA!EY13-SA!EM13","v":3000},{"$f":"SA!EZ13-SA!EN13","v":-500},{"$f":"SA!FA13-SA!EO13","v":-500},{"$f":"SA!FB13-SA!EP13","v":-500},{"$f":"SA!FC13-SA!EQ13","v":799.99999999994179},{"$f":"SA!FD13-SA!ER13","v":1700.0000000000582},{"$f":"SA!FE13-SA!ES13","v":1800.0000000000582},{"$f":"SA!FF13-SA!ET13","v":2099.9999999998836},{"$f":"SA!FG13-SA!EU13","v":3799.9999999999418},{"$f":"SA!FH13-SA!EV13","v":3500},{"$f":"SA!FI13-SA!EW13","v":5100},{"$f":"SA!FJ13-SA!EX13","v":5900.0000000000582},{"$f":"SA!FK13-SA!EY13","v":5900},{"$f":"SA!FL13-SA!EZ13","v":7100},{"$f":"SA!FM13-SA!FA13","v":7500},{"$f":"SA!FN13-SA!FB13","v":6300.0000000000582},{"$f":"SA!FO13-SA!FC13","v":5799.9999999999418},{"$f":"SA!FP13-SA!FD13","v":4399.9999999999418},{"$f":"SA!FQ13-SA!FE13","v":6400},{"$f":"SA!FR13-SA!FF13","v":6300.0000000000582},{"$f":"SA!FS13-SA!FG13","v":6100},{"$f":"SA!FT13-SA!FH13","v":7500},{"$f":"SA!FU13-SA!FI13","v":8800},{"$f":"SA!FV13-SA!FJ13","v":7299.9999999999418},{"$f":"SA!FW13-SA!FK13","v":7300},{"$f":"SA!FX13-SA!FL13","v":7400},{"$f":"SA!FY13-SA!FM13","v":6500},{"$f":"SA!FZ13-SA!FN13","v":6599.9999999999418},{"$f":"SA!GA13-SA!FO13","v":5900.0000000000582},{"$f":"SA!GB13-SA!FP13","v":8200},{"$f":"SA!GC13-SA!FQ13","v":5800},{"$f":"SA!GD13-SA!FR13","v":6000},{"$f":"SA!GE13-SA!FS13","v":4900},{"$f":"SA!GF13-SA!FT13","v":5300.0000000000582},{"$f":"SA!GG13-SA!FU13","v":2500},{"$f":"SA!GH13-SA!FV13","v":5000},{"$f":"SA!GI13-SA!FW13","v":5700},{"$f":"SA!GJ13-SA!FX13","v":8400},{"$f":"SA!GK13-SA!FY13","v":9600},{"$f":"SA!GL13-SA!FZ13","v":10500},{"$f":"SA!GM13-SA!GA13","v":11100},{"$f":"SA!GN13-SA!GB13","v":8600},{"$f":"SA!GO13-SA!GC13","v":7600},{"$f":"SA!GP13-SA!GD13","v":11100},{"$f":"SA!GQ13-SA!GE13","v":12700},{"$f":"SA!GR13-SA!GF13","v":11200},{"$f":"SA!GS13-SA!GG13","v":13200},{"$f":"SA!GT13-SA!GH13","v":10400},{"$f":"SA!GU13-SA!GI13","v":9400},{"$f":"SA!GV13-SA!GJ13","v":8200},{"$f":"SA!GW13-SA!GK13","v":6900},{"$f":"SA!GX13-SA!GL13","v":6100},{"$f":"SA!GY13-SA!GM13","v":2400},{"$f":"SA!GZ13-SA!GN13","v":2500},{"$f":"SA!HA13-SA!GO13","v":1900},{"$f":"SA!HB13-SA!GP13","v":3600},{"$f":"SA!HC13-SA!GQ13","v":4500},{"$f":"SA!HD13-SA!GR13","v":3900},{"$f":"SA!HE13-SA!GS13","v":2200},{"$f":"SA!HF13-SA!GT13","v":4000},{"$f":"SA!HG13-SA!GU13","v":4300},{"$f":"SA!HH13-SA!GV13","v":0},{"$f":"SA!HI13-SA!GW13","v":-500},{"$f":"SA!HJ13-SA!GX13","v":4700},{"$f":"SA!HK13-SA!GY13","v":-538200},{"$f":"SA!HL13-SA!GZ13","v":-537900},{"$f":"SA!HM13-SA!HA13","v":-535800},14279,0,null,"Trade, Transportation, and Utilities",-26200,-8350,-200,2099.9999999999127,3474.9999999999854,5100,7149.9999999999854,13200,9089.4812007742439]
["  Wholesale Trade",{"$f":"SA!BN14-SA!BB14","v":2800},{"$f":"SA!BO14-SA!BC14","v":2900},{"$f":"SA!BP14-SA!BD14","v":2500},{"$f":"SA!BQ14-SA!BE14","v":4000},{"$f":"SA!BR14-SA!BF14","v":4200},{"$f":"SA!BS14-SA!BG14","v":4000},{"$f":"SA!BT14-SA!BH14","v":3300},{"$f":"SA!BU14-SA!BI14","v":2600},{"$f":"SA!BV14-SA!BJ14","v":3500},{"$f":"SA!BW14-SA!BK14","v":3200},{"$f":"SA!BX14-SA!BL14","v":3100},{"$f":"SA!BY14-SA!BM14","v":3300},{"$f":"SA!BZ14-SA!BN14","v":3500},{"$f":"SA!CA14-SA!BO14","v":3600},{"$f":"SA!CB14-SA!BP14","v":4000},{"$f":"SA!CC14-SA!BQ14","v":3000},{"$f":"SA!CD14-SA!BR14","v":2700},{"$f":"SA!CE14-SA!BS14","v":3200},{"$f":"SA!CF14-SA!BT14","v":3000},{"$f":"SA!CG14-SA!BU14","v":2900},{"$f":"SA!CH14-SA!BV14","v":2800},{"$f":"SA!CI14-SA!BW14","v":2500},{"$f":"SA!CJ14-SA!BX14","v":2200},{"$f":"SA!CK14-SA!BY14","v":2000},{"$f":"SA!CL14-SA!BZ14","v":1600},{"$f":"SA!CM14-SA!CA14","v":1600},{"$f":"SA!CN14-SA!CB14","v":1300},{"$f":"SA!CO14-SA!CC14","v":1300},{"$f":"SA!CP14-SA!CD14","v":1500},{"$f":"SA!CQ14-SA!CE14","v":1400},{"$f":"SA!CR14-SA!CF14","v":1400},{"$f":"SA!CS14-SA!CG14","v":1100},{"$f":"SA!CT14-SA!CH14","v":900},{"$f":"SA!CU14-SA!CI14","v":900},{"$f":"SA!CV14-SA!CJ14","v":1100},{"$f":"SA!CW14-SA!CK14","v":1000},{"$f":"SA!CX14-SA!CL14","v":1100},{"$f":"SA!CY14-SA!CM14","v":700},{"$f":"SA!CZ14-SA!CN14","v":900},{"$f":"SA!DA14-SA!CO14","v":800},{"$f":"SA!DB14-SA!CP14","v":700},{"$f":"SA!DC14-SA!CQ14","v":200},{"$f":"SA!DD14-SA!CR14","v":-100},{"$f":"SA!DE14-SA!CS14","v":100},{"$f":"SA!DF14-SA!CT14","v":-700},{"$f":"SA!DG14-SA!CU14","v":-1500},{"$f":"SA!DH14-SA!CV14","v":-1900},{"$f":"SA!DI14-SA!CW14","v":-2800},{"$f":"SA!DJ14-SA!CX14","v":-3300},{"$f":"SA!DK14-SA!CY14","v":-3900},{"$f":"SA!DL14-SA!CZ14","v":-4800},{"$f":"SA!DM14-SA!DA14","v":-6700},{"$f":"SA!DN14-SA!DB14","v":-6800},{"$f":"SA!DO14-SA!DC14","v":-7300},{"$f":"SA!DP14-SA!DD14","v":-7900},{"$f":"SA!DQ14-SA!DE14","v":-8400},{"$f":"SA!DR14-SA!DF14","v":-8000},{"$f":"SA!DS14-SA!DG14","v":-7100},{"$f":"SA!DT14-SA!DH14","v":-7400},{"$f":"SA!DU14-SA!DI14","v":-6900},{"$f":"SA!DV14-SA!DJ14","v":-6900},{"$f":"SA!DW14-SA!DK14","v":-6400},{"$f":"SA!DX14-SA!DL14","v":-5600},{"$f":"SA!DY14-SA!DM14","v":-3500},{"$f":"SA!DZ14-SA!DN14","v":-3600},{"$f":"SA!EA14-SA!DO14","v":-3200},{"$f":"SA!EB14-SA!DP14","v":-1700},{"$f":"SA!EC14-SA!DQ14","v":-900},{"$f":"SA!ED14-SA!DR14","v":-1100},{"$f":"SA!EE14-SA!DS14","v":-300},{"$f":"SA!EF14-SA!DT14","v":200},{"$f":"SA!EG14-SA!DU14","v":600},{"$f":"SA!EH14-SA!DV14","v":1100},{"$f":"SA!EI14-SA!DW14","v":1500},{"$f":"SA!EJ14-SA!DX14","v":1600},{"$f":"SA!EK14-SA!DY14","v":1800},{"$f":"SA!EL14-SA!DZ14","v":2000},{"$f":"SA!EM14-SA!EA14","v":2200},{"$f":"SA!EN14-SA!EB14","v":2600},{"$f":"SA!EO14-SA!EC14","v":2400},{"$f":"SA!EP14-SA!ED14","v":3200},{"$f":"SA!EQ14-SA!EE14","v":2500},{"$f":"SA!ER14-SA!EF14","v":2600},{"$f":"SA!ES14-SA!EG14","v":2700},{"$f":"SA!ET14-SA!EH14","v":2900},{"$f":"SA!EU14-SA!EI14","v":2800},{"$f":"SA!EV14-SA!EJ14","v":3200},{"$f":"SA!EW14-SA!EK14","v":2800},{"$f":"SA!EX14-SA!EL14","v":2400},{"$f":"SA!EY14-SA!EM14","v":2600},{"$f":"SA!EZ14-SA!EN14","v":1200},{"$f":"SA!FA14-SA!EO14","v":1100},{"$f":"SA!FB14-SA!EP14","v":1100},{"$f":"SA!FC14-SA!EQ14","v":1000},{"$f":"SA!FD14-SA!ER14","v":1100},{"$f":"SA!FE14-SA!ES14","v":1100},{"$f":"SA!FF14-SA!ET14","v":2200},{"$f":"SA!FG14-SA!EU14","v":2200},{"$f":"SA!FH14-SA!EV14","v":1600},{"$f":"SA!FI14-SA!EW14","v":1600},{"$f":"SA!FJ14-SA!EX14","v":2100},{"$f":"SA!FK14-SA!EY14","v":1900},{"$f":"SA!FL14-SA!EZ14","v":2200},{"$f":"SA!FM14-SA!FA14","v":2400},{"$f":"SA!FN14-SA!FB14","v":2200},{"$f":"SA!FO14-SA!FC14","v":2100},{"$f":"SA!FP14-SA!FD14","v":2000},{"$f":"SA!FQ14-SA!FE14","v":1900},{"$f":"SA!FR14-SA!FF14","v":500},{"$f":"SA!FS14-SA!FG14","v":600},{"$f":"SA!FT14-SA!FH14","v":1200},{"$f":"SA!FU14-SA!FI14","v":1200},{"$f":"SA!FV14-SA!FJ14","v":1000},{"$f":"SA!FW14-SA!FK14","v":1300},{"$f":"SA!FX14-SA!FL14","v":1400},{"$f":"SA!FY14-SA!FM14","v":1600},{"$f":"SA!FZ14-SA!FN14","v":1400},{"$f":"SA!GA14-SA!FO14","v":1200},{"$f":"SA!GB14-SA!FP14","v":1300},{"$f":"SA!GC14-SA!FQ14","v":1400},{"$f":"SA!GD14-SA!FR14","v":2000},{"$f":"SA!GE14-SA!FS14","v":1700},{"$f":"SA!GF14-SA!FT14","v":1400},{"$f":"SA!GG14-SA!FU14","v":1700},{"$f":"SA!GH14-SA!FV14","v":2300},{"$f":"SA!GI14-SA!FW14","v":2200},{"$f":"SA!GJ14-SA!FX14","v":2400},{"$f":"SA!GK14-SA!FY14","v":2200},{"$f":"SA!GL14-SA!FZ14","v":2200},{"$f":"SA!GM14-SA!GA14","v":3000},{"$f":"SA!GN14-SA!GB14","v":3000},{"$f":"SA!GO14-SA!GC14","v":2900},{"$f":"SA!GP14-SA!GD14","v":2500},{"$f":"SA!GQ14-SA!GE14","v":2700},{"$f":"SA!GR14-SA!GF14","v":2600},{"$f":"SA!GS14-SA!GG14","v":2300},{"$f":"SA!GT14-SA!GH14","v":1600},{"$f":"SA!GU14-SA!GI14","v":1300},{"$f":"SA!GV14-SA!GJ14","v":1600},{"$f":"SA!GW14-SA!GK14","v":1500},{"$f":"SA!GX14-SA!GL14","v":1900},{"$f":"SA!GY14-SA!GM14","v":1100},{"$f":"SA!GZ14-SA!GN14","v":700},{"$f":"SA!HA14-SA!GO14","v":0},{"$f":"SA!HB14-SA!GP14","v":1600},{"$f":"SA!HC14-SA!GQ14","v":1800},{"$f":"SA!HD14-SA!GR14","v":3500},{"$f":"SA!HE14-SA!GS14","v":4900},{"$f":"SA!HF14-SA!GT14","v":4400},{"$f":"SA!HG14-SA!GU14","v":4600},{"$f":"SA!HH14-SA!GV14","v":1800},{"$f":"SA!HI14-SA!GW14","v":2800},{"$f":"SA!HJ14-SA!GX14","v":4500},{"$f":"SA!HK14-SA!GY14","v":-124200},{"$f":"SA!HL14-SA!GZ14","v":-124000},{"$f":"SA!HM14-SA!HA14","v":-123400},5006,0,null,"  Wholesale Trade",-8400,-1550,1000,1400,1675,2300,2900,4200,2866.8657573791857]
["  Retail Trade",{"$f":"SA!BN15-SA!BB15","v":-2600},{"$f":"SA!BO15-SA!BC15","v":-1300},{"$f":"SA!BP15-SA!BD15","v":-700},{"$f":"SA!BQ15-SA!BE15","v":-300},{"$f":"SA!BR15-SA!BF15","v":-1800},{"$f":"SA!BS15-SA!BG15","v":-4100},{"$f":"SA!BT15-SA!BH15","v":-2600},{"$f":"SA!BU15-SA!BI15","v":-1000},{"$f":"SA!BV15-SA!BJ15","v":-1000},{"$f":"SA!BW15-SA!BK15","v":3200},{"$f":"SA!BX15-SA!BL15","v":2500},{"$f":"SA!BY15-SA!BM15","v":3300},{"$f":"SA!BZ15-SA!BN15","v":-1400},{"$f":"SA!CA15-SA!BO15","v":-1700},{"$f":"SA!CB15-SA!BP15","v":-2000},{"$f":"SA!CC15-SA!BQ15","v":-2500},{"$f":"SA!CD15-SA!BR15","v":-2800},{"$f":"SA!CE15-SA!BS15","v":-1100},{"$f":"SA!CF15-SA!BT15","v":-3500},{"$f":"SA!CG15-SA!BU15","v":-4000},{"$f":"SA!CH15-SA!BV15","v":-3900},{"$f":"SA!CI15-SA!BW15","v":-6400},{"$f":"SA!CJ15-SA!BX15","v":-3900},{"$f":"SA!CK15-SA!BY15","v":-3800},{"$f":"SA!CL15-SA!BZ15","v":2900},{"$f":"SA!CM15-SA!CA15","v":1900},{"$f":"SA!CN15-SA!CB15","v":2200},{"$f":"SA!CO15-SA!CC15","v":0},{"$f":"SA!CP15-SA!CD15","v":2400},{"$f":"SA!CQ15-SA!CE15","v":1700},{"$f":"SA!CR15-SA!CF15","v":2900},{"$f":"SA!CS15-SA!CG15","v":600},{"$f":"SA!CT15-SA!CH15","v":600},{"$f":"SA!CU15-SA!CI15","v":-600},{"$f":"SA!CV15-SA!CJ15","v":-2600},{"$f":"SA!CW15-SA!CK15","v":-3200},{"$f":"SA!CX15-SA!CL15","v":-3000},{"$f":"SA!CY15-SA!CM15","v":-3400},{"$f":"SA!CZ15-SA!CN15","v":-3900},{"$f":"SA!DA15-SA!CO15","v":-2000},{"$f":"SA!DB15-SA!CP15","v":-4700},{"$f":"SA!DC15-SA!CQ15","v":-4800},{"$f":"SA!DD15-SA!CR15","v":-4800},{"$f":"SA!DE15-SA!CS15","v":-3400},{"$f":"SA!DF15-SA!CT15","v":-4300},{"$f":"SA!DG15-SA!CU15","v":-5000},{"$f":"SA!DH15-SA!CV15","v":-6900},{"$f":"SA!DI15-SA!CW15","v":-7500},{"$f":"SA!DJ15-SA!CX15","v":-10900},{"$f":"SA!DK15-SA!CY15","v":-11000},{"$f":"SA!DL15-SA!CZ15","v":-12700},{"$f":"SA!DM15-SA!DA15","v":-14200},{"$f":"SA!DN15-SA!DB15","v":-12600},{"$f":"SA!DO15-SA!DC15","v":-12100},{"$f":"SA!DP15-SA!DD15","v":-13300},{"$f":"SA!DQ15-SA!DE15","v":-13500},{"$f":"SA!DR15-SA!DF15","v":-13200},{"$f":"SA!DS15-SA!DG15","v":-12300},{"$f":"SA!DT15-SA!DH15","v":-10900},{"$f":"SA!DU15-SA!DI15","v":-11200},{"$f":"SA!DV15-SA!DJ15","v":-8900},{"$f":"SA!DW15-SA!DK15","v":-8500},{"$f":"SA!DX15-SA!DL15","v":-6200},{"$f":"SA!DY15-SA!DM15","v":-5400},{"$f":"SA!DZ15-SA!DN15","v":-5300},{"$f":"SA!EA15-SA!DO15","v":-5300},{"$f":"SA!EB15-SA!DP15","v":-4400},{"$f":"SA!EC15-SA!DQ15","v":-3700},{"$f":"SA!ED15-SA!DR15","v":-2700},{"$f":"SA!EE15-SA!DS15","v":-500},{"$f":"SA!EF15-SA!DT15","v":-800},{"$f":"SA!EG15-SA!DU15","v":400},{"$f":"SA!EH15-SA!DV15","v":200},{"$f":"SA!EI15-SA!DW15","v":800},{"$f":"SA!EJ15-SA!DX15","v":800},{"$f":"SA!EK15-SA!DY15","v":2900},{"$f":"SA!EL15-SA!DZ15","v":500},{"$f":"SA!EM15-SA!EA15","v":500},{"$f":"SA!EN15-SA!EB15","v":1700},{"$f":"SA!EO15-SA!EC15","v":2100},{"$f":"SA!EP15-SA!ED15","v":2700},{"$f":"SA!EQ15-SA!EE15","v":800},{"$f":"SA!ER15-SA!EF15","v":2100},{"$f":"SA!ES15-SA!EG15","v":1700},{"$f":"SA!ET15-SA!EH15","v":1800},{"$f":"SA!EU15-SA!EI15","v":1200},{"$f":"SA!EV15-SA!EJ15","v":700},{"$f":"SA!EW15-SA!EK15","v":-1200},{"$f":"SA!EX15-SA!EL15","v":200},{"$f":"SA!EY15-SA!EM15","v":500},{"$f":"SA!EZ15-SA!EN15","v":-1500},{"$f":"SA!FA15-SA!EO15","v":-1100},{"$f":"SA!FB15-SA!EP15","v":-1300},{"$f":"SA!FC15-SA!EQ15","v":0},{"$f":"SA!FD15-SA!ER15","v":1000},{"$f":"SA!FE15-SA!ES15","v":900},{"$f":"SA!FF15-SA!ET15","v":100},{"$f":"SA!FG15-SA!EU15","v":1600},{"$f":"SA!FH15-SA!EV15","v":1400},{"$f":"SA!FI15-SA!EW15","v":2900},{"$f":"SA!FJ15-SA!EX15","v":4000},{"$f":"SA!FK15-SA!EY15","v":4800},{"$f":"SA!FL15-SA!EZ15","v":5600},{"$f":"SA!FM15-SA!FA15","v":5200},{"$f":"SA!FN15-SA!FB15","v":4800},{"$f":"SA!FO15-SA!FC15","v":4100},{"$f":"SA!FP15-SA!FD15","v":2500},{"$f":"SA!FQ15-SA!FE15","v":4800},{"$f":"SA!FR15-SA!FF15","v":5600},{"$f":"SA!FS15-SA!FG15","v":5000},{"$f":"SA!FT15-SA!FH15","v":6000},{"$f":"SA!FU15-SA!FI15","v":6400},{"$f":"SA!FV15-SA!FJ15","v":5200},{"$f":"SA!FW15-SA!FK15","v":4400},{"$f":"SA!FX15-SA!FL15","v":4600},{"$f":"SA!FY15-SA!FM15","v":3800},{"$f":"SA!FZ15-SA!FN15","v":3600},{"$f":"SA!GA15-SA!FO15","v":3100},{"$f":"SA!GB15-SA!FP15","v":4500},{"$f":"SA!GC15-SA!FQ15","v":1700},{"$f":"SA!GD15-SA!FR15","v":2000},{"$f":"SA!GE15-SA!FS15","v":1600},{"$f":"SA!GF15-SA!FT15","v":1900},{"$f":"SA!GG15-SA!FU15","v":-400},{"$f":"SA!GH15-SA!FV15","v":900},{"$f":"SA!GI15-SA!FW15","v":1100},{"$f":"SA!GJ15-SA!FX15","v":1700},{"$f":"SA!GK15-SA!FY15","v":2700},{"$f":"SA!GL15-SA!FZ15","v":3600},{"$f":"SA!GM15-SA!GA15","v":3500},{"$f":"SA!GN15-SA!GB15","v":1800},{"$f":"SA!GO15-SA!GC15","v":700},{"$f":"SA!GP15-SA!GD15","v":4600},{"$f":"SA!GQ15-SA!GE15","v":5800},{"$f":"SA!GR15-SA!GF15","v":5000},{"$f":"SA!GS15-SA!GG15","v":7000},{"$f":"SA!GT15-SA!GH15","v":5200},{"$f":"SA!GU15-SA!GI15","v":4900},{"$f":"SA!GV15-SA!GJ15","v":5000},{"$f":"SA!GW15-SA!GK15","v":4200},{"$f":"SA!GX15-SA!GL15","v":3300},{"$f":"SA!GY15-SA!GM15","v":500},{"$f":"SA!GZ15-SA!GN15","v":1000},{"$f":"SA!HA15-SA!GO15","v":1200},{"$f":"SA!HB15-SA!GP15","v":1600},{"$f":"SA!HC15-SA!GQ15","v":2500},{"$f":"SA!HD15-SA!GR15","v":600},{"$f":"SA!HE15-SA!GS15","v":-2600},{"$f":"SA!HF15-SA!GT15","v":-400},{"$f":"SA!HG15-SA!GU15","v":300},{"$f":"SA!HH15-SA!GV15","v":-1900},{"$f":"SA!HI15-SA!GW15","v":-2800},{"$f":"SA!HJ15-SA!GX15","v":-2200},{"$f":"SA!HK15-SA!GY15","v":-306900},{"$f":"SA!HL15-SA!GZ15","v":-306700},{"$f":"SA!HM15-SA!HA15","v":-304900},9684,0,null,"  Retail Trade",-14200,-5075,-2600,0,800,2050,4125,7000,4840.438384072253]
["  Transportation, Warehousing, and Utilities",{"$f":"SA!BN16-SA!BB16","v":2400},{"$f":"SA!BO16-SA!BC16","v":2300},{"$f":"SA!BP16-SA!BD16","v":2500},{"$f":"SA!BQ16-SA!BE16","v":2500},{"$f":"SA!BR16-SA!BF16","v":1700},{"$f":"SA!BS16-SA!BG16","v":1300},{"$f":"SA!BT16-SA!BH16","v":1200},{"$f":"SA!BU16-SA!BI16","v":1500},{"$f":"SA!BV16-SA!BJ16","v":1700},{"$f":"SA!BW16-SA!BK16","v":0},{"$f":"SA!BX16-SA!BL16","v":500},{"$f":"SA!BY16-SA!BM16","v":1100},{"$f":"SA!BZ16-SA!BN16","v":1700},{"$f":"SA!CA16-SA!BO16","v":1900},{"$f":"SA!CB16-SA!BP16","v":1600},{"$f":"SA!CC16-SA!BQ16","v":1300},{"$f":"SA!CD16-SA!BR16","v":1500},{"$f":"SA!CE16-SA!BS16","v":1900},{"$f":"SA!CF16-SA!BT16","v":1100},{"$f":"SA!CG16-SA!BU16","v":1100},{"$f":"SA!CH16-SA!BV16","v":1400},{"$f":"SA!CI16-SA!BW16","v":1800},{"$f":"SA!CJ16-SA!BX16","v":1100},{"$f":"SA!CK16-SA!BY16","v":1400},{"$f":"SA!CL16-SA!BZ16","v":600},{"$f":"SA!CM16-SA!CA16","v":500},{"$f":"SA!CN16-SA!CB16","v":300},{"$f":"SA!CO16-SA!CC16","v":100},{"$f":"SA!CP16-SA!CD16","v":600},{"$f":"SA!CQ16-SA!CE16","v":1000},{"$f":"SA!CR16-SA!CF16","v":0},{"$f":"SA!CS16-SA!CG16","v":400},{"$f":"SA!CT16-SA!CH16","v":0},{"$f":"SA!CU16-SA!CI16","v":400},{"$f":"SA!CV16-SA!CJ16","v":800},{"$f":"SA!CW16-SA!CK16","v":100},{"$f":"SA!CX16-SA!CL16","v":500},{"$f":"SA!CY16-SA!CM16","v":100},{"$f":"SA!CZ16-SA!CN16","v":-200},{"$f":"SA!DA16-SA!CO16","v":-400},{"$f":"SA!DB16-SA!CP16","v":-1300},{"$f":"SA!DC16-SA!CQ16","v":-2600},{"$f":"SA!DD16-SA!CR16","v":-1400},{"$f":"SA!DE16-SA!CS16","v":-2300},{"$f":"SA!DF16-SA!CT16","v":-2900},{"$f":"SA!DG16-SA!CU16","v":-3200},{"$f":"SA!DH16-SA!CV16","v":-3800},{"$f":"SA!DI16-SA!CW16","v":-4200},{"$f":"SA!DJ16-SA!CX16","v":-5300},{"$f":"SA!DK16-SA!CY16","v":-5500},{"$f":"SA!DL16-SA!CZ16","v":-5800},{"$f":"SA!DM16-SA!DA16","v":-5300},{"$f":"SA!DN16-SA!DB16","v":-4300},{"$f":"SA!DO16-SA!DC16","v":-3600},{"$f":"SA!DP16-SA!DD16","v":-4400},{"$f":"SA!DQ16-SA!DE16","v":-4000},{"$f":"SA!DR16-SA!DF16","v":-3700},{"$f":"SA!DS16-SA!DG16","v":-4100},{"$f":"SA!DT16-SA!DH16","v":-4300},{"$f":"SA!DU16-SA!DI16","v":-4200},{"$f":"SA!DV16-SA!DJ16","v":-3300},{"$f":"SA!DW16-SA!DK16","v":-2600},{"$f":"SA!DX16-SA!DL16","v":-2000},{"$f":"SA!DY16-SA!DM16","v":-1800},{"$f":"SA!DZ16-SA!DN16","v":-2700},{"$f":"SA!EA16-SA!DO16","v":-2600},{"$f":"SA!EB16-SA!DP16","v":-1600},{"$f":"SA!EC16-SA!DQ16","v":-2300},{"$f":"SA!ED16-SA!DR16","v":-2100},{"$f":"SA!EE16-SA!DS16","v":-1200},{"$f":"SA!EF16-SA!DT16","v":-1000},{"$f":"SA!EG16-SA!DU16","v":-600},{"$f":"SA!EH16-SA!DV16","v":-700},{"$f":"SA!EI16-SA!DW16","v":-1200},{"$f":"SA!EJ16-SA!DX16","v":-1200},{"$f":"SA!EK16-SA!DY16","v":-1600},{"$f":"SA!EL16-SA!DZ16","v":-1500},{"$f":"SA!EM16-SA!EA16","v":-1800},{"$f":"SA!EN16-SA!EB16","v":-1600},{"$f":"SA!EO16-SA!EC16","v":-1000},{"$f":"SA!EP16-SA!ED16","v":-700},{"$f":"SA!EQ16-SA!EE16","v":-1200},{"$f":"SA!ER16-SA!EF16","v":-900},{"$f":"SA!ES16-SA!EG16","v":-1000},{"$f":"SA!ET16-SA!EH16","v":-1000},{"$f":"SA!EU16-SA!EI16","v":-800},{"$f":"SA!EV16-SA!EJ16","v":-1000},{"$f":"SA!EW16-SA!EK16","v":-1200},{"$f":"SA!EX16-SA!EL16","v":-300},{"$f":"SA!EY16-SA!EM16","v":-100},{"$f":"SA!EZ16-SA!EN16","v":-200},{"$f":"SA!FA16-SA!EO16","v":-500},{"$f":"SA!FB16-SA!EP16","v":-300},{"$f":"SA!FC16-SA!EQ16","v":-200},{"$f":"SA!FD16-SA!ER16","v":-400},{"$f":"SA!FE16-SA!ES16","v":-200},{"$f":"SA!FF16-SA!ET16","v":-200},{"$f":"SA!FG16-SA!EU16","v":0},{"$f":"SA!FH16-SA!EV16","v":500},{"$f":"SA!FI16-SA!EW16","v":600},{"$f":"SA!FJ16-SA!EX16","v":-200},{"$f":"SA!FK16-SA!EY16","v":-800},{"$f":"SA!FL16-SA!EZ16","v":-700},{"$f":"SA!FM16-SA!FA16","v":-100},{"$f":"SA!FN16-SA!FB16","v":-700},{"$f":"SA!FO16-SA!FC16","v":-400},{"$f":"SA!FP16-SA!FD16","v":-100},{"$f":"SA!FQ16-SA!FE16","v":-300},{"$f":"SA!FR16-SA!FF16","v":200},{"$f":"SA!FS16-SA!FG16","v":500},{"$f":"SA!FT16-SA!FH16","v":300},{"$f":"SA!FU16-SA!FI16","v":1200},{"$f":"SA!FV16-SA!FJ16","v":1100},{"$f":"SA!FW16-SA!FK16","v":1600},{"$f":"SA!FX16-SA!FL16","v":1400},{"$f":"SA!FY16-SA!FM16","v":1100},{"$f":"SA!FZ16-SA!FN16","v":1600},{"$f":"SA!GA16-SA!FO16","v":1600},{"$f":"SA!GB16-SA!FP16","v":2400},{"$f":"SA!GC16-SA!FQ16","v":2700},{"$f":"SA!GD16-SA!FR16","v":2000},{"$f":"SA!GE16-SA!FS16","v":1600},{"$f":"SA!GF16-SA!FT16","v":2000},{"$f":"SA!GG16-SA!FU16","v":1200},{"$f":"SA!GH16-SA!FV16","v":1800},{"$f":"SA!GI16-SA!FW16","v":2400},{"$f":"SA!GJ16-SA!FX16","v":4300},{"$f":"SA!GK16-SA!FY16","v":4700},{"$f":"SA!GL16-SA!FZ16","v":4700},{"$f":"SA!GM16-SA!GA16","v":4600},{"$f":"SA!GN16-SA!GB16","v":3800},{"$f":"SA!GO16-SA!GC16","v":4000},{"$f":"SA!GP16-SA!GD16","v":4000},{"$f":"SA!GQ16-SA!GE16","v":4200},{"$f":"SA!GR16-SA!GF16","v":3600},{"$f":"SA!GS16-SA!GG16","v":3900},{"$f":"SA!GT16-SA!GH16","v":3600},{"$f":"SA!GU16-SA!GI16","v":3200},{"$f":"SA!GV16-SA!GJ16","v":1600},{"$f":"SA!GW16-SA!GK16","v":1200},{"$f":"SA!GX16-SA!GL16","v":900},{"$f":"SA!GY16-SA!GM16","v":800},{"$f":"SA!GZ16-SA!GN16","v":800},{"$f":"SA!HA16-SA!GO16","v":700},{"$f":"SA!HB16-SA!GP16","v":400},{"$f":"SA!HC16-SA!GQ16","v":200},{"$f":"SA!HD16-SA!GR16","v":-200},{"$f":"SA!HE16-SA!GS16","v":-100},{"$f":"SA!HF16-SA!GT16","v":0},{"$f":"SA!HG16-SA!GU16","v":-600},{"$f":"SA!HH16-SA!GV16","v":100},{"$f":"SA!HI16-SA!GW16","v":-500},{"$f":"SA!HJ16-SA!GX16","v":2400},{"$f":"SA!HK16-SA!GY16","v":-107100},{"$f":"SA!HL16-SA!GZ16","v":-107200},{"$f":"SA!HM16-SA!HA16","v":-107500},9222,0,null,"  Transportation, Warehousing, and Utilities",-5800,-2375,-950,-100,475,1200,1925,4700,2237.4633592420273]
["Information",{"$f":"SA!BN17-SA!BB17","v":-700},{"$f":"SA!BO17-SA!BC17","v":-400},{"$f":"SA!BP17-SA!BD17","v":-600},{"$f":"SA!BQ17-SA!BE17","v":0},{"$f":"SA!BR17-SA!BF17","v":100},{"$f":"SA!BS17-SA!BG17","v":300},{"$f":"SA!BT17-SA!BH17","v":-400},{"$f":"SA!BU17-SA!BI17","v":-300},{"$f":"SA!BV17-SA!BJ17","v":-100},{"$f":"SA!BW17-SA!BK17","v":-100},{"$f":"SA!BX17-SA!BL17","v":0},{"$f":"SA!BY17-SA!BM17","v":100},{"$f":"SA!BZ17-SA!BN17","v":0},{"$f":"SA!CA17-SA!BO17","v":-100},{"$f":"SA!CB17-SA!BP17","v":-100},{"$f":"SA!CC17-SA!BQ17","v":-800},{"$f":"SA!CD17-SA!BR17","v":-800},{"$f":"SA!CE17-SA!BS17","v":-1000},{"$f":"SA!CF17-SA!BT17","v":-600},{"$f":"SA!CG17-SA!BU17","v":-600},{"$f":"SA!CH17-SA!BV17","v":-700},{"$f":"SA!CI17-SA!BW17","v":-300},{"$f":"SA!CJ17-SA!BX17","v":-200},{"$f":"SA!CK17-SA!BY17","v":-100},{"$f":"SA!CL17-SA!BZ17","v":200},{"$f":"SA!CM17-SA!CA17","v":200},{"$f":"SA!CN17-SA!CB17","v":300},{"$f":"SA!CO17-SA!CC17","v":800},{"$f":"SA!CP17-SA!CD17","v":1000},{"$f":"SA!CQ17-SA!CE17","v":1300},{"$f":"SA!CR17-SA!CF17","v":1400},{"$f":"SA!CS17-SA!CG17","v":1400},{"$f":"SA!CT17-SA!CH17","v":1400},{"$f":"SA!CU17-SA!CI17","v":1200},{"$f":"SA!CV17-SA!CJ17","v":1000},{"$f":"SA!CW17-SA!CK17","v":900},{"$f":"SA!CX17-SA!CL17","v":500},{"$f":"SA!CY17-SA!CM17","v":500},{"$f":"SA!CZ17-SA!CN17","v":500},{"$f":"SA!DA17-SA!CO17","v":500},{"$f":"SA!DB17-SA!CP17","v":1100},{"$f":"SA!DC17-SA!CQ17","v":400},{"$f":"SA!DD17-SA!CR17","v":-200},{"$f":"SA!DE17-SA!CS17","v":-400},{"$f":"SA!DF17-SA!CT17","v":-600},{"$f":"SA!DG17-SA!CU17","v":-800},{"$f":"SA!DH17-SA!CV17","v":-1000},{"$f":"SA!DI17-SA!CW17","v":-1100},{"$f":"SA!DJ17-SA!CX17","v":-1100},{"$f":"SA!DK17-SA!CY17","v":-1000},{"$f":"SA!DL17-SA!CZ17","v":-1500},{"$f":"SA!DM17-SA!DA17","v":-2200},{"$f":"SA!DN17-SA!DB17","v":-2800},{"$f":"SA!DO17-SA!DC17","v":-2500},{"$f":"SA!DP17-SA!DD17","v":-2500},{"$f":"SA!DQ17-SA!DE17","v":-2500},{"$f":"SA!DR17-SA!DF17","v":-2400},{"$f":"SA!DS17-SA!DG17","v":-2800},{"$f":"SA!DT17-SA!DH17","v":-2400},{"$f":"SA!DU17-SA!DI17","v":-2200},{"$f":"SA!DV17-SA!DJ17","v":-2400},{"$f":"SA!DW17-SA!DK17","v":-2800},{"$f":"SA!DX17-SA!DL17","v":-2200},{"$f":"SA!DY17-SA!DM17","v":-1900},{"$f":"SA!DZ17-SA!DN17","v":-1900},{"$f":"SA!EA17-SA!DO17","v":-1500},{"$f":"SA!EB17-SA!DP17","v":-1100},{"$f":"SA!EC17-SA!DQ17","v":-800},{"$f":"SA!ED17-SA!DR17","v":-700},{"$f":"SA!EE17-SA!DS17","v":-400},{"$f":"SA!EF17-SA!DT17","v":-100},{"$f":"SA!EG17-SA!DU17","v":-200},{"$f":"SA!EH17-SA!DV17","v":100},{"$f":"SA!EI17-SA!DW17","v":500},{"$f":"SA!EJ17-SA!DX17","v":300},{"$f":"SA!EK17-SA!DY17","v":700},{"$f":"SA!EL17-SA!DZ17","v":400},{"$f":"SA!EM17-SA!EA17","v":-200},{"$f":"SA!EN17-SA!EB17","v":100},{"$f":"SA!EO17-SA!EC17","v":-100},{"$f":"SA!EP17-SA!ED17","v":0},{"$f":"SA!EQ17-SA!EE17","v":200},{"$f":"SA!ER17-SA!EF17","v":-200},{"$f":"SA!ES17-SA!EG17","v":-300},{"$f":"SA!ET17-SA!EH17","v":-500},{"$f":"SA!EU17-SA!EI17","v":-600},{"$f":"SA!EV17-SA!EJ17","v":-600},{"$f":"SA!EW17-SA!EK17","v":-700},{"$f":"SA!EX17-SA!EL17","v":-600},{"$f":"SA!EY17-SA!EM17","v":100},{"$f":"SA!EZ17-SA!EN17","v":-400},{"$f":"SA!FA17-SA!EO17","v":-200},{"$f":"SA!FB17-SA!EP17","v":-200},{"$f":"SA!FC17-SA!EQ17","v":-100},{"$f":"SA!FD17-SA!ER17","v":0},{"$f":"SA!FE17-SA!ES17","v":-100},{"$f":"SA!FF17-SA!ET17","v":500},{"$f":"SA!FG17-SA!EU17","v":700},{"$f":"SA!FH17-SA!EV17","v":800},{"$f":"SA!FI17-SA!EW17","v":800},{"$f":"SA!FJ17-SA!EX17","v":900},{"$f":"SA!FK17-SA!EY17","v":700},{"$f":"SA!FL17-SA!EZ17","v":900},{"$f":"SA!FM17-SA!FA17","v":800},{"$f":"SA!FN17-SA!FB17","v":700},{"$f":"SA!FO17-SA!FC17","v":700},{"$f":"SA!FP17-SA!FD17","v":700},{"$f":"SA!FQ17-SA!FE17","v":1000},{"$f":"SA!FR17-SA!FF17","v":600},{"$f":"SA!FS17-SA!FG17","v":500},{"$f":"SA!FT17-SA!FH17","v":600},{"$f":"SA!FU17-SA!FI17","v":400},{"$f":"SA!FV17-SA!FJ17","v":400},{"$f":"SA!FW17-SA!FK17","v":500},{"$f":"SA!FX17-SA!FL17","v":700},{"$f":"SA!FY17-SA!FM17","v":800},{"$f":"SA!FZ17-SA!FN17","v":600},{"$f":"SA!GA17-SA!FO17","v":1000},{"$f":"SA!GB17-SA!FP17","v":900},{"$f":"SA!GC17-SA!FQ17","v":900},{"$f":"SA!GD17-SA!FR17","v":1100},{"$f":"SA!GE17-SA!FS17","v":800},{"$f":"SA!GF17-SA!FT17","v":700},{"$f":"SA!GG17-SA!FU17","v":1000},{"$f":"SA!GH17-SA!FV17","v":1100},{"$f":"SA!GI17-SA!FW17","v":800},{"$f":"SA!GJ17-SA!FX17","v":1000},{"$f":"SA!GK17-SA!FY17","v":1100},{"$f":"SA!GL17-SA!FZ17","v":1400},{"$f":"SA!GM17-SA!GA17","v":1100},{"$f":"SA!GN17-SA!GB17","v":1100},{"$f":"SA!GO17-SA!GC17","v":900},{"$f":"SA!GP17-SA!GD17","v":700},{"$f":"SA!GQ17-SA!GE17","v":1000},{"$f":"SA!GR17-SA!GF17","v":1100},{"$f":"SA!GS17-SA!GG17","v":1000},{"$f":"SA!GT17-SA!GH17","v":600},{"$f":"SA!GU17-SA!GI17","v":600},{"$f":"SA!GV17-SA!GJ17","v":100},{"$f":"SA!GW17-SA!GK17","v":-300},{"$f":"SA!GX17-SA!GL17","v":-500},{"$f":"SA!GY17-SA!GM17","v":-1300},{"$f":"SA!GZ17-SA!GN17","v":-1700},{"$f":"SA!HA17-SA!GO17","v":-1600},{"$f":"SA!HB17-SA!GP17","v":-1500},{"$f":"SA!HC17-SA!GQ17","v":-1200},{"$f":"SA!HD17-SA!GR17","v":-1600},{"$f":"SA!HE17-SA!GS17","v":-1700},{"$f":"SA!HF17-SA!GT17","v":-2300},{"$f":"SA!HG17-SA!GU17","v":-2400},{"$f":"SA!HH17-SA!GV17","v":-2700},{"$f":"SA!HI17-SA!GW17","v":-2900},{"$f":"SA!HJ17-SA!GX17","v":-2700},{"$f":"SA!HK17-SA!GY17","v":-48100},{"$f":"SA!HL17-SA!GZ17","v":-47700},{"$f":"SA!HM17-SA!HA17","v":-47700},2744,0,null,"Information",-2800,-1100,-400,-100,200,650,925,1400,1032.9951563562897]
["Financial Activities",{"$f":"SA!BN18-SA!BB18","v":1300},{"$f":"SA!BO18-SA!BC18","v":1100},{"$f":"SA!BP18-SA!BD18","v":1300},{"$f":"SA!BQ18-SA!BE18","v":900},{"$f":"SA!BR18-SA!BF18","v":900},{"$f":"SA!BS18-SA!BG18","v":800},{"$f":"SA!BT18-SA!BH18","v":700},{"$f":"SA!BU18-SA!BI18","v":600},{"$f":"SA!BV18-SA!BJ18","v":1400},{"$f":"SA!BW18-SA!BK18","v":700},{"$f":"SA!BX18-SA!BL18","v":700},{"$f":"SA!BY18-SA!BM18","v":500},{"$f":"SA!BZ18-SA!BN18","v":1000},{"$f":"SA!CA18-SA!BO18","v":1300},{"$f":"SA!CB18-SA!BP18","v":1000},{"$f":"SA!CC18-SA!BQ18","v":1800},{"$f":"SA!CD18-SA!BR18","v":2100},{"$f":"SA!CE18-SA!BS18","v":1900},{"$f":"SA!CF18-SA!BT18","v":2200},{"$f":"SA!CG18-SA!BU18","v":1900},{"$f":"SA!CH18-SA!BV18","v":2100},{"$f":"SA!CI18-SA!BW18","v":2100},{"$f":"SA!CJ18-SA!BX18","v":2000},{"$f":"SA!CK18-SA!BY18","v":2300},{"$f":"SA!CL18-SA!BZ18","v":2300},{"$f":"SA!CM18-SA!CA18","v":2400},{"$f":"SA!CN18-SA!CB18","v":2000},{"$f":"SA!CO18-SA!CC18","v":1400},{"$f":"SA!CP18-SA!CD18","v":700},{"$f":"SA!CQ18-SA!CE18","v":1200},{"$f":"SA!CR18-SA!CF18","v":200},{"$f":"SA!CS18-SA!CG18","v":0},{"$f":"SA!CT18-SA!CH18","v":-100},{"$f":"SA!CU18-SA!CI18","v":1100},{"$f":"SA!CV18-SA!CJ18","v":1000},{"$f":"SA!CW18-SA!CK18","v":1000},{"$f":"SA!CX18-SA!CL18","v":1000},{"$f":"SA!CY18-SA!CM18","v":1500},{"$f":"SA!CZ18-SA!CN18","v":1500},{"$f":"SA!DA18-SA!CO18","v":1500},{"$f":"SA!DB18-SA!CP18","v":2300},{"$f":"SA!DC18-SA!CQ18","v":1400},{"$f":"SA!DD18-SA!CR18","v":2000},{"$f":"SA!DE18-SA!CS18","v":2100},{"$f":"SA!DF18-SA!CT18","v":1200},{"$f":"SA!DG18-SA!CU18","v":-400},{"$f":"SA!DH18-SA!CV18","v":-500},{"$f":"SA!DI18-SA!CW18","v":-1000},{"$f":"SA!DJ18-SA!CX18","v":-900},{"$f":"SA!DK18-SA!CY18","v":-2100},{"$f":"SA!DL18-SA!CZ18","v":-2300},{"$f":"SA!DM18-SA!DA18","v":-2400},{"$f":"SA!DN18-SA!DB18","v":-3100},{"$f":"SA!DO18-SA!DC18","v":-3000},{"$f":"SA!DP18-SA!DD18","v":-3800},{"$f":"SA!DQ18-SA!DE18","v":-3600},{"$f":"SA!DR18-SA!DF18","v":-3700},{"$f":"SA!DS18-SA!DG18","v":-3500},{"$f":"SA!DT18-SA!DH18","v":-3600},{"$f":"SA!DU18-SA!DI18","v":-3800},{"$f":"SA!DV18-SA!DJ18","v":-4200},{"$f":"SA!DW18-SA!DK18","v":-3900},{"$f":"SA!DX18-SA!DL18","v":-3300},{"$f":"SA!DY18-SA!DM18","v":-3800},{"$f":"SA!DZ18-SA!DN18","v":-3900},{"$f":"SA!EA18-SA!DO18","v":-3700},{"$f":"SA!EB18-SA!DP18","v":-3200},{"$f":"SA!EC18-SA!DQ18","v":-3600},{"$f":"SA!ED18-SA!DR18","v":-2900},{"$f":"SA!EE18-SA!DS18","v":-2500},{"$f":"SA!EF18-SA!DT18","v":-2200},{"$f":"SA!EG18-SA!DU18","v":-2200},{"$f":"SA!EH18-SA!DV18","v":-2100},{"$f":"SA!EI18-SA!DW18","v":-1800},{"$f":"SA!EJ18-SA!DX18","v":-2000},{"$f":"SA!EK18-SA!DY18","v":-1600},{"$f":"SA!EL18-SA!DZ18","v":-1500},{"$f":"SA!EM18-SA!EA18","v":-1600},{"$f":"SA!EN18-SA!EB18","v":-1200},{"$f":"SA!EO18-SA!EC18","v":-1200},{"$f":"SA!EP18-SA!ED18","v":-900},{"$f":"SA!EQ18-SA!EE18","v":-1100},{"$f":"SA!ER18-SA!EF18","v":-1000},{"$f":"SA!ES18-SA!EG18","v":-600},{"$f":"SA!ET18-SA!EH18","v":0},{"$f":"SA!EU18-SA!EI18","v":-100},{"$f":"SA!EV18-SA!EJ18","v":0},{"$f":"SA!EW18-SA!EK18","v":0},{"$f":"SA!EX18-SA!EL18","v":300},{"$f":"SA!EY18-SA!EM18","v":400},{"$f":"SA!EZ18-SA!EN18","v":100},{"$f":"SA!FA18-SA!EO18","v":500},{"$f":"SA!FB18-SA!EP18","v":200},{"$f":"SA!FC18-SA!EQ18","v":100},{"$f":"SA!FD18-SA!ER18","v":0},{"$f":"SA!FE18-SA!ES18","v":-100},{"$f":"SA!FF18-SA!ET18","v":-600},{"$f":"SA!FG18-SA!EU18","v":-500},{"$f":"SA!FH18-SA!EV18","v":-400},{"$f":"SA!FI18-SA!EW18","v":-600},{"$f":"SA!FJ18-SA!EX18","v":-600},{"$f":"SA!FK18-SA!EY18","v":-400},{"$f":"SA!FL18-SA!EZ18","v":-100},{"$f":"SA!FM18-SA!FA18","v":-200},{"$f":"SA!FN18-SA!FB18","v":-200},{"$f":"SA!FO18-SA!FC18","v":-400},{"$f":"SA!FP18-SA!FD18","v":-400},{"$f":"SA!FQ18-SA!FE18","v":-400},{"$f":"SA!FR18-SA!FF18","v":-1600},{"$f":"SA!FS18-SA!FG18","v":-1200},{"$f":"SA!FT18-SA!FH18","v":-1200},{"$f":"SA!FU18-SA!FI18","v":-500},{"$f":"SA!FV18-SA!FJ18","v":-500},{"$f":"SA!FW18-SA!FK18","v":-400},{"$f":"SA!FX18-SA!FL18","v":-700},{"$f":"SA!FY18-SA!FM18","v":-200},{"$f":"SA!FZ18-SA!FN18","v":200},{"$f":"SA!GA18-SA!FO18","v":200},{"$f":"SA!GB18-SA!FP18","v":200},{"$f":"SA!GC18-SA!FQ18","v":500},{"$f":"SA!GD18-SA!FR18","v":1800},{"$f":"SA!GE18-SA!FS18","v":1700},{"$f":"SA!GF18-SA!FT18","v":1600},{"$f":"SA!GG18-SA!FU18","v":1100},{"$f":"SA!GH18-SA!FV18","v":1400},{"$f":"SA!GI18-SA!FW18","v":1200},{"$f":"SA!GJ18-SA!FX18","v":1400},{"$f":"SA!GK18-SA!FY18","v":600},{"$f":"SA!GL18-SA!FZ18","v":400},{"$f":"SA!GM18-SA!GA18","v":1000},{"$f":"SA!GN18-SA!GB18","v":1000},{"$f":"SA!GO18-SA!GC18","v":700},{"$f":"SA!GP18-SA!GD18","v":400},{"$f":"SA!GQ18-SA!GE18","v":400},{"$f":"SA!GR18-SA!GF18","v":300},{"$f":"SA!GS18-SA!GG18","v":500},{"$f":"SA!GT18-SA!GH18","v":200},{"$f":"SA!GU18-SA!GI18","v":100},{"$f":"SA!GV18-SA!GJ18","v":600},{"$f":"SA!GW18-SA!GK18","v":900},{"$f":"SA!GX18-SA!GL18","v":600},{"$f":"SA!GY18-SA!GM18","v":300},{"$f":"SA!GZ18-SA!GN18","v":100},{"$f":"SA!HA18-SA!GO18","v":800},{"$f":"SA!HB18-SA!GP18","v":2800},{"$f":"SA!HC18-SA!GQ18","v":1800},{"$f":"SA!HD18-SA!GR18","v":2300},{"$f":"SA!HE18-SA!GS18","v":2300},{"$f":"SA!HF18-SA!GT18","v":1300},{"$f":"SA!HG18-SA!GU18","v":800},{"$f":"SA!HH18-SA!GV18","v":-300},{"$f":"SA!HI18-SA!GW18","v":900},{"$f":"SA!HJ18-SA!GX18","v":1500},{"$f":"SA!HK18-SA!GY18","v":-151800},{"$f":"SA!HL18-SA!GZ18","v":-151600},{"$f":"SA!HM18-SA!HA18","v":-152200},5141,0,null,"Financial Activities",-4200,-2200,-600,0,300,900,1425,2400,1674.5402849424261]
["Real Estate and Rental and Leasing",{"$f":"SA!BN19-SA!BB19","v":700},{"$f":"SA!BO19-SA!BC19","v":500},{"$f":"SA!BP19-SA!BD19","v":600},{"$f":"SA!BQ19-SA!BE19","v":600},{"$f":"SA!BR19-SA!BF19","v":400},{"$f":"SA!BS19-SA!BG19","v":400},{"$f":"SA!BT19-SA!BH19","v":300},{"$f":"SA!BU19-SA!BI19","v":100},{"$f":"SA!BV19-SA!BJ19","v":300},{"$f":"SA!BW19-SA!BK19","v":100},{"$f":"SA!BX19-SA!BL19","v":200},{"$f":"SA!BY19-SA!BM19","v":400},{"$f":"SA!BZ19-SA!BN19","v":200},{"$f":"SA!CA19-SA!BO19","v":300},{"$f":"SA!CB19-SA!BP19","v":100},{"$f":"SA!CC19-SA!BQ19","v":100},{"$f":"SA!CD19-SA!BR19","v":200},{"$f":"SA!CE19-SA!BS19","v":400},{"$f":"SA!CF19-SA!BT19","v":300},{"$f":"SA!CG19-SA!BU19","v":300},{"$f":"SA!CH19-SA!BV19","v":100},{"$f":"SA!CI19-SA!BW19","v":200},{"$f":"SA!CJ19-SA!BX19","v":100},{"$f":"SA!CK19-SA!BY19","v":0},{"$f":"SA!CL19-SA!BZ19","v":0},{"$f":"SA!CM19-SA!CA19","v":100},{"$f":"SA!CN19-SA!CB19","v":100},{"$f":"SA!CO19-SA!CC19","v":0},{"$f":"SA!CP19-SA!CD19","v":0},{"$f":"SA!CQ19-SA!CE19","v":-100},{"$f":"SA!CR19-SA!CF19","v":-400},{"$f":"SA!CS19-SA!CG19","v":-300},{"$f":"SA!CT19-SA!CH19","v":-300},{"$f":"SA!CU19-SA!CI19","v":-100},{"$f":"SA!CV19-SA!CJ19","v":-300},{"$f":"SA!CW19-SA!CK19","v":-300},{"$f":"SA!CX19-SA!CL19","v":-500},{"$f":"SA!CY19-SA!CM19","v":-400},{"$f":"SA!CZ19-SA!CN19","v":-500},{"$f":"SA!DA19-SA!CO19","v":-600},{"$f":"SA!DB19-SA!CP19","v":-700},{"$f":"SA!DC19-SA!CQ19","v":-800},{"$f":"SA!DD19-SA!CR19","v":-800},{"$f":"SA!DE19-SA!CS19","v":-900},{"$f":"SA!DF19-SA!CT19","v":-1100},{"$f":"SA!DG19-SA!CU19","v":-1100},{"$f":"SA!DH19-SA!CV19","v":-1000},{"$f":"SA!DI19-SA!CW19","v":-1100},{"$f":"SA!DJ19-SA!CX19","v":-1400},{"$f":"SA!DK19-SA!CY19","v":-1700},{"$f":"SA!DL19-SA!CZ19","v":-1800},{"$f":"SA!DM19-SA!DA19","v":-2000},{"$f":"SA!DN19-SA!DB19","v":-1800},{"$f":"SA!DO19-SA!DC19","v":-1700},{"$f":"SA!DP19-SA!DD19","v":-1800},{"$f":"SA!DQ19-SA!DE19","v":-1600},{"$f":"SA!DR19-SA!DF19","v":-1500},{"$f":"SA!DS19-SA!DG19","v":-1700},{"$f":"SA!DT19-SA!DH19","v":-1800},{"$f":"SA!DU19-SA!DI19","v":-1700},{"$f":"SA!DV19-SA!DJ19","v":-1000},{"$f":"SA!DW19-SA!DK19","v":-900},{"$f":"SA!DX19-SA!DL19","v":-800},{"$f":"SA!DY19-SA!DM19","v":-700},{"$f":"SA!DZ19-SA!DN19","v":-900},{"$f":"SA!EA19-SA!DO19","v":-1100},{"$f":"SA!EB19-SA!DP19","v":-900},{"$f":"SA!EC19-SA!DQ19","v":-1000},{"$f":"SA!ED19-SA!DR19","v":-1000},{"$f":"SA!EE19-SA!DS19","v":-700},{"$f":"SA!EF19-SA!DT19","v":-600},{"$f":"SA!EG19-SA!DU19","v":-600},{"$f":"SA!EH19-SA!DV19","v":-900},{"$f":"SA!EI19-SA!DW19","v":-800},{"$f":"SA!EJ19-SA!DX19","v":-600},{"$f":"SA!EK19-SA!DY19","v":-400},{"$f":"SA!EL19-SA!DZ19","v":-600},{"$f":"SA!EM19-SA!EA19","v":-300},{"$f":"SA!EN19-SA!EB19","v":-400},{"$f":"SA!EO19-SA!EC19","v":-400},{"$f":"SA!EP19-SA!ED19","v":-200},{"$f":"SA!EQ19-SA!EE19","v":-500},{"$f":"SA!ER19-SA!EF19","v":-400},{"$f":"SA!ES19-SA!EG19","v":-400},{"$f":"SA!ET19-SA!EH19","v":-200},{"$f":"SA!EU19-SA!EI19","v":-300},{"$f":"SA!EV19-SA!EJ19","v":-400},{"$f":"SA!EW19-SA!EK19","v":-400},{"$f":"SA!EX19-SA!EL19","v":0},{"$f":"SA!EY19-SA!EM19","v":-100},{"$f":"SA!EZ19-SA!EN19","v":100},{"$f":"SA!FA19-SA!EO19","v":100},{"$f":"SA!FB19-SA!EP19","v":-100},{"$f":"SA!FC19-SA!EQ19","v":100},{"$f":"SA!FD19-SA!ER19","v":0},{"$f":"SA!FE19-SA!ES19","v":100},{"$f":"SA!FF19-SA!ET19","v":100},{"$f":"SA!FG19-SA!EU19","v":200},{"$f":"SA!FH19-SA!EV19","v":300},{"$f":"SA!FI19-SA!EW19","v":200},{"$f":"SA!FJ19-SA!EX19","v":300},{"$f":"SA!FK19-SA!EY19","v":200},{"$f":"SA!FL19-SA!EZ19","v":200},{"$f":"SA!FM19-SA!FA19","v":200},{"$f":"SA!FN19-SA!FB19","v":400},{"$f":"SA!FO19-SA!FC19","v":100},{"$f":"SA!FP19-SA!FD19","v":300},{"$f":"SA!FQ19-SA!FE19","v":100},{"$f":"SA!FR19-SA!FF19","v":-100},{"$f":"SA!FS19-SA!FG19","v":0},{"$f":"SA!FT19-SA!FH19","v":0},{"$f":"SA!FU19-SA!FI19","v":100},{"$f":"SA!FV19-SA!FJ19","v":-100},{"$f":"SA!FW19-SA!FK19","v":100},{"$f":"SA!FX19-SA!FL19","v":-100},{"$f":"SA!FY19-SA!FM19","v":0},{"$f":"SA!FZ19-SA!FN19","v":0},{"$f":"SA!GA19-SA!FO19","v":100},{"$f":"SA!GB19-SA!FP19","v":0},{"$f":"SA!GC19-SA!FQ19","v":100},{"$f":"SA!GD19-SA!FR19","v":200},{"$f":"SA!GE19-SA!FS19","v":200},{"$f":"SA!GF19-SA!FT19","v":200},{"$f":"SA!GG19-SA!FU19","v":100},{"$f":"SA!GH19-SA!FV19","v":400},{"$f":"SA!GI19-SA!FW19","v":400},{"$f":"SA!GJ19-SA!FX19","v":700},{"$f":"SA!GK19-SA!FY19","v":700},{"$f":"SA!GL19-SA!FZ19","v":700},{"$f":"SA!GM19-SA!GA19","v":900},{"$f":"SA!GN19-SA!GB19","v":1000},{"$f":"SA!GO19-SA!GC19","v":1000},{"$f":"SA!GP19-SA!GD19","v":700},{"$f":"SA!GQ19-SA!GE19","v":900},{"$f":"SA!GR19-SA!GF19","v":700},{"$f":"SA!GS19-SA!GG19","v":900},{"$f":"SA!GT19-SA!GH19","v":600},{"$f":"SA!GU19-SA!GI19","v":500},{"$f":"SA!GV19-SA!GJ19","v":200},{"$f":"SA!GW19-SA!GK19","v":300},{"$f":"SA!GX19-SA!GL19","v":200},{"$f":"SA!GY19-SA!GM19","v":100},{"$f":"SA!GZ19-SA!GN19","v":0},{"$f":"SA!HA19-SA!GO19","v":-200},{"$f":"SA!HB19-SA!GP19","v":700},{"$f":"SA!HC19-SA!GQ19","v":400},{"$f":"SA!HD19-SA!GR19","v":600},{"$f":"SA!HE19-SA!GS19","v":600},{"$f":"SA!HF19-SA!GT19","v":500},{"$f":"SA!HG19-SA!GU19","v":400},{"$f":"SA!HH19-SA!GV19","v":500},{"$f":"SA!HI19-SA!GW19","v":500},{"$f":"SA!HJ19-SA!GX19","v":700},{"$f":"SA!HK19-SA!GY19","v":-25400},{"$f":"SA!HL19-SA!GZ19","v":-25400},{"$f":"SA!HM19-SA!HA19","v":-25200},1943,0,null,"Real Estate and Rental and Leasing",-2000,-900,-400,-75,100,200,400,1000,662.55532030852771]
["Professional and Business Services",{"$f":"SA!BN20-SA!BB20","v":9800},{"$f":"SA!BO20-SA!BC20","v":10400},{"$f":"SA!BP20-SA!BD20","v":11600},{"$f":"SA!BQ20-SA!BE20","v":13100},{"$f":"SA!BR20-SA!BF20","v":10700},{"$f":"SA!BS20-SA!BG20","v":8600},{"$f":"SA!BT20-SA!BH20","v":10999.999999999971},{"$f":"SA!BU20-SA!BI20","v":8600},{"$f":"SA!BV20-SA!BJ20","v":11600},{"$f":"SA!BW20-SA!BK20","v":7199.9999999999709},{"$f":"SA!BX20-SA!BL20","v":9000},{"$f":"SA!BY20-SA!BM20","v":9799.9999999999709},{"$f":"SA!BZ20-SA!BN20","v":7600},{"$f":"SA!CA20-SA!BO20","v":8400},{"$f":"SA!CB20-SA!BP20","v":7300},{"$f":"SA!CC20-SA!BQ20","v":9200},{"$f":"SA!CD20-SA!BR20","v":9500},{"$f":"SA!CE20-SA!BS20","v":10100},{"$f":"SA!CF20-SA!BT20","v":7100},{"$f":"SA!CG20-SA!BU20","v":6200},{"$f":"SA!CH20-SA!BV20","v":6600},{"$f":"SA!CI20-SA!BW20","v":9200},{"$f":"SA!CJ20-SA!BX20","v":7700},{"$f":"SA!CK20-SA!BY20","v":5600},{"$f":"SA!CL20-SA!BZ20","v":8200},{"$f":"SA!CM20-SA!CA20","v":7100},{"$f":"SA!CN20-SA!CB20","v":8100},{"$f":"SA!CO20-SA!CC20","v":6400},{"$f":"SA!CP20-SA!CD20","v":7900},{"$f":"SA!CQ20-SA!CE20","v":9000},{"$f":"SA!CR20-SA!CF20","v":9000},{"$f":"SA!CS20-SA!CG20","v":9500},{"$f":"SA!CT20-SA!CH20","v":8300},{"$f":"SA!CU20-SA!CI20","v":6900},{"$f":"SA!CV20-SA!CJ20","v":7600},{"$f":"SA!CW20-SA!CK20","v":10100},{"$f":"SA!CX20-SA!CL20","v":8600},{"$f":"SA!CY20-SA!CM20","v":9300},{"$f":"SA!CZ20-SA!CN20","v":6900},{"$f":"SA!DA20-SA!CO20","v":4100},{"$f":"SA!DB20-SA!CP20","v":3900},{"$f":"SA!DC20-SA!CQ20","v":2700},{"$f":"SA!DD20-SA!CR20","v":2800},{"$f":"SA!DE20-SA!CS20","v":3100},{"$f":"SA!DF20-SA!CT20","v":1800},{"$f":"SA!DG20-SA!CU20","v":-1300},{"$f":"SA!DH20-SA!CV20","v":-5400},{"$f":"SA!DI20-SA!CW20","v":-8900},{"$f":"SA!DJ20-SA!CX20","v":-14800},{"$f":"SA!DK20-SA!CY20","v":-20600},{"$f":"SA!DL20-SA!CZ20","v":-24199.999999999971},{"$f":"SA!DM20-SA!DA20","v":-25800},{"$f":"SA!DN20-SA!DB20","v":-26100},{"$f":"SA!DO20-SA!DC20","v":-28299.999999999971},{"$f":"SA!DP20-SA!DD20","v":-28200},{"$f":"SA!DQ20-SA!DE20","v":-29499.999999999971},{"$f":"SA!DR20-SA!DF20","v":-27500},{"$f":"SA!DS20-SA!DG20","v":-21700.000000000029},{"$f":"SA!DT20-SA!DH20","v":-16200},{"$f":"SA!DU20-SA!DI20","v":-13200},{"$f":"SA!DV20-SA!DJ20","v":-7300},{"$f":"SA!DW20-SA!DK20","v":500},{"$f":"SA!DX20-SA!DL20","v":3899.9999999999709},{"$f":"SA!DY20-SA!DM20","v":11800},{"$f":"SA!DZ20-SA!DN20","v":12600},{"$f":"SA!EA20-SA!DO20","v":14699.999999999971},{"$f":"SA!EB20-SA!DP20","v":17300},{"$f":"SA!EC20-SA!DQ20","v":20499.999999999971},{"$f":"SA!ED20-SA!DR20","v":20200},{"$f":"SA!EE20-SA!DS20","v":21100.000000000029},{"$f":"SA!EF20-SA!DT20","v":20100},{"$f":"SA!EG20-SA!DU20","v":21000},{"$f":"SA!EH20-SA!DV20","v":21500},{"$f":"SA!EI20-SA!DW20","v":18200},{"$f":"SA!EJ20-SA!DX20","v":21500},{"$f":"SA!EK20-SA!DY20","v":14600},{"$f":"SA!EL20-SA!DZ20","v":13500},{"$f":"SA!EM20-SA!EA20","v":13900},{"$f":"SA!EN20-SA!EB20","v":12900},{"$f":"SA!EO20-SA!EC20","v":10500},{"$f":"SA!EP20-SA!ED20","v":12200},{"$f":"SA!EQ20-SA!EE20","v":8300},{"$f":"SA!ER20-SA!EF20","v":7600},{"$f":"SA!ES20-SA!EG20","v":5400},{"$f":"SA!ET20-SA!EH20","v":5600},{"$f":"SA!EU20-SA!EI20","v":6400},{"$f":"SA!EV20-SA!EJ20","v":7600},{"$f":"SA!EW20-SA!EK20","v":9400},{"$f":"SA!EX20-SA!EL20","v":8200},{"$f":"SA!EY20-SA!EM20","v":8100},{"$f":"SA!EZ20-SA!EN20","v":5600},{"$f":"SA!FA20-SA!EO20","v":5200},{"$f":"SA!FB20-SA!EP20","v":5000},{"$f":"SA!FC20-SA!EQ20","v":6200},{"$f":"SA!FD20-SA!ER20","v":7400},{"$f":"SA!FE20-SA!ES20","v":5400},{"$f":"SA!FF20-SA!ET20","v":4900},{"$f":"SA!FG20-SA!EU20","v":6800},{"$f":"SA!FH20-SA!EV20","v":6600},{"$f":"SA!FI20-SA!EW20","v":3100},{"$f":"SA!FJ20-SA!EX20","v":6500},{"$f":"SA!FK20-SA!EY20","v":7700},{"$f":"SA!FL20-SA!EZ20","v":9300},{"$f":"SA!FM20-SA!FA20","v":10300},{"$f":"SA!FN20-SA!FB20","v":8900},{"$f":"SA!FO20-SA!FC20","v":7400},{"$f":"SA!FP20-SA!FD20","v":7500},{"$f":"SA!FQ20-SA!FE20","v":10200},{"$f":"SA!FR20-SA!FF20","v":10000},{"$f":"SA!FS20-SA!FG20","v":7600},{"$f":"SA!FT20-SA!FH20","v":4200},{"$f":"SA!FU20-SA!FI20","v":7600},{"$f":"SA!FV20-SA!FJ20","v":6600},{"$f":"SA!FW20-SA!FK20","v":5200},{"$f":"SA!FX20-SA!FL20","v":4300},{"$f":"SA!FY20-SA!FM20","v":4800},{"$f":"SA!FZ20-SA!FN20","v":4600},{"$f":"SA!GA20-SA!FO20","v":7000},{"$f":"SA!GB20-SA!FP20","v":6600},{"$f":"SA!GC20-SA!FQ20","v":3900},{"$f":"SA!GD20-SA!FR20","v":4700},{"$f":"SA!GE20-SA!FS20","v":4200},{"$f":"SA!GF20-SA!FT20","v":5300},{"$f":"SA!GG20-SA!FU20","v":6200},{"$f":"SA!GH20-SA!FV20","v":6500},{"$f":"SA!GI20-SA!FW20","v":6700},{"$f":"SA!GJ20-SA!FX20","v":8600},{"$f":"SA!GK20-SA!FY20","v":9000},{"$f":"SA!GL20-SA!FZ20","v":7900},{"$f":"SA!GM20-SA!GA20","v":7200},{"$f":"SA!GN20-SA!GB20","v":6300},{"$f":"SA!GO20-SA!GC20","v":10100},{"$f":"SA!GP20-SA!GD20","v":11800},{"$f":"SA!GQ20-SA!GE20","v":12400},{"$f":"SA!GR20-SA!GF20","v":11400},{"$f":"SA!GS20-SA!GG20","v":10500},{"$f":"SA!GT20-SA!GH20","v":8100},{"$f":"SA!GU20-SA!GI20","v":6400},{"$f":"SA!GV20-SA!GJ20","v":6800},{"$f":"SA!GW20-SA!GK20","v":4500},{"$f":"SA!GX20-SA!GL20","v":6000},{"$f":"SA!GY20-SA!GM20","v":4000},{"$f":"SA!GZ20-SA!GN20","v":2800},{"$f":"SA!HA20-SA!GO20","v":800},{"$f":"SA!HB20-SA!GP20","v":-800},{"$f":"SA!HC20-SA!GQ20","v":300},{"$f":"SA!HD20-SA!GR20","v":3700},{"$f":"SA!HE20-SA!GS20","v":1700},{"$f":"SA!HF20-SA!GT20","v":5200},{"$f":"SA!HG20-SA!GU20","v":1500},{"$f":"SA!HH20-SA!GV20","v":2200},{"$f":"SA!HI20-SA!GW20","v":-700},{"$f":"SA!HJ20-SA!GX20","v":600},{"$f":"SA!HK20-SA!GY20","v":-321100},{"$f":"SA!HL20-SA!GZ20","v":-320700},{"$f":"SA!HM20-SA!HA20","v":-320300},12130,0,null,"Professional and Business Services",-29499.999999999971,2800,5500,6925,7600,9100,11600,21500,9898.2075855498078]
["  Professional, Scientific, and Technical Services",{"$f":"SA!BN21-SA!BB21","v":3100},{"$f":"SA!BO21-SA!BC21","v":3100},{"$f":"SA!BP21-SA!BD21","v":3200},{"$f":"SA!BQ21-SA!BE21","v":2800},{"$f":"SA!BR21-SA!BF21","v":2500},{"$f":"SA!BS21-SA!BG21","v":2700},{"$f":"SA!BT21-SA!BH21","v":3000},{"$f":"SA!BU21-SA!BI21","v":3200},{"$f":"SA!BV21-SA!BJ21","v":3600},{"$f":"SA!BW21-SA!BK21","v":3400},{"$f":"SA!BX21-SA!BL21","v":3300},{"$f":"SA!BY21-SA!BM21","v":3700},{"$f":"SA!BZ21-SA!BN21","v":3200},{"$f":"SA!CA21-SA!BO21","v":3200},{"$f":"SA!CB21-SA!BP21","v":3000},{"$f":"SA!CC21-SA!BQ21","v":3900},{"$f":"SA!CD21-SA!BR21","v":3600},{"$f":"SA!CE21-SA!BS21","v":3600},{"$f":"SA!CF21-SA!BT21","v":3100},{"$f":"SA!CG21-SA!BU21","v":2700},{"$f":"SA!CH21-SA!BV21","v":2500},{"$f":"SA!CI21-SA!BW21","v":2600},{"$f":"SA!CJ21-SA!BX21","v":2300},{"$f":"SA!CK21-SA!BY21","v":1700},{"$f":"SA!CL21-SA!BZ21","v":2300},{"$f":"SA!CM21-SA!CA21","v":2200},{"$f":"SA!CN21-SA!CB21","v":2600},{"$f":"SA!CO21-SA!CC21","v":2300},{"$f":"SA!CP21-SA!CD21","v":2800},{"$f":"SA!CQ21-SA!CE21","v":2800},{"$f":"SA!CR21-SA!CF21","v":3000},{"$f":"SA!CS21-SA!CG21","v":3200},{"$f":"SA!CT21-SA!CH21","v":3200},{"$f":"SA!CU21-SA!CI21","v":3000},{"$f":"SA!CV21-SA!CJ21","v":3200},{"$f":"SA!CW21-SA!CK21","v":3400},{"$f":"SA!CX21-SA!CL21","v":2900},{"$f":"SA!CY21-SA!CM21","v":3100},{"$f":"SA!CZ21-SA!CN21","v":2700},{"$f":"SA!DA21-SA!CO21","v":3400},{"$f":"SA!DB21-SA!CP21","v":2700},{"$f":"SA!DC21-SA!CQ21","v":2500},{"$f":"SA!DD21-SA!CR21","v":2100},{"$f":"SA!DE21-SA!CS21","v":2100},{"$f":"SA!DF21-SA!CT21","v":2100},{"$f":"SA!DG21-SA!CU21","v":1700},{"$f":"SA!DH21-SA!CV21","v":1000},{"$f":"SA!DI21-SA!CW21","v":600},{"$f":"SA!DJ21-SA!CX21","v":-400},{"$f":"SA!DK21-SA!CY21","v":-1400},{"$f":"SA!DL21-SA!CZ21","v":-2300},{"$f":"SA!DM21-SA!DA21","v":-4800},{"$f":"SA!DN21-SA!DB21","v":-5600},{"$f":"SA!DO21-SA!DC21","v":-6100},{"$f":"SA!DP21-SA!DD21","v":-6900},{"$f":"SA!DQ21-SA!DE21","v":-7700},{"$f":"SA!DR21-SA!DF21","v":-8000},{"$f":"SA!DS21-SA!DG21","v":-7700},{"$f":"SA!DT21-SA!DH21","v":-6800},{"$f":"SA!DU21-SA!DI21","v":-7000},{"$f":"SA!DV21-SA!DJ21","v":-6200},{"$f":"SA!DW21-SA!DK21","v":-5600},{"$f":"SA!DX21-SA!DL21","v":-4600},{"$f":"SA!DY21-SA!DM21","v":-3400},{"$f":"SA!DZ21-SA!DN21","v":-2200},{"$f":"SA!EA21-SA!DO21","v":-1800},{"$f":"SA!EB21-SA!DP21","v":-400},{"$f":"SA!EC21-SA!DQ21","v":300},{"$f":"SA!ED21-SA!DR21","v":300},{"$f":"SA!EE21-SA!DS21","v":1200},{"$f":"SA!EF21-SA!DT21","v":1000},{"$f":"SA!EG21-SA!DU21","v":2000},{"$f":"SA!EH21-SA!DV21","v":2300},{"$f":"SA!EI21-SA!DW21","v":2700},{"$f":"SA!EJ21-SA!DX21","v":2500},{"$f":"SA!EK21-SA!DY21","v":3300},{"$f":"SA!EL21-SA!DZ21","v":3000},{"$f":"SA!EM21-SA!EA21","v":2700},{"$f":"SA!EN21-SA!EB21","v":2500},{"$f":"SA!EO21-SA!EC21","v":2600},{"$f":"SA!EP21-SA!ED21","v":3200},{"$f":"SA!EQ21-SA!EE21","v":2300},{"$f":"SA!ER21-SA!EF21","v":2800},{"$f":"SA!ES21-SA!EG21","v":1800},{"$f":"SA!ET21-SA!EH21","v":1800},{"$f":"SA!EU21-SA!EI21","v":1700},{"$f":"SA!EV21-SA!EJ21","v":2100},{"$f":"SA!EW21-SA!EK21","v":1600},{"$f":"SA!EX21-SA!EL21","v":1900},{"$f":"SA!EY21-SA!EM21","v":2700},{"$f":"SA!EZ21-SA!EN21","v":1900},{"$f":"SA!FA21-SA!EO21","v":1800},{"$f":"SA!FB21-SA!EP21","v":1500},{"$f":"SA!FC21-SA!EQ21","v":2100},{"$f":"SA!FD21-SA!ER21","v":2900},{"$f":"SA!FE21-SA!ES21","v":1800},{"$f":"SA!FF21-SA!ET21","v":1700},{"$f":"SA!FG21-SA!EU21","v":1900},{"$f":"SA!FH21-SA!EV21","v":1700},{"$f":"SA!FI21-SA!EW21","v":1400},{"$f":"SA!FJ21-SA!EX21","v":1600},{"$f":"SA!FK21-SA!EY21","v":1100},{"$f":"SA!FL21-SA!EZ21","v":2300},{"$f":"SA!FM21-SA!FA21","v":2000},{"$f":"SA!FN21-SA!FB21","v":2100},{"$f":"SA!FO21-SA!FC21","v":1700},{"$f":"SA!FP21-SA!FD21","v":500},{"$f":"SA!FQ21-SA!FE21","v":2300},{"$f":"SA!FR21-SA!FF21","v":1700},{"$f":"SA!FS21-SA!FG21","v":1300},{"$f":"SA!FT21-SA!FH21","v":1500},{"$f":"SA!FU21-SA!FI21","v":1500},{"$f":"SA!FV21-SA!FJ21","v":1300},{"$f":"SA!FW21-SA!FK21","v":2000},{"$f":"SA!FX21-SA!FL21","v":1200},{"$f":"SA!FY21-SA!FM21","v":1600},{"$f":"SA!FZ21-SA!FN21","v":1100},{"$f":"SA!GA21-SA!FO21","v":1000},{"$f":"SA!GB21-SA!FP21","v":900},{"$f":"SA!GC21-SA!FQ21","v":1100},{"$f":"SA!GD21-SA!FR21","v":2600},{"$f":"SA!GE21-SA!FS21","v":2500},{"$f":"SA!GF21-SA!FT21","v":2700},{"$f":"SA!GG21-SA!FU21","v":3000},{"$f":"SA!GH21-SA!FV21","v":3400},{"$f":"SA!GI21-SA!FW21","v":3200},{"$f":"SA!GJ21-SA!FX21","v":3500},{"$f":"SA!GK21-SA!FY21","v":3400},{"$f":"SA!GL21-SA!FZ21","v":3900},{"$f":"SA!GM21-SA!GA21","v":4400},{"$f":"SA!GN21-SA!GB21","v":4400},{"$f":"SA!GO21-SA!GC21","v":4100},{"$f":"SA!GP21-SA!GD21","v":3400},{"$f":"SA!GQ21-SA!GE21","v":3700},{"$f":"SA!GR21-SA!GF21","v":3300},{"$f":"SA!GS21-SA!GG21","v":3300},{"$f":"SA!GT21-SA!GH21","v":2900},{"$f":"SA!GU21-SA!GI21","v":2300},{"$f":"SA!GV21-SA!GJ21","v":2800},{"$f":"SA!GW21-SA!GK21","v":2800},{"$f":"SA!GX21-SA!GL21","v":3000},{"$f":"SA!GY21-SA!GM21","v":800},{"$f":"SA!GZ21-SA!GN21","v":500},{"$f":"SA!HA21-SA!GO21","v":-500},{"$f":"SA!HB21-SA!GP21","v":-600},{"$f":"SA!HC21-SA!GQ21","v":-400},{"$f":"SA!HD21-SA!GR21","v":1100},{"$f":"SA!HE21-SA!GS21","v":500},{"$f":"SA!HF21-SA!GT21","v":1900},{"$f":"SA!HG21-SA!GU21","v":-200},{"$f":"SA!HH21-SA!GV21","v":-1400},{"$f":"SA!HI21-SA!GW21","v":-3400},{"$f":"SA!HJ21-SA!GX21","v":-3700},{"$f":"SA!HK21-SA!GY21","v":-106600},{"$f":"SA!HL21-SA!GZ21","v":-106500},{"$f":"SA!HM21-SA!HA21","v":-105600},5461,0,null,"  Professional, Scientific, and Technical Services",-8000,300,1600,2100,2500,2900,3225,4400,2704.4459280558335]
["  Administrative and Support and Waste Management and Remediation Services",{"$f":"SA!BN23-SA!BB23","v":6000},{"$f":"SA!BO23-SA!BC23","v":6400},{"$f":"SA!BP23-SA!BD23","v":7299.9999999999854},{"$f":"SA!BQ23-SA!BE23","v":9000},{"$f":"SA!BR23-SA!BF23","v":7200},{"$f":"SA!BS23-SA!BG23","v":4999.9999999999854},{"$f":"SA!BT23-SA!BH23","v":7000},{"$f":"SA!BU23-SA!BI23","v":4500.0000000000146},{"$f":"SA!BV23-SA!BJ23","v":7000},{"$f":"SA!BW23-SA!BK23","v":3299.9999999999854},{"$f":"SA!BX23-SA!BL23","v":5199.9999999999854},{"$f":"SA!BY23-SA!BM23","v":5500},{"$f":"SA!BZ23-SA!BN23","v":4200},{"$f":"SA!CA23-SA!BO23","v":5300},{"$f":"SA!CB23-SA!BP23","v":4500.0000000000146},{"$f":"SA!CC23-SA!BQ23","v":5100},{"$f":"SA!CD23-SA!BR23","v":5600},{"$f":"SA!CE23-SA!BS23","v":6000.0000000000146},{"$f":"SA!CF23-SA!BT23","v":3400},{"$f":"SA!CG23-SA!BU23","v":2899.9999999999854},{"$f":"SA!CH23-SA!BV23","v":3300},{"$f":"SA!CI23-SA!BW23","v":5200.0000000000146},{"$f":"SA!CJ23-SA!BX23","v":4000.0000000000146},{"$f":"SA!CK23-SA!BY23","v":2500},{"$f":"SA!CL23-SA!BZ23","v":3600},{"$f":"SA!CM23-SA!CA23","v":2300},{"$f":"SA!CN23-SA!CB23","v":2800},{"$f":"SA!CO23-SA!CC23","v":1600},{"$f":"SA!CP23-SA!CD23","v":2600},{"$f":"SA!CQ23-SA!CE23","v":4000},{"$f":"SA!CR23-SA!CF23","v":4300},{"$f":"SA!CS23-SA!CG23","v":4800},{"$f":"SA!CT23-SA!CH23","v":3800},{"$f":"SA!CU23-SA!CI23","v":2700},{"$f":"SA!CV23-SA!CJ23","v":3200},{"$f":"SA!CW23-SA!CK23","v":5600},{"$f":"SA!CX23-SA!CL23","v":4800},{"$f":"SA!CY23-SA!CM23","v":5300},{"$f":"SA!CZ23-SA!CN23","v":3500},{"$f":"SA!DA23-SA!CO23","v":100},{"$f":"SA!DB23-SA!CP23","v":200},{"$f":"SA!DC23-SA!CQ23","v":-900},{"$f":"SA!DD23-SA!CR23","v":-1300},{"$f":"SA!DE23-SA!CS23","v":-1200},{"$f":"SA!DF23-SA!CT23","v":-2700},{"$f":"SA!DG23-SA!CU23","v":-5100},{"$f":"SA!DH23-SA!CV23","v":-8599.9999999999854},{"$f":"SA!DI23-SA!CW23","v":-11800},{"$f":"SA!DJ23-SA!CX23","v":-16000},{"$f":"SA!DK23-SA!CY23","v":-20600},{"$f":"SA!DL23-SA!CZ23","v":-23100},{"$f":"SA!DM23-SA!DA23","v":-21800},{"$f":"SA!DN23-SA!DB23","v":-21000},{"$f":"SA!DO23-SA!DC23","v":-22700},{"$f":"SA!DP23-SA!DD23","v":-21500},{"$f":"SA!DQ23-SA!DE23","v":-21900},{"$f":"SA!DR23-SA!DF23","v":-19600},{"$f":"SA!DS23-SA!DG23","v":-14200},{"$f":"SA!DT23-SA!DH23","v":-9500.0000000000146},{"$f":"SA!DU23-SA!DI23","v":-6500},{"$f":"SA!DV23-SA!DJ23","v":-1100},{"$f":"SA!DW23-SA!DK23","v":5500},{"$f":"SA!DX23-SA!DL23","v":7400},{"$f":"SA!DY23-SA!DM23","v":13400.000000000015},{"$f":"SA!DZ23-SA!DN23","v":13000},{"$f":"SA!EA23-SA!DO23","v":14500},{"$f":"SA!EB23-SA!DP23","v":16000},{"$f":"SA!EC23-SA!DQ23","v":17700},{"$f":"SA!ED23-SA!DR23","v":17500},{"$f":"SA!EE23-SA!DS23","v":17100},{"$f":"SA!EF23-SA!DT23","v":16000},{"$f":"SA!EG23-SA!DU23","v":15800},{"$f":"SA!EH23-SA!DV23","v":15300},{"$f":"SA!EI23-SA!DW23","v":11900},{"$f":"SA!EJ23-SA!DX23","v":15500},{"$f":"SA!EK23-SA!DY23","v":7999.9999999999854},{"$f":"SA!EL23-SA!DZ23","v":7100},{"$f":"SA!EM23-SA!EA23","v":7900},{"$f":"SA!EN23-SA!EB23","v":6800},{"$f":"SA!EO23-SA!EC23","v":4800},{"$f":"SA!EP23-SA!ED23","v":5600},{"$f":"SA!EQ23-SA!EE23","v":2800},{"$f":"SA!ER23-SA!EF23","v":1900},{"$f":"SA!ES23-SA!EG23","v":900},{"$f":"SA!ET23-SA!EH23","v":900},{"$f":"SA!EU23-SA!EI23","v":2000},{"$f":"SA!EV23-SA!EJ23","v":2700},{"$f":"SA!EW23-SA!EK23","v":5100},{"$f":"SA!EX23-SA!EL23","v":3700},{"$f":"SA!EY23-SA!EM23","v":2700},{"$f":"SA!EZ23-SA!EN23","v":1200},{"$f":"SA!FA23-SA!EO23","v":1200},{"$f":"SA!FB23-SA!EP23","v":1700},{"$f":"SA!FC23-SA!EQ23","v":2300},{"$f":"SA!FD23-SA!ER23","v":2500},{"$f":"SA!FE23-SA!ES23","v":1500},{"$f":"SA!FF23-SA!ET23","v":1100},{"$f":"SA!FG23-SA!EU23","v":2600},{"$f":"SA!FH23-SA!EV23","v":2400},{"$f":"SA!FI23-SA!EW23","v":-400},{"$f":"SA!FJ23-SA!EX23","v":2800},{"$f":"SA!FK23-SA!EY23","v":4400},{"$f":"SA!FL23-SA!EZ23","v":5000},{"$f":"SA!FM23-SA!FA23","v":6200},{"$f":"SA!FN23-SA!FB23","v":4600},{"$f":"SA!FO23-SA!FC23","v":3500},{"$f":"SA!FP23-SA!FD23","v":5000},{"$f":"SA!FQ23-SA!FE23","v":6000},{"$f":"SA!FR23-SA!FF23","v":6800},{"$f":"SA!FS23-SA!FG23","v":5100},{"$f":"SA!FT23-SA!FH23","v":1900},{"$f":"SA!FU23-SA!FI23","v":5100},{"$f":"SA!FV23-SA!FJ23","v":4200},{"$f":"SA!FW23-SA!FK23","v":2300},{"$f":"SA!FX23-SA!FL23","v":2300},{"$f":"SA!FY23-SA!FM23","v":2100},{"$f":"SA!FZ23-SA!FN23","v":2500},{"$f":"SA!GA23-SA!FO23","v":5300},{"$f":"SA!GB23-SA!FP23","v":5000},{"$f":"SA!GC23-SA!FQ23","v":2400},{"$f":"SA!GD23-SA!FR23","v":-300},{"$f":"SA!GE23-SA!FS23","v":-900},{"$f":"SA!GF23-SA!FT23","v":-100},{"$f":"SA!GG23-SA!FU23","v":200},{"$f":"SA!GH23-SA!FV23","v":-300},{"$f":"SA!GI23-SA!FW23","v":-200},{"$f":"SA!GJ23-SA!FX23","v":300},{"$f":"SA!GK23-SA!FY23","v":500},{"$f":"SA!GL23-SA!FZ23","v":-1500},{"$f":"SA!GM23-SA!GA23","v":-3400},{"$f":"SA!GN23-SA!GB23","v":-4600},{"$f":"SA!GO23-SA!GC23","v":-1100},{"$f":"SA!GP23-SA!GD23","v":1800},{"$f":"SA!GQ23-SA!GE23","v":2200},{"$f":"SA!GR23-SA!GF23","v":1300},{"$f":"SA!GS23-SA!GG23","v":700},{"$f":"SA!GT23-SA!GH23","v":-600},{"$f":"SA!GU23-SA!GI23","v":-1100},{"$f":"SA!GV23-SA!GJ23","v":-600},{"$f":"SA!GW23-SA!GK23","v":-2100},{"$f":"SA!GX23-SA!GL23","v":-400},{"$f":"SA!GY23-SA!GM23","v":-100},{"$f":"SA!GZ23-SA!GN23","v":-800},{"$f":"SA!HA23-SA!GO23","v":-1500},{"$f":"SA!HB23-SA!GP23","v":-1400},{"$f":"SA!HC23-SA!GQ23","v":-600},{"$f":"SA!HD23-SA!GR23","v":1400},{"$f":"SA!HE23-SA!GS23","v":300},{"$f":"SA!HF23-SA!GT23","v":2200},{"$f":"SA!HG23-SA!GU23","v":900},{"$f":"SA!HH23-SA!GV23","v":2500},{"$f":"SA!HI23-SA!GW23","v":1200},{"$f":"SA!HJ23-SA!GX23","v":2600},{"$f":"SA!HK23-SA!GY23","v":-145300},{"$f":"SA!HL23-SA!GZ23","v":-144800},{"$f":"SA!HM23-SA!HA23","v":-145100},10285,0,null,"  Administrative and Support and Waste Management and Remediation Services",-23100,-1350,600,2425,3299.9999999999964,5000,6850,17700,7783.2558833088442]
["Education and Health Services",{"$f":"SA!BN24-SA!BB24","v":7600},{"$f":"SA!BO24-SA!BC24","v":6600},{"$f":"SA!BP24-SA!BD24","v":7200},{"$f":"SA!BQ24-SA!BE24","v":6900},{"$f":"SA!BR24-SA!BF24","v":6900},{"$f":"SA!BS24-SA!BG24","v":7500},{"$f":"SA!BT24-SA!BH24","v":7300},{"$f":"SA!BU24-SA!BI24","v":6900},{"$f":"SA!BV24-SA!BJ24","v":8400},{"$f":"SA!BW24-SA!BK24","v":7500},{"$f":"SA!BX24-SA!BL24","v":7900},{"$f":"SA!BY24-SA!BM24","v":7300},{"$f":"SA!BZ24-SA!BN24","v":7600},{"$f":"SA!CA24-SA!BO24","v":8400},{"$f":"SA!CB24-SA!BP24","v":7100},{"$f":"SA!CC24-SA!BQ24","v":7500},{"$f":"SA!CD24-SA!BR24","v":7400},{"$f":"SA!CE24-SA!BS24","v":7300},{"$f":"SA!CF24-SA!BT24","v":8000},{"$f":"SA!CG24-SA!BU24","v":7600},{"$f":"SA!CH24-SA!BV24","v":7300},{"$f":"SA!CI24-SA!BW24","v":8400},{"$f":"SA!CJ24-SA!BX24","v":7800},{"$f":"SA!CK24-SA!BY24","v":7400},{"$f":"SA!CL24-SA!BZ24","v":6300},{"$f":"SA!CM24-SA!CA24","v":5800},{"$f":"SA!CN24-SA!CB24","v":6500},{"$f":"SA!CO24-SA!CC24","v":6000},{"$f":"SA!CP24-SA!CD24","v":6000},{"$f":"SA!CQ24-SA!CE24","v":6400},{"$f":"SA!CR24-SA!CF24","v":6100},{"$f":"SA!CS24-SA!CG24","v":6600},{"$f":"SA!CT24-SA!CH24","v":6800},{"$f":"SA!CU24-SA!CI24","v":3500},{"$f":"SA!CV24-SA!CJ24","v":2800},{"$f":"SA!CW24-SA!CK24","v":4000},{"$f":"SA!CX24-SA!CL24","v":4600},{"$f":"SA!CY24-SA!CM24","v":4400},{"$f":"SA!CZ24-SA!CN24","v":4600},{"$f":"SA!DA24-SA!CO24","v":5400},{"$f":"SA!DB24-SA!CP24","v":5400},{"$f":"SA!DC24-SA!CQ24","v":5500},{"$f":"SA!DD24-SA!CR24","v":5700},{"$f":"SA!DE24-SA!CS24","v":5800},{"$f":"SA!DF24-SA!CT24","v":5800},{"$f":"SA!DG24-SA!CU24","v":9700},{"$f":"SA!DH24-SA!CV24","v":11400},{"$f":"SA!DI24-SA!CW24","v":12000},{"$f":"SA!DJ24-SA!CX24","v":10700},{"$f":"SA!DK24-SA!CY24","v":11100},{"$f":"SA!DL24-SA!CZ24","v":10700},{"$f":"SA!DM24-SA!DA24","v":8700},{"$f":"SA!DN24-SA!DB24","v":8800},{"$f":"SA!DO24-SA!DC24","v":9200},{"$f":"SA!DP24-SA!DD24","v":7700},{"$f":"SA!DQ24-SA!DE24","v":7400},{"$f":"SA!DR24-SA!DF24","v":4700},{"$f":"SA!DS24-SA!DG24","v":3900},{"$f":"SA!DT24-SA!DH24","v":2100},{"$f":"SA!DU24-SA!DI24","v":-400},{"$f":"SA!DV24-SA!DJ24","v":2300},{"$f":"SA!DW24-SA!DK24","v":1900},{"$f":"SA!DX24-SA!DL24","v":2200},{"$f":"SA!DY24-SA!DM24","v":300},{"$f":"SA!DZ24-SA!DN24","v":-700},{"$f":"SA!EA24-SA!DO24","v":-1000},{"$f":"SA!EB24-SA!DP24","v":1000},{"$f":"SA!EC24-SA!DQ24","v":1400},{"$f":"SA!ED24-SA!DR24","v":1200},{"$f":"SA!EE24-SA!DS24","v":900},{"$f":"SA!EF24-SA!DT24","v":1500},{"$f":"SA!EG24-SA!DU24","v":2400},{"$f":"SA!EH24-SA!DV24","v":600},{"$f":"SA!EI24-SA!DW24","v":0},{"$f":"SA!EJ24-SA!DX24","v":-1500},{"$f":"SA!EK24-SA!DY24","v":3700},{"$f":"SA!EL24-SA!DZ24","v":4600},{"$f":"SA!EM24-SA!EA24","v":3700},{"$f":"SA!EN24-SA!EB24","v":3200},{"$f":"SA!EO24-SA!EC24","v":2300},{"$f":"SA!EP24-SA!ED24","v":5400},{"$f":"SA!EQ24-SA!EE24","v":5200},{"$f":"SA!ER24-SA!EF24","v":5600},{"$f":"SA!ES24-SA!EG24","v":6300},{"$f":"SA!ET24-SA!EH24","v":6600},{"$f":"SA!EU24-SA!EI24","v":7600},{"$f":"SA!EV24-SA!EJ24","v":9500},{"$f":"SA!EW24-SA!EK24","v":7600},{"$f":"SA!EX24-SA!EL24","v":7200},{"$f":"SA!EY24-SA!EM24","v":7600},{"$f":"SA!EZ24-SA!EN24","v":3800},{"$f":"SA!FA24-SA!EO24","v":6200},{"$f":"SA!FB24-SA!EP24","v":7300},{"$f":"SA!FC24-SA!EQ24","v":8800},{"$f":"SA!FD24-SA!ER24","v":8500},{"$f":"SA!FE24-SA!ES24","v":8300},{"$f":"SA!FF24-SA!ET24","v":7200},{"$f":"SA!FG24-SA!EU24","v":7300},{"$f":"SA!FH24-SA!EV24","v":6400},{"$f":"SA!FI24-SA!EW24","v":6000},{"$f":"SA!FJ24-SA!EX24","v":6400},{"$f":"SA!FK24-SA!EY24","v":5600},{"$f":"SA!FL24-SA!EZ24","v":6200},{"$f":"SA!FM24-SA!FA24","v":6900},{"$f":"SA!FN24-SA!FB24","v":5400},{"$f":"SA!FO24-SA!FC24","v":4200},{"$f":"SA!FP24-SA!FD24","v":4600},{"$f":"SA!FQ24-SA!FE24","v":3700},{"$f":"SA!FR24-SA!FF24","v":5900},{"$f":"SA!FS24-SA!FG24","v":5600},{"$f":"SA!FT24-SA!FH24","v":5800},{"$f":"SA!FU24-SA!FI24","v":6100},{"$f":"SA!FV24-SA!FJ24","v":6000},{"$f":"SA!FW24-SA!FK24","v":7300},{"$f":"SA!FX24-SA!FL24","v":7900},{"$f":"SA!FY24-SA!FM24","v":7000},{"$f":"SA!FZ24-SA!FN24","v":6600},{"$f":"SA!GA24-SA!FO24","v":5700},{"$f":"SA!GB24-SA!FP24","v":6500},{"$f":"SA!GC24-SA!FQ24","v":6800},{"$f":"SA!GD24-SA!FR24","v":4800},{"$f":"SA!GE24-SA!FS24","v":5200},{"$f":"SA!GF24-SA!FT24","v":5800},{"$f":"SA!GG24-SA!FU24","v":5000},{"$f":"SA!GH24-SA!FV24","v":5900},{"$f":"SA!GI24-SA!FW24","v":5200},{"$f":"SA!GJ24-SA!FX24","v":6500},{"$f":"SA!GK24-SA!FY24","v":5300},{"$f":"SA!GL24-SA!FZ24","v":4800},{"$f":"SA!GM24-SA!GA24","v":6200},{"$f":"SA!GN24-SA!GB24","v":5600},{"$f":"SA!GO24-SA!GC24","v":6800},{"$f":"SA!GP24-SA!GD24","v":8300},{"$f":"SA!GQ24-SA!GE24","v":8500},{"$f":"SA!GR24-SA!GF24","v":8000},{"$f":"SA!GS24-SA!GG24","v":9100},{"$f":"SA!GT24-SA!GH24","v":7400},{"$f":"SA!GU24-SA!GI24","v":7600},{"$f":"SA!GV24-SA!GJ24","v":10600},{"$f":"SA!GW24-SA!GK24","v":9800},{"$f":"SA!GX24-SA!GL24","v":10200},{"$f":"SA!GY24-SA!GM24","v":10900},{"$f":"SA!GZ24-SA!GN24","v":10900},{"$f":"SA!HA24-SA!GO24","v":9200},{"$f":"SA!HB24-SA!GP24","v":9600},{"$f":"SA!HC24-SA!GQ24","v":6500},{"$f":"SA!HD24-SA!GR24","v":7500},{"$f":"SA!HE24-SA!GS24","v":6800},{"$f":"SA!HF24-SA!GT24","v":5400},{"$f":"SA!HG24-SA!GU24","v":5500},{"$f":"SA!HH24-SA!GV24","v":3400},{"$f":"SA!HI24-SA!GW24","v":4400},{"$f":"SA!HJ24-SA!GX24","v":4300},{"$f":"SA!HK24-SA!GY24","v":-448800},{"$f":"SA!HL24-SA!GZ24","v":-449600},{"$f":"SA!HM24-SA!HA24","v":-449200},7179,5,null,"Education and Health Services",-1500,3650,5400,6125,6600,7400,8400,12000,2640.2948557224286]
["Educational Services",{"$f":"SA!BN25-SA!BB25","v":1600},{"$f":"SA!BO25-SA!BC25","v":900},{"$f":"SA!BP25-SA!BD25","v":1200},{"$f":"SA!BQ25-SA!BE25","v":900},{"$f":"SA!BR25-SA!BF25","v":1100},{"$f":"SA!BS25-SA!BG25","v":1000},{"$f":"SA!BT25-SA!BH25","v":800},{"$f":"SA!BU25-SA!BI25","v":700},{"$f":"SA!BV25-SA!BJ25","v":1100},{"$f":"SA!BW25-SA!BK25","v":700},{"$f":"SA!BX25-SA!BL25","v":1000},{"$f":"SA!BY25-SA!BM25","v":600},{"$f":"SA!BZ25-SA!BN25","v":700},{"$f":"SA!CA25-SA!BO25","v":900},{"$f":"SA!CB25-SA!BP25","v":600},{"$f":"SA!CC25-SA!BQ25","v":1000},{"$f":"SA!CD25-SA!BR25","v":1200},{"$f":"SA!CE25-SA!BS25","v":800},{"$f":"SA!CF25-SA!BT25","v":1300},{"$f":"SA!CG25-SA!BU25","v":700},{"$f":"SA!CH25-SA!BV25","v":1000},{"$f":"SA!CI25-SA!BW25","v":1300},{"$f":"SA!CJ25-SA!BX25","v":1400},{"$f":"SA!CK25-SA!BY25","v":1100},{"$f":"SA!CL25-SA!BZ25","v":800},{"$f":"SA!CM25-SA!CA25","v":700},{"$f":"SA!CN25-SA!CB25","v":1000},{"$f":"SA!CO25-SA!CC25","v":300},{"$f":"SA!CP25-SA!CD25","v":400},{"$f":"SA!CQ25-SA!CE25","v":400},{"$f":"SA!CR25-SA!CF25","v":400},{"$f":"SA!CS25-SA!CG25","v":900},{"$f":"SA!CT25-SA!CH25","v":800},{"$f":"SA!CU25-SA!CI25","v":-1700},{"$f":"SA!CV25-SA!CJ25","v":-2900},{"$f":"SA!CW25-SA!CK25","v":-2100},{"$f":"SA!CX25-SA!CL25","v":-2000},{"$f":"SA!CY25-SA!CM25","v":-2100},{"$f":"SA!CZ25-SA!CN25","v":-2400},{"$f":"SA!DA25-SA!CO25","v":-1300},{"$f":"SA!DB25-SA!CP25","v":-1800},{"$f":"SA!DC25-SA!CQ25","v":-1100},{"$f":"SA!DD25-SA!CR25","v":-900},{"$f":"SA!DE25-SA!CS25","v":-1000},{"$f":"SA!DF25-SA!CT25","v":-500},{"$f":"SA!DG25-SA!CU25","v":2900},{"$f":"SA!DH25-SA!CV25","v":4000},{"$f":"SA!DI25-SA!CW25","v":4400},{"$f":"SA!DJ25-SA!CX25","v":3900},{"$f":"SA!DK25-SA!CY25","v":3900},{"$f":"SA!DL25-SA!CZ25","v":4000},{"$f":"SA!DM25-SA!DA25","v":2300},{"$f":"SA!DN25-SA!DB25","v":2500},{"$f":"SA!DO25-SA!DC25","v":3200},{"$f":"SA!DP25-SA!DD25","v":2600},{"$f":"SA!DQ25-SA!DE25","v":2600},{"$f":"SA!DR25-SA!DF25","v":800},{"$f":"SA!DS25-SA!DG25","v":-300},{"$f":"SA!DT25-SA!DH25","v":-800},{"$f":"SA!DU25-SA!DI25","v":-1900},{"$f":"SA!DV25-SA!DJ25","v":-1100},{"$f":"SA!DW25-SA!DK25","v":-1000},{"$f":"SA!DX25-SA!DL25","v":-900},{"$f":"SA!DY25-SA!DM25","v":-800},{"$f":"SA!DZ25-SA!DN25","v":-1500},{"$f":"SA!EA25-SA!DO25","v":-1500},{"$f":"SA!EB25-SA!DP25","v":-400},{"$f":"SA!EC25-SA!DQ25","v":200},{"$f":"SA!ED25-SA!DR25","v":300},{"$f":"SA!EE25-SA!DS25","v":-300},{"$f":"SA!EF25-SA!DT25","v":-400},{"$f":"SA!EG25-SA!DU25","v":-100},{"$f":"SA!EH25-SA!DV25","v":-300},{"$f":"SA!EI25-SA!DW25","v":-800},{"$f":"SA!EJ25-SA!DX25","v":-1800},{"$f":"SA!EK25-SA!DY25","v":400},{"$f":"SA!EL25-SA!DZ25","v":1500},{"$f":"SA!EM25-SA!EA25","v":100},{"$f":"SA!EN25-SA!EB25","v":-400},{"$f":"SA!EO25-SA!EC25","v":-900},{"$f":"SA!EP25-SA!ED25","v":200},{"$f":"SA!EQ25-SA!EE25","v":1000},{"$f":"SA!ER25-SA!EF25","v":1500},{"$f":"SA!ES25-SA!EG25","v":1400},{"$f":"SA!ET25-SA!EH25","v":100},{"$f":"SA!EU25-SA!EI25","v":600},{"$f":"SA!EV25-SA!EJ25","v":1900},{"$f":"SA!EW25-SA!EK25","v":600},{"$f":"SA!EX25-SA!EL25","v":400},{"$f":"SA!EY25-SA!EM25","v":300},{"$f":"SA!EZ25-SA!EN25","v":-4200},{"$f":"SA!FA25-SA!EO25","v":-2500},{"$f":"SA!FB25-SA!EP25","v":-1200},{"$f":"SA!FC25-SA!EQ25","v":-600},{"$f":"SA!FD25-SA!ER25","v":-800},{"$f":"SA!FE25-SA!ES25","v":-500},{"$f":"SA!FF25-SA!ET25","v":400},{"$f":"SA!FG25-SA!EU25","v":600},{"$f":"SA!FH25-SA!EV25","v":-100},{"$f":"SA!FI25-SA!EW25","v":-200},{"$f":"SA!FJ25-SA!EX25","v":-700},{"$f":"SA!FK25-SA!EY25","v":-700},{"$f":"SA!FL25-SA!EZ25","v":800},{"$f":"SA!FM25-SA!FA25","v":800},{"$f":"SA!FN25-SA!FB25","v":100},{"$f":"SA!FO25-SA!FC25","v":-200},{"$f":"SA!FP25-SA!FD25","v":-100},{"$f":"SA!FQ25-SA!FE25","v":-300},{"$f":"SA!FR25-SA!FF25","v":-100},{"$f":"SA!FS25-SA!FG25","v":-300},{"$f":"SA!FT25-SA!FH25","v":-200},{"$f":"SA!FU25-SA!FI25","v":-100},{"$f":"SA!FV25-SA!FJ25","v":500},{"$f":"SA!FW25-SA!FK25","v":500},{"$f":"SA!FX25-SA!FL25","v":1300},{"$f":"SA!FY25-SA!FM25","v":900},{"$f":"SA!FZ25-SA!FN25","v":500},{"$f":"SA!GA25-SA!FO25","v":100},{"$f":"SA!GB25-SA!FP25","v":-100},{"$f":"SA!GC25-SA!FQ25","v":200},{"$f":"SA!GD25-SA!FR25","v":0},{"$f":"SA!GE25-SA!FS25","v":300},{"$f":"SA!GF25-SA!FT25","v":500},{"$f":"SA!GG25-SA!FU25","v":100},{"$f":"SA!GH25-SA!FV25","v":100},{"$f":"SA!GI25-SA!FW25","v":200},{"$f":"SA!GJ25-SA!FX25","v":1100},{"$f":"SA!GK25-SA!FY25","v":400},{"$f":"SA!GL25-SA!FZ25","v":0},{"$f":"SA!GM25-SA!GA25","v":100},{"$f":"SA!GN25-SA!GB25","v":200},{"$f":"SA!GO25-SA!GC25","v":100},{"$f":"SA!GP25-SA!GD25","v":200},{"$f":"SA!GQ25-SA!GE25","v":-100},{"$f":"SA!GR25-SA!GF25","v":0},{"$f":"SA!GS25-SA!GG25","v":400},{"$f":"SA!GT25-SA!GH25","v":-300},{"$f":"SA!GU25-SA!GI25","v":600},{"$f":"SA!GV25-SA!GJ25","v":1000},{"$f":"SA!GW25-SA!GK25","v":1000},{"$f":"SA!GX25-SA!GL25","v":1500},{"$f":"SA!GY25-SA!GM25","v":2200},{"$f":"SA!GZ25-SA!GN25","v":2400},{"$f":"SA!HA25-SA!GO25","v":2200},{"$f":"SA!HB25-SA!GP25","v":1500},{"$f":"SA!HC25-SA!GQ25","v":1400},{"$f":"SA!HD25-SA!GR25","v":1000},{"$f":"SA!HE25-SA!GS25","v":500},{"$f":"SA!HF25-SA!GT25","v":900},{"$f":"SA!HG25-SA!GU25","v":-1000},{"$f":"SA!HH25-SA!GV25","v":-1300},{"$f":"SA!HI25-SA!GW25","v":100},{"$f":"SA!HJ25-SA!GX25","v":600},{"$f":"SA!HK25-SA!GY25","v":-52300},{"$f":"SA!HL25-SA!GZ25","v":-52500},{"$f":"SA!HM25-SA!HA25","v":-52500},4410,0,null,"Educational Services",-4200,-900,-150,200,475,850,1325,4400,1347.1117867107621]
["Health Care and Social Assistance",{"$f":"SA!BN26-SA!BB26","v":6000},{"$f":"SA!BO26-SA!BC26","v":5700},{"$f":"SA!BP26-SA!BD26","v":6000},{"$f":"SA!BQ26-SA!BE26","v":6000},{"$f":"SA!BR26-SA!BF26","v":5800},{"$f":"SA!BS26-SA!BG26","v":6500},{"$f":"SA!BT26-SA!BH26","v":6500},{"$f":"SA!BU26-SA!BI26","v":6200},{"$f":"SA!BV26-SA!BJ26","v":7300},{"$f":"SA!BW26-SA!BK26","v":6800},{"$f":"SA!BX26-SA!BL26","v":6900},{"$f":"SA!BY26-SA!BM26","v":6700},{"$f":"SA!BZ26-SA!BN26","v":6900},{"$f":"SA!CA26-SA!BO26","v":7500},{"$f":"SA!CB26-SA!BP26","v":6500},{"$f":"SA!CC26-SA!BQ26","v":6500},{"$f":"SA!CD26-SA!BR26","v":6200},{"$f":"SA!CE26-SA!BS26","v":6500},{"$f":"SA!CF26-SA!BT26","v":6700},{"$f":"SA!CG26-SA!BU26","v":6900},{"$f":"SA!CH26-SA!BV26","v":6300},{"$f":"SA!CI26-SA!BW26","v":7100},{"$f":"SA!CJ26-SA!BX26","v":6400},{"$f":"SA!CK26-SA!BY26","v":6300},{"$f":"SA!CL26-SA!BZ26","v":5500},{"$f":"SA!CM26-SA!CA26","v":5100},{"$f":"SA!CN26-SA!CB26","v":5500},{"$f":"SA!CO26-SA!CC26","v":5700},{"$f":"SA!CP26-SA!CD26","v":5600},{"$f":"SA!CQ26-SA!CE26","v":6000},{"$f":"SA!CR26-SA!CF26","v":5700},{"$f":"SA!CS26-SA!CG26","v":5700},{"$f":"SA!CT26-SA!CH26","v":6000},{"$f":"SA!CU26-SA!CI26","v":5200},{"$f":"SA!CV26-SA!CJ26","v":5700},{"$f":"SA!CW26-SA!CK26","v":6100},{"$f":"SA!CX26-SA!CL26","v":6600},{"$f":"SA!CY26-SA!CM26","v":6500},{"$f":"SA!CZ26-SA!CN26","v":7000},{"$f":"SA!DA26-SA!CO26","v":6700},{"$f":"SA!DB26-SA!CP26","v":7200},{"$f":"SA!DC26-SA!CQ26","v":6600},{"$f":"SA!DD26-SA!CR26","v":6600},{"$f":"SA!DE26-SA!CS26","v":6800},{"$f":"SA!DF26-SA!CT26","v":6300},{"$f":"SA!DG26-SA!CU26","v":6800},{"$f":"SA!DH26-SA!CV26","v":7400},{"$f":"SA!DI26-SA!CW26","v":7600},{"$f":"SA!DJ26-SA!CX26","v":6800},{"$f":"SA!DK26-SA!CY26","v":7200},{"$f":"SA!DL26-SA!CZ26","v":6700},{"$f":"SA!DM26-SA!DA26","v":6400},{"$f":"SA!DN26-SA!DB26","v":6300},{"$f":"SA!DO26-SA!DC26","v":6000},{"$f":"SA!DP26-SA!DD26","v":5100},{"$f":"SA!DQ26-SA!DE26","v":4800},{"$f":"SA!DR26-SA!DF26","v":3900},{"$f":"SA!DS26-SA!DG26","v":4200},{"$f":"SA!DT26-SA!DH26","v":2900},{"$f":"SA!DU26-SA!DI26","v":1500},{"$f":"SA!DV26-SA!DJ26","v":3400},{"$f":"SA!DW26-SA!DK26","v":2900},{"$f":"SA!DX26-SA!DL26","v":3100},{"$f":"SA!DY26-SA!DM26","v":1100},{"$f":"SA!DZ26-SA!DN26","v":800},{"$f":"SA!EA26-SA!DO26","v":500},{"$f":"SA!EB26-SA!DP26","v":1400},{"$f":"SA!EC26-SA!DQ26","v":1200},{"$f":"SA!ED26-SA!DR26","v":900},{"$f":"SA!EE26-SA!DS26","v":1200},{"$f":"SA!EF26-SA!DT26","v":1900},{"$f":"SA!EG26-SA!DU26","v":2500},{"$f":"SA!EH26-SA!DV26","v":900},{"$f":"SA!EI26-SA!DW26","v":800},{"$f":"SA!EJ26-SA!DX26","v":300},{"$f":"SA!EK26-SA!DY26","v":3300},{"$f":"SA!EL26-SA!DZ26","v":3100},{"$f":"SA!EM26-SA!EA26","v":3600},{"$f":"SA!EN26-SA!EB26","v":3600},{"$f":"SA!EO26-SA!EC26","v":3200},{"$f":"SA!EP26-SA!ED26","v":5200},{"$f":"SA!EQ26-SA!EE26","v":4200},{"$f":"SA!ER26-SA!EF26","v":4100},{"$f":"SA!ES26-SA!EG26","v":4900},{"$f":"SA!ET26-SA!EH26","v":6500},{"$f":"SA!EU26-SA!EI26","v":7000},{"$f":"SA!EV26-SA!EJ26","v":7600},{"$f":"SA!EW26-SA!EK26","v":7000},{"$f":"SA!EX26-SA!EL26","v":6800},{"$f":"SA!EY26-SA!EM26","v":7300},{"$f":"SA!EZ26-SA!EN26","v":8000},{"$f":"SA!FA26-SA!EO26","v":8700},{"$f":"SA!FB26-SA!EP26","v":8500},{"$f":"SA!FC26-SA!EQ26","v":9400},{"$f":"SA!FD26-SA!ER26","v":9300},{"$f":"SA!FE26-SA!ES26","v":8800},{"$f":"SA!FF26-SA!ET26","v":6800},{"$f":"SA!FG26-SA!EU26","v":6700},{"$f":"SA!FH26-SA!EV26","v":6500},{"$f":"SA!FI26-SA!EW26","v":6200},{"$f":"SA!FJ26-SA!EX26","v":7100},{"$f":"SA!FK26-SA!EY26","v":6300},{"$f":"SA!FL26-SA!EZ26","v":5400},{"$f":"SA!FM26-SA!FA26","v":6100},{"$f":"SA!FN26-SA!FB26","v":5300},{"$f":"SA!FO26-SA!FC26","v":4400},{"$f":"SA!FP26-SA!FD26","v":4700},{"$f":"SA!FQ26-SA!FE26","v":4000},{"$f":"SA!FR26-SA!FF26","v":6000},{"$f":"SA!FS26-SA!FG26","v":5900},{"$f":"SA!FT26-SA!FH26","v":6000},{"$f":"SA!FU26-SA!FI26","v":6200},{"$f":"SA!FV26-SA!FJ26","v":5500},{"$f":"SA!FW26-SA!FK26","v":6800},{"$f":"SA!FX26-SA!FL26","v":6600},{"$f":"SA!FY26-SA!FM26","v":6100},{"$f":"SA!FZ26-SA!FN26","v":6100},{"$f":"SA!GA26-SA!FO26","v":5600},{"$f":"SA!GB26-SA!FP26","v":6600},{"$f":"SA!GC26-SA!FQ26","v":6600},{"$f":"SA!GD26-SA!FR26","v":4800},{"$f":"SA!GE26-SA!FS26","v":4900},{"$f":"SA!GF26-SA!FT26","v":5300},{"$f":"SA!GG26-SA!FU26","v":4900},{"$f":"SA!GH26-SA!FV26","v":5800},{"$f":"SA!GI26-SA!FW26","v":5000},{"$f":"SA!GJ26-SA!FX26","v":5400},{"$f":"SA!GK26-SA!FY26","v":4900},{"$f":"SA!GL26-SA!FZ26","v":4800},{"$f":"SA!GM26-SA!GA26","v":6100},{"$f":"SA!GN26-SA!GB26","v":5400},{"$f":"SA!GO26-SA!GC26","v":6700},{"$f":"SA!GP26-SA!GD26","v":8100},{"$f":"SA!GQ26-SA!GE26","v":8600},{"$f":"SA!GR26-SA!GF26","v":8000},{"$f":"SA!GS26-SA!GG26","v":8700},{"$f":"SA!GT26-SA!GH26","v":7700},{"$f":"SA!GU26-SA!GI26","v":7000},{"$f":"SA!GV26-SA!GJ26","v":9600},{"$f":"SA!GW26-SA!GK26","v":8800},{"$f":"SA!GX26-SA!GL26","v":8700},{"$f":"SA!GY26-SA!GM26","v":8700},{"$f":"SA!GZ26-SA!GN26","v":8500},{"$f":"SA!HA26-SA!GO26","v":7000},{"$f":"SA!HB26-SA!GP26","v":8100},{"$f":"SA!HC26-SA!GQ26","v":5100},{"$f":"SA!HD26-SA!GR26","v":6500},{"$f":"SA!HE26-SA!GS26","v":6300},{"$f":"SA!HF26-SA!GT26","v":4500},{"$f":"SA!HG26-SA!GU26","v":6500},{"$f":"SA!HH26-SA!GV26","v":4700},{"$f":"SA!HI26-SA!GW26","v":4300},{"$f":"SA!HJ26-SA!GX26","v":3700},{"$f":"SA!HK26-SA!GY26","v":-396500},{"$f":"SA!HL26-SA!GZ26","v":-397100},{"$f":"SA!HM26-SA!HA26","v":-396700},5664,7,null,"Health Care and Social Assistance",300,3600,5350,6000,6300,6700,7300,9600,1975.6147464885987]
["Leisure and Hospitality",{"$f":"SA!BN27-SA!BB27","v":3100},{"$f":"SA!BO27-SA!BC27","v":4600},{"$f":"SA!BP27-SA!BD27","v":5200},{"$f":"SA!BQ27-SA!BE27","v":7700},{"$f":"SA!BR27-SA!BF27","v":5200},{"$f":"SA!BS27-SA!BG27","v":5600},{"$f":"SA!BT27-SA!BH27","v":2800},{"$f":"SA!BU27-SA!BI27","v":3300},{"$f":"SA!BV27-SA!BJ27","v":4199.9999999999709},{"$f":"SA!BW27-SA!BK27","v":2100},{"$f":"SA!BX27-SA!BL27","v":4000},{"$f":"SA!BY27-SA!BM27","v":3100},{"$f":"SA!BZ27-SA!BN27","v":5500},{"$f":"SA!CA27-SA!BO27","v":6000},{"$f":"SA!CB27-SA!BP27","v":5900},{"$f":"SA!CC27-SA!BQ27","v":2699.9999999999709},{"$f":"SA!CD27-SA!BR27","v":2800},{"$f":"SA!CE27-SA!BS27","v":4100.0000000000291},{"$f":"SA!CF27-SA!BT27","v":4199.9999999999709},{"$f":"SA!CG27-SA!BU27","v":4000},{"$f":"SA!CH27-SA!BV27","v":3200.0000000000582},{"$f":"SA!CI27-SA!BW27","v":5400},{"$f":"SA!CJ27-SA!BX27","v":3800},{"$f":"SA!CK27-SA!BY27","v":5099.9999999999709},{"$f":"SA!CL27-SA!BZ27","v":4300},{"$f":"SA!CM27-SA!CA27","v":3600},{"$f":"SA!CN27-SA!CB27","v":2900},{"$f":"SA!CO27-SA!CC27","v":1600.0000000000291},{"$f":"SA!CP27-SA!CD27","v":3900},{"$f":"SA!CQ27-SA!CE27","v":3799.9999999999709},{"$f":"SA!CR27-SA!CF27","v":2000},{"$f":"SA!CS27-SA!CG27","v":2300},{"$f":"SA!CT27-SA!CH27","v":699.9999999999709},{"$f":"SA!CU27-SA!CI27","v":1300},{"$f":"SA!CV27-SA!CJ27","v":2200},{"$f":"SA!CW27-SA!CK27","v":900.0000000000291},{"$f":"SA!CX27-SA!CL27","v":-500},{"$f":"SA!CY27-SA!CM27","v":-1499.9999999999709},{"$f":"SA!CZ27-SA!CN27","v":-1800.0000000000291},{"$f":"SA!DA27-SA!CO27","v":-1200},{"$f":"SA!DB27-SA!CP27","v":-1599.9999999999709},{"$f":"SA!DC27-SA!CQ27","v":-2900},{"$f":"SA!DD27-SA!CR27","v":-2099.9999999999709},{"$f":"SA!DE27-SA!CS27","v":-3300},{"$f":"SA!DF27-SA!CT27","v":-2199.9999999999709},{"$f":"SA!DG27-SA!CU27","v":-3399.9999999999709},{"$f":"SA!DH27-SA!CV27","v":-4800.0000000000291},{"$f":"SA!DI27-SA!CW27","v":-5300},{"$f":"SA!DJ27-SA!CX27","v":-7000},{"$f":"SA!DK27-SA!CY27","v":-5900.0000000000291},{"$f":"SA!DL27-SA!CZ27","v":-6699.9999999999709},{"$f":"SA!DM27-SA!DA27","v":-7800},{"$f":"SA!DN27-SA!DB27","v":-5000.0000000000291},{"$f":"SA!DO27-SA!DC27","v":-5600},{"$f":"SA!DP27-SA!DD27","v":-7000},{"$f":"SA!DQ27-SA!DE27","v":-7400},{"$f":"SA!DR27-SA!DF27","v":-6500.0000000000291},{"$f":"SA!DS27-SA!DG27","v":-8300.0000000000291},{"$f":"SA!DT27-SA!DH27","v":-7699.9999999999709},{"$f":"SA!DU27-SA!DI27","v":-7000},{"$f":"SA!DV27-SA!DJ27","v":-4000},{"$f":"SA!DW27-SA!DK27","v":-5300},{"$f":"SA!DX27-SA!DL27","v":-4500},{"$f":"SA!DY27-SA!DM27","v":-700},{"$f":"SA!DZ27-SA!DN27","v":-3900},{"$f":"SA!EA27-SA!DO27","v":-3400},{"$f":"SA!EB27-SA!DP27","v":-700},{"$f":"SA!EC27-SA!DQ27","v":1000},{"$f":"SA!ED27-SA!DR27","v":200},{"$f":"SA!EE27-SA!DS27","v":2400},{"$f":"SA!EF27-SA!DT27","v":2700},{"$f":"SA!EG27-SA!DU27","v":2800},{"$f":"SA!EH27-SA!DV27","v":1500},{"$f":"SA!EI27-SA!DW27","v":1600},{"$f":"SA!EJ27-SA!DX27","v":1300},{"$f":"SA!EK27-SA!DY27","v":0},{"$f":"SA!EL27-SA!DZ27","v":300},{"$f":"SA!EM27-SA!EA27","v":1400},{"$f":"SA!EN27-SA!EB27","v":1100},{"$f":"SA!EO27-SA!EC27","v":1100},{"$f":"SA!EP27-SA!ED27","v":1600},{"$f":"SA!EQ27-SA!EE27","v":1200},{"$f":"SA!ER27-SA!EF27","v":500},{"$f":"SA!ES27-SA!EG27","v":100},{"$f":"SA!ET27-SA!EH27","v":1900},{"$f":"SA!EU27-SA!EI27","v":3300},{"$f":"SA!EV27-SA!EJ27","v":5800},{"$f":"SA!EW27-SA!EK27","v":6400},{"$f":"SA!EX27-SA!EL27","v":5100.0000000000291},{"$f":"SA!EY27-SA!EM27","v":5700.0000000000291},{"$f":"SA!EZ27-SA!EN27","v":4699.9999999999709},{"$f":"SA!FA27-SA!EO27","v":3499.9999999999709},{"$f":"SA!FB27-SA!EP27","v":4800},{"$f":"SA!FC27-SA!EQ27","v":3100},{"$f":"SA!FD27-SA!ER27","v":3900},{"$f":"SA!FE27-SA!ES27","v":5400},{"$f":"SA!FF27-SA!ET27","v":4400.0000000000291},{"$f":"SA!FG27-SA!EU27","v":4300.0000000000291},{"$f":"SA!FH27-SA!EV27","v":2400},{"$f":"SA!FI27-SA!EW27","v":-99.999999999970896},{"$f":"SA!FJ27-SA!EX27","v":3599.9999999999709},{"$f":"SA!FK27-SA!EY27","v":2899.9999999999709},{"$f":"SA!FL27-SA!EZ27","v":4000},{"$f":"SA!FM27-SA!FA27","v":5800.0000000000291},{"$f":"SA!FN27-SA!FB27","v":5100},{"$f":"SA!FO27-SA!FC27","v":6300},{"$f":"SA!FP27-SA!FD27","v":5900},{"$f":"SA!FQ27-SA!FE27","v":5100},{"$f":"SA!FR27-SA!FF27","v":4299.9999999999709},{"$f":"SA!FS27-SA!FG27","v":3899.9999999999709},{"$f":"SA!FT27-SA!FH27","v":3600},{"$f":"SA!FU27-SA!FI27","v":5599.9999999999709},{"$f":"SA!FV27-SA!FJ27","v":3100},{"$f":"SA!FW27-SA!FK27","v":4400},{"$f":"SA!FX27-SA!FL27","v":1600.0000000000291},{"$f":"SA!FY27-SA!FM27","v":1100},{"$f":"SA!FZ27-SA!FN27","v":600},{"$f":"SA!GA27-SA!FO27","v":1200},{"$f":"SA!GB27-SA!FP27","v":2300},{"$f":"SA!GC27-SA!FQ27","v":2600},{"$f":"SA!GD27-SA!FR27","v":5000},{"$f":"SA!GE27-SA!FS27","v":4800},{"$f":"SA!GF27-SA!FT27","v":6300},{"$f":"SA!GG27-SA!FU27","v":5600},{"$f":"SA!GH27-SA!FV27","v":6800},{"$f":"SA!GI27-SA!FW27","v":5900},{"$f":"SA!GJ27-SA!FX27","v":7300},{"$f":"SA!GK27-SA!FY27","v":7100},{"$f":"SA!GL27-SA!FZ27","v":7100},{"$f":"SA!GM27-SA!GA27","v":8600},{"$f":"SA!GN27-SA!GB27","v":9300},{"$f":"SA!GO27-SA!GC27","v":8500},{"$f":"SA!GP27-SA!GD27","v":7300},{"$f":"SA!GQ27-SA!GE27","v":8400},{"$f":"SA!GR27-SA!GF27","v":6400},{"$f":"SA!GS27-SA!GG27","v":5700},{"$f":"SA!GT27-SA!GH27","v":4600},{"$f":"SA!GU27-SA!GI27","v":3300},{"$f":"SA!GV27-SA!GJ27","v":5000},{"$f":"SA!GW27-SA!GK27","v":4300},{"$f":"SA!GX27-SA!GL27","v":3600},{"$f":"SA!GY27-SA!GM27","v":1500},{"$f":"SA!GZ27-SA!GN27","v":-500},{"$f":"SA!HA27-SA!GO27","v":-200},{"$f":"SA!HB27-SA!GP27","v":-2200},{"$f":"SA!HC27-SA!GQ27","v":1900},{"$f":"SA!HD27-SA!GR27","v":400},{"$f":"SA!HE27-SA!GS27","v":2600},{"$f":"SA!HF27-SA!GT27","v":4100},{"$f":"SA!HG27-SA!GU27","v":10800},{"$f":"SA!HH27-SA!GV27","v":7000},{"$f":"SA!HI27-SA!GW27","v":6900},{"$f":"SA!HJ27-SA!GX27","v":3800},{"$f":"SA!HK27-SA!GY27","v":-274600},{"$f":"SA!HL27-SA!GZ27","v":-274300},{"$f":"SA!HM27-SA!HA27","v":-274300},13821,0,null,"Leisure and Hospitality",-8300.0000000000291,-3000,1050,2450,3300,4350.0000000000146,5700.0000000000073,9300,3996.6129081578961]
["Arts, Entertainment, and Recreation",{"$f":"SA!BN28-SA!BB28","v":-600},{"$f":"SA!BO28-SA!BC28","v":-800},{"$f":"SA!BP28-SA!BD28","v":-200},{"$f":"SA!BQ28-SA!BE28","v":700},{"$f":"SA!BR28-SA!BF28","v":0},{"$f":"SA!BS28-SA!BG28","v":300},{"$f":"SA!BT28-SA!BH28","v":-100},{"$f":"SA!BU28-SA!BI28","v":100},{"$f":"SA!BV28-SA!BJ28","v":400},{"$f":"SA!BW28-SA!BK28","v":100},{"$f":"SA!BX28-SA!BL28","v":100},{"$f":"SA!BY28-SA!BM28","v":-200},{"$f":"SA!BZ28-SA!BN28","v":100},{"$f":"SA!CA28-SA!BO28","v":900},{"$f":"SA!CB28-SA!BP28","v":700},{"$f":"SA!CC28-SA!BQ28","v":600},{"$f":"SA!CD28-SA!BR28","v":500},{"$f":"SA!CE28-SA!BS28","v":500},{"$f":"SA!CF28-SA!BT28","v":500},{"$f":"SA!CG28-SA!BU28","v":600},{"$f":"SA!CH28-SA!BV28","v":500},{"$f":"SA!CI28-SA!BW28","v":400},{"$f":"SA!CJ28-SA!BX28","v":100},{"$f":"SA!CK28-SA!BY28","v":500},{"$f":"SA!CL28-SA!BZ28","v":900},{"$f":"SA!CM28-SA!CA28","v":800},{"$f":"SA!CN28-SA!CB28","v":1000},{"$f":"SA!CO28-SA!CC28","v":-400},{"$f":"SA!CP28-SA!CD28","v":1300},{"$f":"SA!CQ28-SA!CE28","v":1400},{"$f":"SA!CR28-SA!CF28","v":1100},{"$f":"SA!CS28-SA!CG28","v":900},{"$f":"SA!CT28-SA!CH28","v":700},{"$f":"SA!CU28-SA!CI28","v":1000},{"$f":"SA!CV28-SA!CJ28","v":1500},{"$f":"SA!CW28-SA!CK28","v":1300},{"$f":"SA!CX28-SA!CL28","v":900},{"$f":"SA!CY28-SA!CM28","v":400},{"$f":"SA!CZ28-SA!CN28","v":-100},{"$f":"SA!DA28-SA!CO28","v":-100},{"$f":"SA!DB28-SA!CP28","v":-300},{"$f":"SA!DC28-SA!CQ28","v":-500},{"$f":"SA!DD28-SA!CR28","v":-300},{"$f":"SA!DE28-SA!CS28","v":-100},{"$f":"SA!DF28-SA!CT28","v":-800},{"$f":"SA!DG28-SA!CU28","v":-200},{"$f":"SA!DH28-SA!CV28","v":-1300},{"$f":"SA!DI28-SA!CW28","v":-1000},{"$f":"SA!DJ28-SA!CX28","v":-1400},{"$f":"SA!DK28-SA!CY28","v":-1600},{"$f":"SA!DL28-SA!CZ28","v":-1300},{"$f":"SA!DM28-SA!DA28","v":-1600},{"$f":"SA!DN28-SA!DB28","v":-500},{"$f":"SA!DO28-SA!DC28","v":-700},{"$f":"SA!DP28-SA!DD28","v":-1200},{"$f":"SA!DQ28-SA!DE28","v":-1500},{"$f":"SA!DR28-SA!DF28","v":-300},{"$f":"SA!DS28-SA!DG28","v":-1900},{"$f":"SA!DT28-SA!DH28","v":-800},{"$f":"SA!DU28-SA!DI28","v":-1400},{"$f":"SA!DV28-SA!DJ28","v":-900},{"$f":"SA!DW28-SA!DK28","v":-600},{"$f":"SA!DX28-SA!DL28","v":-200},{"$f":"SA!DY28-SA!DM28","v":1700},{"$f":"SA!DZ28-SA!DN28","v":-600},{"$f":"SA!EA28-SA!DO28","v":-1300},{"$f":"SA!EB28-SA!DP28","v":200},{"$f":"SA!EC28-SA!DQ28","v":500},{"$f":"SA!ED28-SA!DR28","v":-200},{"$f":"SA!EE28-SA!DS28","v":600},{"$f":"SA!EF28-SA!DT28","v":300},{"$f":"SA!EG28-SA!DU28","v":700},{"$f":"SA!EH28-SA!DV28","v":400},{"$f":"SA!EI28-SA!DW28","v":700},{"$f":"SA!EJ28-SA!DX28","v":-100},{"$f":"SA!EK28-SA!DY28","v":-700},{"$f":"SA!EL28-SA!DZ28","v":-500},{"$f":"SA!EM28-SA!EA28","v":800},{"$f":"SA!EN28-SA!EB28","v":500},{"$f":"SA!EO28-SA!EC28","v":300},{"$f":"SA!EP28-SA!ED28","v":600},{"$f":"SA!EQ28-SA!EE28","v":1000},{"$f":"SA!ER28-SA!EF28","v":900},{"$f":"SA!ES28-SA!EG28","v":800},{"$f":"SA!ET28-SA!EH28","v":1000},{"$f":"SA!EU28-SA!EI28","v":500},{"$f":"SA!EV28-SA!EJ28","v":2100},{"$f":"SA!EW28-SA!EK28","v":2700},{"$f":"SA!EX28-SA!EL28","v":1400},{"$f":"SA!EY28-SA!EM28","v":900},{"$f":"SA!EZ28-SA!EN28","v":300},{"$f":"SA!FA28-SA!EO28","v":100},{"$f":"SA!FB28-SA!EP28","v":800},{"$f":"SA!FC28-SA!EQ28","v":-100},{"$f":"SA!FD28-SA!ER28","v":-200},{"$f":"SA!FE28-SA!ES28","v":100},{"$f":"SA!FF28-SA!ET28","v":200},{"$f":"SA!FG28-SA!EU28","v":400},{"$f":"SA!FH28-SA!EV28","v":-1000},{"$f":"SA!FI28-SA!EW28","v":-2500},{"$f":"SA!FJ28-SA!EX28","v":400},{"$f":"SA!FK28-SA!EY28","v":300},{"$f":"SA!FL28-SA!EZ28","v":200},{"$f":"SA!FM28-SA!FA28","v":700},{"$f":"SA!FN28-SA!FB28","v":400},{"$f":"SA!FO28-SA!FC28","v":900},{"$f":"SA!FP28-SA!FD28","v":1300},{"$f":"SA!FQ28-SA!FE28","v":1200},{"$f":"SA!FR28-SA!FF28","v":800},{"$f":"SA!FS28-SA!FG28","v":1000},{"$f":"SA!FT28-SA!FH28","v":1000},{"$f":"SA!FU28-SA!FI28","v":1700},{"$f":"SA!FV28-SA!FJ28","v":100},{"$f":"SA!FW28-SA!FK28","v":800},{"$f":"SA!FX28-SA!FL28","v":1100},{"$f":"SA!FY28-SA!FM28","v":700},{"$f":"SA!FZ28-SA!FN28","v":300},{"$f":"SA!GA28-SA!FO28","v":0},{"$f":"SA!GB28-SA!FP28","v":300},{"$f":"SA!GC28-SA!FQ28","v":300},{"$f":"SA!GD28-SA!FR28","v":1000},{"$f":"SA!GE28-SA!FS28","v":500},{"$f":"SA!GF28-SA!FT28","v":1200},{"$f":"SA!GG28-SA!FU28","v":900},{"$f":"SA!GH28-SA!FV28","v":1700},{"$f":"SA!GI28-SA!FW28","v":1600},{"$f":"SA!GJ28-SA!FX28","v":600},{"$f":"SA!GK28-SA!FY28","v":1000},{"$f":"SA!GL28-SA!FZ28","v":1200},{"$f":"SA!GM28-SA!GA28","v":2300},{"$f":"SA!GN28-SA!GB28","v":2300},{"$f":"SA!GO28-SA!GC28","v":1300},{"$f":"SA!GP28-SA!GD28","v":1500},{"$f":"SA!GQ28-SA!GE28","v":2200},{"$f":"SA!GR28-SA!GF28","v":1800},{"$f":"SA!GS28-SA!GG28","v":1700},{"$f":"SA!GT28-SA!GH28","v":1500},{"$f":"SA!GU28-SA!GI28","v":1200},{"$f":"SA!GV28-SA!GJ28","v":2300},{"$f":"SA!GW28-SA!GK28","v":2100},{"$f":"SA!GX28-SA!GL28","v":1800},{"$f":"SA!GY28-SA!GM28","v":500},{"$f":"SA!GZ28-SA!GN28","v":-500},{"$f":"SA!HA28-SA!GO28","v":-300},{"$f":"SA!HB28-SA!GP28","v":-1700},{"$f":"SA!HC28-SA!GQ28","v":-2500},{"$f":"SA!HD28-SA!GR28","v":-900},{"$f":"SA!HE28-SA!GS28","v":700},{"$f":"SA!HF28-SA!GT28","v":400},{"$f":"SA!HG28-SA!GU28","v":3100},{"$f":"SA!HH28-SA!GV28","v":2200},{"$f":"SA!HI28-SA!GW28","v":2300},{"$f":"SA!HJ28-SA!GX28","v":2000},{"$f":"SA!HK28-SA!GY28","v":-39200},{"$f":"SA!HL28-SA!GZ28","v":-38700},{"$f":"SA!HM28-SA!HA28","v":-38100},9225,0,null,"Arts, Entertainment, and Recreation",-2500,-600,-50,400,500,900,1300,2700,933.68436479120476]
["Accommodation and Food Services",{"$f":"SA!BN29-SA!BB29","v":3700},{"$f":"SA!BO29-SA!BC29","v":5400},{"$f":"SA!BP29-SA!BD29","v":5400},{"$f":"SA!BQ29-SA!BE29","v":7000},{"$f":"SA!BR29-SA!BF29","v":5200},{"$f":"SA!BS29-SA!BG29","v":5300},{"$f":"SA!BT29-SA!BH29","v":2900},{"$f":"SA!BU29-SA!BI29","v":3200},{"$f":"SA!BV29-SA!BJ29","v":3800},{"$f":"SA!BW29-SA!BK29","v":2000},{"$f":"SA!BX29-SA!BL29","v":3900},{"$f":"SA!BY29-SA!BM29","v":3300},{"$f":"SA!BZ29-SA!BN29","v":5400},{"$f":"SA!CA29-SA!BO29","v":5100},{"$f":"SA!CB29-SA!BP29","v":5200},{"$f":"SA!CC29-SA!BQ29","v":2100},{"$f":"SA!CD29-SA!BR29","v":2300},{"$f":"SA!CE29-SA!BS29","v":3600},{"$f":"SA!CF29-SA!BT29","v":3700},{"$f":"SA!CG29-SA!BU29","v":3400},{"$f":"SA!CH29-SA!BV29","v":2700},{"$f":"SA!CI29-SA!BW29","v":5000},{"$f":"SA!CJ29-SA!BX29","v":3700},{"$f":"SA!CK29-SA!BY29","v":4600},{"$f":"SA!CL29-SA!BZ29","v":3400},{"$f":"SA!CM29-SA!CA29","v":2800},{"$f":"SA!CN29-SA!CB29","v":1900},{"$f":"SA!CO29-SA!CC29","v":2000},{"$f":"SA!CP29-SA!CD29","v":2600},{"$f":"SA!CQ29-SA!CE29","v":2400},{"$f":"SA!CR29-SA!CF29","v":900},{"$f":"SA!CS29-SA!CG29","v":1400},{"$f":"SA!CT29-SA!CH29","v":0},{"$f":"SA!CU29-SA!CI29","v":300},{"$f":"SA!CV29-SA!CJ29","v":700},{"$f":"SA!CW29-SA!CK29","v":-400},{"$f":"SA!CX29-SA!CL29","v":-1400},{"$f":"SA!CY29-SA!CM29","v":-1900},{"$f":"SA!CZ29-SA!CN29","v":-1700},{"$f":"SA!DA29-SA!CO29","v":-1100},{"$f":"SA!DB29-SA!CP29","v":-1300},{"$f":"SA!DC29-SA!CQ29","v":-2400},{"$f":"SA!DD29-SA!CR29","v":-1800},{"$f":"SA!DE29-SA!CS29","v":-3200},{"$f":"SA!DF29-SA!CT29","v":-1400},{"$f":"SA!DG29-SA!CU29","v":-3200},{"$f":"SA!DH29-SA!CV29","v":-3500},{"$f":"SA!DI29-SA!CW29","v":-4300},{"$f":"SA!DJ29-SA!CX29","v":-5600},{"$f":"SA!DK29-SA!CY29","v":-4300},{"$f":"SA!DL29-SA!CZ29","v":-5400},{"$f":"SA!DM29-SA!DA29","v":-6200},{"$f":"SA!DN29-SA!DB29","v":-4500},{"$f":"SA!DO29-SA!DC29","v":-4900},{"$f":"SA!DP29-SA!DD29","v":-5800},{"$f":"SA!DQ29-SA!DE29","v":-5900},{"$f":"SA!DR29-SA!DF29","v":-6200},{"$f":"SA!DS29-SA!DG29","v":-6400},{"$f":"SA!DT29-SA!DH29","v":-6900},{"$f":"SA!DU29-SA!DI29","v":-5600},{"$f":"SA!DV29-SA!DJ29","v":-3100},{"$f":"SA!DW29-SA!DK29","v":-4700},{"$f":"SA!DX29-SA!DL29","v":-4300},{"$f":"SA!DY29-SA!DM29","v":-2400},{"$f":"SA!DZ29-SA!DN29","v":-3300},{"$f":"SA!EA29-SA!DO29","v":-2100},{"$f":"SA!EB29-SA!DP29","v":-900},{"$f":"SA!EC29-SA!DQ29","v":500},{"$f":"SA!ED29-SA!DR29","v":400},{"$f":"SA!EE29-SA!DS29","v":1800},{"$f":"SA!EF29-SA!DT29","v":2400},{"$f":"SA!EG29-SA!DU29","v":2100},{"$f":"SA!EH29-SA!DV29","v":1100},{"$f":"SA!EI29-SA!DW29","v":900},{"$f":"SA!EJ29-SA!DX29","v":1400},{"$f":"SA!EK29-SA!DY29","v":700},{"$f":"SA!EL29-SA!DZ29","v":800},{"$f":"SA!EM29-SA!EA29","v":600},{"$f":"SA!EN29-SA!EB29","v":600},{"$f":"SA!EO29-SA!EC29","v":800},{"$f":"SA!EP29-SA!ED29","v":1000},{"$f":"SA!EQ29-SA!EE29","v":200},{"$f":"SA!ER29-SA!EF29","v":-400},{"$f":"SA!ES29-SA!EG29","v":-700},{"$f":"SA!ET29-SA!EH29","v":900},{"$f":"SA!EU29-SA!EI29","v":2800},{"$f":"SA!EV29-SA!EJ29","v":3700},{"$f":"SA!EW29-SA!EK29","v":3700},{"$f":"SA!EX29-SA!EL29","v":3700},{"$f":"SA!EY29-SA!EM29","v":4800},{"$f":"SA!EZ29-SA!EN29","v":4400},{"$f":"SA!FA29-SA!EO29","v":3400},{"$f":"SA!FB29-SA!EP29","v":4000},{"$f":"SA!FC29-SA!EQ29","v":3200},{"$f":"SA!FD29-SA!ER29","v":4100},{"$f":"SA!FE29-SA!ES29","v":5300},{"$f":"SA!FF29-SA!ET29","v":4200},{"$f":"SA!FG29-SA!EU29","v":3900},{"$f":"SA!FH29-SA!EV29","v":3400},{"$f":"SA!FI29-SA!EW29","v":2400},{"$f":"SA!FJ29-SA!EX29","v":3200},{"$f":"SA!FK29-SA!EY29","v":2600},{"$f":"SA!FL29-SA!EZ29","v":3800},{"$f":"SA!FM29-SA!FA29","v":5100},{"$f":"SA!FN29-SA!FB29","v":4700},{"$f":"SA!FO29-SA!FC29","v":5400},{"$f":"SA!FP29-SA!FD29","v":4600},{"$f":"SA!FQ29-SA!FE29","v":3900},{"$f":"SA!FR29-SA!FF29","v":3500},{"$f":"SA!FS29-SA!FG29","v":2900},{"$f":"SA!FT29-SA!FH29","v":2600},{"$f":"SA!FU29-SA!FI29","v":3900},{"$f":"SA!FV29-SA!FJ29","v":3000},{"$f":"SA!FW29-SA!FK29","v":3600},{"$f":"SA!FX29-SA!FL29","v":500},{"$f":"SA!FY29-SA!FM29","v":400},{"$f":"SA!FZ29-SA!FN29","v":300},{"$f":"SA!GA29-SA!FO29","v":1200},{"$f":"SA!GB29-SA!FP29","v":2000},{"$f":"SA!GC29-SA!FQ29","v":2300},{"$f":"SA!GD29-SA!FR29","v":4000},{"$f":"SA!GE29-SA!FS29","v":4300},{"$f":"SA!GF29-SA!FT29","v":5100},{"$f":"SA!GG29-SA!FU29","v":4700},{"$f":"SA!GH29-SA!FV29","v":5100},{"$f":"SA!GI29-SA!FW29","v":4300},{"$f":"SA!GJ29-SA!FX29","v":6700},{"$f":"SA!GK29-SA!FY29","v":6100},{"$f":"SA!GL29-SA!FZ29","v":5900},{"$f":"SA!GM29-SA!GA29","v":6300},{"$f":"SA!GN29-SA!GB29","v":7000},{"$f":"SA!GO29-SA!GC29","v":7200},{"$f":"SA!GP29-SA!GD29","v":5800},{"$f":"SA!GQ29-SA!GE29","v":6200},{"$f":"SA!GR29-SA!GF29","v":4600},{"$f":"SA!GS29-SA!GG29","v":4000},{"$f":"SA!GT29-SA!GH29","v":3100},{"$f":"SA!GU29-SA!GI29","v":2100},{"$f":"SA!GV29-SA!GJ29","v":2700},{"$f":"SA!GW29-SA!GK29","v":2200},{"$f":"SA!GX29-SA!GL29","v":1800},{"$f":"SA!GY29-SA!GM29","v":1000},{"$f":"SA!GZ29-SA!GN29","v":0},{"$f":"SA!HA29-SA!GO29","v":100},{"$f":"SA!HB29-SA!GP29","v":-500},{"$f":"SA!HC29-SA!GQ29","v":4400},{"$f":"SA!HD29-SA!GR29","v":1300},{"$f":"SA!HE29-SA!GS29","v":1900},{"$f":"SA!HF29-SA!GT29","v":3700},{"$f":"SA!HG29-SA!GU29","v":7700},{"$f":"SA!HH29-SA!GV29","v":4800},{"$f":"SA!HI29-SA!GW29","v":4600},{"$f":"SA!HJ29-SA!GX29","v":1800},{"$f":"SA!HK29-SA!GY29","v":-235400},{"$f":"SA!HL29-SA!GZ29","v":-235600},{"$f":"SA!HM29-SA!HA29","v":-236200},10293,0,null,"Accommodation and Food Services",-6900,-2400,500,2025,2775,3700,5025,7200,3366.1818241596025]
["Other Services",{"$f":"SA!BN30-SA!BB30","v":1700},{"$f":"SA!BO30-SA!BC30","v":1600},{"$f":"SA!BP30-SA!BD30","v":1400},{"$f":"SA!BQ30-SA!BE30","v":1500},{"$f":"SA!BR30-SA!BF30","v":1300},{"$f":"SA!BS30-SA!BG30","v":600},{"$f":"SA!BT30-SA!BH30","v":700},{"$f":"SA!BU30-SA!BI30","v":500},{"$f":"SA!BV30-SA!BJ30","v":500},{"$f":"SA!BW30-SA!BK30","v":-1200},{"$f":"SA!BX30-SA!BL30","v":0},{"$f":"SA!BY30-SA!BM30","v":700},{"$f":"SA!BZ30-SA!BN30","v":100},{"$f":"SA!CA30-SA!BO30","v":-300},{"$f":"SA!CB30-SA!BP30","v":-200},{"$f":"SA!CC30-SA!BQ30","v":-500},{"$f":"SA!CD30-SA!BR30","v":-400},{"$f":"SA!CE30-SA!BS30","v":100},{"$f":"SA!CF30-SA!BT30","v":0},{"$f":"SA!CG30-SA!BU30","v":-100},{"$f":"SA!CH30-SA!BV30","v":100},{"$f":"SA!CI30-SA!BW30","v":200},{"$f":"SA!CJ30-SA!BX30","v":400},{"$f":"SA!CK30-SA!BY30","v":600},{"$f":"SA!CL30-SA!BZ30","v":1200},{"$f":"SA!CM30-SA!CA30","v":1500},{"$f":"SA!CN30-SA!CB30","v":1500},{"$f":"SA!CO30-SA!CC30","v":1800},{"$f":"SA!CP30-SA!CD30","v":1900},{"$f":"SA!CQ30-SA!CE30","v":1800},{"$f":"SA!CR30-SA!CF30","v":1800},{"$f":"SA!CS30-SA!CG30","v":1500},{"$f":"SA!CT30-SA!CH30","v":1000},{"$f":"SA!CU30-SA!CI30","v":1700},{"$f":"SA!CV30-SA!CJ30","v":1700},{"$f":"SA!CW30-SA!CK30","v":1500},{"$f":"SA!CX30-SA!CL30","v":900},{"$f":"SA!CY30-SA!CM30","v":900},{"$f":"SA!CZ30-SA!CN30","v":900},{"$f":"SA!DA30-SA!CO30","v":1100},{"$f":"SA!DB30-SA!CP30","v":1200},{"$f":"SA!DC30-SA!CQ30","v":1200},{"$f":"SA!DD30-SA!CR30","v":1200},{"$f":"SA!DE30-SA!CS30","v":1700},{"$f":"SA!DF30-SA!CT30","v":1900},{"$f":"SA!DG30-SA!CU30","v":3300},{"$f":"SA!DH30-SA!CV30","v":2100},{"$f":"SA!DI30-SA!CW30","v":1400},{"$f":"SA!DJ30-SA!CX30","v":1200},{"$f":"SA!DK30-SA!CY30","v":900},{"$f":"SA!DL30-SA!CZ30","v":800},{"$f":"SA!DM30-SA!DA30","v":-300},{"$f":"SA!DN30-SA!DB30","v":-600},{"$f":"SA!DO30-SA!DC30","v":-800},{"$f":"SA!DP30-SA!DD30","v":-1200},{"$f":"SA!DQ30-SA!DE30","v":-1600},{"$f":"SA!DR30-SA!DF30","v":-1500},{"$f":"SA!DS30-SA!DG30","v":-3700},{"$f":"SA!DT30-SA!DH30","v":-2600},{"$f":"SA!DU30-SA!DI30","v":-2200},{"$f":"SA!DV30-SA!DJ30","v":-2300},{"$f":"SA!DW30-SA!DK30","v":-2100},{"$f":"SA!DX30-SA!DL30","v":-2000},{"$f":"SA!DY30-SA!DM30","v":-1100},{"$f":"SA!DZ30-SA!DN30","v":-1400},{"$f":"SA!EA30-SA!DO30","v":-1400},{"$f":"SA!EB30-SA!DP30","v":-900},{"$f":"SA!EC30-SA!DQ30","v":-700},{"$f":"SA!ED30-SA!DR30","v":-800},{"$f":"SA!EE30-SA!DS30","v":0},{"$f":"SA!EF30-SA!DT30","v":-500},{"$f":"SA!EG30-SA!DU30","v":-400},{"$f":"SA!EH30-SA!DV30","v":200},{"$f":"SA!EI30-SA!DW30","v":100},{"$f":"SA!EJ30-SA!DX30","v":100},{"$f":"SA!EK30-SA!DY30","v":0},{"$f":"SA!EL30-SA!DZ30","v":300},{"$f":"SA!EM30-SA!EA30","v":200},{"$f":"SA!EN30-SA!EB30","v":600},{"$f":"SA!EO30-SA!EC30","v":400},{"$f":"SA!EP30-SA!ED30","v":400},{"$f":"SA!EQ30-SA!EE30","v":-400},{"$f":"SA!ER30-SA!EF30","v":200},{"$f":"SA!ES30-SA!EG30","v":700},{"$f":"SA!ET30-SA!EH30","v":500},{"$f":"SA!EU30-SA!EI30","v":900},{"$f":"SA!EV30-SA!EJ30","v":600},{"$f":"SA!EW30-SA!EK30","v":600},{"$f":"SA!EX30-SA!EL30","v":500},{"$f":"SA!EY30-SA!EM30","v":1900},{"$f":"SA!EZ30-SA!EN30","v":300},{"$f":"SA!FA30-SA!EO30","v":500},{"$f":"SA!FB30-SA!EP30","v":500},{"$f":"SA!FC30-SA!EQ30","v":500},{"$f":"SA!FD30-SA!ER30","v":500},{"$f":"SA!FE30-SA!ES30","v":0},{"$f":"SA!FF30-SA!ET30","v":-200},{"$f":"SA!FG30-SA!EU30","v":-600},{"$f":"SA!FH30-SA!EV30","v":-200},{"$f":"SA!FI30-SA!EW30","v":-500},{"$f":"SA!FJ30-SA!EX30","v":0},{"$f":"SA!FK30-SA!EY30","v":-900},{"$f":"SA!FL30-SA!EZ30","v":-200},{"$f":"SA!FM30-SA!FA30","v":100},{"$f":"SA!FN30-SA!FB30","v":1100},{"$f":"SA!FO30-SA!FC30","v":500},{"$f":"SA!FP30-SA!FD30","v":1600},{"$f":"SA!FQ30-SA!FE30","v":2100},{"$f":"SA!FR30-SA!FF30","v":3000},{"$f":"SA!FS30-SA!FG30","v":3800},{"$f":"SA!FT30-SA!FH30","v":3700},{"$f":"SA!FU30-SA!FI30","v":4500},{"$f":"SA!FV30-SA!FJ30","v":4700},{"$f":"SA!FW30-SA!FK30","v":5200},{"$f":"SA!FX30-SA!FL30","v":6200},{"$f":"SA!FY30-SA!FM30","v":6700},{"$f":"SA!FZ30-SA!FN30","v":6200},{"$f":"SA!GA30-SA!FO30","v":7100},{"$f":"SA!GB30-SA!FP30","v":6400},{"$f":"SA!GC30-SA!FQ30","v":6300},{"$f":"SA!GD30-SA!FR30","v":6800},{"$f":"SA!GE30-SA!FS30","v":6500},{"$f":"SA!GF30-SA!FT30","v":6700},{"$f":"SA!GG30-SA!FU30","v":6400},{"$f":"SA!GH30-SA!FV30","v":6100},{"$f":"SA!GI30-SA!FW30","v":5300},{"$f":"SA!GJ30-SA!FX30","v":4500},{"$f":"SA!GK30-SA!FY30","v":3500},{"$f":"SA!GL30-SA!FZ30","v":3300},{"$f":"SA!GM30-SA!GA30","v":3200},{"$f":"SA!GN30-SA!GB30","v":2700},{"$f":"SA!GO30-SA!GC30","v":2700},{"$f":"SA!GP30-SA!GD30","v":1800},{"$f":"SA!GQ30-SA!GE30","v":1300},{"$f":"SA!GR30-SA!GF30","v":1000},{"$f":"SA!GS30-SA!GG30","v":600},{"$f":"SA!GT30-SA!GH30","v":300},{"$f":"SA!GU30-SA!GI30","v":400},{"$f":"SA!GV30-SA!GJ30","v":900},{"$f":"SA!GW30-SA!GK30","v":1200},{"$f":"SA!GX30-SA!GL30","v":1200},{"$f":"SA!GY30-SA!GM30","v":2000},{"$f":"SA!GZ30-SA!GN30","v":2100},{"$f":"SA!HA30-SA!GO30","v":3000},{"$f":"SA!HB30-SA!GP30","v":1900},{"$f":"SA!HC30-SA!GQ30","v":3500},{"$f":"SA!HD30-SA!GR30","v":3200},{"$f":"SA!HE30-SA!GS30","v":4100},{"$f":"SA!HF30-SA!GT30","v":1600},{"$f":"SA!HG30-SA!GU30","v":3400},{"$f":"SA!HH30-SA!GV30","v":3000},{"$f":"SA!HI30-SA!GW30","v":3000},{"$f":"SA!HJ30-SA!GX30","v":2300},{"$f":"SA!HK30-SA!GY30","v":-150400},{"$f":"SA!HL30-SA!GZ30","v":-150500},{"$f":"SA!HM30-SA!HA30","v":-151700},7819,0,null,"Other Services",-3700,-500,100,525,900,1550,3225,7100,2116.03911300755]
["Government",{"$f":"SA!BN31-SA!BB31","v":8300},{"$f":"SA!BO31-SA!BC31","v":4500},{"$f":"SA!BP31-SA!BD31","v":2100},{"$f":"SA!BQ31-SA!BE31","v":4700},{"$f":"SA!BR31-SA!BF31","v":3400},{"$f":"SA!BS31-SA!BG31","v":-700},{"$f":"SA!BT31-SA!BH31","v":1300},{"$f":"SA!BU31-SA!BI31","v":-100},{"$f":"SA!BV31-SA!BJ31","v":8000},{"$f":"SA!BW31-SA!BK31","v":2500},{"$f":"SA!BX31-SA!BL31","v":-700},{"$f":"SA!BY31-SA!BM31","v":4900},{"$f":"SA!BZ31-SA!BN31","v":-1000},{"$f":"SA!CA31-SA!BO31","v":-1600},{"$f":"SA!CB31-SA!BP31","v":1300},{"$f":"SA!CC31-SA!BQ31","v":800},{"$f":"SA!CD31-SA!BR31","v":-400},{"$f":"SA!CE31-SA!BS31","v":4100},{"$f":"SA!CF31-SA!BT31","v":1600},{"$f":"SA!CG31-SA!BU31","v":2000},{"$f":"SA!CH31-SA!BV31","v":-300},{"$f":"SA!CI31-SA!BW31","v":-1700},{"$f":"SA!CJ31-SA!BX31","v":900},{"$f":"SA!CK31-SA!BY31","v":-2300},{"$f":"SA!CL31-SA!BZ31","v":-1500},{"$f":"SA!CM31-SA!CA31","v":-1600},{"$f":"SA!CN31-SA!CB31","v":-1700},{"$f":"SA!CO31-SA!CC31","v":-400},{"$f":"SA!CP31-SA!CD31","v":2100},{"$f":"SA!CQ31-SA!CE31","v":3600},{"$f":"SA!CR31-SA!CF31","v":1300},{"$f":"SA!CS31-SA!CG31","v":2500},{"$f":"SA!CT31-SA!CH31","v":3100},{"$f":"SA!CU31-SA!CI31","v":1400},{"$f":"SA!CV31-SA!CJ31","v":-1000},{"$f":"SA!CW31-SA!CK31","v":3100},{"$f":"SA!CX31-SA!CL31","v":6500},{"$f":"SA!CY31-SA!CM31","v":6500},{"$f":"SA!CZ31-SA!CN31","v":4600},{"$f":"SA!DA31-SA!CO31","v":2100},{"$f":"SA!DB31-SA!CP31","v":4100},{"$f":"SA!DC31-SA!CQ31","v":-1000},{"$f":"SA!DD31-SA!CR31","v":4900},{"$f":"SA!DE31-SA!CS31","v":2300},{"$f":"SA!DF31-SA!CT31","v":10500},{"$f":"SA!DG31-SA!CU31","v":9200},{"$f":"SA!DH31-SA!CV31","v":14500},{"$f":"SA!DI31-SA!CW31","v":7300},{"$f":"SA!DJ31-SA!CX31","v":2100},{"$f":"SA!DK31-SA!CY31","v":4000},{"$f":"SA!DL31-SA!CZ31","v":4600},{"$f":"SA!DM31-SA!DA31","v":5200},{"$f":"SA!DN31-SA!DB31","v":3700},{"$f":"SA!DO31-SA!DC31","v":1200},{"$f":"SA!DP31-SA!DD31","v":-800},{"$f":"SA!DQ31-SA!DE31","v":-2000},{"$f":"SA!DR31-SA!DF31","v":-14800},{"$f":"SA!DS31-SA!DG31","v":-5100},{"$f":"SA!DT31-SA!DH31","v":-10200},{"$f":"SA!DU31-SA!DI31","v":-4600},{"$f":"SA!DV31-SA!DJ31","v":-3500},{"$f":"SA!DW31-SA!DK31","v":-6200},{"$f":"SA!DX31-SA!DL31","v":-4900},{"$f":"SA!DY31-SA!DM31","v":-600},{"$f":"SA!DZ31-SA!DN31","v":2000},{"$f":"SA!EA31-SA!DO31","v":2200},{"$f":"SA!EB31-SA!DP31","v":-2000},{"$f":"SA!EC31-SA!DQ31","v":-1300},{"$f":"SA!ED31-SA!DR31","v":1300},{"$f":"SA!EE31-SA!DS31","v":-1100},{"$f":"SA!EF31-SA!DT31","v":1500},{"$f":"SA!EG31-SA!DU31","v":-5500},{"$f":"SA!EH31-SA!DV31","v":-2200},{"$f":"SA!EI31-SA!DW31","v":1300},{"$f":"SA!EJ31-SA!DX31","v":600},{"$f":"SA!EK31-SA!DY31","v":-5800},{"$f":"SA!EL31-SA!DZ31","v":-8200},{"$f":"SA!EM31-SA!EA31","v":-8300},{"$f":"SA!EN31-SA!EB31","v":-100},{"$f":"SA!EO31-SA!EC31","v":-3400},{"$f":"SA!EP31-SA!ED31","v":-6000},{"$f":"SA!EQ31-SA!EE31","v":-9800},{"$f":"SA!ER31-SA!EF31","v":-13300},{"$f":"SA!ES31-SA!EG31","v":-3900},{"$f":"SA!ET31-SA!EH31","v":-15700},{"$f":"SA!EU31-SA!EI31","v":-14400},{"$f":"SA!EV31-SA!EJ31","v":-8100},{"$f":"SA!EW31-SA!EK31","v":-1800},{"$f":"SA!EX31-SA!EL31","v":700},{"$f":"SA!EY31-SA!EM31","v":-2000},{"$f":"SA!EZ31-SA!EN31","v":-9200},{"$f":"SA!FA31-SA!EO31","v":-1200},{"$f":"SA!FB31-SA!EP31","v":-1400},{"$f":"SA!FC31-SA!EQ31","v":2700},{"$f":"SA!FD31-SA!ER31","v":9400},{"$f":"SA!FE31-SA!ES31","v":400},{"$f":"SA!FF31-SA!ET31","v":-800},{"$f":"SA!FG31-SA!EU31","v":8700},{"$f":"SA!FH31-SA!EV31","v":100},{"$f":"SA!FI31-SA!EW31","v":-4900},{"$f":"SA!FJ31-SA!EX31","v":-9600},{"$f":"SA!FK31-SA!EY31","v":-3700},{"$f":"SA!FL31-SA!EZ31","v":-200},{"$f":"SA!FM31-SA!FA31","v":-3500},{"$f":"SA!FN31-SA!FB31","v":1100},{"$f":"SA!FO31-SA!FC31","v":-200},{"$f":"SA!FP31-SA!FD31","v":-6300},{"$f":"SA!FQ31-SA!FE31","v":-600},{"$f":"SA!FR31-SA!FF31","v":11200},{"$f":"SA!FS31-SA!FG31","v":-3900},{"$f":"SA!FT31-SA!FH31","v":-500},{"$f":"SA!FU31-SA!FI31","v":1600},{"$f":"SA!FV31-SA!FJ31","v":1800},{"$f":"SA!FW31-SA!FK31","v":2100},{"$f":"SA!FX31-SA!FL31","v":2100},{"$f":"SA!FY31-SA!FM31","v":8100},{"$f":"SA!FZ31-SA!FN31","v":1100},{"$f":"SA!GA31-SA!FO31","v":300},{"$f":"SA!GB31-SA!FP31","v":6800},{"$f":"SA!GC31-SA!FQ31","v":500},{"$f":"SA!GD31-SA!FR31","v":-1900},{"$f":"SA!GE31-SA!FS31","v":1900},{"$f":"SA!GF31-SA!FT31","v":200},{"$f":"SA!GG31-SA!FU31","v":-500},{"$f":"SA!GH31-SA!FV31","v":-1100},{"$f":"SA!GI31-SA!FW31","v":-1500},{"$f":"SA!GJ31-SA!FX31","v":-3300},{"$f":"SA!GK31-SA!FY31","v":-9300},{"$f":"SA!GL31-SA!FZ31","v":-4800},{"$f":"SA!GM31-SA!GA31","v":-3800},{"$f":"SA!GN31-SA!GB31","v":-11600},{"$f":"SA!GO31-SA!GC31","v":-2200},{"$f":"SA!GP31-SA!GD31","v":200},{"$f":"SA!GQ31-SA!GE31","v":-900},{"$f":"SA!GR31-SA!GF31","v":-600},{"$f":"SA!GS31-SA!GG31","v":200},{"$f":"SA!GT31-SA!GH31","v":-1800},{"$f":"SA!GU31-SA!GI31","v":400},{"$f":"SA!GV31-SA!GJ31","v":4300},{"$f":"SA!GW31-SA!GK31","v":6500},{"$f":"SA!GX31-SA!GL31","v":1200},{"$f":"SA!GY31-SA!GM31","v":7600},{"$f":"SA!GZ31-SA!GN31","v":15700},{"$f":"SA!HA31-SA!GO31","v":9200},{"$f":"SA!HB31-SA!GP31","v":3100},{"$f":"SA!HC31-SA!GQ31","v":6000},{"$f":"SA!HD31-SA!GR31","v":1700},{"$f":"SA!HE31-SA!GS31","v":8100},{"$f":"SA!HF31-SA!GT31","v":10000},{"$f":"SA!HG31-SA!GU31","v":900},{"$f":"SA!HH31-SA!GV31","v":4300},{"$f":"SA!HI31-SA!GW31","v":-2100},{"$f":"SA!HJ31-SA!GX31","v":5800},{"$f":"SA!HK31-SA!GY31","v":-415600},{"$f":"SA!HL31-SA!GZ31","v":-420500},{"$f":"SA!HM31-SA!HA31","v":-418200}," n/a ",null,null,"Government",-15700,-4825,-1600,-400,575,2100,4625,15700,5277.1278382706078]
["Federal Government",{"$f":"SA!BN32-SA!BB32","v":-200},{"$f":"SA!BO32-SA!BC32","v":-200},{"$f":"SA!BP32-SA!BD32","v":-200},{"$f":"SA!BQ32-SA!BE32","v":-300},{"$f":"SA!BR32-SA!BF32","v":-100},{"$f":"SA!BS32-SA!BG32","v":-300},{"$f":"SA!BT32-SA!BH32","v":-400},{"$f":"SA!BU32-SA!BI32","v":-500},{"$f":"SA!BV32-SA!BJ32","v":-300},{"$f":"SA!BW32-SA!BK32","v":-500},{"$f":"SA!BX32-SA!BL32","v":-500},{"$f":"SA!BY32-SA!BM32","v":-300},{"$f":"SA!BZ32-SA!BN32","v":-300},{"$f":"SA!CA32-SA!BO32","v":-300},{"$f":"SA!CB32-SA!BP32","v":0},{"$f":"SA!CC32-SA!BQ32","v":-100},{"$f":"SA!CD32-SA!BR32","v":-200},{"$f":"SA!CE32-SA!BS32","v":100},{"$f":"SA!CF32-SA!BT32","v":100},{"$f":"SA!CG32-SA!BU32","v":0},{"$f":"SA!CH32-SA!BV32","v":100},{"$f":"SA!CI32-SA!BW32","v":100},{"$f":"SA!CJ32-SA!BX32","v":200},{"$f":"SA!CK32-SA!BY32","v":200},{"$f":"SA!CL32-SA!BZ32","v":300},{"$f":"SA!CM32-SA!CA32","v":100},{"$f":"SA!CN32-SA!CB32","v":-100},{"$f":"SA!CO32-SA!CC32","v":-100},{"$f":"SA!CP32-SA!CD32","v":0},{"$f":"SA!CQ32-SA!CE32","v":0},{"$f":"SA!CR32-SA!CF32","v":-100},{"$f":"SA!CS32-SA!CG32","v":100},{"$f":"SA!CT32-SA!CH32","v":-100},{"$f":"SA!CU32-SA!CI32","v":200},{"$f":"SA!CV32-SA!CJ32","v":0},{"$f":"SA!CW32-SA!CK32","v":-200},{"$f":"SA!CX32-SA!CL32","v":0},{"$f":"SA!CY32-SA!CM32","v":300},{"$f":"SA!CZ32-SA!CN32","v":300},{"$f":"SA!DA32-SA!CO32","v":300},{"$f":"SA!DB32-SA!CP32","v":400},{"$f":"SA!DC32-SA!CQ32","v":300},{"$f":"SA!DD32-SA!CR32","v":600},{"$f":"SA!DE32-SA!CS32","v":500},{"$f":"SA!DF32-SA!CT32","v":600},{"$f":"SA!DG32-SA!CU32","v":200},{"$f":"SA!DH32-SA!CV32","v":400},{"$f":"SA!DI32-SA!CW32","v":700},{"$f":"SA!DJ32-SA!CX32","v":500},{"$f":"SA!DK32-SA!CY32","v":400},{"$f":"SA!DL32-SA!CZ32","v":200},{"$f":"SA!DM32-SA!DA32","v":2400},{"$f":"SA!DN32-SA!DB32","v":2300},{"$f":"SA!DO32-SA!DC32","v":200},{"$f":"SA!DP32-SA!DD32","v":-200},{"$f":"SA!DQ32-SA!DE32","v":-100},{"$f":"SA!DR32-SA!DF32","v":-200},{"$f":"SA!DS32-SA!DG32","v":200},{"$f":"SA!DT32-SA!DH32","v":0},{"$f":"SA!DU32-SA!DI32","v":-100},{"$f":"SA!DV32-SA!DJ32","v":-300},{"$f":"SA!DW32-SA!DK32","v":-300},{"$f":"SA!DX32-SA!DL32","v":600},{"$f":"SA!DY32-SA!DM32","v":1600},{"$f":"SA!DZ32-SA!DN32","v":6000},{"$f":"SA!EA32-SA!DO32","v":4500},{"$f":"SA!EB32-SA!DP32","v":2800},{"$f":"SA!EC32-SA!DQ32","v":800},{"$f":"SA!ED32-SA!DR32","v":100},{"$f":"SA!EE32-SA!DS32","v":-200},{"$f":"SA!EF32-SA!DT32","v":-100},{"$f":"SA!EG32-SA!DU32","v":-200},{"$f":"SA!EH32-SA!DV32","v":-100},{"$f":"SA!EI32-SA!DW32","v":-200},{"$f":"SA!EJ32-SA!DX32","v":-800},{"$f":"SA!EK32-SA!DY32","v":-4000},{"$f":"SA!EL32-SA!DZ32","v":-8500},{"$f":"SA!EM32-SA!EA32","v":-4900},{"$f":"SA!EN32-SA!EB32","v":-2900},{"$f":"SA!EO32-SA!EC32","v":-1100},{"$f":"SA!EP32-SA!ED32","v":-300},{"$f":"SA!EQ32-SA!EE32","v":-200},{"$f":"SA!ER32-SA!EF32","v":-500},{"$f":"SA!ES32-SA!EG32","v":-400},{"$f":"SA!ET32-SA!EH32","v":-500},{"$f":"SA!EU32-SA!EI32","v":-400},{"$f":"SA!EV32-SA!EJ32","v":-400},{"$f":"SA!EW32-SA!EK32","v":-500},{"$f":"SA!EX32-SA!EL32","v":-400},{"$f":"SA!EY32-SA!EM32","v":-400},{"$f":"SA!EZ32-SA!EN32","v":-400},{"$f":"SA!FA32-SA!EO32","v":-300},{"$f":"SA!FB32-SA!EP32","v":-400},{"$f":"SA!FC32-SA!EQ32","v":-300},{"$f":"SA!FD32-SA!ER32","v":-400},{"$f":"SA!FE32-SA!ES32","v":-200},{"$f":"SA!FF32-SA!ET32","v":-200},{"$f":"SA!FG32-SA!EU32","v":-100},{"$f":"SA!FH32-SA!EV32","v":-500},{"$f":"SA!FI32-SA!EW32","v":-300},{"$f":"SA!FJ32-SA!EX32","v":-300},{"$f":"SA!FK32-SA!EY32","v":-300},{"$f":"SA!FL32-SA!EZ32","v":-500},{"$f":"SA!FM32-SA!FA32","v":-700},{"$f":"SA!FN32-SA!FB32","v":-500},{"$f":"SA!FO32-SA!FC32","v":-600},{"$f":"SA!FP32-SA!FD32","v":-100},{"$f":"SA!FQ32-SA!FE32","v":-400},{"$f":"SA!FR32-SA!FF32","v":-200},{"$f":"SA!FS32-SA!FG32","v":-300},{"$f":"SA!FT32-SA!FH32","v":0},{"$f":"SA!FU32-SA!FI32","v":-200},{"$f":"SA!FV32-SA!FJ32","v":-100},{"$f":"SA!FW32-SA!FK32","v":-100},{"$f":"SA!FX32-SA!FL32","v":0},{"$f":"SA!FY32-SA!FM32","v":200},{"$f":"SA!FZ32-SA!FN32","v":100},{"$f":"SA!GA32-SA!FO32","v":100},{"$f":"SA!GB32-SA!FP32","v":100},{"$f":"SA!GC32-SA!FQ32","v":400},{"$f":"SA!GD32-SA!FR32","v":100},{"$f":"SA!GE32-SA!FS32","v":100},{"$f":"SA!GF32-SA!FT32","v":100},{"$f":"SA!GG32-SA!FU32","v":300},{"$f":"SA!GH32-SA!FV32","v":200},{"$f":"SA!GI32-SA!FW32","v":400},{"$f":"SA!GJ32-SA!FX32","v":400},{"$f":"SA!GK32-SA!FY32","v":200},{"$f":"SA!GL32-SA!FZ32","v":100},{"$f":"SA!GM32-SA!GA32","v":100},{"$f":"SA!GN32-SA!GB32","v":100},{"$f":"SA!GO32-SA!GC32","v":200},{"$f":"SA!GP32-SA!GD32","v":200},{"$f":"SA!GQ32-SA!GE32","v":200},{"$f":"SA!GR32-SA!GF32","v":300},{"$f":"SA!GS32-SA!GG32","v":100},{"$f":"SA!GT32-SA!GH32","v":100},{"$f":"SA!GU32-SA!GI32","v":0},{"$f":"SA!GV32-SA!GJ32","v":0},{"$f":"SA!GW32-SA!GK32","v":300},{"$f":"SA!GX32-SA!GL32","v":500},{"$f":"SA!GY32-SA!GM32","v":500},{"$f":"SA!GZ32-SA!GN32","v":300},{"$f":"SA!HA32-SA!GO32","v":100},{"$f":"SA!HB32-SA!GP32","v":600},{"$f":"SA!HC32-SA!GQ32","v":300},{"$f":"SA!HD32-SA!GR32","v":200},{"$f":"SA!HE32-SA!GS32","v":100},{"$f":"SA!HF32-SA!GT32","v":300},{"$f":"SA!HG32-SA!GU32","v":200},{"$f":"SA!HH32-SA!GV32","v":300},{"$f":"SA!HI32-SA!GW32","v":0},{"$f":"SA!HJ32-SA!GX32","v":0},{"$f":"SA!HK32-SA!GY32","v":-29200},{"$f":"SA!HL32-SA!GZ32","v":-29100},{"$f":"SA!HM32-SA!HA32","v":-29200}," n/a ",null,null,"Federal Government",-8500,-400,-200,-100,0,150,325,6000,1214.5402523965017]
["State Government",{"$f":"SA!BN33-SA!BB33","v":5200},{"$f":"SA!BO33-SA!BC33","v":2000},{"$f":"SA!BP33-SA!BD33","v":1500},{"$f":"SA!BQ33-SA!BE33","v":1100},{"$f":"SA!BR33-SA!BF33","v":1700},{"$f":"SA!BS33-SA!BG33","v":-1500},{"$f":"SA!BT33-SA!BH33","v":-500},{"$f":"SA!BU33-SA!BI33","v":-2000},{"$f":"SA!BV33-SA!BJ33","v":300},{"$f":"SA!BW33-SA!BK33","v":-800},{"$f":"SA!BX33-SA!BL33","v":-900},{"$f":"SA!BY33-SA!BM33","v":600},{"$f":"SA!BZ33-SA!BN33","v":-800},{"$f":"SA!CA33-SA!BO33","v":700},{"$f":"SA!CB33-SA!BP33","v":700},{"$f":"SA!CC33-SA!BQ33","v":1100},{"$f":"SA!CD33-SA!BR33","v":400},{"$f":"SA!CE33-SA!BS33","v":3600},{"$f":"SA!CF33-SA!BT33","v":2100},{"$f":"SA!CG33-SA!BU33","v":3200},{"$f":"SA!CH33-SA!BV33","v":1200},{"$f":"SA!CI33-SA!BW33","v":1400},{"$f":"SA!CJ33-SA!BX33","v":600},{"$f":"SA!CK33-SA!BY33","v":-100},{"$f":"SA!CL33-SA!BZ33","v":-1000},{"$f":"SA!CM33-SA!CA33","v":600},{"$f":"SA!CN33-SA!CB33","v":1800},{"$f":"SA!CO33-SA!CC33","v":800},{"$f":"SA!CP33-SA!CD33","v":2300},{"$f":"SA!CQ33-SA!CE33","v":300},{"$f":"SA!CR33-SA!CF33","v":-300},{"$f":"SA!CS33-SA!CG33","v":100},{"$f":"SA!CT33-SA!CH33","v":-1300},{"$f":"SA!CU33-SA!CI33","v":-900},{"$f":"SA!CV33-SA!CJ33","v":0},{"$f":"SA!CW33-SA!CK33","v":300},{"$f":"SA!CX33-SA!CL33","v":2100},{"$f":"SA!CY33-SA!CM33","v":600},{"$f":"SA!CZ33-SA!CN33","v":-400},{"$f":"SA!DA33-SA!CO33","v":-200},{"$f":"SA!DB33-SA!CP33","v":200},{"$f":"SA!DC33-SA!CQ33","v":-1100},{"$f":"SA!DD33-SA!CR33","v":800},{"$f":"SA!DE33-SA!CS33","v":0},{"$f":"SA!DF33-SA!CT33","v":-700},{"$f":"SA!DG33-SA!CU33","v":2400},{"$f":"SA!DH33-SA!CV33","v":1900},{"$f":"SA!DI33-SA!CW33","v":800},{"$f":"SA!DJ33-SA!CX33","v":-1300},{"$f":"SA!DK33-SA!CY33","v":-700},{"$f":"SA!DL33-SA!CZ33","v":-200},{"$f":"SA!DM33-SA!DA33","v":-3000},{"$f":"SA!DN33-SA!DB33","v":-3000},{"$f":"SA!DO33-SA!DC33","v":-3800},{"$f":"SA!DP33-SA!DD33","v":-5000},{"$f":"SA!DQ33-SA!DE33","v":-4900},{"$f":"SA!DR33-SA!DF33","v":-6300},{"$f":"SA!DS33-SA!DG33","v":-7600},{"$f":"SA!DT33-SA!DH33","v":-6200},{"$f":"SA!DU33-SA!DI33","v":-5100},{"$f":"SA!DV33-SA!DJ33","v":-5800},{"$f":"SA!DW33-SA!DK33","v":-4800},{"$f":"SA!DX33-SA!DL33","v":-5500},{"$f":"SA!DY33-SA!DM33","v":-200},{"$f":"SA!DZ33-SA!DN33","v":-1500},{"$f":"SA!EA33-SA!DO33","v":1300},{"$f":"SA!EB33-SA!DP33","v":1500},{"$f":"SA!EC33-SA!DQ33","v":1600},{"$f":"SA!ED33-SA!DR33","v":2900},{"$f":"SA!EE33-SA!DS33","v":2200},{"$f":"SA!EF33-SA!DT33","v":800},{"$f":"SA!EG33-SA!DU33","v":-1900},{"$f":"SA!EH33-SA!DV33","v":-500},{"$f":"SA!EI33-SA!DW33","v":-800},{"$f":"SA!EJ33-SA!DX33","v":400},{"$f":"SA!EK33-SA!DY33","v":-2600},{"$f":"SA!EL33-SA!DZ33","v":500},{"$f":"SA!EM33-SA!EA33","v":-3700},{"$f":"SA!EN33-SA!EB33","v":-3700},{"$f":"SA!EO33-SA!EC33","v":-9000},{"$f":"SA!EP33-SA!ED33","v":-5800},{"$f":"SA!EQ33-SA!EE33","v":-4000},{"$f":"SA!ER33-SA!EF33","v":-3300},{"$f":"SA!ES33-SA!EG33","v":-900},{"$f":"SA!ET33-SA!EH33","v":-10100},{"$f":"SA!EU33-SA!EI33","v":-7200},{"$f":"SA!EV33-SA!EJ33","v":-2400},{"$f":"SA!EW33-SA!EK33","v":-500},{"$f":"SA!EX33-SA!EL33","v":-3200},{"$f":"SA!EY33-SA!EM33","v":-2300},{"$f":"SA!EZ33-SA!EN33","v":-800},{"$f":"SA!FA33-SA!EO33","v":4100},{"$f":"SA!FB33-SA!EP33","v":3200},{"$f":"SA!FC33-SA!EQ33","v":1400},{"$f":"SA!FD33-SA!ER33","v":1300},{"$f":"SA!FE33-SA!ES33","v":100},{"$f":"SA!FF33-SA!ET33","v":-900},{"$f":"SA!FG33-SA!EU33","v":6200},{"$f":"SA!FH33-SA!EV33","v":800},{"$f":"SA!FI33-SA!EW33","v":300},{"$f":"SA!FJ33-SA!EX33","v":-2000},{"$f":"SA!FK33-SA!EY33","v":1200},{"$f":"SA!FL33-SA!EZ33","v":800},{"$f":"SA!FM33-SA!FA33","v":1700},{"$f":"SA!FN33-SA!FB33","v":800},{"$f":"SA!FO33-SA!FC33","v":1200},{"$f":"SA!FP33-SA!FD33","v":1400},{"$f":"SA!FQ33-SA!FE33","v":1300},{"$f":"SA!FR33-SA!FF33","v":13300},{"$f":"SA!FS33-SA!FG33","v":1700},{"$f":"SA!FT33-SA!FH33","v":1000},{"$f":"SA!FU33-SA!FI33","v":1200},{"$f":"SA!FV33-SA!FJ33","v":2700},{"$f":"SA!FW33-SA!FK33","v":1500},{"$f":"SA!FX33-SA!FL33","v":900},{"$f":"SA!FY33-SA!FM33","v":900},{"$f":"SA!FZ33-SA!FN33","v":700},{"$f":"SA!GA33-SA!FO33","v":300},{"$f":"SA!GB33-SA!FP33","v":200},{"$f":"SA!GC33-SA!FQ33","v":800},{"$f":"SA!GD33-SA!FR33","v":-1000},{"$f":"SA!GE33-SA!FS33","v":300},{"$f":"SA!GF33-SA!FT33","v":900},{"$f":"SA!GG33-SA!FU33","v":400},{"$f":"SA!GH33-SA!FV33","v":-500},{"$f":"SA!GI33-SA!FW33","v":-900},{"$f":"SA!GJ33-SA!FX33","v":-1700},{"$f":"SA!GK33-SA!FY33","v":-2700},{"$f":"SA!GL33-SA!FZ33","v":-3100},{"$f":"SA!GM33-SA!GA33","v":-2500},{"$f":"SA!GN33-SA!GB33","v":-2900},{"$f":"SA!GO33-SA!GC33","v":-2500},{"$f":"SA!GP33-SA!GD33","v":-2900},{"$f":"SA!GQ33-SA!GE33","v":-2900},{"$f":"SA!GR33-SA!GF33","v":-2700},{"$f":"SA!GS33-SA!GG33","v":-2900},{"$f":"SA!GT33-SA!GH33","v":-1400},{"$f":"SA!GU33-SA!GI33","v":-800},{"$f":"SA!GV33-SA!GJ33","v":0},{"$f":"SA!GW33-SA!GK33","v":-400},{"$f":"SA!GX33-SA!GL33","v":-2600},{"$f":"SA!GY33-SA!GM33","v":500},{"$f":"SA!GZ33-SA!GN33","v":2700},{"$f":"SA!HA33-SA!GO33","v":3900},{"$f":"SA!HB33-SA!GP33","v":700},{"$f":"SA!HC33-SA!GQ33","v":3400},{"$f":"SA!HD33-SA!GR33","v":-1700},{"$f":"SA!HE33-SA!GS33","v":3800},{"$f":"SA!HF33-SA!GT33","v":5100},{"$f":"SA!HG33-SA!GU33","v":300},{"$f":"SA!HH33-SA!GV33","v":600},{"$f":"SA!HI33-SA!GW33","v":100},{"$f":"SA!HJ33-SA!GX33","v":3600},{"$f":"SA!HK33-SA!GY33","v":-96500},{"$f":"SA!HL33-SA!GZ33","v":-98400},{"$f":"SA!HM33-SA!HA33","v":-100000}," n/a ",null,null,"State Government",-10100,-3000,-1200,-275,300,800,1700,13300,2866.8805603611295]
["Local Government",{"$f":"SA!BN34-SA!BB34","v":3300},{"$f":"SA!BO34-SA!BC34","v":2700},{"$f":"SA!BP34-SA!BD34","v":800},{"$f":"SA!BQ34-SA!BE34","v":3900},{"$f":"SA!BR34-SA!BF34","v":1800},{"$f":"SA!BS34-SA!BG34","v":1100},{"$f":"SA!BT34-SA!BH34","v":2200},{"$f":"SA!BU34-SA!BI34","v":2400},{"$f":"SA!BV34-SA!BJ34","v":8000},{"$f":"SA!BW34-SA!BK34","v":3800},{"$f":"SA!BX34-SA!BL34","v":700},{"$f":"SA!BY34-SA!BM34","v":4600},{"$f":"SA!BZ34-SA!BN34","v":100},{"$f":"SA!CA34-SA!BO34","v":-2000},{"$f":"SA!CB34-SA!BP34","v":600},{"$f":"SA!CC34-SA!BQ34","v":-200},{"$f":"SA!CD34-SA!BR34","v":-600},{"$f":"SA!CE34-SA!BS34","v":400},{"$f":"SA!CF34-SA!BT34","v":-600},{"$f":"SA!CG34-SA!BU34","v":-1200},{"$f":"SA!CH34-SA!BV34","v":-1600},{"$f":"SA!CI34-SA!BW34","v":-3200},{"$f":"SA!CJ34-SA!BX34","v":100},{"$f":"SA!CK34-SA!BY34","v":-2400},{"$f":"SA!CL34-SA!BZ34","v":-800},{"$f":"SA!CM34-SA!CA34","v":-2300},{"$f":"SA!CN34-SA!CB34","v":-3400},{"$f":"SA!CO34-SA!CC34","v":-1100},{"$f":"SA!CP34-SA!CD34","v":-200},{"$f":"SA!CQ34-SA!CE34","v":3300},{"$f":"SA!CR34-SA!CF34","v":1700},{"$f":"SA!CS34-SA!CG34","v":2300},{"$f":"SA!CT34-SA!CH34","v":4500},{"$f":"SA!CU34-SA!CI34","v":2100},{"$f":"SA!CV34-SA!CJ34","v":-1000},{"$f":"SA!CW34-SA!CK34","v":3000},{"$f":"SA!CX34-SA!CL34","v":4400},{"$f":"SA!CY34-SA!CM34","v":5600},{"$f":"SA!CZ34-SA!CN34","v":4700},{"$f":"SA!DA34-SA!CO34","v":2000},{"$f":"SA!DB34-SA!CP34","v":3500},{"$f":"SA!DC34-SA!CQ34","v":-200},{"$f":"SA!DD34-SA!CR34","v":3500},{"$f":"SA!DE34-SA!CS34","v":1800},{"$f":"SA!DF34-SA!CT34","v":10600},{"$f":"SA!DG34-SA!CU34","v":6600},{"$f":"SA!DH34-SA!CV34","v":12200},{"$f":"SA!DI34-SA!CW34","v":5800},{"$f":"SA!DJ34-SA!CX34","v":2900},{"$f":"SA!DK34-SA!CY34","v":4300},{"$f":"SA!DL34-SA!CZ34","v":4600},{"$f":"SA!DM34-SA!DA34","v":5800},{"$f":"SA!DN34-SA!DB34","v":4400},{"$f":"SA!DO34-SA!DC34","v":4800},{"$f":"SA!DP34-SA!DD34","v":4400},{"$f":"SA!DQ34-SA!DE34","v":3000},{"$f":"SA!DR34-SA!DF34","v":-8300},{"$f":"SA!DS34-SA!DG34","v":2300},{"$f":"SA!DT34-SA!DH34","v":-4000},{"$f":"SA!DU34-SA!DI34","v":600},{"$f":"SA!DV34-SA!DJ34","v":2600},{"$f":"SA!DW34-SA!DK34","v":-1100},{"$f":"SA!DX34-SA!DL34","v":0},{"$f":"SA!DY34-SA!DM34","v":-2000},{"$f":"SA!DZ34-SA!DN34","v":-2500},{"$f":"SA!EA34-SA!DO34","v":-3600},{"$f":"SA!EB34-SA!DP34","v":-6300},{"$f":"SA!EC34-SA!DQ34","v":-3700},{"$f":"SA!ED34-SA!DR34","v":-1700},{"$f":"SA!EE34-SA!DS34","v":-3100},{"$f":"SA!EF34-SA!DT34","v":800},{"$f":"SA!EG34-SA!DU34","v":-3400},{"$f":"SA!EH34-SA!DV34","v":-1600},{"$f":"SA!EI34-SA!DW34","v":2300},{"$f":"SA!EJ34-SA!DX34","v":1000},{"$f":"SA!EK34-SA!DY34","v":800},{"$f":"SA!EL34-SA!DZ34","v":-200},{"$f":"SA!EM34-SA!EA34","v":300},{"$f":"SA!EN34-SA!EB34","v":6500},{"$f":"SA!EO34-SA!EC34","v":6700},{"$f":"SA!EP34-SA!ED34","v":100},{"$f":"SA!EQ34-SA!EE34","v":-5600},{"$f":"SA!ER34-SA!EF34","v":-9500},{"$f":"SA!ES34-SA!EG34","v":-2600},{"$f":"SA!ET34-SA!EH34","v":-5100},{"$f":"SA!EU34-SA!EI34","v":-6800},{"$f":"SA!EV34-SA!EJ34","v":-5300},{"$f":"SA!EW34-SA!EK34","v":-800},{"$f":"SA!EX34-SA!EL34","v":4300},{"$f":"SA!EY34-SA!EM34","v":700},{"$f":"SA!EZ34-SA!EN34","v":-8000},{"$f":"SA!FA34-SA!EO34","v":-5000},{"$f":"SA!FB34-SA!EP34","v":-4200},{"$f":"SA!FC34-SA!EQ34","v":1600},{"$f":"SA!FD34-SA!ER34","v":8500},{"$f":"SA!FE34-SA!ES34","v":500},{"$f":"SA!FF34-SA!ET34","v":300},{"$f":"SA!FG34-SA!EU34","v":2600},{"$f":"SA!FH34-SA!EV34","v":-200},{"$f":"SA!FI34-SA!EW34","v":-4900},{"$f":"SA!FJ34-SA!EX34","v":-7300},{"$f":"SA!FK34-SA!EY34","v":-4600},{"$f":"SA!FL34-SA!EZ34","v":-500},{"$f":"SA!FM34-SA!FA34","v":-4500},{"$f":"SA!FN34-SA!FB34","v":800},{"$f":"SA!FO34-SA!FC34","v":-800},{"$f":"SA!FP34-SA!FD34","v":-7600},{"$f":"SA!FQ34-SA!FE34","v":-1500},{"$f":"SA!FR34-SA!FF34","v":-1900},{"$f":"SA!FS34-SA!FG34","v":-5300},{"$f":"SA!FT34-SA!FH34","v":-1500},{"$f":"SA!FU34-SA!FI34","v":600},{"$f":"SA!FV34-SA!FJ34","v":-800},{"$f":"SA!FW34-SA!FK34","v":700},{"$f":"SA!FX34-SA!FL34","v":1200},{"$f":"SA!FY34-SA!FM34","v":7000},{"$f":"SA!FZ34-SA!FN34","v":300},{"$f":"SA!GA34-SA!FO34","v":-100},{"$f":"SA!GB34-SA!FP34","v":6500},{"$f":"SA!GC34-SA!FQ34","v":-700},{"$f":"SA!GD34-SA!FR34","v":-1000},{"$f":"SA!GE34-SA!FS34","v":1500},{"$f":"SA!GF34-SA!FT34","v":-800},{"$f":"SA!GG34-SA!FU34","v":-1200},{"$f":"SA!GH34-SA!FV34","v":-800},{"$f":"SA!GI34-SA!FW34","v":-1000},{"$f":"SA!GJ34-SA!FX34","v":-2000},{"$f":"SA!GK34-SA!FY34","v":-6800},{"$f":"SA!GL34-SA!FZ34","v":-1800},{"$f":"SA!GM34-SA!GA34","v":-1400},{"$f":"SA!GN34-SA!GB34","v":-8800},{"$f":"SA!GO34-SA!GC34","v":100},{"$f":"SA!GP34-SA!GD34","v":2900},{"$f":"SA!GQ34-SA!GE34","v":1800},{"$f":"SA!GR34-SA!GF34","v":1800},{"$f":"SA!GS34-SA!GG34","v":3000},{"$f":"SA!GT34-SA!GH34","v":-500},{"$f":"SA!GU34-SA!GI34","v":1200},{"$f":"SA!GV34-SA!GJ34","v":4300},{"$f":"SA!GW34-SA!GK34","v":6600},{"$f":"SA!GX34-SA!GL34","v":3300},{"$f":"SA!GY34-SA!GM34","v":6600},{"$f":"SA!GZ34-SA!GN34","v":12700},{"$f":"SA!HA34-SA!GO34","v":5200},{"$f":"SA!HB34-SA!GP34","v":1800},{"$f":"SA!HC34-SA!GQ34","v":2300},{"$f":"SA!HD34-SA!GR34","v":3200},{"$f":"SA!HE34-SA!GS34","v":4200},{"$f":"SA!HF34-SA!GT34","v":4600},{"$f":"SA!HG34-SA!GU34","v":400},{"$f":"SA!HH34-SA!GV34","v":3400},{"$f":"SA!HI34-SA!GW34","v":-2200},{"$f":"SA!HJ34-SA!GX34","v":2200},{"$f":"SA!HK34-SA!GY34","v":-289900},{"$f":"SA!HL34-SA!GZ34","v":-293000},{"$f":"SA!HM34-SA!HA34","v":-289000}," n/a ",null,null,"Local Government",-9500,-3450,-1100,25,700,2350,4425,12700,4010.09119650925]
[]
[null,null,null,null,null,null,null,null,null,null,null,null,null,"Housing Market Prices Peaks",null,null,null,null,null,null,null,null,null,null,null,"Housing Market Price Declines Begin",null,null,null,null,"Peak","Decline begins",null,"Floods",null,null,null,null,null,null,null,null,null,null,null,null,null,null,"GM Closes",null,null,null,null,null,null,null,null,null,null,null,null,null,null,null,null,null,null,null,null,null,null,null,null,"Act 10 Protests",null,null,null,null,"Act 10 Passes",null,null,"Education Cuts begin",null,null,null,null,null,null,null,null,"Severe Drought",null,null,null,null,null,null,null,null,null,null,null,null,null,null,null,null,null,"Severe Winter Weather/Late Spring"]
[null,null,null,null,null,null,null,null,null,null,null,null,null,null,null,null,null,null,null,null,null,null,null,null,null,null,null,null,null,null,null,null,null,null,null,null,null,null,null,null,null,null,null,null,null,null,"Great Recession",null,null,null,null,null,null,null,null,null,null,null,null,null,null,null,null,null,null,null,null,null,null,null,null,null,null,null,null,null,null,null,null,null,null,null,null,null,null,null,null,null,null,null,null,null,null,null,null,null,null,null,null,null,null,null,null,null,null,null,null,null,null,"Dodd Frank",null,null,null,null,null,null,null,null,null,null,null,null,"Cold winter/summer",null,null,null,null,null,null,null,null,null,null,null,null,null,null,null,null,null,null,null,"Post Benchmark Re-estimates"]
["Month over Month Change","2005-01-01","2005-02-01","2005-03-01","2005-04-01","2005-05-01","2005-06-01","2005-07-01","2005-08-01","2005-09-01","2005-10-01","2005-11-01","2005-12-01","2006-01-01","2006-02-01","2006-03-01","2006-04-01","2006-05-01","2006-06-01","2006-07-01","2006-08-01","2006-09-01","2006-10-01","2006-11-01","2006-12-01","2007-01-01","2007-02-01","2007-03-01","2007-04-01","2007-05-01","2007-06-01","2007-07-01","2007-08-01","2007-09-01","2007-10-01","2007-11-01","2007-12-01","2008-01-01","2008-02-01","2008-03-01","2008-04-01","2008-05-01","2008-06-01","2008-07-01","2008-08-01","2008-09-01","2008-10-01","2008-11-01","2008-12-01","2009-01-01","2009-02-01","2009-03-01","2009-04-01","2009-05-01","2009-06-01","2009-07-01","2009-08-01","2009-09-01","2009-10-01","2009-11-01","2009-12-01","2010-01-01","2010-02-01","2010-03-01","2010-04-01","2010-05-01","2010-06-01","2010-07-01","2010-08-01","2010-09-01","2010-10-01","2010-11-01","2010-12-01","2011-01-01","2011-02-01","2011-03-01","2011-04-01","2011-05-01","2011-06-01","2011-07-01","2011-08-01","2011-09-01","2011-10-01","2011-11-01","2011-12-01","2012-01-01","2012-02-01","2012-03-01","2012-04-01","2012-05-01","2012-06-01","2012-07-01","2012-08-01","2012-09-01","2012-10-01","2012-11-01","2012-12-01","2013-01-01","2013-02-01","2013-03-01","2013-04-01","2013-05-01","2013-06-01","2013-07-01","2013-08-01","2013-09-01","2013-10-01","2013-11-01","2013-12-01","2014-01-01","2014-02-01","2014-03-01","2014-04-01","2014-05-01","2014-06-01",{"$f":"EDATE(DK42, 1)","v":"2014-07-01"},{"$f":"EDATE(DL42, 1)","v":"2014-08-01"},"2014-09-01","2014-10-01","2014-11-01","2014-12-01","2015-01-01",{"$f":"EDATE(DR42, 1)","v":"2015-02-01"},{"$f":"EDATE(DS42, 1)","v":"2015-03-01"},{"$f":"EDATE(DT42, 1)","v":"2015-04-01"},{"$f":"EDATE(DU42, 1)","v":"2015-05-01"},{"$f":"EDATE(DV42, 1)","v":"2015-06-01"},{"$f":"EDATE(DW42, 1)","v":"2015-07-01"},"2015-08-01","2015-09-01","2015-10-01","2015-11-01","2015-12-01","2016-01-01",{"$f":"EDATE(ED42, 1)","v":"2016-02-01"},{"$f":"EDATE(EE42, 1)","v":"2016-03-01"},{"$f":"EDATE(EF42, 1)","v":"2016-04-01"},{"$f":"EDATE(EG42, 1)","v":"2016-05-01"},{"$f":"EDATE(EH42, 1)","v":"2016-06-01"},{"$f":"EDATE(EI42, 1)","v":"2016-07-01"},{"$f":"EDATE(EJ42, 1)","v":"2016-08-01"},{"$f":"EDATE(EK42, 1)","v":"2016-09-01"},"2016-10-01","2016-11-01",{"$f":"EDATE(EN42, 1)","v":"2016-12-01"},{"$f":"EDATE(EO42, 1)","v":"2017-01-01"},{"$f":"EDATE(EP42, 1)","v":"2017-02-01"},{"$f":"EDATE(EQ42, 1)","v":"2017-03-01"},"2017-04-01","2017-05-01","2017-06-01","2017-07-01","2017-08-01","2017-09-01","2017-10-01","2017-11-01",{"$f":"EDATE(EZ42, 1)","v":"2017-12-01"},"M/M Sig","# Positive Sig Changes since October 2016","12 mo Trend","Month over Month Change","Min",0.15,0.3,0.45,0.55000000000000004,0.7,0.85,"Max","Std Deviation"]
["Total Non Farm",{"$f":"SA!BN2-SA!BM2","v":1300},{"$f":"SA!BO2-SA!BN2","v":6700},{"$f":"SA!BP2-SA!BO2","v":2300},{"$f":"SA!BQ2-SA!BP2","v":9000},{"$f":"SA!BR2-SA!BQ2","v":-4500},{"$f":"SA!BS2-SA!BR2","v":-3600},{"$f":"SA!BT2-SA!BS2","v":9100},{"$f":"SA!BU2-SA!BT2","v":2700},{"$f":"SA!BV2-SA!BU2","v":6100},{"$f":"SA!BW2-SA!BV2","v":-3100},{"$f":"SA!BX2-SA!BW2","v":2500},{"$f":"SA!BY2-SA!BX2","v":4300},{"$f":"SA!BZ2-SA!BY2","v":-400},{"$f":"SA!CA2-SA!BZ2","v":3700},{"$f":"SA!CB2-SA!CA2","v":2200},{"$f":"SA!CC2-SA!CB2","v":7100},{"$f":"SA!CD2-SA!CC2","v":-7000},{"$f":"SA!CE2-SA!CD2","v":7500},{"$f":"SA!CF2-SA!CE2","v":-1800},{"$f":"SA!CG2-SA!CF2","v":200},{"$f":"SA!CH2-SA!CG2","v":3000},{"$f":"SA!CI2-SA!CH2","v":-1800},{"$f":"SA!CJ2-SA!CI2","v":500},{"$f":"SA!CK2-SA!CJ2","v":2500},{"$f":"SA!CL2-SA!CK2","v":5100},{"$f":"SA!CM2-SA!CL2","v":-1600},{"$f":"SA!CN2-SA!CM2","v":4500},{"$f":"SA!CO2-SA!CN2","v":-300},{"$f":"SA!CP2-SA!CO2","v":5600},{"$f":"SA!CQ2-SA!CP2","v":8800},{"$f":"SA!CR2-SA!CQ2","v":-6300},{"$f":"SA!CS2-SA!CR2","v":-1000},{"$f":"SA!CT2-SA!CS2","v":-1200},{"$f":"SA!CU2-SA!CT2","v":-5800},{"$f":"SA!CV2-SA!CU2","v":-600},{"$f":"SA!CW2-SA!CV2","v":5000},{"$f":"SA!CX2-SA!CW2","v":5200},{"$f":"SA!CY2-SA!CX2","v":-1000},{"$f":"SA!CZ2-SA!CY2","v":-3200},{"$f":"SA!DA2-SA!CZ2","v":-4500},{"$f":"SA!DB2-SA!DA2","v":2800},{"$f":"SA!DC2-SA!DB2","v":-2400},{"$f":"SA!DD2-SA!DC2","v":-2200},{"$f":"SA!DE2-SA!DD2","v":-4600},{"$f":"SA!DF2-SA!DE2","v":2100},{"$f":"SA!DG2-SA!DF2","v":-11800},{"$f":"SA!DH2-SA!DG2","v":-8800},{"$f":"SA!DI2-SA!DH2","v":-14500},{"$f":"SA!DJ2-SA!DI2","v":-25800},{"$f":"SA!DK2-SA!DJ2","v":-16700},{"$f":"SA!DL2-SA!DK2","v":-21400},{"$f":"SA!DM2-SA!DL2","v":-22800},{"$f":"SA!DN2-SA!DM2","v":0},{"$f":"SA!DO2-SA!DN2","v":-12800},{"$f":"SA!DP2-SA!DO2","v":-11600},{"$f":"SA!DQ2-SA!DP2","v":-7200},{"$f":"SA!DR2-SA!DQ2","v":-1900},{"$f":"SA!DS2-SA!DR2","v":200},{"$f":"SA!DT2-SA!DS2","v":-3000},{"$f":"SA!DU2-SA!DT2","v":-1300},{"$f":"SA!DV2-SA!DU2","v":-200},{"$f":"SA!DW2-SA!DV2","v":-200},{"$f":"SA!DX2-SA!DW2","v":2000},{"$f":"SA!DY2-SA!DX2","v":10500},{"$f":"SA!DZ2-SA!DY2","v":2700},{"$f":"SA!EA2-SA!DZ2","v":-1700},{"$f":"SA!EB2-SA!EA2","v":3500},{"$f":"SA!EC2-SA!EB2","v":2800},{"$f":"SA!ED2-SA!EC2","v":-1800},{"$f":"SA!EE2-SA!ED2","v":9600},{"$f":"SA!EF2-SA!EE2","v":1300},{"$f":"SA!EG2-SA!EF2","v":-2500},{"$f":"SA!EH2-SA!EG2","v":4300},{"$f":"SA!EI2-SA!EH2","v":1900},{"$f":"SA!EJ2-SA!EI2","v":2500},{"$f":"SA!EK2-SA!EJ2","v":3800},{"$f":"SA!EL2-SA!EK2","v":400},{"$f":"SA!EM2-SA!EL2","v":-2800},{"$f":"SA!EN2-SA!EM2","v":13700},{"$f":"SA!EO2-SA!EN2","v":-3600},{"$f":"SA!EP2-SA!EO2","v":2700},{"$f":"SA!EQ2-SA!EP2","v":-4200},{"$f":"SA!ER2-SA!EQ2","v":400},{"$f":"SA!ES2-SA!ER2","v":6000},{"$f":"SA!ET2-SA!ES2","v":-4300},{"$f":"SA!EU2-SA!ET2","v":6100},{"$f":"SA!EV2-SA!EU2","v":14800},{"$f":"SA!EW2-SA!EV2","v":8200},{"$f":"SA!EX2-SA!EW2","v":-2400},{"$f":"SA!EY2-SA!EX2","v":-200},{"$f":"SA!EZ2-SA!EY2","v":-9400},{"$f":"SA!FA2-SA!EZ2","v":4700},{"$f":"SA!FB2-SA!FA2","v":5200},{"$f":"SA!FC2-SA!FB2","v":4600},{"$f":"SA!FD2-SA!FC2","v":7700},{"$f":"SA!FE2-SA!FD2","v":-3000},{"$f":"SA!FF2-SA!FE2","v":-8800},{"$f":"SA!FG2-SA!FF2","v":19100},{"$f":"SA!FH2-SA!FG2","v":800},{"$f":"SA!FI2-SA!FH2","v":-9000},{"$f":"SA!FJ2-SA!FI2","v":8800},{"$f":"SA!FK2-SA!FJ2","v":3500},{"$f":"SA!FL2-SA!FK2","v":-800},{"$f":"SA!FM2-SA!FL2","v":7400},{"$f":"SA!FN2-SA!FM2","v":5800},{"$f":"SA!FO2-SA!FN2","v":300},{"$f":"SA!FP2-SA!FO2","v":2800},{"$f":"SA!FQ2-SA!FP2","v":2900},{"$f":"SA!FR2-SA!FQ2","v":5100},{"$f":"SA!FS2-SA!FR2","v":1300},{"$f":"SA!FT2-SA!FS2","v":3500},{"$f":"SA!FU2-SA!FT2","v":6900},{"$f":"SA!FV2-SA!FU2","v":2600},{"$f":"SA!FW2-SA!FV2","v":6500},{"$f":"SA!FX2-SA!FW2","v":-100},{"$f":"SA!FY2-SA!FX2","v":12300},{"$f":"SA!FZ2-SA!FY2","v":-2200},{"$f":"SA!GA2-SA!FZ2","v":1400},{"$f":"SA!GB2-SA!GA2","v":12200},{"$f":"SA!GC2-SA!GB2","v":-5800},{"$f":"SA!GD2-SA!GC2","v":4900},{"$f":"SA!GE2-SA!GD2","v":2900},{"$f":"SA!GF2-SA!GE2","v":4300},{"$f":"SA!GG2-SA!GF2","v":800},{"$f":"SA!GH2-SA!GG2","v":5200},{"$f":"SA!GI2-SA!GH2","v":2700},{"$f":"SA!GJ2-SA!GI2","v":2900},{"$f":"SA!GK2-SA!GJ2","v":2900},{"$f":"SA!GL2-SA!GK2","v":0},{"$f":"SA!GM2-SA!GL2","v":4700},{"$f":"SA!GN2-SA!GM2","v":300},{"$f":"SA!GO2-SA!GN2","v":6300},{"$f":"SA!GP2-SA!GO2","v":10500},{"$f":"SA!GQ2-SA!GP2","v":4200},{"$f":"SA!GR2-SA!GQ2","v":400},{"$f":"SA!GS2-SA!GR2","v":1300},{"$f":"SA!GT2-SA!GS2","v":-7600},{"$f":"SA!GU2-SA!GT2","v":100},{"$f":"SA!GV2-SA!GU2","v":11400},{"$f":"SA!GW2-SA!GV2","v":900},{"$f":"SA!GX2-SA!GW2","v":-5300},{"$f":"SA!GY2-SA!GX2","v":6300},{"$f":"SA!GZ2-SA!GY2","v":3700},{"$f":"SA!HA2-SA!GZ2","v":500},{"$f":"SA!HB2-SA!HA2","v":5400},{"$f":"SA!HC2-SA!HB2","v":11100},{"$f":"SA!HD2-SA!HC2","v":-3700},{"$f":"SA!HE2-SA!HD2","v":13100},{"$f":"SA!HF2-SA!HE2","v":-3700},{"$f":"SA!HG2-SA!HF2","v":-5400},{"$f":"SA!HH2-SA!HG2","v":5800},{"$f":"SA!HI2-SA!HH2","v":-7100},{"$f":"SA!HJ2-SA!HI2","v":8600},{"$f":"SA!HK2-SA!HJ2","v":-2958400},{"$f":"SA!HL2-SA!HK2","v":0},{"$f":"SA!HM2-SA!HL2","v":0},9268,{"$f":"COUNTIF(EM43:FA43, \">\" &FB43)","v":2},null,"Total Non Farm",{"$f":"MIN(B43:EO43)","v":-25800},{"$f":"_xlfn.PERCENTILE.EXC($B43:$EO43,0.15)","v":-4500},{"$f":"_xlfn.PERCENTILE.EXC($B43:$EO43,0.3)","v":-1250},{"$f":"_xlfn.PERCENTILE.EXC($B43:$EO43,0.45)","v":500},{"$f":"_xlfn.PERCENTILE.EXC($B43:$EO43,0.55)","v":2450},{"$f":"_xlfn.PERCENTILE.EXC($B43:$EO43,0.7)","v":4000},{"$f":"_xlfn.PERCENTILE.EXC($B43:$EO43,0.85)","v":6350},{"$f":"MAX(B43:EO43)","v":19100},{"$f":"STDEVP(B43:EO43)","v":6666.399155512463}]
["Total Private",{"$f":"SA!BN3-SA!BM3","v":-3500},{"$f":"SA!BO3-SA!BN3","v":7200},{"$f":"SA!BP3-SA!BO3","v":4300},{"$f":"SA!BQ3-SA!BP3","v":8600},{"$f":"SA!BR3-SA!BQ3","v":-4100},{"$f":"SA!BS3-SA!BR3","v":-2200},{"$f":"SA!BT3-SA!BS3","v":7700},{"$f":"SA!BU3-SA!BT3","v":3000},{"$f":"SA!BV3-SA!BU3","v":1600},{"$f":"SA!BW3-SA!BV3","v":-800},{"$f":"SA!BX3-SA!BW3","v":4500},{"$f":"SA!BY3-SA!BX3","v":1600},{"$f":"SA!BZ3-SA!BY3","v":700},{"$f":"SA!CA3-SA!BZ3","v":4800},{"$f":"SA!CB3-SA!CA3","v":1300},{"$f":"SA!CC3-SA!CB3","v":7200},{"$f":"SA!CD3-SA!CC3","v":-5400},{"$f":"SA!CE3-SA!CD3","v":4400},{"$f":"SA!CF3-SA!CE3","v":-700},{"$f":"SA!CG3-SA!CF3","v":100},{"$f":"SA!CH3-SA!CG3","v":800},{"$f":"SA!CI3-SA!CH3","v":1900},{"$f":"SA!CJ3-SA!CI3","v":-100},{"$f":"SA!CK3-SA!CJ3","v":3000},{"$f":"SA!CL3-SA!CK3","v":5400},{"$f":"SA!CM3-SA!CL3","v":-400},{"$f":"SA!CN3-SA!CM3","v":3700},{"$f":"SA!CO3-SA!CN3","v":-1500},{"$f":"SA!CP3-SA!CO3","v":4700},{"$f":"SA!CQ3-SA!CP3","v":4200},{"$f":"SA!CR3-SA!CQ3","v":-2900},{"$f":"SA!CS3-SA!CR3","v":-2300},{"$f":"SA!CT3-SA!CS3","v":-4000},{"$f":"SA!CU3-SA!CT3","v":-400},{"$f":"SA!CV3-SA!CU3","v":1200},{"$f":"SA!CW3-SA!CV3","v":1400},{"$f":"SA!CX3-SA!CW3","v":2100},{"$f":"SA!CY3-SA!CX3","v":200},{"$f":"SA!CZ3-SA!CY3","v":-2100},{"$f":"SA!DA3-SA!CZ3","v":-3200},{"$f":"SA!DB3-SA!DA3","v":-100},{"$f":"SA!DC3-SA!DB3","v":-1900},{"$f":"SA!DD3-SA!DC3","v":-4700},{"$f":"SA!DE3-SA!DD3","v":-3300},{"$f":"SA!DF3-SA!DE3","v":-8900},{"$f":"SA!DG3-SA!DF3","v":-5100},{"$f":"SA!DH3-SA!DG3","v":-12300},{"$f":"SA!DI3-SA!DH3","v":-10900},{"$f":"SA!DJ3-SA!DI3","v":-23700},{"$f":"SA!DK3-SA!DJ3","v":-17400},{"$f":"SA!DL3-SA!DK3","v":-20900},{"$f":"SA!DM3-SA!DL3","v":-22100},{"$f":"SA!DN3-SA!DM3","v":-1400},{"$f":"SA!DO3-SA!DN3","v":-9800},{"$f":"SA!DP3-SA!DO3","v":-12100},{"$f":"SA!DQ3-SA!DP3","v":-4700},{"$f":"SA!DR3-SA!DQ3","v":-100},{"$f":"SA!DS3-SA!DR3","v":-2800},{"$f":"SA!DT3-SA!DS3","v":-1400},{"$f":"SA!DU3-SA!DT3","v":-3300},{"$f":"SA!DV3-SA!DU3","v":800},{"$f":"SA!DW3-SA!DV3","v":1800},{"$f":"SA!DX3-SA!DW3","v":1200},{"$f":"SA!DY3-SA!DX3","v":6900},{"$f":"SA!DZ3-SA!DY3","v":-1300},{"$f":"SA!EA3-SA!DZ3","v":1100},{"$f":"SA!EB3-SA!EA3","v":7200},{"$f":"SA!EC3-SA!EB3","v":4600},{"$f":"SA!ED3-SA!EC3","v":-2600},{"$f":"SA!EE3-SA!ED3","v":9000},{"$f":"SA!EF3-SA!EE3","v":300},{"$f":"SA!EG3-SA!EF3","v":2500},{"$f":"SA!EH3-SA!EG3","v":2000},{"$f":"SA!EI3-SA!EH3","v":400},{"$f":"SA!EJ3-SA!EI3","v":2400},{"$f":"SA!EK3-SA!EJ3","v":6600},{"$f":"SA!EL3-SA!EK3","v":-1200},{"$f":"SA!EM3-SA!EL3","v":100},{"$f":"SA!EN3-SA!EM3","v":9200},{"$f":"SA!EO3-SA!EN3","v":1500},{"$f":"SA!EP3-SA!EO3","v":4500},{"$f":"SA!EQ3-SA!EP3","v":-1000},{"$f":"SA!ER3-SA!EQ3","v":2900},{"$f":"SA!ES3-SA!ER3","v":1600},{"$f":"SA!ET3-SA!ES3","v":5200},{"$f":"SA!EU3-SA!ET3","v":3300},{"$f":"SA!EV3-SA!EU3","v":8400},{"$f":"SA!EW3-SA!EV3","v":4700},{"$f":"SA!EX3-SA!EW3","v":-6500},{"$f":"SA!EY3-SA!EX3","v":5400},{"$f":"SA!EZ3-SA!EY3","v":-6700},{"$f":"SA!FA3-SA!EZ3","v":1800},{"$f":"SA!FB3-SA!FA3","v":7200},{"$f":"SA!FC3-SA!FB3","v":3700},{"$f":"SA!FD3-SA!FC3","v":3500},{"$f":"SA!FE3-SA!FD3","v":1600},{"$f":"SA!FF3-SA!FE3","v":1900},{"$f":"SA!FG3-SA!FF3","v":6800},{"$f":"SA!FH3-SA!FG3","v":3000},{"$f":"SA!FI3-SA!FH3","v":-7500},{"$f":"SA!FJ3-SA!FI3","v":9400},{"$f":"SA!FK3-SA!FJ3","v":3200},{"$f":"SA!FL3-SA!FK3","v":-1600},{"$f":"SA!FM3-SA!FL3","v":7800},{"$f":"SA!FN3-SA!FM3","v":3200},{"$f":"SA!FO3-SA!FN3","v":700},{"$f":"SA!FP3-SA!FO3","v":4700},{"$f":"SA!FQ3-SA!FP3","v":1800},{"$f":"SA!FR3-SA!FQ3","v":4000},{"$f":"SA!FS3-SA!FR3","v":4100},{"$f":"SA!FT3-SA!FS3","v":2300},{"$f":"SA!FU3-SA!FT3","v":6300},{"$f":"SA!FV3-SA!FU3","v":3000},{"$f":"SA!FW3-SA!FV3","v":5900},{"$f":"SA!FX3-SA!FW3","v":-900},{"$f":"SA!FY3-SA!FX3","v":6700},{"$f":"SA!FZ3-SA!FY3","v":2200},{"$f":"SA!GA3-SA!FZ3","v":2600},{"$f":"SA!GB3-SA!GA3","v":7600},{"$f":"SA!GC3-SA!GB3","v":-600},{"$f":"SA!GD3-SA!GC3","v":6200},{"$f":"SA!GE3-SA!GD3","v":1900},{"$f":"SA!GF3-SA!GE3","v":4800},{"$f":"SA!GG3-SA!GF3","v":900},{"$f":"SA!GH3-SA!GG3","v":6200},{"$f":"SA!GI3-SA!GH3","v":2500},{"$f":"SA!GJ3-SA!GI3","v":3900},{"$f":"SA!GK3-SA!GJ3","v":3300},{"$f":"SA!GL3-SA!GK3","v":-100},{"$f":"SA!GM3-SA!GL3","v":4900},{"$f":"SA!GN3-SA!GM3","v":3500},{"$f":"SA!GO3-SA!GN3","v":2100},{"$f":"SA!GP3-SA!GO3","v":9400},{"$f":"SA!GQ3-SA!GP3","v":4300},{"$f":"SA!GR3-SA!GQ3","v":600},{"$f":"SA!GS3-SA!GR3","v":600},{"$f":"SA!GT3-SA!GS3","v":-4600},{"$f":"SA!GU3-SA!GT3","v":-2300},{"$f":"SA!GV3-SA!GU3","v":8500},{"$f":"SA!GW3-SA!GV3","v":-900},{"$f":"SA!GX3-SA!GW3","v":-100},{"$f":"SA!GY3-SA!GX3","v":100},{"$f":"SA!GZ3-SA!GY3","v":-1200},{"$f":"SA!HA3-SA!GZ3","v":2800},{"$f":"SA!HB3-SA!HA3","v":10400},{"$f":"SA!HC3-SA!HB3","v":8300},{"$f":"SA!HD3-SA!HC3","v":800},{"$f":"SA!HE3-SA!HD3","v":6000},{"$f":"SA!HF3-SA!HE3","v":-2600},{"$f":"SA!HG3-SA!HF3","v":1300},{"$f":"SA!HH3-SA!HG3","v":-500},{"$f":"SA!HI3-SA!HH3","v":-2500},{"$f":"SA!HJ3-SA!HI3","v":5900},{"$f":"SA!HK3-SA!HJ3","v":-2543200},{"$f":"SA!HL3-SA!HK3","v":0},{"$f":"SA!HM3-SA!HL3","v":0},9084,1,null,"Total Private",-23700,-3300,-650,1125,1900,3600,5975,9400,5666.4296910552803]
["Goods Producing",{"$f":"SA!BN4-SA!BM4","v":-4800},{"$f":"SA!BO4-SA!BN4","v":4700},{"$f":"SA!BP4-SA!BO4","v":-100},{"$f":"SA!BQ4-SA!BP4","v":500},{"$f":"SA!BR4-SA!BQ4","v":-800},{"$f":"SA!BS4-SA!BR4","v":-400},{"$f":"SA!BT4-SA!BS4","v":1800},{"$f":"SA!BU4-SA!BT4","v":-400},{"$f":"SA!BV4-SA!BU4","v":-900},{"$f":"SA!BW4-SA!BV4","v":-400},{"$f":"SA!BX4-SA!BW4","v":200},{"$f":"SA!BY4-SA!BX4","v":-700},{"$f":"SA!BZ4-SA!BY4","v":3000},{"$f":"SA!CA4-SA!BZ4","v":400},{"$f":"SA!CB4-SA!CA4","v":-200},{"$f":"SA!CC4-SA!CB4","v":2000},{"$f":"SA!CD4-SA!CC4","v":-2400},{"$f":"SA!CE4-SA!CD4","v":1700},{"$f":"SA!CF4-SA!CE4","v":-1600},{"$f":"SA!CG4-SA!CF4","v":-800},{"$f":"SA!CH4-SA!CG4","v":-1600},{"$f":"SA!CI4-SA!CH4","v":-1700},{"$f":"SA!CJ4-SA!CI4","v":-2400},{"$f":"SA!CK4-SA!CJ4","v":1100},{"$f":"SA!CL4-SA!CK4","v":600},{"$f":"SA!CM4-SA!CL4","v":-1800},{"$f":"SA!CN4-SA!CM4","v":1700},{"$f":"SA!CO4-SA!CN4","v":-1000},{"$f":"SA!CP4-SA!CO4","v":1200},{"$f":"SA!CQ4-SA!CP4","v":-200},{"$f":"SA!CR4-SA!CQ4","v":-1000},{"$f":"SA!CS4-SA!CR4","v":-1800},{"$f":"SA!CT4-SA!CS4","v":-2600},{"$f":"SA!CU4-SA!CT4","v":-800},{"$f":"SA!CV4-SA!CU4","v":-300},{"$f":"SA!CW4-SA!CV4","v":-1200},{"$f":"SA!CX4-SA!CW4","v":-100},{"$f":"SA!CY4-SA!CX4","v":0},{"$f":"SA!CZ4-SA!CY4","v":-1000},{"$f":"SA!DA4-SA!CZ4","v":-3100},{"$f":"SA!DB4-SA!DA4","v":-800},{"$f":"SA!DC4-SA!DB4","v":-400},{"$f":"SA!DD4-SA!DC4","v":-4800},{"$f":"SA!DE4-SA!DD4","v":-3100},{"$f":"SA!DF4-SA!DE4","v":-4100},{"$f":"SA!DG4-SA!DF4","v":-2900},{"$f":"SA!DH4-SA!DG4","v":-5600},{"$f":"SA!DI4-SA!DH4","v":-6900},{"$f":"SA!DJ4-SA!DI4","v":-11900},{"$f":"SA!DK4-SA!DJ4","v":-11000},{"$f":"SA!DL4-SA!DK4","v":-11300},{"$f":"SA!DM4-SA!DL4","v":-12500},{"$f":"SA!DN4-SA!DM4","v":-5600},{"$f":"SA!DO4-SA!DN4","v":-6800},{"$f":"SA!DP4-SA!DO4","v":-5600},{"$f":"SA!DQ4-SA!DP4","v":-2000},{"$f":"SA!DR4-SA!DQ4","v":3400},{"$f":"SA!DS4-SA!DR4","v":-2800},{"$f":"SA!DT4-SA!DS4","v":-1300},{"$f":"SA!DU4-SA!DT4","v":-1200},{"$f":"SA!DV4-SA!DU4","v":-1500},{"$f":"SA!DW4-SA!DV4","v":400},{"$f":"SA!DX4-SA!DW4","v":1300},{"$f":"SA!DY4-SA!DX4","v":2900},{"$f":"SA!DZ4-SA!DY4","v":-800},{"$f":"SA!EA4-SA!DZ4","v":700},{"$f":"SA!EB4-SA!EA4","v":1600},{"$f":"SA!EC4-SA!EB4","v":1100},{"$f":"SA!ED4-SA!EC4","v":500},{"$f":"SA!EE4-SA!ED4","v":800},{"$f":"SA!EF4-SA!EE4","v":0},{"$f":"SA!EG4-SA!EF4","v":700},{"$f":"SA!EH4-SA!EG4","v":1100},{"$f":"SA!EI4-SA!EH4","v":1700},{"$f":"SA!EJ4-SA!EI4","v":1300},{"$f":"SA!EK4-SA!EJ4","v":3000},{"$f":"SA!EL4-SA!EK4","v":1200},{"$f":"SA!EM4-SA!EL4","v":0},{"$f":"SA!EN4-SA!EM4","v":2500},{"$f":"SA!EO4-SA!EN4","v":900},{"$f":"SA!EP4-SA!EO4","v":200},{"$f":"SA!EQ4-SA!EP4","v":-800},{"$f":"SA!ER4-SA!EQ4","v":1600},{"$f":"SA!ES4-SA!ER4","v":1300},{"$f":"SA!ET4-SA!ES4","v":1500},{"$f":"SA!EU4-SA!ET4","v":1700},{"$f":"SA!EV4-SA!EU4","v":2200},{"$f":"SA!EW4-SA!EV4","v":3200},{"$f":"SA!EX4-SA!EW4","v":-3400},{"$f":"SA!EY4-SA!EX4","v":1500},{"$f":"SA!EZ4-SA!EY4","v":-200},{"$f":"SA!FA4-SA!EZ4","v":-400},{"$f":"SA!FB4-SA!FA4","v":1000},{"$f":"SA!FC4-SA!FB4","v":1600},{"$f":"SA!FD4-SA!FC4","v":-400},{"$f":"SA!FE4-SA!FD4","v":2600},{"$f":"SA!FF4-SA!FE4","v":600},{"$f":"SA!FG4-SA!FF4","v":1700},{"$f":"SA!FH4-SA!FG4","v":-500},{"$f":"SA!FI4-SA!FH4","v":-3700},{"$f":"SA!FJ4-SA!FI4","v":3600},{"$f":"SA!FK4-SA!FJ4","v":500},{"$f":"SA!FL4-SA!FK4","v":-800},{"$f":"SA!FM4-SA!FL4","v":1600},{"$f":"SA!FN4-SA!FM4","v":900},{"$f":"SA!FO4-SA!FN4","v":1400},{"$f":"SA!FP4-SA!FO4","v":1000},{"$f":"SA!FQ4-SA!FP4","v":-1000},{"$f":"SA!FR4-SA!FQ4","v":2300},{"$f":"SA!FS4-SA!FR4","v":1200},{"$f":"SA!FT4-SA!FS4","v":900},{"$f":"SA!FU4-SA!FT4","v":1800},{"$f":"SA!FV4-SA!FU4","v":2100},{"$f":"SA!FW4-SA!FV4","v":1300},{"$f":"SA!FX4-SA!FW4","v":2000},{"$f":"SA!FY4-SA!FX4","v":1200},{"$f":"SA!FZ4-SA!FY4","v":1200},{"$f":"SA!GA4-SA!FZ4","v":600},{"$f":"SA!GB4-SA!GA4","v":900},{"$f":"SA!GC4-SA!GB4","v":900},{"$f":"SA!GD4-SA!GC4","v":1100},{"$f":"SA!GE4-SA!GD4","v":1100},{"$f":"SA!GF4-SA!GE4","v":-200},{"$f":"SA!GG4-SA!GF4","v":300},{"$f":"SA!GH4-SA!GG4","v":300},{"$f":"SA!GI4-SA!GH4","v":-100},{"$f":"SA!GJ4-SA!GI4","v":-100},{"$f":"SA!GK4-SA!GJ4","v":-700},{"$f":"SA!GL4-SA!GK4","v":-300},{"$f":"SA!GM4-SA!GL4","v":-100},{"$f":"SA!GN4-SA!GM4","v":600},{"$f":"SA!GO4-SA!GN4","v":900},{"$f":"SA!GP4-SA!GO4","v":200},{"$f":"SA!GQ4-SA!GP4","v":200},{"$f":"SA!GR4-SA!GQ4","v":900},{"$f":"SA!GS4-SA!GR4","v":-1200},{"$f":"SA!GT4-SA!GS4","v":-1500},{"$f":"SA!GU4-SA!GT4","v":-1100},{"$f":"SA!GV4-SA!GU4","v":100},{"$f":"SA!GW4-SA!GV4","v":0},{"$f":"SA!GX4-SA!GW4","v":-200},{"$f":"SA!GY4-SA!GX4","v":2500},{"$f":"SA!GZ4-SA!GY4","v":-500},{"$f":"SA!HA4-SA!GZ4","v":3900},{"$f":"SA!HB4-SA!HA4","v":1700},{"$f":"SA!HC4-SA!HB4","v":300},{"$f":"SA!HD4-SA!HC4","v":-1000},{"$f":"SA!HE4-SA!HD4","v":5600},{"$f":"SA!HF4-SA!HE4","v":-800},{"$f":"SA!HG4-SA!HF4","v":-2100},{"$f":"SA!HH4-SA!HG4","v":2400},{"$f":"SA!HI4-SA!HH4","v":-100},{"$f":"SA!HJ4-SA!HI4","v":2400},{"$f":"SA!HK4-SA!HJ4","v":-593300},{"$f":"SA!HL4-SA!HK4","v":0},{"$f":"SA!HM4-SA!HL4","v":0},3846,2,null,"Goods Producing",-12500,-2100,-800,-100,375,1100,1700,4700,2776.416333030943]
["Service-Providing",{"$f":"SA!BN5-SA!BM5","v":6100},{"$f":"SA!BO5-SA!BN5","v":2000},{"$f":"SA!BP5-SA!BO5","v":2400},{"$f":"SA!BQ5-SA!BP5","v":8500},{"$f":"SA!BR5-SA!BQ5","v":-3700},{"$f":"SA!BS5-SA!BR5","v":-3200},{"$f":"SA!BT5-SA!BS5","v":7300},{"$f":"SA!BU5-SA!BT5","v":3100},{"$f":"SA!BV5-SA!BU5","v":7000},{"$f":"SA!BW5-SA!BV5","v":-2700},{"$f":"SA!BX5-SA!BW5","v":2300},{"$f":"SA!BY5-SA!BX5","v":5000},{"$f":"SA!BZ5-SA!BY5","v":-3400},{"$f":"SA!CA5-SA!BZ5","v":3300},{"$f":"SA!CB5-SA!CA5","v":2400},{"$f":"SA!CC5-SA!CB5","v":5100},{"$f":"SA!CD5-SA!CC5","v":-4600},{"$f":"SA!CE5-SA!CD5","v":5800},{"$f":"SA!CF5-SA!CE5","v":-200},{"$f":"SA!CG5-SA!CF5","v":1000},{"$f":"SA!CH5-SA!CG5","v":4600},{"$f":"SA!CI5-SA!CH5","v":-100},{"$f":"SA!CJ5-SA!CI5","v":2900},{"$f":"SA!CK5-SA!CJ5","v":1400},{"$f":"SA!CL5-SA!CK5","v":4500},{"$f":"SA!CM5-SA!CL5","v":200},{"$f":"SA!CN5-SA!CM5","v":2800},{"$f":"SA!CO5-SA!CN5","v":700},{"$f":"SA!CP5-SA!CO5","v":4400},{"$f":"SA!CQ5-SA!CP5","v":9000},{"$f":"SA!CR5-SA!CQ5","v":-5300},{"$f":"SA!CS5-SA!CR5","v":800},{"$f":"SA!CT5-SA!CS5","v":1400},{"$f":"SA!CU5-SA!CT5","v":-5000},{"$f":"SA!CV5-SA!CU5","v":-300},{"$f":"SA!CW5-SA!CV5","v":6200},{"$f":"SA!CX5-SA!CW5","v":5300},{"$f":"SA!CY5-SA!CX5","v":-1000},{"$f":"SA!CZ5-SA!CY5","v":-2200},{"$f":"SA!DA5-SA!CZ5","v":-1400},{"$f":"SA!DB5-SA!DA5","v":3600},{"$f":"SA!DC5-SA!DB5","v":-2000},{"$f":"SA!DD5-SA!DC5","v":2600},{"$f":"SA!DE5-SA!DD5","v":-1500},{"$f":"SA!DF5-SA!DE5","v":6200},{"$f":"SA!DG5-SA!DF5","v":-8900},{"$f":"SA!DH5-SA!DG5","v":-3200},{"$f":"SA!DI5-SA!DH5","v":-7600},{"$f":"SA!DJ5-SA!DI5","v":-13900},{"$f":"SA!DK5-SA!DJ5","v":-5700},{"$f":"SA!DL5-SA!DK5","v":-10100},{"$f":"SA!DM5-SA!DL5","v":-10300},{"$f":"SA!DN5-SA!DM5","v":5600},{"$f":"SA!DO5-SA!DN5","v":-6000},{"$f":"SA!DP5-SA!DO5","v":-6000},{"$f":"SA!DQ5-SA!DP5","v":-5200},{"$f":"SA!DR5-SA!DQ5","v":-5300},{"$f":"SA!DS5-SA!DR5","v":3000},{"$f":"SA!DT5-SA!DS5","v":-1700},{"$f":"SA!DU5-SA!DT5","v":-100},{"$f":"SA!DV5-SA!DU5","v":1300},{"$f":"SA!DW5-SA!DV5","v":-600},{"$f":"SA!DX5-SA!DW5","v":700},{"$f":"SA!DY5-SA!DX5","v":7600},{"$f":"SA!DZ5-SA!DY5","v":3500},{"$f":"SA!EA5-SA!DZ5","v":-2400},{"$f":"SA!EB5-SA!EA5","v":1900},{"$f":"SA!EC5-SA!EB5","v":1700},{"$f":"SA!ED5-SA!EC5","v":-2300},{"$f":"SA!EE5-SA!ED5","v":8800},{"$f":"SA!EF5-SA!EE5","v":1300},{"$f":"SA!EG5-SA!EF5","v":-3200},{"$f":"SA!EH5-SA!EG5","v":3200},{"$f":"SA!EI5-SA!EH5","v":200},{"$f":"SA!EJ5-SA!EI5","v":1200},{"$f":"SA!EK5-SA!EJ5","v":800},{"$f":"SA!EL5-SA!EK5","v":-800},{"$f":"SA!EM5-SA!EL5","v":-2800},{"$f":"SA!EN5-SA!EM5","v":11200},{"$f":"SA!EO5-SA!EN5","v":-4500},{"$f":"SA!EP5-SA!EO5","v":2500},{"$f":"SA!EQ5-SA!EP5","v":-3400},{"$f":"SA!ER5-SA!EQ5","v":-1200},{"$f":"SA!ES5-SA!ER5","v":4700},{"$f":"SA!ET5-SA!ES5","v":-5800},{"$f":"SA!EU5-SA!ET5","v":4400},{"$f":"SA!EV5-SA!EU5","v":12600},{"$f":"SA!EW5-SA!EV5","v":5000},{"$f":"SA!EX5-SA!EW5","v":1000},{"$f":"SA!EY5-SA!EX5","v":-1700},{"$f":"SA!EZ5-SA!EY5","v":-9200},{"$f":"SA!FA5-SA!EZ5","v":5100},{"$f":"SA!FB5-SA!FA5","v":4200},{"$f":"SA!FC5-SA!FB5","v":3000},{"$f":"SA!FD5-SA!FC5","v":8100},{"$f":"SA!FE5-SA!FD5","v":-5600},{"$f":"SA!FF5-SA!FE5","v":-9400},{"$f":"SA!FG5-SA!FF5","v":17400},{"$f":"SA!FH5-SA!FG5","v":1300},{"$f":"SA!FI5-SA!FH5","v":-5300},{"$f":"SA!FJ5-SA!FI5","v":5200},{"$f":"SA!FK5-SA!FJ5","v":3000},{"$f":"SA!FL5-SA!FK5","v":0},{"$f":"SA!FM5-SA!FL5","v":5800},{"$f":"SA!FN5-SA!FM5","v":4900},{"$f":"SA!FO5-SA!FN5","v":-1100},{"$f":"SA!FP5-SA!FO5","v":1800},{"$f":"SA!FQ5-SA!FP5","v":3900},{"$f":"SA!FR5-SA!FQ5","v":2800},{"$f":"SA!FS5-SA!FR5","v":100},{"$f":"SA!FT5-SA!FS5","v":2600},{"$f":"SA!FU5-SA!FT5","v":5100},{"$f":"SA!FV5-SA!FU5","v":500},{"$f":"SA!FW5-SA!FV5","v":5200},{"$f":"SA!FX5-SA!FW5","v":-2100},{"$f":"SA!FY5-SA!FX5","v":11100},{"$f":"SA!FZ5-SA!FY5","v":-3400},{"$f":"SA!GA5-SA!FZ5","v":800},{"$f":"SA!GB5-SA!GA5","v":11300},{"$f":"SA!GC5-SA!GB5","v":-6700},{"$f":"SA!GD5-SA!GC5","v":3800},{"$f":"SA!GE5-SA!GD5","v":1800},{"$f":"SA!GF5-SA!GE5","v":4500},{"$f":"SA!GG5-SA!GF5","v":500},{"$f":"SA!GH5-SA!GG5","v":4900},{"$f":"SA!GI5-SA!GH5","v":2800},{"$f":"SA!GJ5-SA!GI5","v":3000},{"$f":"SA!GK5-SA!GJ5","v":3600},{"$f":"SA!GL5-SA!GK5","v":300},{"$f":"SA!GM5-SA!GL5","v":4800},{"$f":"SA!GN5-SA!GM5","v":-300},{"$f":"SA!GO5-SA!GN5","v":5400},{"$f":"SA!GP5-SA!GO5","v":10300},{"$f":"SA!GQ5-SA!GP5","v":4000},{"$f":"SA!GR5-SA!GQ5","v":-500},{"$f":"SA!GS5-SA!GR5","v":2500},{"$f":"SA!GT5-SA!GS5","v":-6100},{"$f":"SA!GU5-SA!GT5","v":1200},{"$f":"SA!GV5-SA!GU5","v":11300},{"$f":"SA!GW5-SA!GV5","v":900},{"$f":"SA!GX5-SA!GW5","v":-5100},{"$f":"SA!GY5-SA!GX5","v":3800},{"$f":"SA!GZ5-SA!GY5","v":4200},{"$f":"SA!HA5-SA!GZ5","v":-3400},{"$f":"SA!HB5-SA!HA5","v":3700},{"$f":"SA!HC5-SA!HB5","v":10800},{"$f":"SA!HD5-SA!HC5","v":-2700},{"$f":"SA!HE5-SA!HD5","v":7500},{"$f":"SA!HF5-SA!HE5","v":-2900},{"$f":"SA!HG5-SA!HF5","v":-3300},{"$f":"SA!HH5-SA!HG5","v":3400},{"$f":"SA!HI5-SA!HH5","v":-7000},{"$f":"SA!HJ5-SA!HI5","v":6200},{"$f":"SA!HK5-SA!HJ5","v":-2365100},{"$f":"SA!HL5-SA!HK5","v":0},{"$f":"SA!HM5-SA!HL5","v":0}," n/a ",0,null,"Service-Providing",-13900,-4525,-1050,925,2225,3800,5325,17400,4997.5130775093066]
["Private Service Providing",{"$f":"SA!BN6-SA!BM6","v":1300},{"$f":"SA!BO6-SA!BN6","v":2500},{"$f":"SA!BP6-SA!BO6","v":4400},{"$f":"SA!BQ6-SA!BP6","v":8100},{"$f":"SA!BR6-SA!BQ6","v":-3300},{"$f":"SA!BS6-SA!BR6","v":-1800},{"$f":"SA!BT6-SA!BS6","v":5900},{"$f":"SA!BU6-SA!BT6","v":3400},{"$f":"SA!BV6-SA!BU6","v":2500},{"$f":"SA!BW6-SA!BV6","v":-400},{"$f":"SA!BX6-SA!BW6","v":4300},{"$f":"SA!BY6-SA!BX6","v":2300},{"$f":"SA!BZ6-SA!BY6","v":-2300},{"$f":"SA!CA6-SA!BZ6","v":4400},{"$f":"SA!CB6-SA!CA6","v":1500},{"$f":"SA!CC6-SA!CB6","v":5200},{"$f":"SA!CD6-SA!CC6","v":-3000},{"$f":"SA!CE6-SA!CD6","v":2700},{"$f":"SA!CF6-SA!CE6","v":900},{"$f":"SA!CG6-SA!CF6","v":900},{"$f":"SA!CH6-SA!CG6","v":2400},{"$f":"SA!CI6-SA!CH6","v":3600},{"$f":"SA!CJ6-SA!CI6","v":2300},{"$f":"SA!CK6-SA!CJ6","v":1900},{"$f":"SA!CL6-SA!CK6","v":4800},{"$f":"SA!CM6-SA!CL6","v":1400},{"$f":"SA!CN6-SA!CM6","v":2000},{"$f":"SA!CO6-SA!CN6","v":-500},{"$f":"SA!CP6-SA!CO6","v":3500},{"$f":"SA!CQ6-SA!CP6","v":4400},{"$f":"SA!CR6-SA!CQ6","v":-1900},{"$f":"SA!CS6-SA!CR6","v":-500},{"$f":"SA!CT6-SA!CS6","v":-1400},{"$f":"SA!CU6-SA!CT6","v":400},{"$f":"SA!CV6-SA!CU6","v":1500},{"$f":"SA!CW6-SA!CV6","v":2600},{"$f":"SA!CX6-SA!CW6","v":2200},{"$f":"SA!CY6-SA!CX6","v":200},{"$f":"SA!CZ6-SA!CY6","v":-1100},{"$f":"SA!DA6-SA!CZ6","v":-100},{"$f":"SA!DB6-SA!DA6","v":700},{"$f":"SA!DC6-SA!DB6","v":-1500},{"$f":"SA!DD6-SA!DC6","v":100},{"$f":"SA!DE6-SA!DD6","v":-200},{"$f":"SA!DF6-SA!DE6","v":-4800},{"$f":"SA!DG6-SA!DF6","v":-2200},{"$f":"SA!DH6-SA!DG6","v":-6700},{"$f":"SA!DI6-SA!DH6","v":-4000},{"$f":"SA!DJ6-SA!DI6","v":-11800},{"$f":"SA!DK6-SA!DJ6","v":-6400},{"$f":"SA!DL6-SA!DK6","v":-9600},{"$f":"SA!DM6-SA!DL6","v":-9600},{"$f":"SA!DN6-SA!DM6","v":4200},{"$f":"SA!DO6-SA!DN6","v":-3000},{"$f":"SA!DP6-SA!DO6","v":-6500},{"$f":"SA!DQ6-SA!DP6","v":-2700},{"$f":"SA!DR6-SA!DQ6","v":-3500},{"$f":"SA!DS6-SA!DR6","v":0},{"$f":"SA!DT6-SA!DS6","v":-100},{"$f":"SA!DU6-SA!DT6","v":-2100},{"$f":"SA!DV6-SA!DU6","v":2300},{"$f":"SA!DW6-SA!DV6","v":1400},{"$f":"SA!DX6-SA!DW6","v":-100},{"$f":"SA!DY6-SA!DX6","v":4000},{"$f":"SA!DZ6-SA!DY6","v":-500},{"$f":"SA!EA6-SA!DZ6","v":400},{"$f":"SA!EB6-SA!EA6","v":5600},{"$f":"SA!EC6-SA!EB6","v":3500},{"$f":"SA!ED6-SA!EC6","v":-3100},{"$f":"SA!EE6-SA!ED6","v":8200},{"$f":"SA!EF6-SA!EE6","v":300},{"$f":"SA!EG6-SA!EF6","v":1800},{"$f":"SA!EH6-SA!EG6","v":900},{"$f":"SA!EI6-SA!EH6","v":-1300},{"$f":"SA!EJ6-SA!EI6","v":1100},{"$f":"SA!EK6-SA!EJ6","v":3600},{"$f":"SA!EL6-SA!EK6","v":-2400},{"$f":"SA!EM6-SA!EL6","v":100},{"$f":"SA!EN6-SA!EM6","v":6700},{"$f":"SA!EO6-SA!EN6","v":600},{"$f":"SA!EP6-SA!EO6","v":4300},{"$f":"SA!EQ6-SA!EP6","v":-200},{"$f":"SA!ER6-SA!EQ6","v":1300},{"$f":"SA!ES6-SA!ER6","v":300},{"$f":"SA!ET6-SA!ES6","v":3700},{"$f":"SA!EU6-SA!ET6","v":1600},{"$f":"SA!EV6-SA!EU6","v":6200},{"$f":"SA!EW6-SA!EV6","v":1500},{"$f":"SA!EX6-SA!EW6","v":-3100},{"$f":"SA!EY6-SA!EX6","v":3900},{"$f":"SA!EZ6-SA!EY6","v":-6500},{"$f":"SA!FA6-SA!EZ6","v":2200},{"$f":"SA!FB6-SA!FA6","v":6200},{"$f":"SA!FC6-SA!FB6","v":2100},{"$f":"SA!FD6-SA!FC6","v":3900},{"$f":"SA!FE6-SA!FD6","v":-1000},{"$f":"SA!FF6-SA!FE6","v":1300},{"$f":"SA!FG6-SA!FF6","v":5100},{"$f":"SA!FH6-SA!FG6","v":3500},{"$f":"SA!FI6-SA!FH6","v":-3800},{"$f":"SA!FJ6-SA!FI6","v":5800},{"$f":"SA!FK6-SA!FJ6","v":2700},{"$f":"SA!FL6-SA!FK6","v":-800},{"$f":"SA!FM6-SA!FL6","v":6200},{"$f":"SA!FN6-SA!FM6","v":2300},{"$f":"SA!FO6-SA!FN6","v":-700},{"$f":"SA!FP6-SA!FO6","v":3700},{"$f":"SA!FQ6-SA!FP6","v":2800},{"$f":"SA!FR6-SA!FQ6","v":1700},{"$f":"SA!FS6-SA!FR6","v":2900},{"$f":"SA!FT6-SA!FS6","v":1400},{"$f":"SA!FU6-SA!FT6","v":4500},{"$f":"SA!FV6-SA!FU6","v":900},{"$f":"SA!FW6-SA!FV6","v":4600},{"$f":"SA!FX6-SA!FW6","v":-2900},{"$f":"SA!FY6-SA!FX6","v":5500},{"$f":"SA!FZ6-SA!FY6","v":1000},{"$f":"SA!GA6-SA!FZ6","v":2000},{"$f":"SA!GB6-SA!GA6","v":6700},{"$f":"SA!GC6-SA!GB6","v":-1500},{"$f":"SA!GD6-SA!GC6","v":5100},{"$f":"SA!GE6-SA!GD6","v":800},{"$f":"SA!GF6-SA!GE6","v":5000},{"$f":"SA!GG6-SA!GF6","v":600},{"$f":"SA!GH6-SA!GG6","v":5900},{"$f":"SA!GI6-SA!GH6","v":2600},{"$f":"SA!GJ6-SA!GI6","v":4000},{"$f":"SA!GK6-SA!GJ6","v":4000},{"$f":"SA!GL6-SA!GK6","v":200},{"$f":"SA!GM6-SA!GL6","v":5000},{"$f":"SA!GN6-SA!GM6","v":2900},{"$f":"SA!GO6-SA!GN6","v":1200},{"$f":"SA!GP6-SA!GO6","v":9200},{"$f":"SA!GQ6-SA!GP6","v":4100},{"$f":"SA!GR6-SA!GQ6","v":-300},{"$f":"SA!GS6-SA!GR6","v":1800},{"$f":"SA!GT6-SA!GS6","v":-3100},{"$f":"SA!GU6-SA!GT6","v":-1200},{"$f":"SA!GV6-SA!GU6","v":8400},{"$f":"SA!GW6-SA!GV6","v":-900},{"$f":"SA!GX6-SA!GW6","v":100},{"$f":"SA!GY6-SA!GX6","v":-2400},{"$f":"SA!GZ6-SA!GY6","v":-700},{"$f":"SA!HA6-SA!GZ6","v":-1100},{"$f":"SA!HB6-SA!HA6","v":8700},{"$f":"SA!HC6-SA!HB6","v":8000},{"$f":"SA!HD6-SA!HC6","v":1800},{"$f":"SA!HE6-SA!HD6","v":400},{"$f":"SA!HF6-SA!HE6","v":-1800},{"$f":"SA!HG6-SA!HF6","v":3400},{"$f":"SA!HH6-SA!HG6","v":-2900},{"$f":"SA!HI6-SA!HH6","v":-2400},{"$f":"SA!HJ6-SA!HI6","v":3500},{"$f":"SA!HK6-SA!HJ6","v":-1949900},{"$f":"SA!HL6-SA!HK6","v":0},{"$f":"SA!HM6-SA!HL6","v":0},8230,1,null,"Private Service Providing",-11800,-2325,-250,900,1675,2900,4525,9200,3550.9355156444944]
["Mining and Logging",{"$f":"SA!BN7-SA!BM7","v":-100},{"$f":"SA!BO7-SA!BN7","v":0},{"$f":"SA!BP7-SA!BO7","v":100},{"$f":"SA!BQ7-SA!BP7","v":-100},{"$f":"SA!BR7-SA!BQ7","v":0},{"$f":"SA!BS7-SA!BR7","v":100},{"$f":"SA!BT7-SA!BS7","v":0},{"$f":"SA!BU7-SA!BT7","v":0},{"$f":"SA!BV7-SA!BU7","v":0},{"$f":"SA!BW7-SA!BV7","v":-100},{"$f":"SA!BX7-SA!BW7","v":100},{"$f":"SA!BY7-SA!BX7","v":-100},{"$f":"SA!BZ7-SA!BY7","v":100},{"$f":"SA!CA7-SA!BZ7","v":0},{"$f":"SA!CB7-SA!CA7","v":0},{"$f":"SA!CC7-SA!CB7","v":0},{"$f":"SA!CD7-SA!CC7","v":0},{"$f":"SA!CE7-SA!CD7","v":0},{"$f":"SA!CF7-SA!CE7","v":-100},{"$f":"SA!CG7-SA!CF7","v":0},{"$f":"SA!CH7-SA!CG7","v":0},{"$f":"SA!CI7-SA!CH7","v":0},{"$f":"SA!CJ7-SA!CI7","v":-100},{"$f":"SA!CK7-SA!CJ7","v":0},{"$f":"SA!CL7-SA!CK7","v":0},{"$f":"SA!CM7-SA!CL7","v":0},{"$f":"SA!CN7-SA!CM7","v":0},{"$f":"SA!CO7-SA!CN7","v":0},{"$f":"SA!CP7-SA!CO7","v":-100},{"$f":"SA!CQ7-SA!CP7","v":-100},{"$f":"SA!CR7-SA!CQ7","v":100},{"$f":"SA!CS7-SA!CR7","v":-100},{"$f":"SA!CT7-SA!CS7","v":0},{"$f":"SA!CU7-SA!CT7","v":0},{"$f":"SA!CV7-SA!CU7","v":0},{"$f":"SA!CW7-SA!CV7","v":-200},{"$f":"SA!CX7-SA!CW7","v":100},{"$f":"SA!CY7-SA!CX7","v":0},{"$f":"SA!CZ7-SA!CY7","v":-100},{"$f":"SA!DA7-SA!CZ7","v":0},{"$f":"SA!DB7-SA!DA7","v":-100},{"$f":"SA!DC7-SA!DB7","v":100},{"$f":"SA!DD7-SA!DC7","v":0},{"$f":"SA!DE7-SA!DD7","v":0},{"$f":"SA!DF7-SA!DE7","v":0},{"$f":"SA!DG7-SA!DF7","v":-100},{"$f":"SA!DH7-SA!DG7","v":0},{"$f":"SA!DI7-SA!DH7","v":-100},{"$f":"SA!DJ7-SA!DI7","v":0},{"$f":"SA!DK7-SA!DJ7","v":-100},{"$f":"SA!DL7-SA!DK7","v":-100},{"$f":"SA!DM7-SA!DL7","v":-100},{"$f":"SA!DN7-SA!DM7","v":100},{"$f":"SA!DO7-SA!DN7","v":-100},{"$f":"SA!DP7-SA!DO7","v":100},{"$f":"SA!DQ7-SA!DP7","v":0},{"$f":"SA!DR7-SA!DQ7","v":0},{"$f":"SA!DS7-SA!DR7","v":0},{"$f":"SA!DT7-SA!DS7","v":-100},{"$f":"SA!DU7-SA!DT7","v":100},{"$f":"SA!DV7-SA!DU7","v":-100},{"$f":"SA!DW7-SA!DV7","v":0},{"$f":"SA!DX7-SA!DW7","v":0},{"$f":"SA!DY7-SA!DX7","v":100},{"$f":"SA!DZ7-SA!DY7","v":0},{"$f":"SA!EA7-SA!DZ7","v":-100},{"$f":"SA!EB7-SA!EA7","v":100},{"$f":"SA!EC7-SA!EB7","v":0},{"$f":"SA!ED7-SA!EC7","v":-100},{"$f":"SA!EE7-SA!ED7","v":100},{"$f":"SA!EF7-SA!EE7","v":-100},{"$f":"SA!EG7-SA!EF7","v":0},{"$f":"SA!EH7-SA!EG7","v":100},{"$f":"SA!EI7-SA!EH7","v":0},{"$f":"SA!EJ7-SA!EI7","v":0},{"$f":"SA!EK7-SA!EJ7","v":-100},{"$f":"SA!EL7-SA!EK7","v":0},{"$f":"SA!EM7-SA!EL7","v":200},{"$f":"SA!EN7-SA!EM7","v":-100},{"$f":"SA!EO7-SA!EN7","v":0},{"$f":"SA!EP7-SA!EO7","v":100},{"$f":"SA!EQ7-SA!EP7","v":100},{"$f":"SA!ER7-SA!EQ7","v":100},{"$f":"SA!ES7-SA!ER7","v":0},{"$f":"SA!ET7-SA!ES7","v":0},{"$f":"SA!EU7-SA!ET7","v":100},{"$f":"SA!EV7-SA!EU7","v":100},{"$f":"SA!EW7-SA!EV7","v":100},{"$f":"SA!EX7-SA!EW7","v":-100},{"$f":"SA!EY7-SA!EX7","v":0},{"$f":"SA!EZ7-SA!EY7","v":0},{"$f":"SA!FA7-SA!EZ7","v":0},{"$f":"SA!FB7-SA!FA7","v":0},{"$f":"SA!FC7-SA!FB7","v":0},{"$f":"SA!FD7-SA!FC7","v":0},{"$f":"SA!FE7-SA!FD7","v":100},{"$f":"SA!FF7-SA!FE7","v":0},{"$f":"SA!FG7-SA!FF7","v":0},{"$f":"SA!FH7-SA!FG7","v":-100},{"$f":"SA!FI7-SA!FH7","v":100},{"$f":"SA!FJ7-SA!FI7","v":100},{"$f":"SA!FK7-SA!FJ7","v":0},{"$f":"SA!FL7-SA!FK7","v":0},{"$f":"SA!FM7-SA!FL7","v":100},{"$f":"SA!FN7-SA!FM7","v":0},{"$f":"SA!FO7-SA!FN7","v":0},{"$f":"SA!FP7-SA!FO7","v":0},{"$f":"SA!FQ7-SA!FP7","v":0},{"$f":"SA!FR7-SA!FQ7","v":0},{"$f":"SA!FS7-SA!FR7","v":100},{"$f":"SA!FT7-SA!FS7","v":-100},{"$f":"SA!FU7-SA!FT7","v":200},{"$f":"SA!FV7-SA!FU7","v":0},{"$f":"SA!FW7-SA!FV7","v":0},{"$f":"SA!FX7-SA!FW7","v":100},{"$f":"SA!FY7-SA!FX7","v":100},{"$f":"SA!FZ7-SA!FY7","v":0},{"$f":"SA!GA7-SA!FZ7","v":100},{"$f":"SA!GB7-SA!GA7","v":0},{"$f":"SA!GC7-SA!GB7","v":100},{"$f":"SA!GD7-SA!GC7","v":-100},{"$f":"SA!GE7-SA!GD7","v":100},{"$f":"SA!GF7-SA!GE7","v":-100},{"$f":"SA!GG7-SA!GF7","v":0},{"$f":"SA!GH7-SA!GG7","v":0},{"$f":"SA!GI7-SA!GH7","v":-100},{"$f":"SA!GJ7-SA!GI7","v":-100},{"$f":"SA!GK7-SA!GJ7","v":0},{"$f":"SA!GL7-SA!GK7","v":-100},{"$f":"SA!GM7-SA!GL7","v":0},{"$f":"SA!GN7-SA!GM7","v":0},{"$f":"SA!GO7-SA!GN7","v":0},{"$f":"SA!GP7-SA!GO7","v":-100},{"$f":"SA!GQ7-SA!GP7","v":0},{"$f":"SA!GR7-SA!GQ7","v":0},{"$f":"SA!GS7-SA!GR7","v":-100},{"$f":"SA!GT7-SA!GS7","v":0},{"$f":"SA!GU7-SA!GT7","v":-100},{"$f":"SA!GV7-SA!GU7","v":0},{"$f":"SA!GW7-SA!GV7","v":0},{"$f":"SA!GX7-SA!GW7","v":-100},{"$f":"SA!GY7-SA!GX7","v":100},{"$f":"SA!GZ7-SA!GY7","v":100},{"$f":"SA!HA7-SA!GZ7","v":-100},{"$f":"SA!HB7-SA!HA7","v":200},{"$f":"SA!HC7-SA!HB7","v":100},{"$f":"SA!HD7-SA!HC7","v":-100},{"$f":"SA!HE7-SA!HD7","v":0},{"$f":"SA!HF7-SA!HE7","v":100},{"$f":"SA!HG7-SA!HF7","v":0},{"$f":"SA!HH7-SA!HG7","v":0},{"$f":"SA!HI7-SA!HH7","v":-100},{"$f":"SA!HJ7-SA!HI7","v":0},{"$f":"SA!HK7-SA!HJ7","v":-3900},{"$f":"SA!HL7-SA!HK7","v":0},{"$f":"SA!HM7-SA!HL7","v":0},207,0,null,"Mining and Logging",-200,-100,0,0,0,0,100,200,74.971059231027425]
["Construction",{"$f":"SA!BN9-SA!BM9","v":-500},{"$f":"SA!BO9-SA!BN9","v":400},{"$f":"SA!BP9-SA!BO9","v":-300},{"$f":"SA!BQ9-SA!BP9","v":700},{"$f":"SA!BR9-SA!BQ9","v":-500},{"$f":"SA!BS9-SA!BR9","v":-300},{"$f":"SA!BT9-SA!BS9","v":800},{"$f":"SA!BU9-SA!BT9","v":-200},{"$f":"SA!BV9-SA!BU9","v":0},{"$f":"SA!BW9-SA!BV9","v":-100},{"$f":"SA!BX9-SA!BW9","v":400},{"$f":"SA!BY9-SA!BX9","v":-600},{"$f":"SA!BZ9-SA!BY9","v":1899.9999999999854},{"$f":"SA!CA9-SA!BZ9","v":500},{"$f":"SA!CB9-SA!CA9","v":-1199.9999999999854},{"$f":"SA!CC9-SA!CB9","v":1600},{"$f":"SA!CD9-SA!CC9","v":-2300},{"$f":"SA!CE9-SA!CD9","v":700},{"$f":"SA!CF9-SA!CE9","v":-1300},{"$f":"SA!CG9-SA!CF9","v":-200},{"$f":"SA!CH9-SA!CG9","v":-700},{"$f":"SA!CI9-SA!CH9","v":-600},{"$f":"SA!CJ9-SA!CI9","v":-1000},{"$f":"SA!CK9-SA!CJ9","v":1500},{"$f":"SA!CL9-SA!CK9","v":1100},{"$f":"SA!CM9-SA!CL9","v":-2000},{"$f":"SA!CN9-SA!CM9","v":2600},{"$f":"SA!CO9-SA!CN9","v":-1400},{"$f":"SA!CP9-SA!CO9","v":600},{"$f":"SA!CQ9-SA!CP9","v":-500},{"$f":"SA!CR9-SA!CQ9","v":-500},{"$f":"SA!CS9-SA!CR9","v":-200},{"$f":"SA!CT9-SA!CS9","v":-600},{"$f":"SA!CU9-SA!CT9","v":100},{"$f":"SA!CV9-SA!CU9","v":-400},{"$f":"SA!CW9-SA!CV9","v":-1100},{"$f":"SA!CX9-SA!CW9","v":-1200},{"$f":"SA!CY9-SA!CX9","v":-700},{"$f":"SA!CZ9-SA!CY9","v":-600},{"$f":"SA!DA9-SA!CZ9","v":-1900},{"$f":"SA!DB9-SA!DA9","v":100},{"$f":"SA!DC9-SA!DB9","v":-100},{"$f":"SA!DD9-SA!DC9","v":-600},{"$f":"SA!DE9-SA!DD9","v":-700},{"$f":"SA!DF9-SA!DE9","v":-1100},{"$f":"SA!DG9-SA!DF9","v":-1200},{"$f":"SA!DH9-SA!DG9","v":-2200},{"$f":"SA!DI9-SA!DH9","v":-2000},{"$f":"SA!DJ9-SA!DI9","v":-3200},{"$f":"SA!DK9-SA!DJ9","v":-800},{"$f":"SA!DL9-SA!DK9","v":-2600},{"$f":"SA!DM9-SA!DL9","v":-2300},{"$f":"SA!DN9-SA!DM9","v":-100},{"$f":"SA!DO9-SA!DN9","v":-1200},{"$f":"SA!DP9-SA!DO9","v":-1100},{"$f":"SA!DQ9-SA!DP9","v":-1200},{"$f":"SA!DR9-SA!DQ9","v":-300},{"$f":"SA!DS9-SA!DR9","v":-700},{"$f":"SA!DT9-SA!DS9","v":-500},{"$f":"SA!DU9-SA!DT9","v":-800},{"$f":"SA!DV9-SA!DU9","v":-400},{"$f":"SA!DW9-SA!DV9","v":-600},{"$f":"SA!DX9-SA!DW9","v":-600},{"$f":"SA!DY9-SA!DX9","v":1600},{"$f":"SA!DZ9-SA!DY9","v":-2700},{"$f":"SA!EA9-SA!DZ9","v":-300},{"$f":"SA!EB9-SA!EA9","v":-300},{"$f":"SA!EC9-SA!EB9","v":200},{"$f":"SA!ED9-SA!EC9","v":0},{"$f":"SA!EE9-SA!ED9","v":900},{"$f":"SA!EF9-SA!EE9","v":-1100},{"$f":"SA!EG9-SA!EF9","v":-500},{"$f":"SA!EH9-SA!EG9","v":-100},{"$f":"SA!EI9-SA!EH9","v":-400},{"$f":"SA!EJ9-SA!EI9","v":-100},{"$f":"SA!EK9-SA!EJ9","v":-100},{"$f":"SA!EL9-SA!EK9","v":200},{"$f":"SA!EM9-SA!EL9","v":-100},{"$f":"SA!EN9-SA!EM9","v":600},{"$f":"SA!EO9-SA!EN9","v":0},{"$f":"SA!EP9-SA!EO9","v":0},{"$f":"SA!EQ9-SA!EP9","v":-400},{"$f":"SA!ER9-SA!EQ9","v":300},{"$f":"SA!ES9-SA!ER9","v":0},{"$f":"SA!ET9-SA!ES9","v":100},{"$f":"SA!EU9-SA!ET9","v":500},{"$f":"SA!EV9-SA!EU9","v":800},{"$f":"SA!EW9-SA!EV9","v":2100},{"$f":"SA!EX9-SA!EW9","v":-3800},{"$f":"SA!EY9-SA!EX9","v":-200},{"$f":"SA!EZ9-SA!EY9","v":-400},{"$f":"SA!FA9-SA!EZ9","v":-200},{"$f":"SA!FB9-SA!FA9","v":800},{"$f":"SA!FC9-SA!FB9","v":1200},{"$f":"SA!FD9-SA!FC9","v":0},{"$f":"SA!FE9-SA!FD9","v":2100},{"$f":"SA!FF9-SA!FE9","v":800},{"$f":"SA!FG9-SA!FF9","v":1400},{"$f":"SA!FH9-SA!FG9","v":-400},{"$f":"SA!FI9-SA!FH9","v":-2600},{"$f":"SA!FJ9-SA!FI9","v":3100},{"$f":"SA!FK9-SA!FJ9","v":100},{"$f":"SA!FL9-SA!FK9","v":500},{"$f":"SA!FM9-SA!FL9","v":900},{"$f":"SA!FN9-SA!FM9","v":200},{"$f":"SA!FO9-SA!FN9","v":200},{"$f":"SA!FP9-SA!FO9","v":200},{"$f":"SA!FQ9-SA!FP9","v":-1200},{"$f":"SA!FR9-SA!FQ9","v":1200},{"$f":"SA!FS9-SA!FR9","v":500},{"$f":"SA!FT9-SA!FS9","v":700},{"$f":"SA!FU9-SA!FT9","v":0},{"$f":"SA!FV9-SA!FU9","v":700},{"$f":"SA!FW9-SA!FV9","v":1400},{"$f":"SA!FX9-SA!FW9","v":400},{"$f":"SA!FY9-SA!FX9","v":700},{"$f":"SA!FZ9-SA!FY9","v":900},{"$f":"SA!GA9-SA!FZ9","v":200},{"$f":"SA!GB9-SA!GA9","v":400},{"$f":"SA!GC9-SA!GB9","v":0},{"$f":"SA!GD9-SA!GC9","v":1300},{"$f":"SA!GE9-SA!GD9","v":0},{"$f":"SA!GF9-SA!GE9","v":400},{"$f":"SA!GG9-SA!GF9","v":1000},{"$f":"SA!GH9-SA!GG9","v":700},{"$f":"SA!GI9-SA!GH9","v":100},{"$f":"SA!GJ9-SA!GI9","v":100},{"$f":"SA!GK9-SA!GJ9","v":-200},{"$f":"SA!GL9-SA!GK9","v":-200},{"$f":"SA!GM9-SA!GL9","v":300},{"$f":"SA!GN9-SA!GM9","v":600},{"$f":"SA!GO9-SA!GN9","v":900},{"$f":"SA!GP9-SA!GO9","v":200},{"$f":"SA!GQ9-SA!GP9","v":700},{"$f":"SA!GR9-SA!GQ9","v":1200},{"$f":"SA!GS9-SA!GR9","v":-1000},{"$f":"SA!GT9-SA!GS9","v":-800},{"$f":"SA!GU9-SA!GT9","v":-300},{"$f":"SA!GV9-SA!GU9","v":300},{"$f":"SA!GW9-SA!GV9","v":300},{"$f":"SA!GX9-SA!GW9","v":200},{"$f":"SA!GY9-SA!GX9","v":-1400},{"$f":"SA!GZ9-SA!GY9","v":300},{"$f":"SA!HA9-SA!GZ9","v":1800},{"$f":"SA!HB9-SA!HA9","v":1800},{"$f":"SA!HC9-SA!HB9","v":-800},{"$f":"SA!HD9-SA!HC9","v":300},{"$f":"SA!HE9-SA!HD9","v":1400},{"$f":"SA!HF9-SA!HE9","v":-900},{"$f":"SA!HG9-SA!HF9","v":-2400},{"$f":"SA!HH9-SA!HG9","v":500},{"$f":"SA!HI9-SA!HH9","v":-400},{"$f":"SA!HJ9-SA!HI9","v":1200},{"$f":"SA!HK9-SA!HJ9","v":-113500},{"$f":"SA!HL9-SA!HK9","v":0},{"$f":"SA!HM9-SA!HL9","v":0},2540,0,null,"Construction",-3800,-1100,-500,-175,0,400,825,3100,1074.8041649786974]
["Manufacturing",{"$f":"SA!BN10-SA!BM10","v":-4200},{"$f":"SA!BO10-SA!BN10","v":4300},{"$f":"SA!BP10-SA!BO10","v":100},{"$f":"SA!BQ10-SA!BP10","v":-100},{"$f":"SA!BR10-SA!BQ10","v":-300},{"$f":"SA!BS10-SA!BR10","v":-200},{"$f":"SA!BT10-SA!BS10","v":1000},{"$f":"SA!BU10-SA!BT10","v":-200},{"$f":"SA!BV10-SA!BU10","v":-900},{"$f":"SA!BW10-SA!BV10","v":-200},{"$f":"SA!BX10-SA!BW10","v":-300},{"$f":"SA!BY10-SA!BX10","v":0},{"$f":"SA!BZ10-SA!BY10","v":1000},{"$f":"SA!CA10-SA!BZ10","v":-100},{"$f":"SA!CB10-SA!CA10","v":1000},{"$f":"SA!CC10-SA!CB10","v":400},{"$f":"SA!CD10-SA!CC10","v":-100},{"$f":"SA!CE10-SA!CD10","v":1000},{"$f":"SA!CF10-SA!CE10","v":-200},{"$f":"SA!CG10-SA!CF10","v":-600},{"$f":"SA!CH10-SA!CG10","v":-900},{"$f":"SA!CI10-SA!CH10","v":-1100},{"$f":"SA!CJ10-SA!CI10","v":-1300},{"$f":"SA!CK10-SA!CJ10","v":-400},{"$f":"SA!CL10-SA!CK10","v":-500},{"$f":"SA!CM10-SA!CL10","v":200},{"$f":"SA!CN10-SA!CM10","v":-900},{"$f":"SA!CO10-SA!CN10","v":400},{"$f":"SA!CP10-SA!CO10","v":700},{"$f":"SA!CQ10-SA!CP10","v":400},{"$f":"SA!CR10-SA!CQ10","v":-600},{"$f":"SA!CS10-SA!CR10","v":-1500},{"$f":"SA!CT10-SA!CS10","v":-2000},{"$f":"SA!CU10-SA!CT10","v":-900},{"$f":"SA!CV10-SA!CU10","v":100},{"$f":"SA!CW10-SA!CV10","v":100},{"$f":"SA!CX10-SA!CW10","v":1000},{"$f":"SA!CY10-SA!CX10","v":700},{"$f":"SA!CZ10-SA!CY10","v":-300},{"$f":"SA!DA10-SA!CZ10","v":-1200},{"$f":"SA!DB10-SA!DA10","v":-800},{"$f":"SA!DC10-SA!DB10","v":-400},{"$f":"SA!DD10-SA!DC10","v":-4200},{"$f":"SA!DE10-SA!DD10","v":-2400},{"$f":"SA!DF10-SA!DE10","v":-3000},{"$f":"SA!DG10-SA!DF10","v":-1600},{"$f":"SA!DH10-SA!DG10","v":-3400},{"$f":"SA!DI10-SA!DH10","v":-4800},{"$f":"SA!DJ10-SA!DI10","v":-8700},{"$f":"SA!DK10-SA!DJ10","v":-10100},{"$f":"SA!DL10-SA!DK10","v":-8600},{"$f":"SA!DM10-SA!DL10","v":-10100},{"$f":"SA!DN10-SA!DM10","v":-5600},{"$f":"SA!DO10-SA!DN10","v":-5500},{"$f":"SA!DP10-SA!DO10","v":-4600},{"$f":"SA!DQ10-SA!DP10","v":-800},{"$f":"SA!DR10-SA!DQ10","v":3700},{"$f":"SA!DS10-SA!DR10","v":-2100},{"$f":"SA!DT10-SA!DS10","v":-700},{"$f":"SA!DU10-SA!DT10","v":-500},{"$f":"SA!DV10-SA!DU10","v":-1000},{"$f":"SA!DW10-SA!DV10","v":1000},{"$f":"SA!DX10-SA!DW10","v":1900},{"$f":"SA!DY10-SA!DX10","v":1200},{"$f":"SA!DZ10-SA!DY10","v":1900},{"$f":"SA!EA10-SA!DZ10","v":1100},{"$f":"SA!EB10-SA!EA10","v":1800},{"$f":"SA!EC10-SA!EB10","v":900},{"$f":"SA!ED10-SA!EC10","v":600},{"$f":"SA!EE10-SA!ED10","v":-200},{"$f":"SA!EF10-SA!EE10","v":1200},{"$f":"SA!EG10-SA!EF10","v":1200},{"$f":"SA!EH10-SA!EG10","v":1100},{"$f":"SA!EI10-SA!EH10","v":2100},{"$f":"SA!EJ10-SA!EI10","v":1400},{"$f":"SA!EK10-SA!EJ10","v":3200},{"$f":"SA!EL10-SA!EK10","v":1000},{"$f":"SA!EM10-SA!EL10","v":-100},{"$f":"SA!EN10-SA!EM10","v":2000},{"$f":"SA!EO10-SA!EN10","v":900},{"$f":"SA!EP10-SA!EO10","v":100},{"$f":"SA!EQ10-SA!EP10","v":-500},{"$f":"SA!ER10-SA!EQ10","v":1200},{"$f":"SA!ES10-SA!ER10","v":1300},{"$f":"SA!ET10-SA!ES10","v":1400},{"$f":"SA!EU10-SA!ET10","v":1100},{"$f":"SA!EV10-SA!EU10","v":1300},{"$f":"SA!EW10-SA!EV10","v":1000},{"$f":"SA!EX10-SA!EW10","v":500},{"$f":"SA!EY10-SA!EX10","v":1700},{"$f":"SA!EZ10-SA!EY10","v":200},{"$f":"SA!FA10-SA!EZ10","v":-200},{"$f":"SA!FB10-SA!FA10","v":200},{"$f":"SA!FC10-SA!FB10","v":400},{"$f":"SA!FD10-SA!FC10","v":-400},{"$f":"SA!FE10-SA!FD10","v":400},{"$f":"SA!FF10-SA!FE10","v":-200},{"$f":"SA!FG10-SA!FF10","v":300},{"$f":"SA!FH10-SA!FG10","v":0},{"$f":"SA!FI10-SA!FH10","v":-1200},{"$f":"SA!FJ10-SA!FI10","v":400},{"$f":"SA!FK10-SA!FJ10","v":400},{"$f":"SA!FL10-SA!FK10","v":-1300},{"$f":"SA!FM10-SA!FL10","v":600},{"$f":"SA!FN10-SA!FM10","v":700},{"$f":"SA!FO10-SA!FN10","v":1200},{"$f":"SA!FP10-SA!FO10","v":800},{"$f":"SA!FQ10-SA!FP10","v":200},{"$f":"SA!FR10-SA!FQ10","v":1100},{"$f":"SA!FS10-SA!FR10","v":600},{"$f":"SA!FT10-SA!FS10","v":300},{"$f":"SA!FU10-SA!FT10","v":1600},{"$f":"SA!FV10-SA!FU10","v":1400},{"$f":"SA!FW10-SA!FV10","v":-100},{"$f":"SA!FX10-SA!FW10","v":1500},{"$f":"SA!FY10-SA!FX10","v":400},{"$f":"SA!FZ10-SA!FY10","v":300},{"$f":"SA!GA10-SA!FZ10","v":300},{"$f":"SA!GB10-SA!GA10","v":500},{"$f":"SA!GC10-SA!GB10","v":800},{"$f":"SA!GD10-SA!GC10","v":-100},{"$f":"SA!GE10-SA!GD10","v":1000},{"$f":"SA!GF10-SA!GE10","v":-500},{"$f":"SA!GG10-SA!GF10","v":-700},{"$f":"SA!GH10-SA!GG10","v":-400},{"$f":"SA!GI10-SA!GH10","v":-100},{"$f":"SA!GJ10-SA!GI10","v":-100},{"$f":"SA!GK10-SA!GJ10","v":-500},{"$f":"SA!GL10-SA!GK10","v":0},{"$f":"SA!GM10-SA!GL10","v":-400},{"$f":"SA!GN10-SA!GM10","v":0},{"$f":"SA!GO10-SA!GN10","v":0},{"$f":"SA!GP10-SA!GO10","v":100},{"$f":"SA!GQ10-SA!GP10","v":-500},{"$f":"SA!GR10-SA!GQ10","v":-300},{"$f":"SA!GS10-SA!GR10","v":-100},{"$f":"SA!GT10-SA!GS10","v":-700},{"$f":"SA!GU10-SA!GT10","v":-700},{"$f":"SA!GV10-SA!GU10","v":-200},{"$f":"SA!GW10-SA!GV10","v":-300},{"$f":"SA!GX10-SA!GW10","v":-300},{"$f":"SA!GY10-SA!GX10","v":3800},{"$f":"SA!GZ10-SA!GY10","v":-900},{"$f":"SA!HA10-SA!GZ10","v":2200},{"$f":"SA!HB10-SA!HA10","v":-300},{"$f":"SA!HC10-SA!HB10","v":1000},{"$f":"SA!HD10-SA!HC10","v":-1200},{"$f":"SA!HE10-SA!HD10","v":4200},{"$f":"SA!HF10-SA!HE10","v":0},{"$f":"SA!HG10-SA!HF10","v":300},{"$f":"SA!HH10-SA!HG10","v":1900},{"$f":"SA!HI10-SA!HH10","v":400},{"$f":"SA!HJ10-SA!HI10","v":1200},{"$f":"SA!HK10-SA!HJ10","v":-475900},{"$f":"SA!HL10-SA!HK10","v":0},{"$f":"SA!HM10-SA!HL10","v":0},2882,2,null,"Manufacturing",-10100,-1125,-400,-100,100,650,1200,4300,2158.4669449563353]
["  Durable Goods",{"$f":"SA!BN11-SA!BM11","v":-3800},{"$f":"SA!BO11-SA!BN11","v":4600},{"$f":"SA!BP11-SA!BO11","v":300},{"$f":"SA!BQ11-SA!BP11","v":500},{"$f":"SA!BR11-SA!BQ11","v":-300},{"$f":"SA!BS11-SA!BR11","v":100},{"$f":"SA!BT11-SA!BS11","v":300},{"$f":"SA!BU11-SA!BT11","v":400},{"$f":"SA!BV11-SA!BU11","v":-600},{"$f":"SA!BW11-SA!BV11","v":100},{"$f":"SA!BX11-SA!BW11","v":-400},{"$f":"SA!BY11-SA!BX11","v":0},{"$f":"SA!BZ11-SA!BY11","v":1200},{"$f":"SA!CA11-SA!BZ11","v":100},{"$f":"SA!CB11-SA!CA11","v":1200},{"$f":"SA!CC11-SA!CB11","v":200},{"$f":"SA!CD11-SA!CC11","v":400},{"$f":"SA!CE11-SA!CD11","v":1000},{"$f":"SA!CF11-SA!CE11","v":-200},{"$f":"SA!CG11-SA!CF11","v":-100},{"$f":"SA!CH11-SA!CG11","v":-700},{"$f":"SA!CI11-SA!CH11","v":-1000},{"$f":"SA!CJ11-SA!CI11","v":-1100},{"$f":"SA!CK11-SA!CJ11","v":-300},{"$f":"SA!CL11-SA!CK11","v":-800},{"$f":"SA!CM11-SA!CL11","v":100},{"$f":"SA!CN11-SA!CM11","v":-900},{"$f":"SA!CO11-SA!CN11","v":1000},{"$f":"SA!CP11-SA!CO11","v":200},{"$f":"SA!CQ11-SA!CP11","v":-500},{"$f":"SA!CR11-SA!CQ11","v":-300},{"$f":"SA!CS11-SA!CR11","v":-1000},{"$f":"SA!CT11-SA!CS11","v":-1700},{"$f":"SA!CU11-SA!CT11","v":-700},{"$f":"SA!CV11-SA!CU11","v":-200},{"$f":"SA!CW11-SA!CV11","v":-100},{"$f":"SA!CX11-SA!CW11","v":900},{"$f":"SA!CY11-SA!CX11","v":500},{"$f":"SA!CZ11-SA!CY11","v":-100},{"$f":"SA!DA11-SA!CZ11","v":-1000},{"$f":"SA!DB11-SA!DA11","v":-400},{"$f":"SA!DC11-SA!DB11","v":-600},{"$f":"SA!DD11-SA!DC11","v":-2100},{"$f":"SA!DE11-SA!DD11","v":-2300},{"$f":"SA!DF11-SA!DE11","v":-2300},{"$f":"SA!DG11-SA!DF11","v":-1800},{"$f":"SA!DH11-SA!DG11","v":-2300},{"$f":"SA!DI11-SA!DH11","v":-3800},{"$f":"SA!DJ11-SA!DI11","v":-7100},{"$f":"SA!DK11-SA!DJ11","v":-8400},{"$f":"SA!DL11-SA!DK11","v":-7300},{"$f":"SA!DM11-SA!DL11","v":-8500},{"$f":"SA!DN11-SA!DM11","v":-4500.0000000000291},{"$f":"SA!DO11-SA!DN11","v":-4500},{"$f":"SA!DP11-SA!DO11","v":-2699.9999999999709},{"$f":"SA!DQ11-SA!DP11","v":-1500},{"$f":"SA!DR11-SA!DQ11","v":2600},{"$f":"SA!DS11-SA!DR11","v":-700},{"$f":"SA!DT11-SA!DS11","v":-900},{"$f":"SA!DU11-SA!DT11","v":-500},{"$f":"SA!DV11-SA!DU11","v":-900},{"$f":"SA!DW11-SA!DV11","v":900},{"$f":"SA!DX11-SA!DW11","v":1600},{"$f":"SA!DY11-SA!DX11","v":1000},{"$f":"SA!DZ11-SA!DY11","v":1300.0000000000291},{"$f":"SA!EA11-SA!DZ11","v":500},{"$f":"SA!EB11-SA!EA11","v":799.99999999994179},{"$f":"SA!EC11-SA!EB11","v":1400.0000000000291},{"$f":"SA!ED11-SA!EC11","v":700},{"$f":"SA!EE11-SA!ED11","v":-100.0000000000291},{"$f":"SA!EF11-SA!EE11","v":800.0000000000291},{"$f":"SA!EG11-SA!EF11","v":1400},{"$f":"SA!EH11-SA!EG11","v":800},{"$f":"SA!EI11-SA!EH11","v":2000},{"$f":"SA!EJ11-SA!EI11","v":1100},{"$f":"SA!EK11-SA!EJ11","v":2200},{"$f":"SA!EL11-SA!EK11","v":700},{"$f":"SA!EM11-SA!EL11","v":600},{"$f":"SA!EN11-SA!EM11","v":1500},{"$f":"SA!EO11-SA!EN11","v":300},{"$f":"SA!EP11-SA!EO11","v":0},{"$f":"SA!EQ11-SA!EP11","v":-300},{"$f":"SA!ER11-SA!EQ11","v":1200},{"$f":"SA!ES11-SA!ER11","v":1000},{"$f":"SA!ET11-SA!ES11","v":1400},{"$f":"SA!EU11-SA!ET11","v":1000},{"$f":"SA!EV11-SA!EU11","v":1300},{"$f":"SA!EW11-SA!EV11","v":400},{"$f":"SA!EX11-SA!EW11","v":600},{"$f":"SA!EY11-SA!EX11","v":1400},{"$f":"SA!EZ11-SA!EY11","v":100},{"$f":"SA!FA11-SA!EZ11","v":-300},{"$f":"SA!FB11-SA!FA11","v":-100},{"$f":"SA!FC11-SA!FB11","v":200},{"$f":"SA!FD11-SA!FC11","v":-400},{"$f":"SA!FE11-SA!FD11","v":200},{"$f":"SA!FF11-SA!FE11","v":-100},{"$f":"SA!FG11-SA!FF11","v":100},{"$f":"SA!FH11-SA!FG11","v":0},{"$f":"SA!FI11-SA!FH11","v":-900},{"$f":"SA!FJ11-SA!FI11","v":300},{"$f":"SA!FK11-SA!FJ11","v":300},{"$f":"SA!FL11-SA!FK11","v":-1500},{"$f":"SA!FM11-SA!FL11","v":300},{"$f":"SA!FN11-SA!FM11","v":400},{"$f":"SA!FO11-SA!FN11","v":800},{"$f":"SA!FP11-SA!FO11","v":400},{"$f":"SA!FQ11-SA!FP11","v":0},{"$f":"SA!FR11-SA!FQ11","v":500},{"$f":"SA!FS11-SA!FR11","v":-100},{"$f":"SA!FT11-SA!FS11","v":300},{"$f":"SA!FU11-SA!FT11","v":1500},{"$f":"SA!FV11-SA!FU11","v":1200},{"$f":"SA!FW11-SA!FV11","v":100},{"$f":"SA!FX11-SA!FW11","v":700},{"$f":"SA!FY11-SA!FX11","v":100},{"$f":"SA!FZ11-SA!FY11","v":200},{"$f":"SA!GA11-SA!FZ11","v":400},{"$f":"SA!GB11-SA!GA11","v":400},{"$f":"SA!GC11-SA!GB11","v":800},{"$f":"SA!GD11-SA!GC11","v":-300},{"$f":"SA!GE11-SA!GD11","v":400},{"$f":"SA!GF11-SA!GE11","v":-100},{"$f":"SA!GG11-SA!GF11","v":-800},{"$f":"SA!GH11-SA!GG11","v":-700},{"$f":"SA!GI11-SA!GH11","v":0},{"$f":"SA!GJ11-SA!GI11","v":-300},{"$f":"SA!GK11-SA!GJ11","v":-300},{"$f":"SA!GL11-SA!GK11","v":-400},{"$f":"SA!GM11-SA!GL11","v":-800},{"$f":"SA!GN11-SA!GM11","v":-300},{"$f":"SA!GO11-SA!GN11","v":-400},{"$f":"SA!GP11-SA!GO11","v":0},{"$f":"SA!GQ11-SA!GP11","v":-500},{"$f":"SA!GR11-SA!GQ11","v":-500},{"$f":"SA!GS11-SA!GR11","v":-300},{"$f":"SA!GT11-SA!GS11","v":-500},{"$f":"SA!GU11-SA!GT11","v":-600},{"$f":"SA!GV11-SA!GU11","v":-200},{"$f":"SA!GW11-SA!GV11","v":-200},{"$f":"SA!GX11-SA!GW11","v":-200},{"$f":"SA!GY11-SA!GX11","v":1000},{"$f":"SA!GZ11-SA!GY11","v":-300},{"$f":"SA!HA11-SA!GZ11","v":2300},{"$f":"SA!HB11-SA!HA11","v":-200},{"$f":"SA!HC11-SA!HB11","v":300},{"$f":"SA!HD11-SA!HC11","v":-500},{"$f":"SA!HE11-SA!HD11","v":1800},{"$f":"SA!HF11-SA!HE11","v":-500},{"$f":"SA!HG11-SA!HF11","v":900},{"$f":"SA!HH11-SA!HG11","v":1000},{"$f":"SA!HI11-SA!HH11","v":900},{"$f":"SA!HJ11-SA!HI11","v":500},{"$f":"SA!HK11-SA!HJ11","v":-286400},{"$f":"SA!HL11-SA!HK11","v":0},{"$f":"SA!HM11-SA!HL11","v":0},2120,1,null,"  Durable Goods",-8500,-925,-400,-100,100,400,1000,4600,1758.6816181306433]
["  Non-Durable Goods",{"$f":"SA!BN12-SA!BM12","v":-400},{"$f":"SA!BO12-SA!BN12","v":-300},{"$f":"SA!BP12-SA!BO12","v":-200},{"$f":"SA!BQ12-SA!BP12","v":-600},{"$f":"SA!BR12-SA!BQ12","v":0},{"$f":"SA!BS12-SA!BR12","v":-300},{"$f":"SA!BT12-SA!BS12","v":700},{"$f":"SA!BU12-SA!BT12","v":-600},{"$f":"SA!BV12-SA!BU12","v":-300},{"$f":"SA!BW12-SA!BV12","v":-300},{"$f":"SA!BX12-SA!BW12","v":100},{"$f":"SA!BY12-SA!BX12","v":0},{"$f":"SA!BZ12-SA!BY12","v":-200},{"$f":"SA!CA12-SA!BZ12","v":-200},{"$f":"SA!CB12-SA!CA12","v":-200},{"$f":"SA!CC12-SA!CB12","v":200},{"$f":"SA!CD12-SA!CC12","v":-500},{"$f":"SA!CE12-SA!CD12","v":0},{"$f":"SA!CF12-SA!CE12","v":0},{"$f":"SA!CG12-SA!CF12","v":-500},{"$f":"SA!CH12-SA!CG12","v":-200},{"$f":"SA!CI12-SA!CH12","v":-100},{"$f":"SA!CJ12-SA!CI12","v":-200},{"$f":"SA!CK12-SA!CJ12","v":-100},{"$f":"SA!CL12-SA!CK12","v":300},{"$f":"SA!CM12-SA!CL12","v":100},{"$f":"SA!CN12-SA!CM12","v":0},{"$f":"SA!CO12-SA!CN12","v":-600},{"$f":"SA!CP12-SA!CO12","v":500},{"$f":"SA!CQ12-SA!CP12","v":900},{"$f":"SA!CR12-SA!CQ12","v":-300},{"$f":"SA!CS12-SA!CR12","v":-500},{"$f":"SA!CT12-SA!CS12","v":-300},{"$f":"SA!CU12-SA!CT12","v":-200},{"$f":"SA!CV12-SA!CU12","v":300},{"$f":"SA!CW12-SA!CV12","v":200},{"$f":"SA!CX12-SA!CW12","v":100},{"$f":"SA!CY12-SA!CX12","v":200},{"$f":"SA!CZ12-SA!CY12","v":-200},{"$f":"SA!DA12-SA!CZ12","v":-200},{"$f":"SA!DB12-SA!DA12","v":-400},{"$f":"SA!DC12-SA!DB12","v":200},{"$f":"SA!DD12-SA!DC12","v":-2100},{"$f":"SA!DE12-SA!DD12","v":-100},{"$f":"SA!DF12-SA!DE12","v":-700},{"$f":"SA!DG12-SA!DF12","v":200},{"$f":"SA!DH12-SA!DG12","v":-1100},{"$f":"SA!DI12-SA!DH12","v":-1000},{"$f":"SA!DJ12-SA!DI12","v":-1600},{"$f":"SA!DK12-SA!DJ12","v":-1700},{"$f":"SA!DL12-SA!DK12","v":-1300},{"$f":"SA!DM12-SA!DL12","v":-1600},{"$f":"SA!DN12-SA!DM12","v":-1100},{"$f":"SA!DO12-SA!DN12","v":-1000},{"$f":"SA!DP12-SA!DO12","v":-1900},{"$f":"SA!DQ12-SA!DP12","v":700},{"$f":"SA!DR12-SA!DQ12","v":1100},{"$f":"SA!DS12-SA!DR12","v":-1400},{"$f":"SA!DT12-SA!DS12","v":200},{"$f":"SA!DU12-SA!DT12","v":0},{"$f":"SA!DV12-SA!DU12","v":-100},{"$f":"SA!DW12-SA!DV12","v":100},{"$f":"SA!DX12-SA!DW12","v":300},{"$f":"SA!DY12-SA!DX12","v":200},{"$f":"SA!DZ12-SA!DY12","v":600},{"$f":"SA!EA12-SA!DZ12","v":600},{"$f":"SA!EB12-SA!EA12","v":1000},{"$f":"SA!EC12-SA!EB12","v":-500},{"$f":"SA!ED12-SA!EC12","v":-100},{"$f":"SA!EE12-SA!ED12","v":-100},{"$f":"SA!EF12-SA!EE12","v":400},{"$f":"SA!EG12-SA!EF12","v":-200},{"$f":"SA!EH12-SA!EG12","v":300},{"$f":"SA!EI12-SA!EH12","v":100},{"$f":"SA!EJ12-SA!EI12","v":300},{"$f":"SA!EK12-SA!EJ12","v":1000},{"$f":"SA!EL12-SA!EK12","v":300},{"$f":"SA!EM12-SA!EL12","v":-700},{"$f":"SA!EN12-SA!EM12","v":500},{"$f":"SA!EO12-SA!EN12","v":600},{"$f":"SA!EP12-SA!EO12","v":100},{"$f":"SA!EQ12-SA!EP12","v":-200},{"$f":"SA!ER12-SA!EQ12","v":0},{"$f":"SA!ES12-SA!ER12","v":300},{"$f":"SA!ET12-SA!ES12","v":0},{"$f":"SA!EU12-SA!ET12","v":100},{"$f":"SA!EV12-SA!EU12","v":0},{"$f":"SA!EW12-SA!EV12","v":600},{"$f":"SA!EX12-SA!EW12","v":-100},{"$f":"SA!EY12-SA!EX12","v":300},{"$f":"SA!EZ12-SA!EY12","v":100},{"$f":"SA!FA12-SA!EZ12","v":100},{"$f":"SA!FB12-SA!FA12","v":300},{"$f":"SA!FC12-SA!FB12","v":200},{"$f":"SA!FD12-SA!FC12","v":0},{"$f":"SA!FE12-SA!FD12","v":200},{"$f":"SA!FF12-SA!FE12","v":-100},{"$f":"SA!FG12-SA!FF12","v":200},{"$f":"SA!FH12-SA!FG12","v":0},{"$f":"SA!FI12-SA!FH12","v":-300},{"$f":"SA!FJ12-SA!FI12","v":100},{"$f":"SA!FK12-SA!FJ12","v":100},{"$f":"SA!FL12-SA!FK12","v":200},{"$f":"SA!FM12-SA!FL12","v":300},{"$f":"SA!FN12-SA!FM12","v":300},{"$f":"SA!FO12-SA!FN12","v":400},{"$f":"SA!FP12-SA!FO12","v":400},{"$f":"SA!FQ12-SA!FP12","v":200},{"$f":"SA!FR12-SA!FQ12","v":600},{"$f":"SA!FS12-SA!FR12","v":700},{"$f":"SA!FT12-SA!FS12","v":0},{"$f":"SA!FU12-SA!FT12","v":100},{"$f":"SA!FV12-SA!FU12","v":200},{"$f":"SA!FW12-SA!FV12","v":-200},{"$f":"SA!FX12-SA!FW12","v":800},{"$f":"SA!FY12-SA!FX12","v":300},{"$f":"SA!FZ12-SA!FY12","v":100},{"$f":"SA!GA12-SA!FZ12","v":-100},{"$f":"SA!GB12-SA!GA12","v":100},{"$f":"SA!GC12-SA!GB12","v":0},{"$f":"SA!GD12-SA!GC12","v":200},{"$f":"SA!GE12-SA!GD12","v":600},{"$f":"SA!GF12-SA!GE12","v":-400},{"$f":"SA!GG12-SA!GF12","v":100},{"$f":"SA!GH12-SA!GG12","v":300},{"$f":"SA!GI12-SA!GH12","v":-100},{"$f":"SA!GJ12-SA!GI12","v":200},{"$f":"SA!GK12-SA!GJ12","v":-200},{"$f":"SA!GL12-SA!GK12","v":400},{"$f":"SA!GM12-SA!GL12","v":400},{"$f":"SA!GN12-SA!GM12","v":300},{"$f":"SA!GO12-SA!GN12","v":400},{"$f":"SA!GP12-SA!GO12","v":100},{"$f":"SA!GQ12-SA!GP12","v":0},{"$f":"SA!GR12-SA!GQ12","v":200},{"$f":"SA!GS12-SA!GR12","v":200},{"$f":"SA!GT12-SA!GS12","v":-200},{"$f":"SA!GU12-SA!GT12","v":-100},{"$f":"SA!GV12-SA!GU12","v":0},{"$f":"SA!GW12-SA!GV12","v":-100},{"$f":"SA!GX12-SA!GW12","v":-100},{"$f":"SA!GY12-SA!GX12","v":2800},{"$f":"SA!GZ12-SA!GY12","v":-600},{"$f":"SA!HA12-SA!GZ12","v":-100},{"$f":"SA!HB12-SA!HA12","v":-100},{"$f":"SA!HC12-SA!HB12","v":700},{"$f":"SA!HD12-SA!HC12","v":-700},{"$f":"SA!HE12-SA!HD12","v":2400},{"$f":"SA!HF12-SA!HE12","v":500},{"$f":"SA!HG12-SA!HF12","v":-600},{"$f":"SA!HH12-SA!HG12","v":900},{"$f":"SA!HI12-SA!HH12","v":-500},{"$f":"SA!HJ12-SA!HI12","v":700},{"$f":"SA!HK12-SA!HJ12","v":-189500},{"$f":"SA!HL12-SA!HK12","v":0},{"$f":"SA!HM12-SA!HL12","v":0},1951,2,null,"  Non-Durable Goods",-2100,-425,-200,0,100,200,400,2800,583.02902115261202]
["Trade, Transportation, and Utilities",{"$f":"SA!BN13-SA!BM13","v":-600},{"$f":"SA!BO13-SA!BN13","v":1100},{"$f":"SA!BP13-SA!BO13","v":500},{"$f":"SA!BQ13-SA!BP13","v":2100},{"$f":"SA!BR13-SA!BQ13","v":-500},{"$f":"SA!BS13-SA!BR13","v":-1900},{"$f":"SA!BT13-SA!BS13","v":2200},{"$f":"SA!BU13-SA!BT13","v":1300},{"$f":"SA!BV13-SA!BU13","v":-200},{"$f":"SA!BW13-SA!BV13","v":2600},{"$f":"SA!BX13-SA!BW13","v":100},{"$f":"SA!BY13-SA!BX13","v":1000},{"$f":"SA!BZ13-SA!BY13","v":-4500},{"$f":"SA!CA13-SA!BZ13","v":1100},{"$f":"SA!CB13-SA!CA13","v":300},{"$f":"SA!CC13-SA!CB13","v":300},{"$f":"SA!CD13-SA!CC13","v":-900},{"$f":"SA!CE13-SA!CD13","v":700},{"$f":"SA!CF13-SA!CE13","v":-1200},{"$f":"SA!CG13-SA!CF13","v":700},{"$f":"SA!CH13-SA!CG13","v":100},{"$f":"SA!CI13-SA!CH13","v":200},{"$f":"SA!CJ13-SA!CI13","v":1600},{"$f":"SA!CK13-SA!CJ13","v":1200},{"$f":"SA!CL13-SA!CK13","v":1000},{"$f":"SA!CM13-SA!CL13","v":0},{"$f":"SA!CN13-SA!CM13","v":100},{"$f":"SA!CO13-SA!CN13","v":-2100},{"$f":"SA!CP13-SA!CO13","v":2200},{"$f":"SA!CQ13-SA!CP13","v":300},{"$f":"SA!CR13-SA!CQ13","v":-1000},{"$f":"SA!CS13-SA!CR13","v":-1500},{"$f":"SA!CT13-SA!CS13","v":-500},{"$f":"SA!CU13-SA!CT13","v":-600},{"$f":"SA!CV13-SA!CU13","v":200},{"$f":"SA!CW13-SA!CV13","v":-200},{"$f":"SA!CX13-SA!CW13","v":1700},{"$f":"SA!CY13-SA!CX13","v":-1200},{"$f":"SA!CZ13-SA!CY13","v":-500},{"$f":"SA!DA13-SA!CZ13","v":-500},{"$f":"SA!DB13-SA!DA13","v":-1500},{"$f":"SA!DC13-SA!DB13","v":-1600},{"$f":"SA!DD13-SA!DC13","v":-100},{"$f":"SA!DE13-SA!DD13","v":-800},{"$f":"SA!DF13-SA!DE13","v":-2800},{"$f":"SA!DG13-SA!DF13","v":-2400},{"$f":"SA!DH13-SA!DG13","v":-2700},{"$f":"SA!DI13-SA!DH13","v":-2100},{"$f":"SA!DJ13-SA!DI13","v":-3300},{"$f":"SA!DK13-SA!DJ13","v":-2100},{"$f":"SA!DL13-SA!DK13","v":-3400},{"$f":"SA!DM13-SA!DL13","v":-3400},{"$f":"SA!DN13-SA!DM13","v":1000},{"$f":"SA!DO13-SA!DN13","v":-899.99999999994179},{"$f":"SA!DP13-SA!DO13","v":-2700.0000000000582},{"$f":"SA!DQ13-SA!DP13","v":-1100},{"$f":"SA!DR13-SA!DQ13","v":-1800},{"$f":"SA!DS13-SA!DR13","v":-1000},{"$f":"SA!DT13-SA!DS13","v":-1800},{"$f":"SA!DU13-SA!DT13","v":-1800},{"$f":"SA!DV13-SA!DU13","v":-100},{"$f":"SA!DW13-SA!DV13","v":-500},{"$f":"SA!DX13-SA!DW13","v":300},{"$f":"SA!DY13-SA!DX13","v":-300},{"$f":"SA!DZ13-SA!DY13","v":100},{"$f":"SA!EA13-SA!DZ13","v":-400},{"$f":"SA!EB13-SA!EA13","v":700},{"$f":"SA!EC13-SA!EB13","v":-300},{"$f":"SA!ED13-SA!EC13","v":-800},{"$f":"SA!EE13-SA!ED13","v":2900},{"$f":"SA!EF13-SA!EE13","v":-1400},{"$f":"SA!EG13-SA!EF13","v":200},{"$f":"SA!EH13-SA!EG13","v":100},{"$f":"SA!EI13-SA!EH13","v":0},{"$f":"SA!EJ13-SA!EI13","v":400},{"$f":"SA!EK13-SA!EJ13","v":1600},{"$f":"SA!EL13-SA!EK13","v":-2000},{"$f":"SA!EM13-SA!EL13","v":-500},{"$f":"SA!EN13-SA!EM13","v":2500},{"$f":"SA!EO13-SA!EN13","v":500},{"$f":"SA!EP13-SA!EO13","v":900},{"$f":"SA!EQ13-SA!EP13","v":-199.99999999994179},{"$f":"SA!ER13-SA!EQ13","v":299.99999999994179},{"$f":"SA!ES13-SA!ER13","v":-200.00000000005821},{"$f":"SA!ET13-SA!ES13","v":400.00000000011642},{"$f":"SA!EU13-SA!ET13","v":-500},{"$f":"SA!EV13-SA!EU13","v":99.999999999883585},{"$f":"SA!EW13-SA!EV13","v":-899.99999999994179},{"$f":"SA!EX13-SA!EW13","v":-100},{"$f":"SA!EY13-SA!EX13","v":200},{"$f":"SA!EZ13-SA!EY13","v":-1000},{"$f":"SA!FA13-SA!EZ13","v":500},{"$f":"SA!FB13-SA!FA13","v":900},{"$f":"SA!FC13-SA!FB13","v":1100},{"$f":"SA!FD13-SA!FC13","v":1200.0000000000582},{"$f":"SA!FE13-SA!FD13","v":-100.00000000005821},{"$f":"SA!FF13-SA!FE13","v":699.99999999994179},{"$f":"SA!FG13-SA!FF13","v":1200.0000000000582},{"$f":"SA!FH13-SA!FG13","v":-200.00000000005821},{"$f":"SA!FI13-SA!FH13","v":700.00000000005821},{"$f":"SA!FJ13-SA!FI13","v":700.00000000005821},{"$f":"SA!FK13-SA!FJ13","v":199.99999999994179},{"$f":"SA!FL13-SA!FK13","v":200},{"$f":"SA!FM13-SA!FL13","v":900},{"$f":"SA!FN13-SA!FM13","v":-299.99999999994179},{"$f":"SA!FO13-SA!FN13","v":599.99999999988358},{"$f":"SA!FP13-SA!FO13","v":-199.99999999994179},{"$f":"SA!FQ13-SA!FP13","v":1900},{"$f":"SA!FR13-SA!FQ13","v":600},{"$f":"SA!FS13-SA!FR13","v":1000},{"$f":"SA!FT13-SA!FS13","v":1199.9999999999418},{"$f":"SA!FU13-SA!FT13","v":2000.0000000000582},{"$f":"SA!FV13-SA!FU13","v":-800},{"$f":"SA!FW13-SA!FV13","v":200},{"$f":"SA!FX13-SA!FW13","v":300},{"$f":"SA!FY13-SA!FX13","v":0},{"$f":"SA!FZ13-SA!FY13","v":-200},{"$f":"SA!GA13-SA!FZ13","v":-100},{"$f":"SA!GB13-SA!GA13","v":2100},{"$f":"SA!GC13-SA!GB13","v":-500},{"$f":"SA!GD13-SA!GC13","v":800},{"$f":"SA!GE13-SA!GD13","v":-100},{"$f":"SA!GF13-SA!GE13","v":1600},{"$f":"SA!GG13-SA!GF13","v":-800},{"$f":"SA!GH13-SA!GG13","v":1700},{"$f":"SA!GI13-SA!GH13","v":900},{"$f":"SA!GJ13-SA!GI13","v":3000},{"$f":"SA!GK13-SA!GJ13","v":1200},{"$f":"SA!GL13-SA!GK13","v":700},{"$f":"SA!GM13-SA!GL13","v":500},{"$f":"SA!GN13-SA!GM13","v":-400},{"$f":"SA!GO13-SA!GN13","v":-1500},{"$f":"SA!GP13-SA!GO13","v":4300},{"$f":"SA!GQ13-SA!GP13","v":1500},{"$f":"SA!GR13-SA!GQ13","v":100},{"$f":"SA!GS13-SA!GR13","v":1200},{"$f":"SA!GT13-SA!GS13","v":-1100},{"$f":"SA!GU13-SA!GT13","v":-100},{"$f":"SA!GV13-SA!GU13","v":1800},{"$f":"SA!GW13-SA!GV13","v":-100},{"$f":"SA!GX13-SA!GW13","v":-100},{"$f":"SA!GY13-SA!GX13","v":-3200},{"$f":"SA!GZ13-SA!GY13","v":-300},{"$f":"SA!HA13-SA!GZ13","v":-2100},{"$f":"SA!HB13-SA!HA13","v":6000},{"$f":"SA!HC13-SA!HB13","v":2400},{"$f":"SA!HD13-SA!HC13","v":-500},{"$f":"SA!HE13-SA!HD13","v":-500},{"$f":"SA!HF13-SA!HE13","v":700},{"$f":"SA!HG13-SA!HF13","v":200},{"$f":"SA!HH13-SA!HG13","v":-2500},{"$f":"SA!HI13-SA!HH13","v":-600},{"$f":"SA!HJ13-SA!HI13","v":5100},{"$f":"SA!HK13-SA!HJ13","v":-546100},{"$f":"SA!HL13-SA!HK13","v":0},{"$f":"SA!HM13-SA!HL13","v":0},3841,2,null,"Trade, Transportation, and Utilities",-4500,-1500,-500,-100,174.99999999995634,699.9999999999709,1200.0000000000146,4300,1389.4983038008484]
["  Wholesale Trade",{"$f":"SA!BN14-SA!BM14","v":200},{"$f":"SA!BO14-SA!BN14","v":200},{"$f":"SA!BP14-SA!BO14","v":-200},{"$f":"SA!BQ14-SA!BP14","v":1100},{"$f":"SA!BR14-SA!BQ14","v":300},{"$f":"SA!BS14-SA!BR14","v":-100},{"$f":"SA!BT14-SA!BS14","v":300},{"$f":"SA!BU14-SA!BT14","v":200},{"$f":"SA!BV14-SA!BU14","v":300},{"$f":"SA!BW14-SA!BV14","v":300},{"$f":"SA!BX14-SA!BW14","v":300},{"$f":"SA!BY14-SA!BX14","v":400},{"$f":"SA!BZ14-SA!BY14","v":400},{"$f":"SA!CA14-SA!BZ14","v":300},{"$f":"SA!CB14-SA!CA14","v":200},{"$f":"SA!CC14-SA!CB14","v":100},{"$f":"SA!CD14-SA!CC14","v":0},{"$f":"SA!CE14-SA!CD14","v":400},{"$f":"SA!CF14-SA!CE14","v":100},{"$f":"SA!CG14-SA!CF14","v":100},{"$f":"SA!CH14-SA!CG14","v":200},{"$f":"SA!CI14-SA!CH14","v":0},{"$f":"SA!CJ14-SA!CI14","v":0},{"$f":"SA!CK14-SA!CJ14","v":200},{"$f":"SA!CL14-SA!CK14","v":0},{"$f":"SA!CM14-SA!CL14","v":300},{"$f":"SA!CN14-SA!CM14","v":-100},{"$f":"SA!CO14-SA!CN14","v":100},{"$f":"SA!CP14-SA!CO14","v":200},{"$f":"SA!CQ14-SA!CP14","v":300},{"$f":"SA!CR14-SA!CQ14","v":100},{"$f":"SA!CS14-SA!CR14","v":-200},{"$f":"SA!CT14-SA!CS14","v":0},{"$f":"SA!CU14-SA!CT14","v":0},{"$f":"SA!CV14-SA!CU14","v":200},{"$f":"SA!CW14-SA!CV14","v":100},{"$f":"SA!CX14-SA!CW14","v":100},{"$f":"SA!CY14-SA!CX14","v":-100},{"$f":"SA!CZ14-SA!CY14","v":100},{"$f":"SA!DA14-SA!CZ14","v":0},{"$f":"SA!DB14-SA!DA14","v":100},{"$f":"SA!DC14-SA!DB14","v":-200},{"$f":"SA!DD14-SA!DC14","v":-200},{"$f":"SA!DE14-SA!DD14","v":0},{"$f":"SA!DF14-SA!DE14","v":-800},{"$f":"SA!DG14-SA!DF14","v":-800},{"$f":"SA!DH14-SA!DG14","v":-200},{"$f":"SA!DI14-SA!DH14","v":-800},{"$f":"SA!DJ14-SA!DI14","v":-400},{"$f":"SA!DK14-SA!DJ14","v":-700},{"$f":"SA!DL14-SA!DK14","v":-800},{"$f":"SA!DM14-SA!DL14","v":-1900},{"$f":"SA!DN14-SA!DM14","v":0},{"$f":"SA!DO14-SA!DN14","v":-700},{"$f":"SA!DP14-SA!DO14","v":-800},{"$f":"SA!DQ14-SA!DP14","v":-500},{"$f":"SA!DR14-SA!DQ14","v":-400},{"$f":"SA!DS14-SA!DR14","v":100},{"$f":"SA!DT14-SA!DS14","v":-500},{"$f":"SA!DU14-SA!DT14","v":-300},{"$f":"SA!DV14-SA!DU14","v":-400},{"$f":"SA!DW14-SA!DV14","v":-200},{"$f":"SA!DX14-SA!DW14","v":0},{"$f":"SA!DY14-SA!DX14","v":200},{"$f":"SA!DZ14-SA!DY14","v":-100},{"$f":"SA!EA14-SA!DZ14","v":-300},{"$f":"SA!EB14-SA!EA14","v":700},{"$f":"SA!EC14-SA!EB14","v":300},{"$f":"SA!ED14-SA!EC14","v":-600},{"$f":"SA!EE14-SA!ED14","v":900},{"$f":"SA!EF14-SA!EE14","v":0},{"$f":"SA!EG14-SA!EF14","v":100},{"$f":"SA!EH14-SA!EG14","v":100},{"$f":"SA!EI14-SA!EH14","v":200},{"$f":"SA!EJ14-SA!EI14","v":100},{"$f":"SA!EK14-SA!EJ14","v":400},{"$f":"SA!EL14-SA!EK14","v":100},{"$f":"SA!EM14-SA!EL14","v":-100},{"$f":"SA!EN14-SA!EM14","v":1100},{"$f":"SA!EO14-SA!EN14","v":100},{"$f":"SA!EP14-SA!EO14","v":200},{"$f":"SA!EQ14-SA!EP14","v":200},{"$f":"SA!ER14-SA!EQ14","v":100},{"$f":"SA!ES14-SA!ER14","v":200},{"$f":"SA!ET14-SA!ES14","v":300},{"$f":"SA!EU14-SA!ET14","v":100},{"$f":"SA!EV14-SA!EU14","v":500},{"$f":"SA!EW14-SA!EV14","v":0},{"$f":"SA!EX14-SA!EW14","v":-300},{"$f":"SA!EY14-SA!EX14","v":100},{"$f":"SA!EZ14-SA!EY14","v":-300},{"$f":"SA!FA14-SA!EZ14","v":0},{"$f":"SA!FB14-SA!FA14","v":200},{"$f":"SA!FC14-SA!FB14","v":100},{"$f":"SA!FD14-SA!FC14","v":200},{"$f":"SA!FE14-SA!FD14","v":200},{"$f":"SA!FF14-SA!FE14","v":1400},{"$f":"SA!FG14-SA!FF14","v":100},{"$f":"SA!FH14-SA!FG14","v":-100},{"$f":"SA!FI14-SA!FH14","v":0},{"$f":"SA!FJ14-SA!FI14","v":200},{"$f":"SA!FK14-SA!FJ14","v":-100},{"$f":"SA!FL14-SA!FK14","v":0},{"$f":"SA!FM14-SA!FL14","v":200},{"$f":"SA!FN14-SA!FM14","v":0},{"$f":"SA!FO14-SA!FN14","v":0},{"$f":"SA!FP14-SA!FO14","v":100},{"$f":"SA!FQ14-SA!FP14","v":100},{"$f":"SA!FR14-SA!FQ14","v":0},{"$f":"SA!FS14-SA!FR14","v":200},{"$f":"SA!FT14-SA!FS14","v":500},{"$f":"SA!FU14-SA!FT14","v":0},{"$f":"SA!FV14-SA!FU14","v":0},{"$f":"SA!FW14-SA!FV14","v":200},{"$f":"SA!FX14-SA!FW14","v":100},{"$f":"SA!FY14-SA!FX14","v":400},{"$f":"SA!FZ14-SA!FY14","v":-200},{"$f":"SA!GA14-SA!FZ14","v":-200},{"$f":"SA!GB14-SA!GA14","v":200},{"$f":"SA!GC14-SA!GB14","v":200},{"$f":"SA!GD14-SA!GC14","v":600},{"$f":"SA!GE14-SA!GD14","v":-100},{"$f":"SA!GF14-SA!GE14","v":200},{"$f":"SA!GG14-SA!GF14","v":300},{"$f":"SA!GH14-SA!GG14","v":600},{"$f":"SA!GI14-SA!GH14","v":100},{"$f":"SA!GJ14-SA!GI14","v":300},{"$f":"SA!GK14-SA!GJ14","v":200},{"$f":"SA!GL14-SA!GK14","v":-200},{"$f":"SA!GM14-SA!GL14","v":600},{"$f":"SA!GN14-SA!GM14","v":200},{"$f":"SA!GO14-SA!GN14","v":100},{"$f":"SA!GP14-SA!GO14","v":200},{"$f":"SA!GQ14-SA!GP14","v":100},{"$f":"SA!GR14-SA!GQ14","v":100},{"$f":"SA!GS14-SA!GR14","v":0},{"$f":"SA!GT14-SA!GS14","v":-100},{"$f":"SA!GU14-SA!GT14","v":-200},{"$f":"SA!GV14-SA!GU14","v":600},{"$f":"SA!GW14-SA!GV14","v":100},{"$f":"SA!GX14-SA!GW14","v":200},{"$f":"SA!GY14-SA!GX14","v":-200},{"$f":"SA!GZ14-SA!GY14","v":-200},{"$f":"SA!HA14-SA!GZ14","v":-600},{"$f":"SA!HB14-SA!HA14","v":1800},{"$f":"SA!HC14-SA!HB14","v":300},{"$f":"SA!HD14-SA!HC14","v":1800},{"$f":"SA!HE14-SA!HD14","v":1400},{"$f":"SA!HF14-SA!HE14","v":-600},{"$f":"SA!HG14-SA!HF14","v":0},{"$f":"SA!HH14-SA!HG14","v":-2200},{"$f":"SA!HI14-SA!HH14","v":1100},{"$f":"SA!HJ14-SA!HI14","v":1900},{"$f":"SA!HK14-SA!HJ14","v":-128900},{"$f":"SA!HL14-SA!HK14","v":0},{"$f":"SA!HM14-SA!HL14","v":0},1545,3,null,"  Wholesale Trade",-1900,-200,0,100,100,200,300,1400,381.1532208676424]
["  Retail Trade",{"$f":"SA!BN15-SA!BM15","v":-800},{"$f":"SA!BO15-SA!BN15","v":900},{"$f":"SA!BP15-SA!BO15","v":300},{"$f":"SA!BQ15-SA!BP15","v":800},{"$f":"SA!BR15-SA!BQ15","v":-600},{"$f":"SA!BS15-SA!BR15","v":-1700},{"$f":"SA!BT15-SA!BS15","v":1500},{"$f":"SA!BU15-SA!BT15","v":900},{"$f":"SA!BV15-SA!BU15","v":-500},{"$f":"SA!BW15-SA!BV15","v":3000},{"$f":"SA!BX15-SA!BW15","v":-800},{"$f":"SA!BY15-SA!BX15","v":300},{"$f":"SA!BZ15-SA!BY15","v":-5500},{"$f":"SA!CA15-SA!BZ15","v":600},{"$f":"SA!CB15-SA!CA15","v":0},{"$f":"SA!CC15-SA!CB15","v":300},{"$f":"SA!CD15-SA!CC15","v":-900},{"$f":"SA!CE15-SA!CD15","v":0},{"$f":"SA!CF15-SA!CE15","v":-900},{"$f":"SA!CG15-SA!CF15","v":400},{"$f":"SA!CH15-SA!CG15","v":-400},{"$f":"SA!CI15-SA!CH15","v":500},{"$f":"SA!CJ15-SA!CI15","v":1700},{"$f":"SA!CK15-SA!CJ15","v":400},{"$f":"SA!CL15-SA!CK15","v":1200},{"$f":"SA!CM15-SA!CL15","v":-400},{"$f":"SA!CN15-SA!CM15","v":300},{"$f":"SA!CO15-SA!CN15","v":-1900},{"$f":"SA!CP15-SA!CO15","v":1500},{"$f":"SA!CQ15-SA!CP15","v":-700},{"$f":"SA!CR15-SA!CQ15","v":300},{"$f":"SA!CS15-SA!CR15","v":-1900},{"$f":"SA!CT15-SA!CS15","v":-400},{"$f":"SA!CU15-SA!CT15","v":-700},{"$f":"SA!CV15-SA!CU15","v":-300},{"$f":"SA!CW15-SA!CV15","v":-200},{"$f":"SA!CX15-SA!CW15","v":1400},{"$f":"SA!CY15-SA!CX15","v":-800},{"$f":"SA!CZ15-SA!CY15","v":-200},{"$f":"SA!DA15-SA!CZ15","v":0},{"$f":"SA!DB15-SA!DA15","v":-1200},{"$f":"SA!DC15-SA!DB15","v":-800},{"$f":"SA!DD15-SA!DC15","v":300},{"$f":"SA!DE15-SA!DD15","v":-500},{"$f":"SA!DF15-SA!DE15","v":-1300},{"$f":"SA!DG15-SA!DF15","v":-1400},{"$f":"SA!DH15-SA!DG15","v":-2200},{"$f":"SA!DI15-SA!DH15","v":-800},{"$f":"SA!DJ15-SA!DI15","v":-2000},{"$f":"SA!DK15-SA!DJ15","v":-900},{"$f":"SA!DL15-SA!DK15","v":-1900},{"$f":"SA!DM15-SA!DL15","v":-1500},{"$f":"SA!DN15-SA!DM15","v":400},{"$f":"SA!DO15-SA!DN15","v":-300},{"$f":"SA!DP15-SA!DO15","v":-900},{"$f":"SA!DQ15-SA!DP15","v":-700},{"$f":"SA!DR15-SA!DQ15","v":-1000},{"$f":"SA!DS15-SA!DR15","v":-500},{"$f":"SA!DT15-SA!DS15","v":-800},{"$f":"SA!DU15-SA!DT15","v":-1100},{"$f":"SA!DV15-SA!DU15","v":300},{"$f":"SA!DW15-SA!DV15","v":-500},{"$f":"SA!DX15-SA!DW15","v":400},{"$f":"SA!DY15-SA!DX15","v":-700},{"$f":"SA!DZ15-SA!DY15","v":500},{"$f":"SA!EA15-SA!DZ15","v":-300},{"$f":"SA!EB15-SA!EA15","v":0},{"$f":"SA!EC15-SA!EB15","v":0},{"$f":"SA!ED15-SA!EC15","v":0},{"$f":"SA!EE15-SA!ED15","v":1700},{"$f":"SA!EF15-SA!EE15","v":-1100},{"$f":"SA!EG15-SA!EF15","v":100},{"$f":"SA!EH15-SA!EG15","v":100},{"$f":"SA!EI15-SA!EH15","v":100},{"$f":"SA!EJ15-SA!EI15","v":400},{"$f":"SA!EK15-SA!EJ15","v":1400},{"$f":"SA!EL15-SA!EK15","v":-1900},{"$f":"SA!EM15-SA!EL15","v":-300},{"$f":"SA!EN15-SA!EM15","v":1200},{"$f":"SA!EO15-SA!EN15","v":400},{"$f":"SA!EP15-SA!EO15","v":600},{"$f":"SA!EQ15-SA!EP15","v":-200},{"$f":"SA!ER15-SA!EQ15","v":200},{"$f":"SA!ES15-SA!ER15","v":-300},{"$f":"SA!ET15-SA!ES15","v":200},{"$f":"SA!EU15-SA!ET15","v":-500},{"$f":"SA!EV15-SA!EU15","v":-100},{"$f":"SA!EW15-SA!EV15","v":-500},{"$f":"SA!EX15-SA!EW15","v":-500},{"$f":"SA!EY15-SA!EX15","v":0},{"$f":"SA!EZ15-SA!EY15","v":-800},{"$f":"SA!FA15-SA!EZ15","v":800},{"$f":"SA!FB15-SA!FA15","v":400},{"$f":"SA!FC15-SA!FB15","v":1100},{"$f":"SA!FD15-SA!FC15","v":1200},{"$f":"SA!FE15-SA!FD15","v":-400},{"$f":"SA!FF15-SA!FE15","v":-600},{"$f":"SA!FG15-SA!FF15","v":1000},{"$f":"SA!FH15-SA!FG15","v":-300},{"$f":"SA!FI15-SA!FH15","v":1000},{"$f":"SA!FJ15-SA!FI15","v":600},{"$f":"SA!FK15-SA!FJ15","v":800},{"$f":"SA!FL15-SA!FK15","v":0},{"$f":"SA!FM15-SA!FL15","v":400},{"$f":"SA!FN15-SA!FM15","v":0},{"$f":"SA!FO15-SA!FN15","v":400},{"$f":"SA!FP15-SA!FO15","v":-400},{"$f":"SA!FQ15-SA!FP15","v":1900},{"$f":"SA!FR15-SA!FQ15","v":200},{"$f":"SA!FS15-SA!FR15","v":400},{"$f":"SA!FT15-SA!FS15","v":700},{"$f":"SA!FU15-SA!FT15","v":1400},{"$f":"SA!FV15-SA!FU15","v":-600},{"$f":"SA!FW15-SA!FV15","v":0},{"$f":"SA!FX15-SA!FW15","v":200},{"$f":"SA!FY15-SA!FX15","v":-400},{"$f":"SA!FZ15-SA!FY15","v":-200},{"$f":"SA!GA15-SA!FZ15","v":-100},{"$f":"SA!GB15-SA!GA15","v":1000},{"$f":"SA!GC15-SA!GB15","v":-900},{"$f":"SA!GD15-SA!GC15","v":500},{"$f":"SA!GE15-SA!GD15","v":0},{"$f":"SA!GF15-SA!GE15","v":1000},{"$f":"SA!GG15-SA!GF15","v":-900},{"$f":"SA!GH15-SA!GG15","v":700},{"$f":"SA!GI15-SA!GH15","v":200},{"$f":"SA!GJ15-SA!GI15","v":800},{"$f":"SA!GK15-SA!GJ15","v":600},{"$f":"SA!GL15-SA!GK15","v":700},{"$f":"SA!GM15-SA!GL15","v":-200},{"$f":"SA!GN15-SA!GM15","v":-700},{"$f":"SA!GO15-SA!GN15","v":-2000},{"$f":"SA!GP15-SA!GO15","v":4400},{"$f":"SA!GQ15-SA!GP15","v":1200},{"$f":"SA!GR15-SA!GQ15","v":200},{"$f":"SA!GS15-SA!GR15","v":1100},{"$f":"SA!GT15-SA!GS15","v":-1100},{"$f":"SA!GU15-SA!GT15","v":-100},{"$f":"SA!GV15-SA!GU15","v":900},{"$f":"SA!GW15-SA!GV15","v":-200},{"$f":"SA!GX15-SA!GW15","v":-200},{"$f":"SA!GY15-SA!GX15","v":-3000},{"$f":"SA!GZ15-SA!GY15","v":-200},{"$f":"SA!HA15-SA!GZ15","v":-1800},{"$f":"SA!HB15-SA!HA15","v":4800},{"$f":"SA!HC15-SA!HB15","v":2100},{"$f":"SA!HD15-SA!HC15","v":-1700},{"$f":"SA!HE15-SA!HD15","v":-2100},{"$f":"SA!HF15-SA!HE15","v":1100},{"$f":"SA!HG15-SA!HF15","v":600},{"$f":"SA!HH15-SA!HG15","v":-1300},{"$f":"SA!HI15-SA!HH15","v":-1100},{"$f":"SA!HJ15-SA!HI15","v":400},{"$f":"SA!HK15-SA!HJ15","v":-307700},{"$f":"SA!HL15-SA!HK15","v":0},{"$f":"SA!HM15-SA!HL15","v":0},2917,1,null,"  Retail Trade",-5500,-900,-500,-200,0,400,900,4400,1092.0156001576418]
["  Transportation, Warehousing, and Utilities",{"$f":"SA!BN16-SA!BM16","v":0},{"$f":"SA!BO16-SA!BN16","v":0},{"$f":"SA!BP16-SA!BO16","v":400},{"$f":"SA!BQ16-SA!BP16","v":200},{"$f":"SA!BR16-SA!BQ16","v":-200},{"$f":"SA!BS16-SA!BR16","v":-100},{"$f":"SA!BT16-SA!BS16","v":400},{"$f":"SA!BU16-SA!BT16","v":200},{"$f":"SA!BV16-SA!BU16","v":0},{"$f":"SA!BW16-SA!BV16","v":-700},{"$f":"SA!BX16-SA!BW16","v":600},{"$f":"SA!BY16-SA!BX16","v":300},{"$f":"SA!BZ16-SA!BY16","v":600},{"$f":"SA!CA16-SA!BZ16","v":200},{"$f":"SA!CB16-SA!CA16","v":100},{"$f":"SA!CC16-SA!CB16","v":-100},{"$f":"SA!CD16-SA!CC16","v":0},{"$f":"SA!CE16-SA!CD16","v":300},{"$f":"SA!CF16-SA!CE16","v":-400},{"$f":"SA!CG16-SA!CF16","v":200},{"$f":"SA!CH16-SA!CG16","v":300},{"$f":"SA!CI16-SA!CH16","v":-300},{"$f":"SA!CJ16-SA!CI16","v":-100},{"$f":"SA!CK16-SA!CJ16","v":600},{"$f":"SA!CL16-SA!CK16","v":-200},{"$f":"SA!CM16-SA!CL16","v":100},{"$f":"SA!CN16-SA!CM16","v":-100},{"$f":"SA!CO16-SA!CN16","v":-300},{"$f":"SA!CP16-SA!CO16","v":500},{"$f":"SA!CQ16-SA!CP16","v":700},{"$f":"SA!CR16-SA!CQ16","v":-1400},{"$f":"SA!CS16-SA!CR16","v":600},{"$f":"SA!CT16-SA!CS16","v":-100},{"$f":"SA!CU16-SA!CT16","v":100},{"$f":"SA!CV16-SA!CU16","v":300},{"$f":"SA!CW16-SA!CV16","v":-100},{"$f":"SA!CX16-SA!CW16","v":200},{"$f":"SA!CY16-SA!CX16","v":-300},{"$f":"SA!CZ16-SA!CY16","v":-400},{"$f":"SA!DA16-SA!CZ16","v":-500},{"$f":"SA!DB16-SA!DA16","v":-400},{"$f":"SA!DC16-SA!DB16","v":-600},{"$f":"SA!DD16-SA!DC16","v":-200},{"$f":"SA!DE16-SA!DD16","v":-300},{"$f":"SA!DF16-SA!DE16","v":-700},{"$f":"SA!DG16-SA!DF16","v":-200},{"$f":"SA!DH16-SA!DG16","v":-300},{"$f":"SA!DI16-SA!DH16","v":-500},{"$f":"SA!DJ16-SA!DI16","v":-900},{"$f":"SA!DK16-SA!DJ16","v":-500},{"$f":"SA!DL16-SA!DK16","v":-700},{"$f":"SA!DM16-SA!DL16","v":0},{"$f":"SA!DN16-SA!DM16","v":600},{"$f":"SA!DO16-SA!DN16","v":100},{"$f":"SA!DP16-SA!DO16","v":-1000},{"$f":"SA!DQ16-SA!DP16","v":100},{"$f":"SA!DR16-SA!DQ16","v":-400},{"$f":"SA!DS16-SA!DR16","v":-600},{"$f":"SA!DT16-SA!DS16","v":-500},{"$f":"SA!DU16-SA!DT16","v":-400},{"$f":"SA!DV16-SA!DU16","v":0},{"$f":"SA!DW16-SA!DV16","v":200},{"$f":"SA!DX16-SA!DW16","v":-100},{"$f":"SA!DY16-SA!DX16","v":200},{"$f":"SA!DZ16-SA!DY16","v":-300},{"$f":"SA!EA16-SA!DZ16","v":200},{"$f":"SA!EB16-SA!EA16","v":0},{"$f":"SA!EC16-SA!EB16","v":-600},{"$f":"SA!ED16-SA!EC16","v":-200},{"$f":"SA!EE16-SA!ED16","v":300},{"$f":"SA!EF16-SA!EE16","v":-300},{"$f":"SA!EG16-SA!EF16","v":0},{"$f":"SA!EH16-SA!EG16","v":-100},{"$f":"SA!EI16-SA!EH16","v":-300},{"$f":"SA!EJ16-SA!EI16","v":-100},{"$f":"SA!EK16-SA!EJ16","v":-200},{"$f":"SA!EL16-SA!EK16","v":-200},{"$f":"SA!EM16-SA!EL16","v":-100},{"$f":"SA!EN16-SA!EM16","v":200},{"$f":"SA!EO16-SA!EN16","v":0},{"$f":"SA!EP16-SA!EO16","v":100},{"$f":"SA!EQ16-SA!EP16","v":-200},{"$f":"SA!ER16-SA!EQ16","v":0},{"$f":"SA!ES16-SA!ER16","v":-100},{"$f":"SA!ET16-SA!ES16","v":-100},{"$f":"SA!EU16-SA!ET16","v":-100},{"$f":"SA!EV16-SA!EU16","v":-300},{"$f":"SA!EW16-SA!EV16","v":-400},{"$f":"SA!EX16-SA!EW16","v":700},{"$f":"SA!EY16-SA!EX16","v":100},{"$f":"SA!EZ16-SA!EY16","v":100},{"$f":"SA!FA16-SA!EZ16","v":-300},{"$f":"SA!FB16-SA!FA16","v":300},{"$f":"SA!FC16-SA!FB16","v":-100},{"$f":"SA!FD16-SA!FC16","v":-200},{"$f":"SA!FE16-SA!FD16","v":100},{"$f":"SA!FF16-SA!FE16","v":-100},{"$f":"SA!FG16-SA!FF16","v":100},{"$f":"SA!FH16-SA!FG16","v":200},{"$f":"SA!FI16-SA!FH16","v":-300},{"$f":"SA!FJ16-SA!FI16","v":-100},{"$f":"SA!FK16-SA!FJ16","v":-500},{"$f":"SA!FL16-SA!FK16","v":200},{"$f":"SA!FM16-SA!FL16","v":300},{"$f":"SA!FN16-SA!FM16","v":-300},{"$f":"SA!FO16-SA!FN16","v":200},{"$f":"SA!FP16-SA!FO16","v":100},{"$f":"SA!FQ16-SA!FP16","v":-100},{"$f":"SA!FR16-SA!FQ16","v":400},{"$f":"SA!FS16-SA!FR16","v":400},{"$f":"SA!FT16-SA!FS16","v":0},{"$f":"SA!FU16-SA!FT16","v":600},{"$f":"SA!FV16-SA!FU16","v":-200},{"$f":"SA!FW16-SA!FV16","v":0},{"$f":"SA!FX16-SA!FW16","v":0},{"$f":"SA!FY16-SA!FX16","v":0},{"$f":"SA!FZ16-SA!FY16","v":200},{"$f":"SA!GA16-SA!FZ16","v":200},{"$f":"SA!GB16-SA!GA16","v":900},{"$f":"SA!GC16-SA!GB16","v":200},{"$f":"SA!GD16-SA!GC16","v":-300},{"$f":"SA!GE16-SA!GD16","v":0},{"$f":"SA!GF16-SA!GE16","v":400},{"$f":"SA!GG16-SA!GF16","v":-200},{"$f":"SA!GH16-SA!GG16","v":400},{"$f":"SA!GI16-SA!GH16","v":600},{"$f":"SA!GJ16-SA!GI16","v":1900},{"$f":"SA!GK16-SA!GJ16","v":400},{"$f":"SA!GL16-SA!GK16","v":200},{"$f":"SA!GM16-SA!GL16","v":100},{"$f":"SA!GN16-SA!GM16","v":100},{"$f":"SA!GO16-SA!GN16","v":400},{"$f":"SA!GP16-SA!GO16","v":-300},{"$f":"SA!GQ16-SA!GP16","v":200},{"$f":"SA!GR16-SA!GQ16","v":-200},{"$f":"SA!GS16-SA!GR16","v":100},{"$f":"SA!GT16-SA!GS16","v":100},{"$f":"SA!GU16-SA!GT16","v":200},{"$f":"SA!GV16-SA!GU16","v":300},{"$f":"SA!GW16-SA!GV16","v":0},{"$f":"SA!GX16-SA!GW16","v":-100},{"$f":"SA!GY16-SA!GX16","v":0},{"$f":"SA!GZ16-SA!GY16","v":100},{"$f":"SA!HA16-SA!GZ16","v":300},{"$f":"SA!HB16-SA!HA16","v":-600},{"$f":"SA!HC16-SA!HB16","v":0},{"$f":"SA!HD16-SA!HC16","v":-600},{"$f":"SA!HE16-SA!HD16","v":200},{"$f":"SA!HF16-SA!HE16","v":200},{"$f":"SA!HG16-SA!HF16","v":-400},{"$f":"SA!HH16-SA!HG16","v":1000},{"$f":"SA!HI16-SA!HH16","v":-600},{"$f":"SA!HJ16-SA!HI16","v":2800},{"$f":"SA!HK16-SA!HJ16","v":-109500},{"$f":"SA!HL16-SA!HK16","v":0},{"$f":"SA!HM16-SA!HL16","v":0},1964,1,null,"  Transportation, Warehousing, and Utilities",-1400,-300,-200,0,0,200,300,1900,387.19310328103091]
["Information",{"$f":"SA!BN17-SA!BM17","v":100},{"$f":"SA!BO17-SA!BN17","v":100},{"$f":"SA!BP17-SA!BO17","v":-100},{"$f":"SA!BQ17-SA!BP17","v":400},{"$f":"SA!BR17-SA!BQ17","v":-100},{"$f":"SA!BS17-SA!BR17","v":100},{"$f":"SA!BT17-SA!BS17","v":-300},{"$f":"SA!BU17-SA!BT17","v":0},{"$f":"SA!BV17-SA!BU17","v":100},{"$f":"SA!BW17-SA!BV17","v":-200},{"$f":"SA!BX17-SA!BW17","v":0},{"$f":"SA!BY17-SA!BX17","v":0},{"$f":"SA!BZ17-SA!BY17","v":0},{"$f":"SA!CA17-SA!BZ17","v":0},{"$f":"SA!CB17-SA!CA17","v":-100},{"$f":"SA!CC17-SA!CB17","v":-300},{"$f":"SA!CD17-SA!CC17","v":-100},{"$f":"SA!CE17-SA!CD17","v":-100},{"$f":"SA!CF17-SA!CE17","v":100},{"$f":"SA!CG17-SA!CF17","v":0},{"$f":"SA!CH17-SA!CG17","v":0},{"$f":"SA!CI17-SA!CH17","v":200},{"$f":"SA!CJ17-SA!CI17","v":100},{"$f":"SA!CK17-SA!CJ17","v":100},{"$f":"SA!CL17-SA!CK17","v":300},{"$f":"SA!CM17-SA!CL17","v":0},{"$f":"SA!CN17-SA!CM17","v":0},{"$f":"SA!CO17-SA!CN17","v":200},{"$f":"SA!CP17-SA!CO17","v":100},{"$f":"SA!CQ17-SA!CP17","v":200},{"$f":"SA!CR17-SA!CQ17","v":200},{"$f":"SA!CS17-SA!CR17","v":0},{"$f":"SA!CT17-SA!CS17","v":0},{"$f":"SA!CU17-SA!CT17","v":0},{"$f":"SA!CV17-SA!CU17","v":-100},{"$f":"SA!CW17-SA!CV17","v":0},{"$f":"SA!CX17-SA!CW17","v":-100},{"$f":"SA!CY17-SA!CX17","v":0},{"$f":"SA!CZ17-SA!CY17","v":0},{"$f":"SA!DA17-SA!CZ17","v":200},{"$f":"SA!DB17-SA!DA17","v":700},{"$f":"SA!DC17-SA!DB17","v":-500},{"$f":"SA!DD17-SA!DC17","v":-400},{"$f":"SA!DE17-SA!DD17","v":-200},{"$f":"SA!DF17-SA!DE17","v":-200},{"$f":"SA!DG17-SA!DF17","v":-200},{"$f":"SA!DH17-SA!DG17","v":-300},{"$f":"SA!DI17-SA!DH17","v":-100},{"$f":"SA!DJ17-SA!DI17","v":-100},{"$f":"SA!DK17-SA!DJ17","v":100},{"$f":"SA!DL17-SA!DK17","v":-500},{"$f":"SA!DM17-SA!DL17","v":-500},{"$f":"SA!DN17-SA!DM17","v":100},{"$f":"SA!DO17-SA!DN17","v":-200},{"$f":"SA!DP17-SA!DO17","v":-400},{"$f":"SA!DQ17-SA!DP17","v":-200},{"$f":"SA!DR17-SA!DQ17","v":-100},{"$f":"SA!DS17-SA!DR17","v":-600},{"$f":"SA!DT17-SA!DS17","v":100},{"$f":"SA!DU17-SA!DT17","v":100},{"$f":"SA!DV17-SA!DU17","v":-300},{"$f":"SA!DW17-SA!DV17","v":-300},{"$f":"SA!DX17-SA!DW17","v":100},{"$f":"SA!DY17-SA!DX17","v":-200},{"$f":"SA!DZ17-SA!DY17","v":100},{"$f":"SA!EA17-SA!DZ17","v":200},{"$f":"SA!EB17-SA!EA17","v":0},{"$f":"SA!EC17-SA!EB17","v":100},{"$f":"SA!ED17-SA!EC17","v":0},{"$f":"SA!EE17-SA!ED17","v":-300},{"$f":"SA!EF17-SA!EE17","v":400},{"$f":"SA!EG17-SA!EF17","v":0},{"$f":"SA!EH17-SA!EG17","v":0},{"$f":"SA!EI17-SA!EH17","v":100},{"$f":"SA!EJ17-SA!EI17","v":-100},{"$f":"SA!EK17-SA!EJ17","v":200},{"$f":"SA!EL17-SA!EK17","v":-200},{"$f":"SA!EM17-SA!EL17","v":-400},{"$f":"SA!EN17-SA!EM17","v":300},{"$f":"SA!EO17-SA!EN17","v":-100},{"$f":"SA!EP17-SA!EO17","v":100},{"$f":"SA!EQ17-SA!EP17","v":-100},{"$f":"SA!ER17-SA!EQ17","v":0},{"$f":"SA!ES17-SA!ER17","v":-100},{"$f":"SA!ET17-SA!ES17","v":-200},{"$f":"SA!EU17-SA!ET17","v":0},{"$f":"SA!EV17-SA!EU17","v":-100},{"$f":"SA!EW17-SA!EV17","v":100},{"$f":"SA!EX17-SA!EW17","v":-100},{"$f":"SA!EY17-SA!EX17","v":300},{"$f":"SA!EZ17-SA!EY17","v":-200},{"$f":"SA!FA17-SA!EZ17","v":100},{"$f":"SA!FB17-SA!FA17","v":100},{"$f":"SA!FC17-SA!FB17","v":0},{"$f":"SA!FD17-SA!FC17","v":100},{"$f":"SA!FE17-SA!FD17","v":-200},{"$f":"SA!FF17-SA!FE17","v":400},{"$f":"SA!FG17-SA!FF17","v":200},{"$f":"SA!FH17-SA!FG17","v":0},{"$f":"SA!FI17-SA!FH17","v":100},{"$f":"SA!FJ17-SA!FI17","v":0},{"$f":"SA!FK17-SA!FJ17","v":100},{"$f":"SA!FL17-SA!FK17","v":0},{"$f":"SA!FM17-SA!FL17","v":0},{"$f":"SA!FN17-SA!FM17","v":0},{"$f":"SA!FO17-SA!FN17","v":0},{"$f":"SA!FP17-SA!FO17","v":100},{"$f":"SA!FQ17-SA!FP17","v":100},{"$f":"SA!FR17-SA!FQ17","v":0},{"$f":"SA!FS17-SA!FR17","v":100},{"$f":"SA!FT17-SA!FS17","v":100},{"$f":"SA!FU17-SA!FT17","v":-100},{"$f":"SA!FV17-SA!FU17","v":0},{"$f":"SA!FW17-SA!FV17","v":200},{"$f":"SA!FX17-SA!FW17","v":200},{"$f":"SA!FY17-SA!FX17","v":100},{"$f":"SA!FZ17-SA!FY17","v":-200},{"$f":"SA!GA17-SA!FZ17","v":400},{"$f":"SA!GB17-SA!GA17","v":0},{"$f":"SA!GC17-SA!GB17","v":100},{"$f":"SA!GD17-SA!GC17","v":200},{"$f":"SA!GE17-SA!GD17","v":-200},{"$f":"SA!GF17-SA!GE17","v":0},{"$f":"SA!GG17-SA!GF17","v":200},{"$f":"SA!GH17-SA!GG17","v":100},{"$f":"SA!GI17-SA!GH17","v":-100},{"$f":"SA!GJ17-SA!GI17","v":400},{"$f":"SA!GK17-SA!GJ17","v":200},{"$f":"SA!GL17-SA!GK17","v":100},{"$f":"SA!GM17-SA!GL17","v":100},{"$f":"SA!GN17-SA!GM17","v":0},{"$f":"SA!GO17-SA!GN17","v":-100},{"$f":"SA!GP17-SA!GO17","v":0},{"$f":"SA!GQ17-SA!GP17","v":100},{"$f":"SA!GR17-SA!GQ17","v":100},{"$f":"SA!GS17-SA!GR17","v":100},{"$f":"SA!GT17-SA!GS17","v":-300},{"$f":"SA!GU17-SA!GT17","v":-100},{"$f":"SA!GV17-SA!GU17","v":-100},{"$f":"SA!GW17-SA!GV17","v":-200},{"$f":"SA!GX17-SA!GW17","v":-100},{"$f":"SA!GY17-SA!GX17","v":-700},{"$f":"SA!GZ17-SA!GY17","v":-400},{"$f":"SA!HA17-SA!GZ17","v":0},{"$f":"SA!HB17-SA!HA17","v":100},{"$f":"SA!HC17-SA!HB17","v":400},{"$f":"SA!HD17-SA!HC17","v":-300},{"$f":"SA!HE17-SA!HD17","v":0},{"$f":"SA!HF17-SA!HE17","v":-900},{"$f":"SA!HG17-SA!HF17","v":-200},{"$f":"SA!HH17-SA!HG17","v":-400},{"$f":"SA!HI17-SA!HH17","v":-400},{"$f":"SA!HJ17-SA!HI17","v":100},{"$f":"SA!HK17-SA!HJ17","v":-46100},{"$f":"SA!HL17-SA!HK17","v":0},{"$f":"SA!HM17-SA!HL17","v":0},801,0,null,"Information",-700,-200,-100,0,0,100,200,700,205.0999079039828]
["Financial Activities",{"$f":"SA!BN18-SA!BM18","v":-400},{"$f":"SA!BO18-SA!BN18","v":-400},{"$f":"SA!BP18-SA!BO18","v":500},{"$f":"SA!BQ18-SA!BP18","v":-200},{"$f":"SA!BR18-SA!BQ18","v":100},{"$f":"SA!BS18-SA!BR18","v":200},{"$f":"SA!BT18-SA!BS18","v":200},{"$f":"SA!BU18-SA!BT18","v":200},{"$f":"SA!BV18-SA!BU18","v":200},{"$f":"SA!BW18-SA!BV18","v":0},{"$f":"SA!BX18-SA!BW18","v":100},{"$f":"SA!BY18-SA!BX18","v":0},{"$f":"SA!BZ18-SA!BY18","v":100},{"$f":"SA!CA18-SA!BZ18","v":-100},{"$f":"SA!CB18-SA!CA18","v":200},{"$f":"SA!CC18-SA!CB18","v":600},{"$f":"SA!CD18-SA!CC18","v":400},{"$f":"SA!CE18-SA!CD18","v":0},{"$f":"SA!CF18-SA!CE18","v":500},{"$f":"SA!CG18-SA!CF18","v":-100},{"$f":"SA!CH18-SA!CG18","v":400},{"$f":"SA!CI18-SA!CH18","v":0},{"$f":"SA!CJ18-SA!CI18","v":0},{"$f":"SA!CK18-SA!CJ18","v":300},{"$f":"SA!CL18-SA!CK18","v":100},{"$f":"SA!CM18-SA!CL18","v":0},{"$f":"SA!CN18-SA!CM18","v":-200},{"$f":"SA!CO18-SA!CN18","v":0},{"$f":"SA!CP18-SA!CO18","v":-300},{"$f":"SA!CQ18-SA!CP18","v":500},{"$f":"SA!CR18-SA!CQ18","v":-500},{"$f":"SA!CS18-SA!CR18","v":-300},{"$f":"SA!CT18-SA!CS18","v":300},{"$f":"SA!CU18-SA!CT18","v":1200},{"$f":"SA!CV18-SA!CU18","v":-100},{"$f":"SA!CW18-SA!CV18","v":300},{"$f":"SA!CX18-SA!CW18","v":100},{"$f":"SA!CY18-SA!CX18","v":500},{"$f":"SA!CZ18-SA!CY18","v":-200},{"$f":"SA!DA18-SA!CZ18","v":0},{"$f":"SA!DB18-SA!DA18","v":500},{"$f":"SA!DC18-SA!DB18","v":-400},{"$f":"SA!DD18-SA!DC18","v":100},{"$f":"SA!DE18-SA!DD18","v":-200},{"$f":"SA!DF18-SA!DE18","v":-600},{"$f":"SA!DG18-SA!DF18","v":-400},{"$f":"SA!DH18-SA!DG18","v":-200},{"$f":"SA!DI18-SA!DH18","v":-200},{"$f":"SA!DJ18-SA!DI18","v":200},{"$f":"SA!DK18-SA!DJ18","v":-700},{"$f":"SA!DL18-SA!DK18","v":-400},{"$f":"SA!DM18-SA!DL18","v":-100},{"$f":"SA!DN18-SA!DM18","v":-200},{"$f":"SA!DO18-SA!DN18","v":-300},{"$f":"SA!DP18-SA!DO18","v":-700},{"$f":"SA!DQ18-SA!DP18","v":0},{"$f":"SA!DR18-SA!DQ18","v":-700},{"$f":"SA!DS18-SA!DR18","v":-200},{"$f":"SA!DT18-SA!DS18","v":-300},{"$f":"SA!DU18-SA!DT18","v":-400},{"$f":"SA!DV18-SA!DU18","v":-200},{"$f":"SA!DW18-SA!DV18","v":-400},{"$f":"SA!DX18-SA!DW18","v":200},{"$f":"SA!DY18-SA!DX18","v":-600},{"$f":"SA!DZ18-SA!DY18","v":-300},{"$f":"SA!EA18-SA!DZ18","v":-100},{"$f":"SA!EB18-SA!EA18","v":-200},{"$f":"SA!EC18-SA!EB18","v":-400},{"$f":"SA!ED18-SA!EC18","v":0},{"$f":"SA!EE18-SA!ED18","v":200},{"$f":"SA!EF18-SA!EE18","v":0},{"$f":"SA!EG18-SA!EF18","v":-400},{"$f":"SA!EH18-SA!EG18","v":-100},{"$f":"SA!EI18-SA!EH18","v":-100},{"$f":"SA!EJ18-SA!EI18","v":0},{"$f":"SA!EK18-SA!EJ18","v":-200},{"$f":"SA!EL18-SA!EK18","v":-200},{"$f":"SA!EM18-SA!EL18","v":-200},{"$f":"SA!EN18-SA!EM18","v":200},{"$f":"SA!EO18-SA!EN18","v":-400},{"$f":"SA!EP18-SA!EO18","v":300},{"$f":"SA!EQ18-SA!EP18","v":0},{"$f":"SA!ER18-SA!EQ18","v":100},{"$f":"SA!ES18-SA!ER18","v":0},{"$f":"SA!ET18-SA!ES18","v":500},{"$f":"SA!EU18-SA!ET18","v":-200},{"$f":"SA!EV18-SA!EU18","v":100},{"$f":"SA!EW18-SA!EV18","v":-200},{"$f":"SA!EX18-SA!EW18","v":100},{"$f":"SA!EY18-SA!EX18","v":-100},{"$f":"SA!EZ18-SA!EY18","v":-100},{"$f":"SA!FA18-SA!EZ18","v":0},{"$f":"SA!FB18-SA!FA18","v":0},{"$f":"SA!FC18-SA!FB18","v":-100},{"$f":"SA!FD18-SA!FC18","v":0},{"$f":"SA!FE18-SA!FD18","v":-100},{"$f":"SA!FF18-SA!FE18","v":0},{"$f":"SA!FG18-SA!FF18","v":-100},{"$f":"SA!FH18-SA!FG18","v":200},{"$f":"SA!FI18-SA!FH18","v":-400},{"$f":"SA!FJ18-SA!FI18","v":100},{"$f":"SA!FK18-SA!FJ18","v":100},{"$f":"SA!FL18-SA!FK18","v":200},{"$f":"SA!FM18-SA!FL18","v":-100},{"$f":"SA!FN18-SA!FM18","v":0},{"$f":"SA!FO18-SA!FN18","v":-300},{"$f":"SA!FP18-SA!FO18","v":0},{"$f":"SA!FQ18-SA!FP18","v":-100},{"$f":"SA!FR18-SA!FQ18","v":-1200},{"$f":"SA!FS18-SA!FR18","v":300},{"$f":"SA!FT18-SA!FS18","v":200},{"$f":"SA!FU18-SA!FT18","v":300},{"$f":"SA!FV18-SA!FU18","v":100},{"$f":"SA!FW18-SA!FV18","v":200},{"$f":"SA!FX18-SA!FW18","v":-100},{"$f":"SA!FY18-SA!FX18","v":400},{"$f":"SA!FZ18-SA!FY18","v":400},{"$f":"SA!GA18-SA!FZ18","v":-300},{"$f":"SA!GB18-SA!GA18","v":0},{"$f":"SA!GC18-SA!GB18","v":200},{"$f":"SA!GD18-SA!GC18","v":100},{"$f":"SA!GE18-SA!GD18","v":200},{"$f":"SA!GF18-SA!GE18","v":100},{"$f":"SA!GG18-SA!GF18","v":-200},{"$f":"SA!GH18-SA!GG18","v":400},{"$f":"SA!GI18-SA!GH18","v":0},{"$f":"SA!GJ18-SA!GI18","v":100},{"$f":"SA!GK18-SA!GJ18","v":-400},{"$f":"SA!GL18-SA!GK18","v":200},{"$f":"SA!GM18-SA!GL18","v":300},{"$f":"SA!GN18-SA!GM18","v":0},{"$f":"SA!GO18-SA!GN18","v":-100},{"$f":"SA!GP18-SA!GO18","v":-200},{"$f":"SA!GQ18-SA!GP18","v":200},{"$f":"SA!GR18-SA!GQ18","v":0},{"$f":"SA!GS18-SA!GR18","v":0},{"$f":"SA!GT18-SA!GS18","v":100},{"$f":"SA!GU18-SA!GT18","v":-100},{"$f":"SA!GV18-SA!GU18","v":600},{"$f":"SA!GW18-SA!GV18","v":-100},{"$f":"SA!GX18-SA!GW18","v":-100},{"$f":"SA!GY18-SA!GX18","v":0},{"$f":"SA!GZ18-SA!GY18","v":-200},{"$f":"SA!HA18-SA!GZ18","v":600},{"$f":"SA!HB18-SA!HA18","v":1800},{"$f":"SA!HC18-SA!HB18","v":-800},{"$f":"SA!HD18-SA!HC18","v":500},{"$f":"SA!HE18-SA!HD18","v":0},{"$f":"SA!HF18-SA!HE18","v":-900},{"$f":"SA!HG18-SA!HF18","v":-600},{"$f":"SA!HH18-SA!HG18","v":-500},{"$f":"SA!HI18-SA!HH18","v":1100},{"$f":"SA!HJ18-SA!HI18","v":500},{"$f":"SA!HK18-SA!HJ18","v":-153300},{"$f":"SA!HL18-SA!HK18","v":0},{"$f":"SA!HM18-SA!HL18","v":0},1550,1,null,"Financial Activities",-1200,-300,-200,0,0,100,300,1200,307.24203145901396]
["Real Estate and Rental and Leasing",{"$f":"SA!BN19-SA!BM19","v":200},{"$f":"SA!BO19-SA!BN19","v":-200},{"$f":"SA!BP19-SA!BO19","v":200},{"$f":"SA!BQ19-SA!BP19","v":100},{"$f":"SA!BR19-SA!BQ19","v":-100},{"$f":"SA!BS19-SA!BR19","v":-100},{"$f":"SA!BT19-SA!BS19","v":300},{"$f":"SA!BU19-SA!BT19","v":-200},{"$f":"SA!BV19-SA!BU19","v":200},{"$f":"SA!BW19-SA!BV19","v":-200},{"$f":"SA!BX19-SA!BW19","v":100},{"$f":"SA!BY19-SA!BX19","v":100},{"$f":"SA!BZ19-SA!BY19","v":0},{"$f":"SA!CA19-SA!BZ19","v":-100},{"$f":"SA!CB19-SA!CA19","v":0},{"$f":"SA!CC19-SA!CB19","v":100},{"$f":"SA!CD19-SA!CC19","v":0},{"$f":"SA!CE19-SA!CD19","v":100},{"$f":"SA!CF19-SA!CE19","v":200},{"$f":"SA!CG19-SA!CF19","v":-200},{"$f":"SA!CH19-SA!CG19","v":0},{"$f":"SA!CI19-SA!CH19","v":-100},{"$f":"SA!CJ19-SA!CI19","v":0},{"$f":"SA!CK19-SA!CJ19","v":0},{"$f":"SA!CL19-SA!CK19","v":0},{"$f":"SA!CM19-SA!CL19","v":0},{"$f":"SA!CN19-SA!CM19","v":0},{"$f":"SA!CO19-SA!CN19","v":0},{"$f":"SA!CP19-SA!CO19","v":0},{"$f":"SA!CQ19-SA!CP19","v":0},{"$f":"SA!CR19-SA!CQ19","v":-100},{"$f":"SA!CS19-SA!CR19","v":-100},{"$f":"SA!CT19-SA!CS19","v":0},{"$f":"SA!CU19-SA!CT19","v":100},{"$f":"SA!CV19-SA!CU19","v":-200},{"$f":"SA!CW19-SA!CV19","v":0},{"$f":"SA!CX19-SA!CW19","v":-200},{"$f":"SA!CY19-SA!CX19","v":100},{"$f":"SA!CZ19-SA!CY19","v":-100},{"$f":"SA!DA19-SA!CZ19","v":-100},{"$f":"SA!DB19-SA!DA19","v":-100},{"$f":"SA!DC19-SA!DB19","v":-100},{"$f":"SA!DD19-SA!DC19","v":-100},{"$f":"SA!DE19-SA!DD19","v":-200},{"$f":"SA!DF19-SA!DE19","v":-200},{"$f":"SA!DG19-SA!DF19","v":100},{"$f":"SA!DH19-SA!DG19","v":-100},{"$f":"SA!DI19-SA!DH19","v":-100},{"$f":"SA!DJ19-SA!DI19","v":-500},{"$f":"SA!DK19-SA!DJ19","v":-200},{"$f":"SA!DL19-SA!DK19","v":-200},{"$f":"SA!DM19-SA!DL19","v":-300},{"$f":"SA!DN19-SA!DM19","v":100},{"$f":"SA!DO19-SA!DN19","v":0},{"$f":"SA!DP19-SA!DO19","v":-200},{"$f":"SA!DQ19-SA!DP19","v":0},{"$f":"SA!DR19-SA!DQ19","v":-100},{"$f":"SA!DS19-SA!DR19","v":-100},{"$f":"SA!DT19-SA!DS19","v":-200},{"$f":"SA!DU19-SA!DT19","v":0},{"$f":"SA!DV19-SA!DU19","v":200},{"$f":"SA!DW19-SA!DV19","v":-100},{"$f":"SA!DX19-SA!DW19","v":-100},{"$f":"SA!DY19-SA!DX19","v":-200},{"$f":"SA!DZ19-SA!DY19","v":-100},{"$f":"SA!EA19-SA!DZ19","v":-200},{"$f":"SA!EB19-SA!EA19","v":0},{"$f":"SA!EC19-SA!EB19","v":-100},{"$f":"SA!ED19-SA!EC19","v":-100},{"$f":"SA!EE19-SA!ED19","v":200},{"$f":"SA!EF19-SA!EE19","v":-100},{"$f":"SA!EG19-SA!EF19","v":0},{"$f":"SA!EH19-SA!EG19","v":-100},{"$f":"SA!EI19-SA!EH19","v":0},{"$f":"SA!EJ19-SA!EI19","v":100},{"$f":"SA!EK19-SA!EJ19","v":0},{"$f":"SA!EL19-SA!EK19","v":-300},{"$f":"SA!EM19-SA!EL19","v":100},{"$f":"SA!EN19-SA!EM19","v":-100},{"$f":"SA!EO19-SA!EN19","v":-100},{"$f":"SA!EP19-SA!EO19","v":100},{"$f":"SA!EQ19-SA!EP19","v":-100},{"$f":"SA!ER19-SA!EQ19","v":0},{"$f":"SA!ES19-SA!ER19","v":0},{"$f":"SA!ET19-SA!ES19","v":100},{"$f":"SA!EU19-SA!ET19","v":-100},{"$f":"SA!EV19-SA!EU19","v":0},{"$f":"SA!EW19-SA!EV19","v":0},{"$f":"SA!EX19-SA!EW19","v":100},{"$f":"SA!EY19-SA!EX19","v":0},{"$f":"SA!EZ19-SA!EY19","v":100},{"$f":"SA!FA19-SA!EZ19","v":-100},{"$f":"SA!FB19-SA!FA19","v":-100},{"$f":"SA!FC19-SA!FB19","v":100},{"$f":"SA!FD19-SA!FC19","v":-100},{"$f":"SA!FE19-SA!FD19","v":100},{"$f":"SA!FF19-SA!FE19","v":100},{"$f":"SA!FG19-SA!FF19","v":0},{"$f":"SA!FH19-SA!FG19","v":100},{"$f":"SA!FI19-SA!FH19","v":-100},{"$f":"SA!FJ19-SA!FI19","v":200},{"$f":"SA!FK19-SA!FJ19","v":-100},{"$f":"SA!FL19-SA!FK19","v":100},{"$f":"SA!FM19-SA!FL19","v":-100},{"$f":"SA!FN19-SA!FM19","v":100},{"$f":"SA!FO19-SA!FN19","v":-200},{"$f":"SA!FP19-SA!FO19","v":100},{"$f":"SA!FQ19-SA!FP19","v":-100},{"$f":"SA!FR19-SA!FQ19","v":-100},{"$f":"SA!FS19-SA!FR19","v":100},{"$f":"SA!FT19-SA!FS19","v":100},{"$f":"SA!FU19-SA!FT19","v":0},{"$f":"SA!FV19-SA!FU19","v":0},{"$f":"SA!FW19-SA!FV19","v":100},{"$f":"SA!FX19-SA!FW19","v":-100},{"$f":"SA!FY19-SA!FX19","v":0},{"$f":"SA!FZ19-SA!FY19","v":100},{"$f":"SA!GA19-SA!FZ19","v":-100},{"$f":"SA!GB19-SA!GA19","v":0},{"$f":"SA!GC19-SA!GB19","v":0},{"$f":"SA!GD19-SA!GC19","v":0},{"$f":"SA!GE19-SA!GD19","v":100},{"$f":"SA!GF19-SA!GE19","v":100},{"$f":"SA!GG19-SA!GF19","v":-100},{"$f":"SA!GH19-SA!GG19","v":300},{"$f":"SA!GI19-SA!GH19","v":100},{"$f":"SA!GJ19-SA!GI19","v":200},{"$f":"SA!GK19-SA!GJ19","v":0},{"$f":"SA!GL19-SA!GK19","v":100},{"$f":"SA!GM19-SA!GL19","v":100},{"$f":"SA!GN19-SA!GM19","v":100},{"$f":"SA!GO19-SA!GN19","v":0},{"$f":"SA!GP19-SA!GO19","v":-300},{"$f":"SA!GQ19-SA!GP19","v":300},{"$f":"SA!GR19-SA!GQ19","v":-100},{"$f":"SA!GS19-SA!GR19","v":100},{"$f":"SA!GT19-SA!GS19","v":0},{"$f":"SA!GU19-SA!GT19","v":0},{"$f":"SA!GV19-SA!GU19","v":-100},{"$f":"SA!GW19-SA!GV19","v":100},{"$f":"SA!GX19-SA!GW19","v":0},{"$f":"SA!GY19-SA!GX19","v":0},{"$f":"SA!GZ19-SA!GY19","v":0},{"$f":"SA!HA19-SA!GZ19","v":-200},{"$f":"SA!HB19-SA!HA19","v":600},{"$f":"SA!HC19-SA!HB19","v":0},{"$f":"SA!HD19-SA!HC19","v":100},{"$f":"SA!HE19-SA!HD19","v":100},{"$f":"SA!HF19-SA!HE19","v":-100},{"$f":"SA!HG19-SA!HF19","v":-100},{"$f":"SA!HH19-SA!HG19","v":0},{"$f":"SA!HI19-SA!HH19","v":100},{"$f":"SA!HJ19-SA!HI19","v":200},{"$f":"SA!HK19-SA!HJ19","v":-26100},{"$f":"SA!HL19-SA!HK19","v":0},{"$f":"SA!HM19-SA!HL19","v":0},586,1,null,"Real Estate and Rental and Leasing",-500,-100,-100,0,0,100,100,300,129.98545740121264]
["Professional and Business Services",{"$f":"SA!BN20-SA!BM20","v":1699.9999999999709},{"$f":"SA!BO20-SA!BN20","v":700},{"$f":"SA!BP20-SA!BO20","v":1500},{"$f":"SA!BQ20-SA!BP20","v":1800},{"$f":"SA!BR20-SA!BQ20","v":-1200},{"$f":"SA!BS20-SA!BR20","v":0},{"$f":"SA!BT20-SA!BS20","v":2500},{"$f":"SA!BU20-SA!BT20","v":700},{"$f":"SA!BV20-SA!BU20","v":500},{"$f":"SA!BW20-SA!BV20","v":-1500},{"$f":"SA!BX20-SA!BW20","v":1900},{"$f":"SA!BY20-SA!BX20","v":1200},{"$f":"SA!BZ20-SA!BY20","v":-500},{"$f":"SA!CA20-SA!BZ20","v":1500},{"$f":"SA!CB20-SA!CA20","v":400},{"$f":"SA!CC20-SA!CB20","v":3700},{"$f":"SA!CD20-SA!CC20","v":-900},{"$f":"SA!CE20-SA!CD20","v":600},{"$f":"SA!CF20-SA!CE20","v":-500},{"$f":"SA!CG20-SA!CF20","v":-200},{"$f":"SA!CH20-SA!CG20","v":900},{"$f":"SA!CI20-SA!CH20","v":1100},{"$f":"SA!CJ20-SA!CI20","v":400},{"$f":"SA!CK20-SA!CJ20","v":-900},{"$f":"SA!CL20-SA!CK20","v":2100},{"$f":"SA!CM20-SA!CL20","v":400},{"$f":"SA!CN20-SA!CM20","v":1400},{"$f":"SA!CO20-SA!CN20","v":2000},{"$f":"SA!CP20-SA!CO20","v":600},{"$f":"SA!CQ20-SA!CP20","v":1700},{"$f":"SA!CR20-SA!CQ20","v":-500},{"$f":"SA!CS20-SA!CR20","v":300},{"$f":"SA!CT20-SA!CS20","v":-300},{"$f":"SA!CU20-SA!CT20","v":-300},{"$f":"SA!CV20-SA!CU20","v":1100},{"$f":"SA!CW20-SA!CV20","v":1600},{"$f":"SA!CX20-SA!CW20","v":600},{"$f":"SA!CY20-SA!CX20","v":1100},{"$f":"SA!CZ20-SA!CY20","v":-1000},{"$f":"SA!DA20-SA!CZ20","v":-800},{"$f":"SA!DB20-SA!DA20","v":400},{"$f":"SA!DC20-SA!DB20","v":500},{"$f":"SA!DD20-SA!DC20","v":-400},{"$f":"SA!DE20-SA!DD20","v":600},{"$f":"SA!DF20-SA!DE20","v":-1600},{"$f":"SA!DG20-SA!DF20","v":-3400},{"$f":"SA!DH20-SA!DG20","v":-3000},{"$f":"SA!DI20-SA!DH20","v":-1900},{"$f":"SA!DJ20-SA!DI20","v":-5300},{"$f":"SA!DK20-SA!DJ20","v":-4700},{"$f":"SA!DL20-SA!DK20","v":-4599.9999999999709},{"$f":"SA!DM20-SA!DL20","v":-2400.0000000000291},{"$f":"SA!DN20-SA!DM20","v":100},{"$f":"SA!DO20-SA!DN20","v":-1699.9999999999709},{"$f":"SA!DP20-SA!DO20","v":-300.0000000000291},{"$f":"SA!DQ20-SA!DP20","v":-699.9999999999709},{"$f":"SA!DR20-SA!DQ20","v":399.9999999999709},{"$f":"SA!DS20-SA!DR20","v":2399.9999999999709},{"$f":"SA!DT20-SA!DS20","v":2500.0000000000291},{"$f":"SA!DU20-SA!DT20","v":1100},{"$f":"SA!DV20-SA!DU20","v":600},{"$f":"SA!DW20-SA!DV20","v":3100},{"$f":"SA!DX20-SA!DW20","v":-1200},{"$f":"SA!DY20-SA!DX20","v":5500},{"$f":"SA!DZ20-SA!DY20","v":900},{"$f":"SA!EA20-SA!DZ20","v":400},{"$f":"SA!EB20-SA!EA20","v":2300},{"$f":"SA!EC20-SA!EB20","v":2500},{"$f":"SA!ED20-SA!EC20","v":100},{"$f":"SA!EE20-SA!ED20","v":3300},{"$f":"SA!EF20-SA!EE20","v":1500},{"$f":"SA!EG20-SA!EF20","v":2000},{"$f":"SA!EH20-SA!EG20","v":1100},{"$f":"SA!EI20-SA!EH20","v":-200},{"$f":"SA!EJ20-SA!EI20","v":2100},{"$f":"SA!EK20-SA!EJ20","v":-1400},{"$f":"SA!EL20-SA!EK20","v":-200},{"$f":"SA!EM20-SA!EL20","v":800},{"$f":"SA!EN20-SA!EM20","v":1300},{"$f":"SA!EO20-SA!EN20","v":100},{"$f":"SA!EP20-SA!EO20","v":1800},{"$f":"SA!EQ20-SA!EP20","v":-600},{"$f":"SA!ER20-SA!EQ20","v":800},{"$f":"SA!ES20-SA!ER20","v":-200},{"$f":"SA!ET20-SA!ES20","v":1300},{"$f":"SA!EU20-SA!ET20","v":600},{"$f":"SA!EV20-SA!EU20","v":3300},{"$f":"SA!EW20-SA!EV20","v":400},{"$f":"SA!EX20-SA!EW20","v":-1400},{"$f":"SA!EY20-SA!EX20","v":700},{"$f":"SA!EZ20-SA!EY20","v":-1200},{"$f":"SA!FA20-SA!EZ20","v":-300},{"$f":"SA!FB20-SA!FA20","v":1600},{"$f":"SA!FC20-SA!FB20","v":600},{"$f":"SA!FD20-SA!FC20","v":2000},{"$f":"SA!FE20-SA!FD20","v":-2200},{"$f":"SA!FF20-SA!FE20","v":800},{"$f":"SA!FG20-SA!FF20","v":2500},{"$f":"SA!FH20-SA!FG20","v":3100},{"$f":"SA!FI20-SA!FH20","v":-3100},{"$f":"SA!FJ20-SA!FI20","v":2000},{"$f":"SA!FK20-SA!FJ20","v":1900},{"$f":"SA!FL20-SA!FK20","v":400},{"$f":"SA!FM20-SA!FL20","v":700},{"$f":"SA!FN20-SA!FM20","v":200},{"$f":"SA!FO20-SA!FN20","v":-900},{"$f":"SA!FP20-SA!FO20","v":2100},{"$f":"SA!FQ20-SA!FP20","v":500},{"$f":"SA!FR20-SA!FQ20","v":600},{"$f":"SA!FS20-SA!FR20","v":100},{"$f":"SA!FT20-SA!FS20","v":-300},{"$f":"SA!FU20-SA!FT20","v":300},{"$f":"SA!FV20-SA!FU20","v":1000},{"$f":"SA!FW20-SA!FV20","v":500},{"$f":"SA!FX20-SA!FW20","v":-500},{"$f":"SA!FY20-SA!FX20","v":1200},{"$f":"SA!FZ20-SA!FY20","v":0},{"$f":"SA!GA20-SA!FZ20","v":1500},{"$f":"SA!GB20-SA!GA20","v":1700},{"$f":"SA!GC20-SA!GB20","v":-2200},{"$f":"SA!GD20-SA!GC20","v":1400},{"$f":"SA!GE20-SA!GD20","v":-400},{"$f":"SA!GF20-SA!GE20","v":800},{"$f":"SA!GG20-SA!GF20","v":1200},{"$f":"SA!GH20-SA!GG20","v":1300},{"$f":"SA!GI20-SA!GH20","v":700},{"$f":"SA!GJ20-SA!GI20","v":1400},{"$f":"SA!GK20-SA!GJ20","v":1600},{"$f":"SA!GL20-SA!GK20","v":-1100},{"$f":"SA!GM20-SA!GL20","v":800},{"$f":"SA!GN20-SA!GM20","v":800},{"$f":"SA!GO20-SA!GN20","v":1600},{"$f":"SA!GP20-SA!GO20","v":3100},{"$f":"SA!GQ20-SA!GP20","v":200},{"$f":"SA!GR20-SA!GQ20","v":-200},{"$f":"SA!GS20-SA!GR20","v":300},{"$f":"SA!GT20-SA!GS20","v":-1100},{"$f":"SA!GU20-SA!GT20","v":-1000},{"$f":"SA!GV20-SA!GU20","v":1800},{"$f":"SA!GW20-SA!GV20","v":-700},{"$f":"SA!GX20-SA!GW20","v":400},{"$f":"SA!GY20-SA!GX20","v":-1200},{"$f":"SA!GZ20-SA!GY20","v":-400},{"$f":"SA!HA20-SA!GZ20","v":-400},{"$f":"SA!HB20-SA!HA20","v":1500},{"$f":"SA!HC20-SA!HB20","v":1300},{"$f":"SA!HD20-SA!HC20","v":3200},{"$f":"SA!HE20-SA!HD20","v":-1700},{"$f":"SA!HF20-SA!HE20","v":2400},{"$f":"SA!HG20-SA!HF20","v":-4700},{"$f":"SA!HH20-SA!HG20","v":2500},{"$f":"SA!HI20-SA!HH20","v":-3600},{"$f":"SA!HJ20-SA!HI20","v":1700},{"$f":"SA!HK20-SA!HJ20","v":-322900},{"$f":"SA!HL20-SA!HK20","v":0},{"$f":"SA!HM20-SA!HL20","v":0},3718,0,null,"Professional and Business Services",-5300,-1025,-250,400,600,1200,1900,5500,1591.0187502289984]
["  Professional, Scientific, and Technical Services",{"$f":"SA!BN21-SA!BM21","v":600},{"$f":"SA!BO21-SA!BN21","v":200},{"$f":"SA!BP21-SA!BO21","v":200},{"$f":"SA!BQ21-SA!BP21","v":0},{"$f":"SA!BR21-SA!BQ21","v":200},{"$f":"SA!BS21-SA!BR21","v":300},{"$f":"SA!BT21-SA!BS21","v":600},{"$f":"SA!BU21-SA!BT21","v":400},{"$f":"SA!BV21-SA!BU21","v":300},{"$f":"SA!BW21-SA!BV21","v":100},{"$f":"SA!BX21-SA!BW21","v":300},{"$f":"SA!BY21-SA!BX21","v":500},{"$f":"SA!BZ21-SA!BY21","v":100},{"$f":"SA!CA21-SA!BZ21","v":200},{"$f":"SA!CB21-SA!CA21","v":0},{"$f":"SA!CC21-SA!CB21","v":900},{"$f":"SA!CD21-SA!CC21","v":-100},{"$f":"SA!CE21-SA!CD21","v":300},{"$f":"SA!CF21-SA!CE21","v":100},{"$f":"SA!CG21-SA!CF21","v":0},{"$f":"SA!CH21-SA!CG21","v":100},{"$f":"SA!CI21-SA!CH21","v":200},{"$f":"SA!CJ21-SA!CI21","v":0},{"$f":"SA!CK21-SA!CJ21","v":-100},{"$f":"SA!CL21-SA!CK21","v":700},{"$f":"SA!CM21-SA!CL21","v":100},{"$f":"SA!CN21-SA!CM21","v":400},{"$f":"SA!CO21-SA!CN21","v":600},{"$f":"SA!CP21-SA!CO21","v":400},{"$f":"SA!CQ21-SA!CP21","v":300},{"$f":"SA!CR21-SA!CQ21","v":300},{"$f":"SA!CS21-SA!CR21","v":200},{"$f":"SA!CT21-SA!CS21","v":100},{"$f":"SA!CU21-SA!CT21","v":0},{"$f":"SA!CV21-SA!CU21","v":200},{"$f":"SA!CW21-SA!CV21","v":100},{"$f":"SA!CX21-SA!CW21","v":200},{"$f":"SA!CY21-SA!CX21","v":300},{"$f":"SA!CZ21-SA!CY21","v":0},{"$f":"SA!DA21-SA!CZ21","v":1300},{"$f":"SA!DB21-SA!DA21","v":-300},{"$f":"SA!DC21-SA!DB21","v":100},{"$f":"SA!DD21-SA!DC21","v":-100},{"$f":"SA!DE21-SA!DD21","v":200},{"$f":"SA!DF21-SA!DE21","v":100},{"$f":"SA!DG21-SA!DF21","v":-400},{"$f":"SA!DH21-SA!DG21","v":-500},{"$f":"SA!DI21-SA!DH21","v":-300},{"$f":"SA!DJ21-SA!DI21","v":-800},{"$f":"SA!DK21-SA!DJ21","v":-700},{"$f":"SA!DL21-SA!DK21","v":-900},{"$f":"SA!DM21-SA!DL21","v":-1200},{"$f":"SA!DN21-SA!DM21","v":-1100},{"$f":"SA!DO21-SA!DN21","v":-400},{"$f":"SA!DP21-SA!DO21","v":-900},{"$f":"SA!DQ21-SA!DP21","v":-600},{"$f":"SA!DR21-SA!DQ21","v":-200},{"$f":"SA!DS21-SA!DR21","v":-100},{"$f":"SA!DT21-SA!DS21","v":400},{"$f":"SA!DU21-SA!DT21","v":-500},{"$f":"SA!DV21-SA!DU21","v":0},{"$f":"SA!DW21-SA!DV21","v":-100},{"$f":"SA!DX21-SA!DW21","v":100},{"$f":"SA!DY21-SA!DX21","v":0},{"$f":"SA!DZ21-SA!DY21","v":100},{"$f":"SA!EA21-SA!DZ21","v":0},{"$f":"SA!EB21-SA!EA21","v":500},{"$f":"SA!EC21-SA!EB21","v":100},{"$f":"SA!ED21-SA!EC21","v":-200},{"$f":"SA!EE21-SA!ED21","v":800},{"$f":"SA!EF21-SA!EE21","v":200},{"$f":"SA!EG21-SA!EF21","v":500},{"$f":"SA!EH21-SA!EG21","v":300},{"$f":"SA!EI21-SA!EH21","v":300},{"$f":"SA!EJ21-SA!EI21","v":-100},{"$f":"SA!EK21-SA!EJ21","v":800},{"$f":"SA!EL21-SA!EK21","v":-200},{"$f":"SA!EM21-SA!EL21","v":-300},{"$f":"SA!EN21-SA!EM21","v":300},{"$f":"SA!EO21-SA!EN21","v":200},{"$f":"SA!EP21-SA!EO21","v":400},{"$f":"SA!EQ21-SA!EP21","v":-100},{"$f":"SA!ER21-SA!EQ21","v":700},{"$f":"SA!ES21-SA!ER21","v":-500},{"$f":"SA!ET21-SA!ES21","v":300},{"$f":"SA!EU21-SA!ET21","v":200},{"$f":"SA!EV21-SA!EU21","v":300},{"$f":"SA!EW21-SA!EV21","v":300},{"$f":"SA!EX21-SA!EW21","v":100},{"$f":"SA!EY21-SA!EX21","v":500},{"$f":"SA!EZ21-SA!EY21","v":-500},{"$f":"SA!FA21-SA!EZ21","v":100},{"$f":"SA!FB21-SA!FA21","v":100},{"$f":"SA!FC21-SA!FB21","v":500},{"$f":"SA!FD21-SA!FC21","v":1500},{"$f":"SA!FE21-SA!FD21","v":-1600},{"$f":"SA!FF21-SA!FE21","v":200},{"$f":"SA!FG21-SA!FF21","v":400},{"$f":"SA!FH21-SA!FG21","v":100},{"$f":"SA!FI21-SA!FH21","v":0},{"$f":"SA!FJ21-SA!FI21","v":300},{"$f":"SA!FK21-SA!FJ21","v":0},{"$f":"SA!FL21-SA!FK21","v":700},{"$f":"SA!FM21-SA!FL21","v":-200},{"$f":"SA!FN21-SA!FM21","v":200},{"$f":"SA!FO21-SA!FN21","v":100},{"$f":"SA!FP21-SA!FO21","v":300},{"$f":"SA!FQ21-SA!FP21","v":200},{"$f":"SA!FR21-SA!FQ21","v":-400},{"$f":"SA!FS21-SA!FR21","v":0},{"$f":"SA!FT21-SA!FS21","v":300},{"$f":"SA!FU21-SA!FT21","v":0},{"$f":"SA!FV21-SA!FU21","v":100},{"$f":"SA!FW21-SA!FV21","v":700},{"$f":"SA!FX21-SA!FW21","v":-100},{"$f":"SA!FY21-SA!FX21","v":200},{"$f":"SA!FZ21-SA!FY21","v":-300},{"$f":"SA!GA21-SA!FZ21","v":0},{"$f":"SA!GB21-SA!GA21","v":200},{"$f":"SA!GC21-SA!GB21","v":400},{"$f":"SA!GD21-SA!GC21","v":1100},{"$f":"SA!GE21-SA!GD21","v":-100},{"$f":"SA!GF21-SA!GE21","v":500},{"$f":"SA!GG21-SA!GF21","v":300},{"$f":"SA!GH21-SA!GG21","v":500},{"$f":"SA!GI21-SA!GH21","v":500},{"$f":"SA!GJ21-SA!GI21","v":200},{"$f":"SA!GK21-SA!GJ21","v":100},{"$f":"SA!GL21-SA!GK21","v":200},{"$f":"SA!GM21-SA!GL21","v":500},{"$f":"SA!GN21-SA!GM21","v":200},{"$f":"SA!GO21-SA!GN21","v":100},{"$f":"SA!GP21-SA!GO21","v":400},{"$f":"SA!GQ21-SA!GP21","v":200},{"$f":"SA!GR21-SA!GQ21","v":100},{"$f":"SA!GS21-SA!GR21","v":300},{"$f":"SA!GT21-SA!GS21","v":100},{"$f":"SA!GU21-SA!GT21","v":-100},{"$f":"SA!GV21-SA!GU21","v":700},{"$f":"SA!GW21-SA!GV21","v":100},{"$f":"SA!GX21-SA!GW21","v":400},{"$f":"SA!GY21-SA!GX21","v":-1700},{"$f":"SA!GZ21-SA!GY21","v":-100},{"$f":"SA!HA21-SA!GZ21","v":-900},{"$f":"SA!HB21-SA!HA21","v":300},{"$f":"SA!HC21-SA!HB21","v":400},{"$f":"SA!HD21-SA!HC21","v":1600},{"$f":"SA!HE21-SA!HD21","v":-300},{"$f":"SA!HF21-SA!HE21","v":1500},{"$f":"SA!HG21-SA!HF21","v":-2200},{"$f":"SA!HH21-SA!HG21","v":-500},{"$f":"SA!HI21-SA!HH21","v":-1900},{"$f":"SA!HJ21-SA!HI21","v":100},{"$f":"SA!HK21-SA!HJ21","v":-104600},{"$f":"SA!HL21-SA!HK21","v":0},{"$f":"SA!HM21-SA!HL21","v":0},1717,0,null,"  Professional, Scientific, and Technical Services",-1700,-225,0,100,200,300,500,1500,454.2813310909637]
["  Administrative and Support and Waste Management and Remediation Services",{"$f":"SA!BN23-SA!BM23","v":1000},{"$f":"SA!BO23-SA!BN23","v":300},{"$f":"SA!BP23-SA!BO23","v":1099.9999999999854},{"$f":"SA!BQ23-SA!BP23","v":1700.0000000000146},{"$f":"SA!BR23-SA!BQ23","v":-1300},{"$f":"SA!BS23-SA!BR23","v":-400.00000000001455},{"$f":"SA!BT23-SA!BS23","v":1900.0000000000146},{"$f":"SA!BU23-SA!BT23","v":200.00000000001455},{"$f":"SA!BV23-SA!BU23","v":199.99999999998545},{"$f":"SA!BW23-SA!BV23","v":-1300.0000000000146},{"$f":"SA!BX23-SA!BW23","v":1500},{"$f":"SA!BY23-SA!BX23","v":600.00000000001455},{"$f":"SA!BZ23-SA!BY23","v":-300},{"$f":"SA!CA23-SA!BZ23","v":1400},{"$f":"SA!CB23-SA!CA23","v":300},{"$f":"SA!CC23-SA!CB23","v":2300},{"$f":"SA!CD23-SA!CC23","v":-800},{"$f":"SA!CE23-SA!CD23","v":0},{"$f":"SA!CF23-SA!CE23","v":-700},{"$f":"SA!CG23-SA!CF23","v":-300},{"$f":"SA!CH23-SA!CG23","v":600},{"$f":"SA!CI23-SA!CH23","v":600},{"$f":"SA!CJ23-SA!CI23","v":300},{"$f":"SA!CK23-SA!CJ23","v":-900},{"$f":"SA!CL23-SA!CK23","v":800},{"$f":"SA!CM23-SA!CL23","v":100},{"$f":"SA!CN23-SA!CM23","v":800},{"$f":"SA!CO23-SA!CN23","v":1100},{"$f":"SA!CP23-SA!CO23","v":200},{"$f":"SA!CQ23-SA!CP23","v":1400},{"$f":"SA!CR23-SA!CQ23","v":-400},{"$f":"SA!CS23-SA!CR23","v":200},{"$f":"SA!CT23-SA!CS23","v":-400},{"$f":"SA!CU23-SA!CT23","v":-500},{"$f":"SA!CV23-SA!CU23","v":800},{"$f":"SA!CW23-SA!CV23","v":1500},{"$f":"SA!CX23-SA!CW23","v":0},{"$f":"SA!CY23-SA!CX23","v":600},{"$f":"SA!CZ23-SA!CY23","v":-1000},{"$f":"SA!DA23-SA!CZ23","v":-2300},{"$f":"SA!DB23-SA!DA23","v":300},{"$f":"SA!DC23-SA!DB23","v":300},{"$f":"SA!DD23-SA!DC23","v":-800},{"$f":"SA!DE23-SA!DD23","v":300},{"$f":"SA!DF23-SA!DE23","v":-1900},{"$f":"SA!DG23-SA!DF23","v":-2900},{"$f":"SA!DH23-SA!DG23","v":-2699.9999999999854},{"$f":"SA!DI23-SA!DH23","v":-1700.0000000000146},{"$f":"SA!DJ23-SA!DI23","v":-4200},{"$f":"SA!DK23-SA!DJ23","v":-4000},{"$f":"SA!DL23-SA!DK23","v":-3500},{"$f":"SA!DM23-SA!DL23","v":-1000},{"$f":"SA!DN23-SA!DM23","v":1100},{"$f":"SA!DO23-SA!DN23","v":-1400},{"$f":"SA!DP23-SA!DO23","v":400},{"$f":"SA!DQ23-SA!DP23","v":-100},{"$f":"SA!DR23-SA!DQ23","v":400},{"$f":"SA!DS23-SA!DR23","v":2500},{"$f":"SA!DT23-SA!DS23","v":2000},{"$f":"SA!DU23-SA!DT23","v":1300},{"$f":"SA!DV23-SA!DU23","v":1200},{"$f":"SA!DW23-SA!DV23","v":2600},{"$f":"SA!DX23-SA!DW23","v":-1600},{"$f":"SA!DY23-SA!DX23","v":5000.0000000000146},{"$f":"SA!DZ23-SA!DY23","v":699.99999999998545},{"$f":"SA!EA23-SA!DZ23","v":100},{"$f":"SA!EB23-SA!EA23","v":1900},{"$f":"SA!EC23-SA!EB23","v":1600},{"$f":"SA!ED23-SA!EC23","v":200},{"$f":"SA!EE23-SA!ED23","v":2100},{"$f":"SA!EF23-SA!EE23","v":900},{"$f":"SA!EG23-SA!EF23","v":1100},{"$f":"SA!EH23-SA!EG23","v":700},{"$f":"SA!EI23-SA!EH23","v":-800},{"$f":"SA!EJ23-SA!EI23","v":2000},{"$f":"SA!EK23-SA!EJ23","v":-2500},{"$f":"SA!EL23-SA!EK23","v":-200},{"$f":"SA!EM23-SA!EL23","v":900},{"$f":"SA!EN23-SA!EM23","v":800},{"$f":"SA!EO23-SA!EN23","v":-400},{"$f":"SA!EP23-SA!EO23","v":1000},{"$f":"SA!EQ23-SA!EP23","v":-700},{"$f":"SA!ER23-SA!EQ23","v":0},{"$f":"SA!ES23-SA!ER23","v":100},{"$f":"SA!ET23-SA!ES23","v":700},{"$f":"SA!EU23-SA!ET23","v":300},{"$f":"SA!EV23-SA!EU23","v":2700},{"$f":"SA!EW23-SA!EV23","v":-100},{"$f":"SA!EX23-SA!EW23","v":-1600},{"$f":"SA!EY23-SA!EX23","v":-100},{"$f":"SA!EZ23-SA!EY23","v":-700},{"$f":"SA!FA23-SA!EZ23","v":-400},{"$f":"SA!FB23-SA!FA23","v":1500},{"$f":"SA!FC23-SA!FB23","v":-100},{"$f":"SA!FD23-SA!FC23","v":200},{"$f":"SA!FE23-SA!FD23","v":-900},{"$f":"SA!FF23-SA!FE23","v":300},{"$f":"SA!FG23-SA!FF23","v":1800},{"$f":"SA!FH23-SA!FG23","v":2500},{"$f":"SA!FI23-SA!FH23","v":-2900},{"$f":"SA!FJ23-SA!FI23","v":1600},{"$f":"SA!FK23-SA!FJ23","v":1500},{"$f":"SA!FL23-SA!FK23","v":-100},{"$f":"SA!FM23-SA!FL23","v":800},{"$f":"SA!FN23-SA!FM23","v":-100},{"$f":"SA!FO23-SA!FN23","v":-1200},{"$f":"SA!FP23-SA!FO23","v":1700},{"$f":"SA!FQ23-SA!FP23","v":100},{"$f":"SA!FR23-SA!FQ23","v":1100},{"$f":"SA!FS23-SA!FR23","v":100},{"$f":"SA!FT23-SA!FS23","v":-700},{"$f":"SA!FU23-SA!FT23","v":300},{"$f":"SA!FV23-SA!FU23","v":700},{"$f":"SA!FW23-SA!FV23","v":-400},{"$f":"SA!FX23-SA!FW23","v":-100},{"$f":"SA!FY23-SA!FX23","v":600},{"$f":"SA!FZ23-SA!FY23","v":300},{"$f":"SA!GA23-SA!FZ23","v":1600},{"$f":"SA!GB23-SA!GA23","v":1400},{"$f":"SA!GC23-SA!GB23","v":-2500},{"$f":"SA!GD23-SA!GC23","v":-1600},{"$f":"SA!GE23-SA!GD23","v":-500},{"$f":"SA!GF23-SA!GE23","v":100},{"$f":"SA!GG23-SA!GF23","v":600},{"$f":"SA!GH23-SA!GG23","v":200},{"$f":"SA!GI23-SA!GH23","v":-300},{"$f":"SA!GJ23-SA!GI23","v":400},{"$f":"SA!GK23-SA!GJ23","v":800},{"$f":"SA!GL23-SA!GK23","v":-1700},{"$f":"SA!GM23-SA!GL23","v":-300},{"$f":"SA!GN23-SA!GM23","v":200},{"$f":"SA!GO23-SA!GN23","v":1000},{"$f":"SA!GP23-SA!GO23","v":1300},{"$f":"SA!GQ23-SA!GP23","v":-100},{"$f":"SA!GR23-SA!GQ23","v":-800},{"$f":"SA!GS23-SA!GR23","v":0},{"$f":"SA!GT23-SA!GS23","v":-1100},{"$f":"SA!GU23-SA!GT23","v":-800},{"$f":"SA!GV23-SA!GU23","v":900},{"$f":"SA!GW23-SA!GV23","v":-700},{"$f":"SA!GX23-SA!GW23","v":0},{"$f":"SA!GY23-SA!GX23","v":0},{"$f":"SA!GZ23-SA!GY23","v":-500},{"$f":"SA!HA23-SA!GZ23","v":300},{"$f":"SA!HB23-SA!HA23","v":1400},{"$f":"SA!HC23-SA!HB23","v":700},{"$f":"SA!HD23-SA!HC23","v":1200},{"$f":"SA!HE23-SA!HD23","v":-1100},{"$f":"SA!HF23-SA!HE23","v":800},{"$f":"SA!HG23-SA!HF23","v":-2100},{"$f":"SA!HH23-SA!HG23","v":2500},{"$f":"SA!HI23-SA!HH23","v":-2000},{"$f":"SA!HJ23-SA!HI23","v":1400},{"$f":"SA!HK23-SA!HJ23","v":-147900},{"$f":"SA!HL23-SA!HK23","v":0},{"$f":"SA!HM23-SA!HL23","v":0},3221,0,null,"  Administrative and Support and Waste Management and Remediation Services",-4200,-1000,-350,100,300,800,1425,5000.0000000000146,1333.0292983800123]
["Education and Health Services",{"$f":"SA!BN24-SA!BM24","v":700},{"$f":"SA!BO24-SA!BN24","v":300},{"$f":"SA!BP24-SA!BO24","v":1100},{"$f":"SA!BQ24-SA!BP24","v":500},{"$f":"SA!BR24-SA!BQ24","v":600},{"$f":"SA!BS24-SA!BR24","v":700},{"$f":"SA!BT24-SA!BS24","v":400},{"$f":"SA!BU24-SA!BT24","v":600},{"$f":"SA!BV24-SA!BU24","v":1200},{"$f":"SA!BW24-SA!BV24","v":-100},{"$f":"SA!BX24-SA!BW24","v":900},{"$f":"SA!BY24-SA!BX24","v":400},{"$f":"SA!BZ24-SA!BY24","v":1000},{"$f":"SA!CA24-SA!BZ24","v":1100},{"$f":"SA!CB24-SA!CA24","v":-200},{"$f":"SA!CC24-SA!CB24","v":900},{"$f":"SA!CD24-SA!CC24","v":500},{"$f":"SA!CE24-SA!CD24","v":600},{"$f":"SA!CF24-SA!CE24","v":1100},{"$f":"SA!CG24-SA!CF24","v":200},{"$f":"SA!CH24-SA!CG24","v":900},{"$f":"SA!CI24-SA!CH24","v":1000},{"$f":"SA!CJ24-SA!CI24","v":300},{"$f":"SA!CK24-SA!CJ24","v":0},{"$f":"SA!CL24-SA!CK24","v":-100},{"$f":"SA!CM24-SA!CL24","v":600},{"$f":"SA!CN24-SA!CM24","v":500},{"$f":"SA!CO24-SA!CN24","v":400},{"$f":"SA!CP24-SA!CO24","v":500},{"$f":"SA!CQ24-SA!CP24","v":1000},{"$f":"SA!CR24-SA!CQ24","v":800},{"$f":"SA!CS24-SA!CR24","v":700},{"$f":"SA!CT24-SA!CS24","v":1100},{"$f":"SA!CU24-SA!CT24","v":-2300},{"$f":"SA!CV24-SA!CU24","v":-400},{"$f":"SA!CW24-SA!CV24","v":1200},{"$f":"SA!CX24-SA!CW24","v":500},{"$f":"SA!CY24-SA!CX24","v":400},{"$f":"SA!CZ24-SA!CY24","v":700},{"$f":"SA!DA24-SA!CZ24","v":1200},{"$f":"SA!DB24-SA!DA24","v":500},{"$f":"SA!DC24-SA!DB24","v":1100},{"$f":"SA!DD24-SA!DC24","v":1000},{"$f":"SA!DE24-SA!DD24","v":800},{"$f":"SA!DF24-SA!DE24","v":1100},{"$f":"SA!DG24-SA!DF24","v":1600},{"$f":"SA!DH24-SA!DG24","v":1300},{"$f":"SA!DI24-SA!DH24","v":1800},{"$f":"SA!DJ24-SA!DI24","v":-800},{"$f":"SA!DK24-SA!DJ24","v":800},{"$f":"SA!DL24-SA!DK24","v":300},{"$f":"SA!DM24-SA!DL24","v":-800},{"$f":"SA!DN24-SA!DM24","v":600},{"$f":"SA!DO24-SA!DN24","v":1500},{"$f":"SA!DP24-SA!DO24","v":-500},{"$f":"SA!DQ24-SA!DP24","v":500},{"$f":"SA!DR24-SA!DQ24","v":-1600},{"$f":"SA!DS24-SA!DR24","v":800},{"$f":"SA!DT24-SA!DS24","v":-500},{"$f":"SA!DU24-SA!DT24","v":-700},{"$f":"SA!DV24-SA!DU24","v":1900},{"$f":"SA!DW24-SA!DV24","v":400},{"$f":"SA!DX24-SA!DW24","v":600},{"$f":"SA!DY24-SA!DX24","v":-2700},{"$f":"SA!DZ24-SA!DY24","v":-400},{"$f":"SA!EA24-SA!DZ24","v":1200},{"$f":"SA!EB24-SA!EA24","v":1500},{"$f":"SA!EC24-SA!EB24","v":900},{"$f":"SA!ED24-SA!EC24","v":-1800},{"$f":"SA!EE24-SA!ED24","v":500},{"$f":"SA!EF24-SA!EE24","v":100},{"$f":"SA!EG24-SA!EF24","v":200},{"$f":"SA!EH24-SA!EG24","v":100},{"$f":"SA!EI24-SA!EH24","v":-200},{"$f":"SA!EJ24-SA!EI24","v":-900},{"$f":"SA!EK24-SA!EJ24","v":2500},{"$f":"SA!EL24-SA!EK24","v":500},{"$f":"SA!EM24-SA!EL24","v":300},{"$f":"SA!EN24-SA!EM24","v":1000},{"$f":"SA!EO24-SA!EN24","v":0},{"$f":"SA!EP24-SA!EO24","v":1300},{"$f":"SA!EQ24-SA!EP24","v":300},{"$f":"SA!ER24-SA!EQ24","v":500},{"$f":"SA!ES24-SA!ER24","v":900},{"$f":"SA!ET24-SA!ES24","v":400},{"$f":"SA!EU24-SA!ET24","v":800},{"$f":"SA!EV24-SA!EU24","v":1000},{"$f":"SA!EW24-SA!EV24","v":600},{"$f":"SA!EX24-SA!EW24","v":100},{"$f":"SA!EY24-SA!EX24","v":700},{"$f":"SA!EZ24-SA!EY24","v":-2800},{"$f":"SA!FA24-SA!EZ24","v":2400},{"$f":"SA!FB24-SA!FA24","v":2400},{"$f":"SA!FC24-SA!FB24","v":1800},{"$f":"SA!FD24-SA!FC24","v":200},{"$f":"SA!FE24-SA!FD24","v":700},{"$f":"SA!FF24-SA!FE24","v":-700},{"$f":"SA!FG24-SA!FF24","v":900},{"$f":"SA!FH24-SA!FG24","v":100},{"$f":"SA!FI24-SA!FH24","v":200},{"$f":"SA!FJ24-SA!FI24","v":500},{"$f":"SA!FK24-SA!FJ24","v":-100},{"$f":"SA!FL24-SA!FK24","v":-2200},{"$f":"SA!FM24-SA!FL24","v":3100},{"$f":"SA!FN24-SA!FM24","v":900},{"$f":"SA!FO24-SA!FN24","v":600},{"$f":"SA!FP24-SA!FO24","v":600},{"$f":"SA!FQ24-SA!FP24","v":-200},{"$f":"SA!FR24-SA!FQ24","v":1500},{"$f":"SA!FS24-SA!FR24","v":600},{"$f":"SA!FT24-SA!FS24","v":300},{"$f":"SA!FU24-SA!FT24","v":500},{"$f":"SA!FV24-SA!FU24","v":400},{"$f":"SA!FW24-SA!FV24","v":1200},{"$f":"SA!FX24-SA!FW24","v":-1600},{"$f":"SA!FY24-SA!FX24","v":2200},{"$f":"SA!FZ24-SA!FY24","v":500},{"$f":"SA!GA24-SA!FZ24","v":-300},{"$f":"SA!GB24-SA!GA24","v":1400},{"$f":"SA!GC24-SA!GB24","v":100},{"$f":"SA!GD24-SA!GC24","v":-500},{"$f":"SA!GE24-SA!GD24","v":1000},{"$f":"SA!GF24-SA!GE24","v":900},{"$f":"SA!GG24-SA!GF24","v":-300},{"$f":"SA!GH24-SA!GG24","v":1300},{"$f":"SA!GI24-SA!GH24","v":500},{"$f":"SA!GJ24-SA!GI24","v":-300},{"$f":"SA!GK24-SA!GJ24","v":1000},{"$f":"SA!GL24-SA!GK24","v":0},{"$f":"SA!GM24-SA!GL24","v":1100},{"$f":"SA!GN24-SA!GM24","v":800},{"$f":"SA!GO24-SA!GN24","v":1300},{"$f":"SA!GP24-SA!GO24","v":1000},{"$f":"SA!GQ24-SA!GP24","v":1200},{"$f":"SA!GR24-SA!GQ24","v":400},{"$f":"SA!GS24-SA!GR24","v":800},{"$f":"SA!GT24-SA!GS24","v":-400},{"$f":"SA!GU24-SA!GT24","v":700},{"$f":"SA!GV24-SA!GU24","v":2700},{"$f":"SA!GW24-SA!GV24","v":200},{"$f":"SA!GX24-SA!GW24","v":400},{"$f":"SA!GY24-SA!GX24","v":1800},{"$f":"SA!GZ24-SA!GY24","v":800},{"$f":"SA!HA24-SA!GZ24","v":-400},{"$f":"SA!HB24-SA!HA24","v":1400},{"$f":"SA!HC24-SA!HB24","v":-1900},{"$f":"SA!HD24-SA!HC24","v":1400},{"$f":"SA!HE24-SA!HD24","v":100},{"$f":"SA!HF24-SA!HE24","v":-1800},{"$f":"SA!HG24-SA!HF24","v":800},{"$f":"SA!HH24-SA!HG24","v":600},{"$f":"SA!HI24-SA!HH24","v":1200},{"$f":"SA!HJ24-SA!HI24","v":300},{"$f":"SA!HK24-SA!HJ24","v":-451300},{"$f":"SA!HL24-SA!HK24","v":0},{"$f":"SA!HM24-SA!HL24","v":0},2968,0,null,"Education and Health Services",-2800,-300,300,500,600,900,1200,3100,920.51276471323308]
["Educational Services",{"$f":"SA!BN25-SA!BM25","v":200},{"$f":"SA!BO25-SA!BN25","v":0},{"$f":"SA!BP25-SA!BO25","v":200},{"$f":"SA!BQ25-SA!BP25","v":0},{"$f":"SA!BR25-SA!BQ25","v":0},{"$f":"SA!BS25-SA!BR25","v":200},{"$f":"SA!BT25-SA!BS25","v":-200},{"$f":"SA!BU25-SA!BT25","v":300},{"$f":"SA!BV25-SA!BU25","v":-100},{"$f":"SA!BW25-SA!BV25","v":-200},{"$f":"SA!BX25-SA!BW25","v":300},{"$f":"SA!BY25-SA!BX25","v":-100},{"$f":"SA!BZ25-SA!BY25","v":300},{"$f":"SA!CA25-SA!BZ25","v":200},{"$f":"SA!CB25-SA!CA25","v":-100},{"$f":"SA!CC25-SA!CB25","v":400},{"$f":"SA!CD25-SA!CC25","v":200},{"$f":"SA!CE25-SA!CD25","v":-200},{"$f":"SA!CF25-SA!CE25","v":300},{"$f":"SA!CG25-SA!CF25","v":-300},{"$f":"SA!CH25-SA!CG25","v":200},{"$f":"SA!CI25-SA!CH25","v":100},{"$f":"SA!CJ25-SA!CI25","v":400},{"$f":"SA!CK25-SA!CJ25","v":-400},{"$f":"SA!CL25-SA!CK25","v":0},{"$f":"SA!CM25-SA!CL25","v":100},{"$f":"SA!CN25-SA!CM25","v":200},{"$f":"SA!CO25-SA!CN25","v":-300},{"$f":"SA!CP25-SA!CO25","v":300},{"$f":"SA!CQ25-SA!CP25","v":-200},{"$f":"SA!CR25-SA!CQ25","v":300},{"$f":"SA!CS25-SA!CR25","v":200},{"$f":"SA!CT25-SA!CS25","v":100},{"$f":"SA!CU25-SA!CT25","v":-2400},{"$f":"SA!CV25-SA!CU25","v":-800},{"$f":"SA!CW25-SA!CV25","v":400},{"$f":"SA!CX25-SA!CW25","v":100},{"$f":"SA!CY25-SA!CX25","v":0},{"$f":"SA!CZ25-SA!CY25","v":-100},{"$f":"SA!DA25-SA!CZ25","v":800},{"$f":"SA!DB25-SA!DA25","v":-200},{"$f":"SA!DC25-SA!DB25","v":500},{"$f":"SA!DD25-SA!DC25","v":500},{"$f":"SA!DE25-SA!DD25","v":100},{"$f":"SA!DF25-SA!DE25","v":600},{"$f":"SA!DG25-SA!DF25","v":1000},{"$f":"SA!DH25-SA!DG25","v":300},{"$f":"SA!DI25-SA!DH25","v":800},{"$f":"SA!DJ25-SA!DI25","v":-400},{"$f":"SA!DK25-SA!DJ25","v":0},{"$f":"SA!DL25-SA!DK25","v":0},{"$f":"SA!DM25-SA!DL25","v":-900},{"$f":"SA!DN25-SA!DM25","v":0},{"$f":"SA!DO25-SA!DN25","v":1200},{"$f":"SA!DP25-SA!DO25","v":-100},{"$f":"SA!DQ25-SA!DP25","v":100},{"$f":"SA!DR25-SA!DQ25","v":-1200},{"$f":"SA!DS25-SA!DR25","v":-100},{"$f":"SA!DT25-SA!DS25","v":-200},{"$f":"SA!DU25-SA!DT25","v":-300},{"$f":"SA!DV25-SA!DU25","v":400},{"$f":"SA!DW25-SA!DV25","v":100},{"$f":"SA!DX25-SA!DW25","v":100},{"$f":"SA!DY25-SA!DX25","v":-800},{"$f":"SA!DZ25-SA!DY25","v":-700},{"$f":"SA!EA25-SA!DZ25","v":1200},{"$f":"SA!EB25-SA!EA25","v":1000},{"$f":"SA!EC25-SA!EB25","v":700},{"$f":"SA!ED25-SA!EC25","v":-1100},{"$f":"SA!EE25-SA!ED25","v":-700},{"$f":"SA!EF25-SA!EE25","v":-300},{"$f":"SA!EG25-SA!EF25","v":0},{"$f":"SA!EH25-SA!EG25","v":200},{"$f":"SA!EI25-SA!EH25","v":-400},{"$f":"SA!EJ25-SA!EI25","v":-900},{"$f":"SA!EK25-SA!EJ25","v":1400},{"$f":"SA!EL25-SA!EK25","v":400},{"$f":"SA!EM25-SA!EL25","v":-200},{"$f":"SA!EN25-SA!EM25","v":500},{"$f":"SA!EO25-SA!EN25","v":200},{"$f":"SA!EP25-SA!EO25","v":0},{"$f":"SA!EQ25-SA!EP25","v":100},{"$f":"SA!ER25-SA!EQ25","v":200},{"$f":"SA!ES25-SA!ER25","v":-100},{"$f":"SA!ET25-SA!ES25","v":-1100},{"$f":"SA!EU25-SA!ET25","v":100},{"$f":"SA!EV25-SA!EU25","v":400},{"$f":"SA!EW25-SA!EV25","v":100},{"$f":"SA!EX25-SA!EW25","v":200},{"$f":"SA!EY25-SA!EX25","v":-300},{"$f":"SA!EZ25-SA!EY25","v":-4000},{"$f":"SA!FA25-SA!EZ25","v":1900},{"$f":"SA!FB25-SA!FA25","v":1300},{"$f":"SA!FC25-SA!FB25","v":700},{"$f":"SA!FD25-SA!FC25","v":0},{"$f":"SA!FE25-SA!FD25","v":200},{"$f":"SA!FF25-SA!FE25","v":-200},{"$f":"SA!FG25-SA!FF25","v":300},{"$f":"SA!FH25-SA!FG25","v":-300},{"$f":"SA!FI25-SA!FH25","v":0},{"$f":"SA!FJ25-SA!FI25","v":-300},{"$f":"SA!FK25-SA!FJ25","v":-300},{"$f":"SA!FL25-SA!FK25","v":-2500},{"$f":"SA!FM25-SA!FL25","v":1900},{"$f":"SA!FN25-SA!FM25","v":600},{"$f":"SA!FO25-SA!FN25","v":400},{"$f":"SA!FP25-SA!FO25","v":100},{"$f":"SA!FQ25-SA!FP25","v":0},{"$f":"SA!FR25-SA!FQ25","v":0},{"$f":"SA!FS25-SA!FR25","v":100},{"$f":"SA!FT25-SA!FS25","v":-200},{"$f":"SA!FU25-SA!FT25","v":100},{"$f":"SA!FV25-SA!FU25","v":300},{"$f":"SA!FW25-SA!FV25","v":-300},{"$f":"SA!FX25-SA!FW25","v":-1700},{"$f":"SA!FY25-SA!FX25","v":1500},{"$f":"SA!FZ25-SA!FY25","v":200},{"$f":"SA!GA25-SA!FZ25","v":0},{"$f":"SA!GB25-SA!GA25","v":-100},{"$f":"SA!GC25-SA!GB25","v":300},{"$f":"SA!GD25-SA!GC25","v":-200},{"$f":"SA!GE25-SA!GD25","v":400},{"$f":"SA!GF25-SA!GE25","v":0},{"$f":"SA!GG25-SA!GF25","v":-300},{"$f":"SA!GH25-SA!GG25","v":300},{"$f":"SA!GI25-SA!GH25","v":-200},{"$f":"SA!GJ25-SA!GI25","v":-800},{"$f":"SA!GK25-SA!GJ25","v":800},{"$f":"SA!GL25-SA!GK25","v":-200},{"$f":"SA!GM25-SA!GL25","v":100},{"$f":"SA!GN25-SA!GM25","v":0},{"$f":"SA!GO25-SA!GN25","v":200},{"$f":"SA!GP25-SA!GO25","v":-100},{"$f":"SA!GQ25-SA!GP25","v":100},{"$f":"SA!GR25-SA!GQ25","v":100},{"$f":"SA!GS25-SA!GR25","v":100},{"$f":"SA!GT25-SA!GS25","v":-400},{"$f":"SA!GU25-SA!GT25","v":700},{"$f":"SA!GV25-SA!GU25","v":-400},{"$f":"SA!GW25-SA!GV25","v":800},{"$f":"SA!GX25-SA!GW25","v":300},{"$f":"SA!GY25-SA!GX25","v":800},{"$f":"SA!GZ25-SA!GY25","v":200},{"$f":"SA!HA25-SA!GZ25","v":0},{"$f":"SA!HB25-SA!HA25","v":-800},{"$f":"SA!HC25-SA!HB25","v":0},{"$f":"SA!HD25-SA!HC25","v":-300},{"$f":"SA!HE25-SA!HD25","v":-400},{"$f":"SA!HF25-SA!HE25","v":0},{"$f":"SA!HG25-SA!HF25","v":-1200},{"$f":"SA!HH25-SA!HG25","v":-700},{"$f":"SA!HI25-SA!HH25","v":2200},{"$f":"SA!HJ25-SA!HI25","v":800},{"$f":"SA!HK25-SA!HJ25","v":-52100},{"$f":"SA!HL25-SA!HK25","v":0},{"$f":"SA!HM25-SA!HL25","v":0},2099,1,null,"Educational Services",-4000,-300,-100,0,100,200,500,1900,690.65877871139173]
["Health Care and Social Assistance",{"$f":"SA!BN26-SA!BM26","v":500},{"$f":"SA!BO26-SA!BN26","v":300},{"$f":"SA!BP26-SA!BO26","v":900},{"$f":"SA!BQ26-SA!BP26","v":500},{"$f":"SA!BR26-SA!BQ26","v":600},{"$f":"SA!BS26-SA!BR26","v":500},{"$f":"SA!BT26-SA!BS26","v":600},{"$f":"SA!BU26-SA!BT26","v":300},{"$f":"SA!BV26-SA!BU26","v":1300},{"$f":"SA!BW26-SA!BV26","v":100},{"$f":"SA!BX26-SA!BW26","v":600},{"$f":"SA!BY26-SA!BX26","v":500},{"$f":"SA!BZ26-SA!BY26","v":700},{"$f":"SA!CA26-SA!BZ26","v":900},{"$f":"SA!CB26-SA!CA26","v":-100},{"$f":"SA!CC26-SA!CB26","v":500},{"$f":"SA!CD26-SA!CC26","v":300},{"$f":"SA!CE26-SA!CD26","v":800},{"$f":"SA!CF26-SA!CE26","v":800},{"$f":"SA!CG26-SA!CF26","v":500},{"$f":"SA!CH26-SA!CG26","v":700},{"$f":"SA!CI26-SA!CH26","v":900},{"$f":"SA!CJ26-SA!CI26","v":-100},{"$f":"SA!CK26-SA!CJ26","v":400},{"$f":"SA!CL26-SA!CK26","v":-100},{"$f":"SA!CM26-SA!CL26","v":500},{"$f":"SA!CN26-SA!CM26","v":300},{"$f":"SA!CO26-SA!CN26","v":700},{"$f":"SA!CP26-SA!CO26","v":200},{"$f":"SA!CQ26-SA!CP26","v":1200},{"$f":"SA!CR26-SA!CQ26","v":500},{"$f":"SA!CS26-SA!CR26","v":500},{"$f":"SA!CT26-SA!CS26","v":1000},{"$f":"SA!CU26-SA!CT26","v":100},{"$f":"SA!CV26-SA!CU26","v":400},{"$f":"SA!CW26-SA!CV26","v":800},{"$f":"SA!CX26-SA!CW26","v":400},{"$f":"SA!CY26-SA!CX26","v":400},{"$f":"SA!CZ26-SA!CY26","v":800},{"$f":"SA!DA26-SA!CZ26","v":400},{"$f":"SA!DB26-SA!DA26","v":700},{"$f":"SA!DC26-SA!DB26","v":600},{"$f":"SA!DD26-SA!DC26","v":500},{"$f":"SA!DE26-SA!DD26","v":700},{"$f":"SA!DF26-SA!DE26","v":500},{"$f":"SA!DG26-SA!DF26","v":600},{"$f":"SA!DH26-SA!DG26","v":1000},{"$f":"SA!DI26-SA!DH26","v":1000},{"$f":"SA!DJ26-SA!DI26","v":-400},{"$f":"SA!DK26-SA!DJ26","v":800},{"$f":"SA!DL26-SA!DK26","v":300},{"$f":"SA!DM26-SA!DL26","v":100},{"$f":"SA!DN26-SA!DM26","v":600},{"$f":"SA!DO26-SA!DN26","v":300},{"$f":"SA!DP26-SA!DO26","v":-400},{"$f":"SA!DQ26-SA!DP26","v":400},{"$f":"SA!DR26-SA!DQ26","v":-400},{"$f":"SA!DS26-SA!DR26","v":900},{"$f":"SA!DT26-SA!DS26","v":-300},{"$f":"SA!DU26-SA!DT26","v":-400},{"$f":"SA!DV26-SA!DU26","v":1500},{"$f":"SA!DW26-SA!DV26","v":300},{"$f":"SA!DX26-SA!DW26","v":500},{"$f":"SA!DY26-SA!DX26","v":-1900},{"$f":"SA!DZ26-SA!DY26","v":300},{"$f":"SA!EA26-SA!DZ26","v":0},{"$f":"SA!EB26-SA!EA26","v":500},{"$f":"SA!EC26-SA!EB26","v":200},{"$f":"SA!ED26-SA!EC26","v":-700},{"$f":"SA!EE26-SA!ED26","v":1200},{"$f":"SA!EF26-SA!EE26","v":400},{"$f":"SA!EG26-SA!EF26","v":200},{"$f":"SA!EH26-SA!EG26","v":-100},{"$f":"SA!EI26-SA!EH26","v":200},{"$f":"SA!EJ26-SA!EI26","v":0},{"$f":"SA!EK26-SA!EJ26","v":1100},{"$f":"SA!EL26-SA!EK26","v":100},{"$f":"SA!EM26-SA!EL26","v":500},{"$f":"SA!EN26-SA!EM26","v":500},{"$f":"SA!EO26-SA!EN26","v":-200},{"$f":"SA!EP26-SA!EO26","v":1300},{"$f":"SA!EQ26-SA!EP26","v":200},{"$f":"SA!ER26-SA!EQ26","v":300},{"$f":"SA!ES26-SA!ER26","v":1000},{"$f":"SA!ET26-SA!ES26","v":1500},{"$f":"SA!EU26-SA!ET26","v":700},{"$f":"SA!EV26-SA!EU26","v":600},{"$f":"SA!EW26-SA!EV26","v":500},{"$f":"SA!EX26-SA!EW26","v":-100},{"$f":"SA!EY26-SA!EX26","v":1000},{"$f":"SA!EZ26-SA!EY26","v":1200},{"$f":"SA!FA26-SA!EZ26","v":500},{"$f":"SA!FB26-SA!FA26","v":1100},{"$f":"SA!FC26-SA!FB26","v":1100},{"$f":"SA!FD26-SA!FC26","v":200},{"$f":"SA!FE26-SA!FD26","v":500},{"$f":"SA!FF26-SA!FE26","v":-500},{"$f":"SA!FG26-SA!FF26","v":600},{"$f":"SA!FH26-SA!FG26","v":400},{"$f":"SA!FI26-SA!FH26","v":200},{"$f":"SA!FJ26-SA!FI26","v":800},{"$f":"SA!FK26-SA!FJ26","v":200},{"$f":"SA!FL26-SA!FK26","v":300},{"$f":"SA!FM26-SA!FL26","v":1200},{"$f":"SA!FN26-SA!FM26","v":300},{"$f":"SA!FO26-SA!FN26","v":200},{"$f":"SA!FP26-SA!FO26","v":500},{"$f":"SA!FQ26-SA!FP26","v":-200},{"$f":"SA!FR26-SA!FQ26","v":1500},{"$f":"SA!FS26-SA!FR26","v":500},{"$f":"SA!FT26-SA!FS26","v":500},{"$f":"SA!FU26-SA!FT26","v":400},{"$f":"SA!FV26-SA!FU26","v":100},{"$f":"SA!FW26-SA!FV26","v":1500},{"$f":"SA!FX26-SA!FW26","v":100},{"$f":"SA!FY26-SA!FX26","v":700},{"$f":"SA!FZ26-SA!FY26","v":300},{"$f":"SA!GA26-SA!FZ26","v":-300},{"$f":"SA!GB26-SA!GA26","v":1500},{"$f":"SA!GC26-SA!GB26","v":-200},{"$f":"SA!GD26-SA!GC26","v":-300},{"$f":"SA!GE26-SA!GD26","v":600},{"$f":"SA!GF26-SA!GE26","v":900},{"$f":"SA!GG26-SA!GF26","v":0},{"$f":"SA!GH26-SA!GG26","v":1000},{"$f":"SA!GI26-SA!GH26","v":700},{"$f":"SA!GJ26-SA!GI26","v":500},{"$f":"SA!GK26-SA!GJ26","v":200},{"$f":"SA!GL26-SA!GK26","v":200},{"$f":"SA!GM26-SA!GL26","v":1000},{"$f":"SA!GN26-SA!GM26","v":800},{"$f":"SA!GO26-SA!GN26","v":1100},{"$f":"SA!GP26-SA!GO26","v":1100},{"$f":"SA!GQ26-SA!GP26","v":1100},{"$f":"SA!GR26-SA!GQ26","v":300},{"$f":"SA!GS26-SA!GR26","v":700},{"$f":"SA!GT26-SA!GS26","v":0},{"$f":"SA!GU26-SA!GT26","v":0},{"$f":"SA!GV26-SA!GU26","v":3100},{"$f":"SA!GW26-SA!GV26","v":-600},{"$f":"SA!GX26-SA!GW26","v":100},{"$f":"SA!GY26-SA!GX26","v":1000},{"$f":"SA!GZ26-SA!GY26","v":600},{"$f":"SA!HA26-SA!GZ26","v":-400},{"$f":"SA!HB26-SA!HA26","v":2200},{"$f":"SA!HC26-SA!HB26","v":-1900},{"$f":"SA!HD26-SA!HC26","v":1700},{"$f":"SA!HE26-SA!HD26","v":500},{"$f":"SA!HF26-SA!HE26","v":-1800},{"$f":"SA!HG26-SA!HF26","v":2000},{"$f":"SA!HH26-SA!HG26","v":1300},{"$f":"SA!HI26-SA!HH26","v":-1000},{"$f":"SA!HJ26-SA!HI26","v":-500},{"$f":"SA!HK26-SA!HJ26","v":-399200},{"$f":"SA!HL26-SA!HK26","v":0},{"$f":"SA!HM26-SA!HL26","v":0},2097,1,null,"Health Care and Social Assistance",-1900,0,250,425,500,700,1000,3100,550.21697109211175]
["Leisure and Hospitality",{"$f":"SA!BN27-SA!BM27","v":-700},{"$f":"SA!BO27-SA!BN27","v":500},{"$f":"SA!BP27-SA!BO27","v":900},{"$f":"SA!BQ27-SA!BP27","v":3300},{"$f":"SA!BR27-SA!BQ27","v":-2200},{"$f":"SA!BS27-SA!BR27","v":-500},{"$f":"SA!BT27-SA!BS27","v":700},{"$f":"SA!BU27-SA!BT27","v":500},{"$f":"SA!BV27-SA!BU27","v":699.9999999999709},{"$f":"SA!BW27-SA!BV27","v":-1099.9999999999709},{"$f":"SA!BX27-SA!BW27","v":1400},{"$f":"SA!BY27-SA!BX27","v":-400},{"$f":"SA!BZ27-SA!BY27","v":1700},{"$f":"SA!CA27-SA!BZ27","v":1000},{"$f":"SA!CB27-SA!CA27","v":800},{"$f":"SA!CC27-SA!CB27","v":99.999999999970896},{"$f":"SA!CD27-SA!CC27","v":-2099.9999999999709},{"$f":"SA!CE27-SA!CD27","v":800.0000000000291},{"$f":"SA!CF27-SA!CE27","v":799.99999999994179},{"$f":"SA!CG27-SA!CF27","v":300.0000000000291},{"$f":"SA!CH27-SA!CG27","v":-99.999999999970896},{"$f":"SA!CI27-SA!CH27","v":1099.9999999999709},{"$f":"SA!CJ27-SA!CI27","v":-200},{"$f":"SA!CK27-SA!CJ27","v":899.9999999999709},{"$f":"SA!CL27-SA!CK27","v":900.0000000000291},{"$f":"SA!CM27-SA!CL27","v":300},{"$f":"SA!CN27-SA!CM27","v":100},{"$f":"SA!CO27-SA!CN27","v":-1200},{"$f":"SA!CP27-SA!CO27","v":200},{"$f":"SA!CQ27-SA!CP27","v":700},{"$f":"SA!CR27-SA!CQ27","v":-1000.0000000000291},{"$f":"SA!CS27-SA!CR27","v":600.0000000000291},{"$f":"SA!CT27-SA!CS27","v":-1700},{"$f":"SA!CU27-SA!CT27","v":1700},{"$f":"SA!CV27-SA!CU27","v":700},{"$f":"SA!CW27-SA!CV27","v":-400},{"$f":"SA!CX27-SA!CW27","v":-500},{"$f":"SA!CY27-SA!CX27","v":-699.9999999999709},{"$f":"SA!CZ27-SA!CY27","v":-200.00000000005821},{"$f":"SA!DA27-SA!CZ27","v":-599.9999999999709},{"$f":"SA!DB27-SA!DA27","v":-199.9999999999709},{"$f":"SA!DC27-SA!DB27","v":-600.0000000000291},{"$f":"SA!DD27-SA!DC27","v":-200},{"$f":"SA!DE27-SA!DD27","v":-600},{"$f":"SA!DF27-SA!DE27","v":-599.9999999999709},{"$f":"SA!DG27-SA!DF27","v":500},{"$f":"SA!DH27-SA!DG27","v":-700.00000000005821},{"$f":"SA!DI27-SA!DH27","v":-899.9999999999709},{"$f":"SA!DJ27-SA!DI27","v":-2200},{"$f":"SA!DK27-SA!DJ27","v":400},{"$f":"SA!DL27-SA!DK27","v":-1000},{"$f":"SA!DM27-SA!DL27","v":-1700},{"$f":"SA!DN27-SA!DM27","v":2600},{"$f":"SA!DO27-SA!DN27","v":-1200},{"$f":"SA!DP27-SA!DO27","v":-1600},{"$f":"SA!DQ27-SA!DP27","v":-1000},{"$f":"SA!DR27-SA!DQ27","v":300},{"$f":"SA!DS27-SA!DR27","v":-1300},{"$f":"SA!DT27-SA!DS27","v":-100},{"$f":"SA!DU27-SA!DT27","v":-200},{"$f":"SA!DV27-SA!DU27","v":800},{"$f":"SA!DW27-SA!DV27","v":-900},{"$f":"SA!DX27-SA!DW27","v":-200},{"$f":"SA!DY27-SA!DX27","v":2100},{"$f":"SA!DZ27-SA!DY27","v":-600},{"$f":"SA!EA27-SA!DZ27","v":-700},{"$f":"SA!EB27-SA!EA27","v":1100},{"$f":"SA!EC27-SA!EB27","v":700},{"$f":"SA!ED27-SA!EC27","v":-500},{"$f":"SA!EE27-SA!ED27","v":900},{"$f":"SA!EF27-SA!EE27","v":200},{"$f":"SA!EG27-SA!EF27","v":-100},{"$f":"SA!EH27-SA!EG27","v":-500},{"$f":"SA!EI27-SA!EH27","v":-800},{"$f":"SA!EJ27-SA!EI27","v":-500},{"$f":"SA!EK27-SA!EJ27","v":800},{"$f":"SA!EL27-SA!EK27","v":-300},{"$f":"SA!EM27-SA!EL27","v":400},{"$f":"SA!EN27-SA!EM27","v":800},{"$f":"SA!EO27-SA!EN27","v":700},{"$f":"SA!EP27-SA!EO27","v":0},{"$f":"SA!EQ27-SA!EP27","v":500},{"$f":"SA!ER27-SA!EQ27","v":-500},{"$f":"SA!ES27-SA!ER27","v":-500},{"$f":"SA!ET27-SA!ES27","v":1300},{"$f":"SA!EU27-SA!ET27","v":600},{"$f":"SA!EV27-SA!EU27","v":2000},{"$f":"SA!EW27-SA!EV27","v":1400},{"$f":"SA!EX27-SA!EW27","v":-1599.9999999999709},{"$f":"SA!EY27-SA!EX27","v":1000},{"$f":"SA!EZ27-SA!EY27","v":-200.00000000005821},{"$f":"SA!FA27-SA!EZ27","v":-500},{"$f":"SA!FB27-SA!FA27","v":1300.0000000000291},{"$f":"SA!FC27-SA!FB27","v":-1200},{"$f":"SA!FD27-SA!FC27","v":300},{"$f":"SA!FE27-SA!FD27","v":1000},{"$f":"SA!FF27-SA!FE27","v":300.0000000000291},{"$f":"SA!FG27-SA!FF27","v":500},{"$f":"SA!FH27-SA!FG27","v":99.999999999970896},{"$f":"SA!FI27-SA!FH27","v":-1099.9999999999709},{"$f":"SA!FJ27-SA!FI27","v":2099.9999999999709},{"$f":"SA!FK27-SA!FJ27","v":300},{"$f":"SA!FL27-SA!FK27","v":899.9999999999709},{"$f":"SA!FM27-SA!FL27","v":1300.0000000000291},{"$f":"SA!FN27-SA!FM27","v":600},{"$f":"SA!FO27-SA!FN27","v":0},{"$f":"SA!FP27-SA!FO27","v":-100},{"$f":"SA!FQ27-SA!FP27","v":200},{"$f":"SA!FR27-SA!FQ27","v":-500},{"$f":"SA!FS27-SA!FR27","v":100},{"$f":"SA!FT27-SA!FS27","v":-200},{"$f":"SA!FU27-SA!FT27","v":900},{"$f":"SA!FV27-SA!FU27","v":-400},{"$f":"SA!FW27-SA!FV27","v":1600},{"$f":"SA!FX27-SA!FW27","v":-1900},{"$f":"SA!FY27-SA!FX27","v":800},{"$f":"SA!FZ27-SA!FY27","v":100},{"$f":"SA!GA27-SA!FZ27","v":600},{"$f":"SA!GB27-SA!GA27","v":1000},{"$f":"SA!GC27-SA!GB27","v":500},{"$f":"SA!GD27-SA!GC27","v":1900},{"$f":"SA!GE27-SA!GD27","v":-100},{"$f":"SA!GF27-SA!GE27","v":1300},{"$f":"SA!GG27-SA!GF27","v":200},{"$f":"SA!GH27-SA!GG27","v":800},{"$f":"SA!GI27-SA!GH27","v":700},{"$f":"SA!GJ27-SA!GI27","v":-500},{"$f":"SA!GK27-SA!GJ27","v":600},{"$f":"SA!GL27-SA!GK27","v":100},{"$f":"SA!GM27-SA!GL27","v":2100},{"$f":"SA!GN27-SA!GM27","v":1700},{"$f":"SA!GO27-SA!GN27","v":-300},{"$f":"SA!GP27-SA!GO27","v":700},{"$f":"SA!GQ27-SA!GP27","v":1000},{"$f":"SA!GR27-SA!GQ27","v":-700},{"$f":"SA!GS27-SA!GR27","v":-500},{"$f":"SA!GT27-SA!GS27","v":-300},{"$f":"SA!GU27-SA!GT27","v":-600},{"$f":"SA!GV27-SA!GU27","v":1200},{"$f":"SA!GW27-SA!GV27","v":-100},{"$f":"SA!GX27-SA!GW27","v":-600},{"$f":"SA!GY27-SA!GX27","v":0},{"$f":"SA!GZ27-SA!GY27","v":-300},{"$f":"SA!HA27-SA!GZ27","v":0},{"$f":"SA!HB27-SA!HA27","v":-1300},{"$f":"SA!HC27-SA!HB27","v":5100},{"$f":"SA!HD27-SA!HC27","v":-2200},{"$f":"SA!HE27-SA!HD27","v":1700},{"$f":"SA!HF27-SA!HE27","v":1200},{"$f":"SA!HG27-SA!HF27","v":6100},{"$f":"SA!HH27-SA!HG27","v":-2600},{"$f":"SA!HI27-SA!HH27","v":-200},{"$f":"SA!HJ27-SA!HI27","v":-3700},{"$f":"SA!HK27-SA!HJ27","v":-278400},{"$f":"SA!HL27-SA!HK27","v":0},{"$f":"SA!HM27-SA!HL27","v":0},4377,2,null,"Leisure and Hospitality",-2200,-700.00000000001455,-450,0,300,700,1000,3300,970.67510831125094]
["Arts, Entertainment, and Recreation",{"$f":"SA!BN28-SA!BM28","v":-300},{"$f":"SA!BO28-SA!BN28","v":-400},{"$f":"SA!BP28-SA!BO28","v":200},{"$f":"SA!BQ28-SA!BP28","v":900},{"$f":"SA!BR28-SA!BQ28","v":-900},{"$f":"SA!BS28-SA!BR28","v":100},{"$f":"SA!BT28-SA!BS28","v":0},{"$f":"SA!BU28-SA!BT28","v":100},{"$f":"SA!BV28-SA!BU28","v":200},{"$f":"SA!BW28-SA!BV28","v":0},{"$f":"SA!BX28-SA!BW28","v":100},{"$f":"SA!BY28-SA!BX28","v":-200},{"$f":"SA!BZ28-SA!BY28","v":0},{"$f":"SA!CA28-SA!BZ28","v":400},{"$f":"SA!CB28-SA!CA28","v":0},{"$f":"SA!CC28-SA!CB28","v":800},{"$f":"SA!CD28-SA!CC28","v":-1000},{"$f":"SA!CE28-SA!CD28","v":100},{"$f":"SA!CF28-SA!CE28","v":0},{"$f":"SA!CG28-SA!CF28","v":200},{"$f":"SA!CH28-SA!CG28","v":100},{"$f":"SA!CI28-SA!CH28","v":-100},{"$f":"SA!CJ28-SA!CI28","v":-200},{"$f":"SA!CK28-SA!CJ28","v":200},{"$f":"SA!CL28-SA!CK28","v":400},{"$f":"SA!CM28-SA!CL28","v":300},{"$f":"SA!CN28-SA!CM28","v":200},{"$f":"SA!CO28-SA!CN28","v":-600},{"$f":"SA!CP28-SA!CO28","v":700},{"$f":"SA!CQ28-SA!CP28","v":200},{"$f":"SA!CR28-SA!CQ28","v":-300},{"$f":"SA!CS28-SA!CR28","v":0},{"$f":"SA!CT28-SA!CS28","v":-100},{"$f":"SA!CU28-SA!CT28","v":200},{"$f":"SA!CV28-SA!CU28","v":300},{"$f":"SA!CW28-SA!CV28","v":0},{"$f":"SA!CX28-SA!CW28","v":0},{"$f":"SA!CY28-SA!CX28","v":-200},{"$f":"SA!CZ28-SA!CY28","v":-300},{"$f":"SA!DA28-SA!CZ28","v":-600},{"$f":"SA!DB28-SA!DA28","v":500},{"$f":"SA!DC28-SA!DB28","v":0},{"$f":"SA!DD28-SA!DC28","v":-100},{"$f":"SA!DE28-SA!DD28","v":200},{"$f":"SA!DF28-SA!DE28","v":-800},{"$f":"SA!DG28-SA!DF28","v":800},{"$f":"SA!DH28-SA!DG28","v":-800},{"$f":"SA!DI28-SA!DH28","v":300},{"$f":"SA!DJ28-SA!DI28","v":-400},{"$f":"SA!DK28-SA!DJ28","v":-400},{"$f":"SA!DL28-SA!DK28","v":0},{"$f":"SA!DM28-SA!DL28","v":-900},{"$f":"SA!DN28-SA!DM28","v":1600},{"$f":"SA!DO28-SA!DN28","v":-200},{"$f":"SA!DP28-SA!DO28","v":-600},{"$f":"SA!DQ28-SA!DP28","v":-100},{"$f":"SA!DR28-SA!DQ28","v":400},{"$f":"SA!DS28-SA!DR28","v":-800},{"$f":"SA!DT28-SA!DS28","v":300},{"$f":"SA!DU28-SA!DT28","v":-300},{"$f":"SA!DV28-SA!DU28","v":100},{"$f":"SA!DW28-SA!DV28","v":-100},{"$f":"SA!DX28-SA!DW28","v":400},{"$f":"SA!DY28-SA!DX28","v":1000},{"$f":"SA!DZ28-SA!DY28","v":-700},{"$f":"SA!EA28-SA!DZ28","v":-900},{"$f":"SA!EB28-SA!EA28","v":900},{"$f":"SA!EC28-SA!EB28","v":200},{"$f":"SA!ED28-SA!EC28","v":-300},{"$f":"SA!EE28-SA!ED28","v":0},{"$f":"SA!EF28-SA!EE28","v":0},{"$f":"SA!EG28-SA!EF28","v":100},{"$f":"SA!EH28-SA!EG28","v":-200},{"$f":"SA!EI28-SA!EH28","v":200},{"$f":"SA!EJ28-SA!EI28","v":-400},{"$f":"SA!EK28-SA!EJ28","v":400},{"$f":"SA!EL28-SA!EK28","v":-500},{"$f":"SA!EM28-SA!EL28","v":400},{"$f":"SA!EN28-SA!EM28","v":600},{"$f":"SA!EO28-SA!EN28","v":0},{"$f":"SA!EP28-SA!EO28","v":0},{"$f":"SA!EQ28-SA!EP28","v":400},{"$f":"SA!ER28-SA!EQ28","v":-100},{"$f":"SA!ES28-SA!ER28","v":0},{"$f":"SA!ET28-SA!ES28","v":0},{"$f":"SA!EU28-SA!ET28","v":-300},{"$f":"SA!EV28-SA!EU28","v":1200},{"$f":"SA!EW28-SA!EV28","v":1000},{"$f":"SA!EX28-SA!EW28","v":-1800},{"$f":"SA!EY28-SA!EX28","v":-100},{"$f":"SA!EZ28-SA!EY28","v":0},{"$f":"SA!FA28-SA!EZ28","v":-200},{"$f":"SA!FB28-SA!FA28","v":700},{"$f":"SA!FC28-SA!FB28","v":-500},{"$f":"SA!FD28-SA!FC28","v":-200},{"$f":"SA!FE28-SA!FD28","v":300},{"$f":"SA!FF28-SA!FE28","v":100},{"$f":"SA!FG28-SA!FF28","v":-100},{"$f":"SA!FH28-SA!FG28","v":-200},{"$f":"SA!FI28-SA!FH28","v":-500},{"$f":"SA!FJ28-SA!FI28","v":1100},{"$f":"SA!FK28-SA!FJ28","v":-200},{"$f":"SA!FL28-SA!FK28","v":-100},{"$f":"SA!FM28-SA!FL28","v":300},{"$f":"SA!FN28-SA!FM28","v":400},{"$f":"SA!FO28-SA!FN28","v":0},{"$f":"SA!FP28-SA!FO28","v":200},{"$f":"SA!FQ28-SA!FP28","v":200},{"$f":"SA!FR28-SA!FQ28","v":-300},{"$f":"SA!FS28-SA!FR28","v":100},{"$f":"SA!FT28-SA!FS28","v":-200},{"$f":"SA!FU28-SA!FT28","v":200},{"$f":"SA!FV28-SA!FU28","v":-500},{"$f":"SA!FW28-SA!FV28","v":500},{"$f":"SA!FX28-SA!FW28","v":200},{"$f":"SA!FY28-SA!FX28","v":-100},{"$f":"SA!FZ28-SA!FY28","v":0},{"$f":"SA!GA28-SA!FZ28","v":-300},{"$f":"SA!GB28-SA!GA28","v":500},{"$f":"SA!GC28-SA!GB28","v":200},{"$f":"SA!GD28-SA!GC28","v":400},{"$f":"SA!GE28-SA!GD28","v":-400},{"$f":"SA!GF28-SA!GE28","v":500},{"$f":"SA!GG28-SA!GF28","v":-100},{"$f":"SA!GH28-SA!GG28","v":300},{"$f":"SA!GI28-SA!GH28","v":400},{"$f":"SA!GJ28-SA!GI28","v":-800},{"$f":"SA!GK28-SA!GJ28","v":300},{"$f":"SA!GL28-SA!GK28","v":200},{"$f":"SA!GM28-SA!GL28","v":800},{"$f":"SA!GN28-SA!GM28","v":500},{"$f":"SA!GO28-SA!GN28","v":-800},{"$f":"SA!GP28-SA!GO28","v":600},{"$f":"SA!GQ28-SA!GP28","v":300},{"$f":"SA!GR28-SA!GQ28","v":100},{"$f":"SA!GS28-SA!GR28","v":-200},{"$f":"SA!GT28-SA!GS28","v":100},{"$f":"SA!GU28-SA!GT28","v":100},{"$f":"SA!GV28-SA!GU28","v":300},{"$f":"SA!GW28-SA!GV28","v":100},{"$f":"SA!GX28-SA!GW28","v":-100},{"$f":"SA!GY28-SA!GX28","v":-500},{"$f":"SA!GZ28-SA!GY28","v":-500},{"$f":"SA!HA28-SA!GZ28","v":-600},{"$f":"SA!HB28-SA!HA28","v":-800},{"$f":"SA!HC28-SA!HB28","v":-500},{"$f":"SA!HD28-SA!HC28","v":1700},{"$f":"SA!HE28-SA!HD28","v":1400},{"$f":"SA!HF28-SA!HE28","v":-200},{"$f":"SA!HG28-SA!HF28","v":2800},{"$f":"SA!HH28-SA!HG28","v":-600},{"$f":"SA!HI28-SA!HH28","v":200},{"$f":"SA!HJ28-SA!HI28","v":-400},{"$f":"SA!HK28-SA!HJ28","v":-41700},{"$f":"SA!HL28-SA!HK28","v":0},{"$f":"SA!HM28-SA!HL28","v":0},2861,0,null,"Arts, Entertainment, and Recreation",-1800,-425,-200,0,100,200,400,1600,473.42116996039232]
["Accommodation and Food Services",{"$f":"SA!BN29-SA!BM29","v":-400},{"$f":"SA!BO29-SA!BN29","v":900},{"$f":"SA!BP29-SA!BO29","v":700},{"$f":"SA!BQ29-SA!BP29","v":2400},{"$f":"SA!BR29-SA!BQ29","v":-1300},{"$f":"SA!BS29-SA!BR29","v":-600},{"$f":"SA!BT29-SA!BS29","v":700},{"$f":"SA!BU29-SA!BT29","v":400},{"$f":"SA!BV29-SA!BU29","v":500},{"$f":"SA!BW29-SA!BV29","v":-1100},{"$f":"SA!BX29-SA!BW29","v":1300},{"$f":"SA!BY29-SA!BX29","v":-200},{"$f":"SA!BZ29-SA!BY29","v":1700},{"$f":"SA!CA29-SA!BZ29","v":600},{"$f":"SA!CB29-SA!CA29","v":800},{"$f":"SA!CC29-SA!CB29","v":-700},{"$f":"SA!CD29-SA!CC29","v":-1100},{"$f":"SA!CE29-SA!CD29","v":700},{"$f":"SA!CF29-SA!CE29","v":800},{"$f":"SA!CG29-SA!CF29","v":100},{"$f":"SA!CH29-SA!CG29","v":-200},{"$f":"SA!CI29-SA!CH29","v":1200},{"$f":"SA!CJ29-SA!CI29","v":0},{"$f":"SA!CK29-SA!CJ29","v":700},{"$f":"SA!CL29-SA!CK29","v":500},{"$f":"SA!CM29-SA!CL29","v":0},{"$f":"SA!CN29-SA!CM29","v":-100},{"$f":"SA!CO29-SA!CN29","v":-600},{"$f":"SA!CP29-SA!CO29","v":-500},{"$f":"SA!CQ29-SA!CP29","v":500},{"$f":"SA!CR29-SA!CQ29","v":-700},{"$f":"SA!CS29-SA!CR29","v":600},{"$f":"SA!CT29-SA!CS29","v":-1600},{"$f":"SA!CU29-SA!CT29","v":1500},{"$f":"SA!CV29-SA!CU29","v":400},{"$f":"SA!CW29-SA!CV29","v":-400},{"$f":"SA!CX29-SA!CW29","v":-500},{"$f":"SA!CY29-SA!CX29","v":-500},{"$f":"SA!CZ29-SA!CY29","v":100},{"$f":"SA!DA29-SA!CZ29","v":0},{"$f":"SA!DB29-SA!DA29","v":-700},{"$f":"SA!DC29-SA!DB29","v":-600},{"$f":"SA!DD29-SA!DC29","v":-100},{"$f":"SA!DE29-SA!DD29","v":-800},{"$f":"SA!DF29-SA!DE29","v":200},{"$f":"SA!DG29-SA!DF29","v":-300},{"$f":"SA!DH29-SA!DG29","v":100},{"$f":"SA!DI29-SA!DH29","v":-1200},{"$f":"SA!DJ29-SA!DI29","v":-1800},{"$f":"SA!DK29-SA!DJ29","v":800},{"$f":"SA!DL29-SA!DK29","v":-1000},{"$f":"SA!DM29-SA!DL29","v":-800},{"$f":"SA!DN29-SA!DM29","v":1000},{"$f":"SA!DO29-SA!DN29","v":-1000},{"$f":"SA!DP29-SA!DO29","v":-1000},{"$f":"SA!DQ29-SA!DP29","v":-900},{"$f":"SA!DR29-SA!DQ29","v":-100},{"$f":"SA!DS29-SA!DR29","v":-500},{"$f":"SA!DT29-SA!DS29","v":-400},{"$f":"SA!DU29-SA!DT29","v":100},{"$f":"SA!DV29-SA!DU29","v":700},{"$f":"SA!DW29-SA!DV29","v":-800},{"$f":"SA!DX29-SA!DW29","v":-600},{"$f":"SA!DY29-SA!DX29","v":1100},{"$f":"SA!DZ29-SA!DY29","v":100},{"$f":"SA!EA29-SA!DZ29","v":200},{"$f":"SA!EB29-SA!EA29","v":200},{"$f":"SA!EC29-SA!EB29","v":500},{"$f":"SA!ED29-SA!EC29","v":-200},{"$f":"SA!EE29-SA!ED29","v":900},{"$f":"SA!EF29-SA!EE29","v":200},{"$f":"SA!EG29-SA!EF29","v":-200},{"$f":"SA!EH29-SA!EG29","v":-300},{"$f":"SA!EI29-SA!EH29","v":-1000},{"$f":"SA!EJ29-SA!EI29","v":-100},{"$f":"SA!EK29-SA!EJ29","v":400},{"$f":"SA!EL29-SA!EK29","v":200},{"$f":"SA!EM29-SA!EL29","v":0},{"$f":"SA!EN29-SA!EM29","v":200},{"$f":"SA!EO29-SA!EN29","v":700},{"$f":"SA!EP29-SA!EO29","v":0},{"$f":"SA!EQ29-SA!EP29","v":100},{"$f":"SA!ER29-SA!EQ29","v":-400},{"$f":"SA!ES29-SA!ER29","v":-500},{"$f":"SA!ET29-SA!ES29","v":1300},{"$f":"SA!EU29-SA!ET29","v":900},{"$f":"SA!EV29-SA!EU29","v":800},{"$f":"SA!EW29-SA!EV29","v":400},{"$f":"SA!EX29-SA!EW29","v":200},{"$f":"SA!EY29-SA!EX29","v":1100},{"$f":"SA!EZ29-SA!EY29","v":-200},{"$f":"SA!FA29-SA!EZ29","v":-300},{"$f":"SA!FB29-SA!FA29","v":600},{"$f":"SA!FC29-SA!FB29","v":-700},{"$f":"SA!FD29-SA!FC29","v":500},{"$f":"SA!FE29-SA!FD29","v":700},{"$f":"SA!FF29-SA!FE29","v":200},{"$f":"SA!FG29-SA!FF29","v":600},{"$f":"SA!FH29-SA!FG29","v":300},{"$f":"SA!FI29-SA!FH29","v":-600},{"$f":"SA!FJ29-SA!FI29","v":1000},{"$f":"SA!FK29-SA!FJ29","v":500},{"$f":"SA!FL29-SA!FK29","v":1000},{"$f":"SA!FM29-SA!FL29","v":1000},{"$f":"SA!FN29-SA!FM29","v":200},{"$f":"SA!FO29-SA!FN29","v":0},{"$f":"SA!FP29-SA!FO29","v":-300},{"$f":"SA!FQ29-SA!FP29","v":0},{"$f":"SA!FR29-SA!FQ29","v":-200},{"$f":"SA!FS29-SA!FR29","v":0},{"$f":"SA!FT29-SA!FS29","v":0},{"$f":"SA!FU29-SA!FT29","v":700},{"$f":"SA!FV29-SA!FU29","v":100},{"$f":"SA!FW29-SA!FV29","v":1100},{"$f":"SA!FX29-SA!FW29","v":-2100},{"$f":"SA!FY29-SA!FX29","v":900},{"$f":"SA!FZ29-SA!FY29","v":100},{"$f":"SA!GA29-SA!FZ29","v":900},{"$f":"SA!GB29-SA!GA29","v":500},{"$f":"SA!GC29-SA!GB29","v":300},{"$f":"SA!GD29-SA!GC29","v":1500},{"$f":"SA!GE29-SA!GD29","v":300},{"$f":"SA!GF29-SA!GE29","v":800},{"$f":"SA!GG29-SA!GF29","v":300},{"$f":"SA!GH29-SA!GG29","v":500},{"$f":"SA!GI29-SA!GH29","v":300},{"$f":"SA!GJ29-SA!GI29","v":300},{"$f":"SA!GK29-SA!GJ29","v":300},{"$f":"SA!GL29-SA!GK29","v":-100},{"$f":"SA!GM29-SA!GL29","v":1300},{"$f":"SA!GN29-SA!GM29","v":1200},{"$f":"SA!GO29-SA!GN29","v":500},{"$f":"SA!GP29-SA!GO29","v":100},{"$f":"SA!GQ29-SA!GP29","v":700},{"$f":"SA!GR29-SA!GQ29","v":-800},{"$f":"SA!GS29-SA!GR29","v":-300},{"$f":"SA!GT29-SA!GS29","v":-400},{"$f":"SA!GU29-SA!GT29","v":-700},{"$f":"SA!GV29-SA!GU29","v":900},{"$f":"SA!GW29-SA!GV29","v":-200},{"$f":"SA!GX29-SA!GW29","v":-500},{"$f":"SA!GY29-SA!GX29","v":500},{"$f":"SA!GZ29-SA!GY29","v":200},{"$f":"SA!HA29-SA!GZ29","v":600},{"$f":"SA!HB29-SA!HA29","v":-500},{"$f":"SA!HC29-SA!HB29","v":5600},{"$f":"SA!HD29-SA!HC29","v":-3900},{"$f":"SA!HE29-SA!HD29","v":300},{"$f":"SA!HF29-SA!HE29","v":1400},{"$f":"SA!HG29-SA!HF29","v":3300},{"$f":"SA!HH29-SA!HG29","v":-2000},{"$f":"SA!HI29-SA!HH29","v":-400},{"$f":"SA!HJ29-SA!HI29","v":-3300},{"$f":"SA!HK29-SA!HJ29","v":-236700},{"$f":"SA!HL29-SA!HK29","v":0},{"$f":"SA!HM29-SA!HL29","v":0},3313,1,null,"Accommodation and Food Services",-2100,-625,-200,100,200,500,900,2400,724.18403422893743]
["Other Services",{"$f":"SA!BN30-SA!BM30","v":500},{"$f":"SA!BO30-SA!BN30","v":200},{"$f":"SA!BP30-SA!BO30","v":0},{"$f":"SA!BQ30-SA!BP30","v":200},{"$f":"SA!BR30-SA!BQ30","v":0},{"$f":"SA!BS30-SA!BR30","v":-400},{"$f":"SA!BT30-SA!BS30","v":200},{"$f":"SA!BU30-SA!BT30","v":100},{"$f":"SA!BV30-SA!BU30","v":0},{"$f":"SA!BW30-SA!BV30","v":-100},{"$f":"SA!BX30-SA!BW30","v":-100},{"$f":"SA!BY30-SA!BX30","v":100},{"$f":"SA!BZ30-SA!BY30","v":-100},{"$f":"SA!CA30-SA!BZ30","v":-200},{"$f":"SA!CB30-SA!CA30","v":100},{"$f":"SA!CC30-SA!CB30","v":-100},{"$f":"SA!CD30-SA!CC30","v":100},{"$f":"SA!CE30-SA!CD30","v":100},{"$f":"SA!CF30-SA!CE30","v":100},{"$f":"SA!CG30-SA!CF30","v":0},{"$f":"SA!CH30-SA!CG30","v":200},{"$f":"SA!CI30-SA!CH30","v":0},{"$f":"SA!CJ30-SA!CI30","v":100},{"$f":"SA!CK30-SA!CJ30","v":300},{"$f":"SA!CL30-SA!CK30","v":500},{"$f":"SA!CM30-SA!CL30","v":100},{"$f":"SA!CN30-SA!CM30","v":100},{"$f":"SA!CO30-SA!CN30","v":200},{"$f":"SA!CP30-SA!CO30","v":200},{"$f":"SA!CQ30-SA!CP30","v":0},{"$f":"SA!CR30-SA!CQ30","v":100},{"$f":"SA!CS30-SA!CR30","v":-300},{"$f":"SA!CT30-SA!CS30","v":-300},{"$f":"SA!CU30-SA!CT30","v":700},{"$f":"SA!CV30-SA!CU30","v":100},{"$f":"SA!CW30-SA!CV30","v":100},{"$f":"SA!CX30-SA!CW30","v":-100},{"$f":"SA!CY30-SA!CX30","v":100},{"$f":"SA!CZ30-SA!CY30","v":100},{"$f":"SA!DA30-SA!CZ30","v":400},{"$f":"SA!DB30-SA!DA30","v":300},{"$f":"SA!DC30-SA!DB30","v":0},{"$f":"SA!DD30-SA!DC30","v":100},{"$f":"SA!DE30-SA!DD30","v":200},{"$f":"SA!DF30-SA!DE30","v":-100},{"$f":"SA!DG30-SA!DF30","v":2100},{"$f":"SA!DH30-SA!DG30","v":-1100},{"$f":"SA!DI30-SA!DH30","v":-600},{"$f":"SA!DJ30-SA!DI30","v":-300},{"$f":"SA!DK30-SA!DJ30","v":-200},{"$f":"SA!DL30-SA!DK30","v":0},{"$f":"SA!DM30-SA!DL30","v":-700},{"$f":"SA!DN30-SA!DM30","v":0},{"$f":"SA!DO30-SA!DN30","v":-200},{"$f":"SA!DP30-SA!DO30","v":-300},{"$f":"SA!DQ30-SA!DP30","v":-200},{"$f":"SA!DR30-SA!DQ30","v":0},{"$f":"SA!DS30-SA!DR30","v":-100},{"$f":"SA!DT30-SA!DS30","v":0},{"$f":"SA!DU30-SA!DT30","v":-200},{"$f":"SA!DV30-SA!DU30","v":-400},{"$f":"SA!DW30-SA!DV30","v":0},{"$f":"SA!DX30-SA!DW30","v":100},{"$f":"SA!DY30-SA!DX30","v":200},{"$f":"SA!DZ30-SA!DY30","v":-300},{"$f":"SA!EA30-SA!DZ30","v":-200},{"$f":"SA!EB30-SA!EA30","v":200},{"$f":"SA!EC30-SA!EB30","v":0},{"$f":"SA!ED30-SA!EC30","v":-100},{"$f":"SA!EE30-SA!ED30","v":700},{"$f":"SA!EF30-SA!EE30","v":-500},{"$f":"SA!EG30-SA!EF30","v":-100},{"$f":"SA!EH30-SA!EG30","v":200},{"$f":"SA!EI30-SA!EH30","v":-100},{"$f":"SA!EJ30-SA!EI30","v":100},{"$f":"SA!EK30-SA!EJ30","v":100},{"$f":"SA!EL30-SA!EK30","v":0},{"$f":"SA!EM30-SA!EL30","v":-300},{"$f":"SA!EN30-SA!EM30","v":600},{"$f":"SA!EO30-SA!EN30","v":-200},{"$f":"SA!EP30-SA!EO30","v":-100},{"$f":"SA!EQ30-SA!EP30","v":-100},{"$f":"SA!ER30-SA!EQ30","v":100},{"$f":"SA!ES30-SA!ER30","v":400},{"$f":"SA!ET30-SA!ES30","v":0},{"$f":"SA!EU30-SA!ET30","v":300},{"$f":"SA!EV30-SA!EU30","v":-200},{"$f":"SA!EW30-SA!EV30","v":100},{"$f":"SA!EX30-SA!EW30","v":-100},{"$f":"SA!EY30-SA!EX30","v":1100},{"$f":"SA!EZ30-SA!EY30","v":-1000},{"$f":"SA!FA30-SA!EZ30","v":0},{"$f":"SA!FB30-SA!FA30","v":-100},{"$f":"SA!FC30-SA!FB30","v":-100},{"$f":"SA!FD30-SA!FC30","v":100},{"$f":"SA!FE30-SA!FD30","v":-100},{"$f":"SA!FF30-SA!FE30","v":-200},{"$f":"SA!FG30-SA!FF30","v":-100},{"$f":"SA!FH30-SA!FG30","v":200},{"$f":"SA!FI30-SA!FH30","v":-200},{"$f":"SA!FJ30-SA!FI30","v":400},{"$f":"SA!FK30-SA!FJ30","v":200},{"$f":"SA!FL30-SA!FK30","v":-300},{"$f":"SA!FM30-SA!FL30","v":300},{"$f":"SA!FN30-SA!FM30","v":900},{"$f":"SA!FO30-SA!FN30","v":-700},{"$f":"SA!FP30-SA!FO30","v":1200},{"$f":"SA!FQ30-SA!FP30","v":400},{"$f":"SA!FR30-SA!FQ30","v":700},{"$f":"SA!FS30-SA!FR30","v":700},{"$f":"SA!FT30-SA!FS30","v":100},{"$f":"SA!FU30-SA!FT30","v":600},{"$f":"SA!FV30-SA!FU30","v":600},{"$f":"SA!FW30-SA!FV30","v":700},{"$f":"SA!FX30-SA!FW30","v":700},{"$f":"SA!FY30-SA!FX30","v":800},{"$f":"SA!FZ30-SA!FY30","v":400},{"$f":"SA!GA30-SA!FZ30","v":200},{"$f":"SA!GB30-SA!GA30","v":500},{"$f":"SA!GC30-SA!GB30","v":300},{"$f":"SA!GD30-SA!GC30","v":1200},{"$f":"SA!GE30-SA!GD30","v":400},{"$f":"SA!GF30-SA!GE30","v":300},{"$f":"SA!GG30-SA!GF30","v":300},{"$f":"SA!GH30-SA!GG30","v":300},{"$f":"SA!GI30-SA!GH30","v":-100},{"$f":"SA!GJ30-SA!GI30","v":-100},{"$f":"SA!GK30-SA!GJ30","v":-200},{"$f":"SA!GL30-SA!GK30","v":200},{"$f":"SA!GM30-SA!GL30","v":100},{"$f":"SA!GN30-SA!GM30","v":0},{"$f":"SA!GO30-SA!GN30","v":300},{"$f":"SA!GP30-SA!GO30","v":300},{"$f":"SA!GQ30-SA!GP30","v":-100},{"$f":"SA!GR30-SA!GQ30","v":0},{"$f":"SA!GS30-SA!GR30","v":-100},{"$f":"SA!GT30-SA!GS30","v":0},{"$f":"SA!GU30-SA!GT30","v":0},{"$f":"SA!GV30-SA!GU30","v":400},{"$f":"SA!GW30-SA!GV30","v":100},{"$f":"SA!GX30-SA!GW30","v":200},{"$f":"SA!GY30-SA!GX30","v":900},{"$f":"SA!GZ30-SA!GY30","v":100},{"$f":"SA!HA30-SA!GZ30","v":1200},{"$f":"SA!HB30-SA!HA30","v":-800},{"$f":"SA!HC30-SA!HB30","v":1500},{"$f":"SA!HD30-SA!HC30","v":-300},{"$f":"SA!HE30-SA!HD30","v":800},{"$f":"SA!HF30-SA!HE30","v":-2500},{"$f":"SA!HG30-SA!HF30","v":1800},{"$f":"SA!HH30-SA!HG30","v":0},{"$f":"SA!HI30-SA!HH30","v":100},{"$f":"SA!HJ30-SA!HI30","v":-500},{"$f":"SA!HK30-SA!HJ30","v":-151800},{"$f":"SA!HL30-SA!HK30","v":0},{"$f":"SA!HM30-SA!HL30","v":0},2852,0,null,"Other Services",-1100,-200,-100,0,100,200,400,2100,402.87355183162879]
["Government",{"$f":"SA!BN31-SA!BM31","v":4800},{"$f":"SA!BO31-SA!BN31","v":-500},{"$f":"SA!BP31-SA!BO31","v":-2000},{"$f":"SA!BQ31-SA!BP31","v":400},{"$f":"SA!BR31-SA!BQ31","v":-400},{"$f":"SA!BS31-SA!BR31","v":-1400},{"$f":"SA!BT31-SA!BS31","v":1400},{"$f":"SA!BU31-SA!BT31","v":-300},{"$f":"SA!BV31-SA!BU31","v":4500},{"$f":"SA!BW31-SA!BV31","v":-2300},{"$f":"SA!BX31-SA!BW31","v":-2000},{"$f":"SA!BY31-SA!BX31","v":2700},{"$f":"SA!BZ31-SA!BY31","v":-1100},{"$f":"SA!CA31-SA!BZ31","v":-1100},{"$f":"SA!CB31-SA!CA31","v":900},{"$f":"SA!CC31-SA!CB31","v":-100},{"$f":"SA!CD31-SA!CC31","v":-1600},{"$f":"SA!CE31-SA!CD31","v":3100},{"$f":"SA!CF31-SA!CE31","v":-1100},{"$f":"SA!CG31-SA!CF31","v":100},{"$f":"SA!CH31-SA!CG31","v":2200},{"$f":"SA!CI31-SA!CH31","v":-3700},{"$f":"SA!CJ31-SA!CI31","v":600},{"$f":"SA!CK31-SA!CJ31","v":-500},{"$f":"SA!CL31-SA!CK31","v":-300},{"$f":"SA!CM31-SA!CL31","v":-1200},{"$f":"SA!CN31-SA!CM31","v":800},{"$f":"SA!CO31-SA!CN31","v":1200},{"$f":"SA!CP31-SA!CO31","v":900},{"$f":"SA!CQ31-SA!CP31","v":4600},{"$f":"SA!CR31-SA!CQ31","v":-3400},{"$f":"SA!CS31-SA!CR31","v":1300},{"$f":"SA!CT31-SA!CS31","v":2800},{"$f":"SA!CU31-SA!CT31","v":-5400},{"$f":"SA!CV31-SA!CU31","v":-1800},{"$f":"SA!CW31-SA!CV31","v":3600},{"$f":"SA!CX31-SA!CW31","v":3100},{"$f":"SA!CY31-SA!CX31","v":-1200},{"$f":"SA!CZ31-SA!CY31","v":-1100},{"$f":"SA!DA31-SA!CZ31","v":-1300},{"$f":"SA!DB31-SA!DA31","v":2900},{"$f":"SA!DC31-SA!DB31","v":-500},{"$f":"SA!DD31-SA!DC31","v":2500},{"$f":"SA!DE31-SA!DD31","v":-1300},{"$f":"SA!DF31-SA!DE31","v":11000},{"$f":"SA!DG31-SA!DF31","v":-6700},{"$f":"SA!DH31-SA!DG31","v":3500},{"$f":"SA!DI31-SA!DH31","v":-3600},{"$f":"SA!DJ31-SA!DI31","v":-2100},{"$f":"SA!DK31-SA!DJ31","v":700},{"$f":"SA!DL31-SA!DK31","v":-500},{"$f":"SA!DM31-SA!DL31","v":-700},{"$f":"SA!DN31-SA!DM31","v":1400},{"$f":"SA!DO31-SA!DN31","v":-3000},{"$f":"SA!DP31-SA!DO31","v":500},{"$f":"SA!DQ31-SA!DP31","v":-2500},{"$f":"SA!DR31-SA!DQ31","v":-1800},{"$f":"SA!DS31-SA!DR31","v":3000},{"$f":"SA!DT31-SA!DS31","v":-1600},{"$f":"SA!DU31-SA!DT31","v":2000},{"$f":"SA!DV31-SA!DU31","v":-1000},{"$f":"SA!DW31-SA!DV31","v":-2000},{"$f":"SA!DX31-SA!DW31","v":800},{"$f":"SA!DY31-SA!DX31","v":3600},{"$f":"SA!DZ31-SA!DY31","v":4000},{"$f":"SA!EA31-SA!DZ31","v":-2800},{"$f":"SA!EB31-SA!EA31","v":-3700},{"$f":"SA!EC31-SA!EB31","v":-1800},{"$f":"SA!ED31-SA!EC31","v":800},{"$f":"SA!EE31-SA!ED31","v":600},{"$f":"SA!EF31-SA!EE31","v":1000},{"$f":"SA!EG31-SA!EF31","v":-5000},{"$f":"SA!EH31-SA!EG31","v":2300},{"$f":"SA!EI31-SA!EH31","v":1500},{"$f":"SA!EJ31-SA!EI31","v":100},{"$f":"SA!EK31-SA!EJ31","v":-2800},{"$f":"SA!EL31-SA!EK31","v":1600},{"$f":"SA!EM31-SA!EL31","v":-2900},{"$f":"SA!EN31-SA!EM31","v":4500},{"$f":"SA!EO31-SA!EN31","v":-5100},{"$f":"SA!EP31-SA!EO31","v":-1800},{"$f":"SA!EQ31-SA!EP31","v":-3200},{"$f":"SA!ER31-SA!EQ31","v":-2500},{"$f":"SA!ES31-SA!ER31","v":4400},{"$f":"SA!ET31-SA!ES31","v":-9500},{"$f":"SA!EU31-SA!ET31","v":2800},{"$f":"SA!EV31-SA!EU31","v":6400},{"$f":"SA!EW31-SA!EV31","v":3500},{"$f":"SA!EX31-SA!EW31","v":4100},{"$f":"SA!EY31-SA!EX31","v":-5600},{"$f":"SA!EZ31-SA!EY31","v":-2700},{"$f":"SA!FA31-SA!EZ31","v":2900},{"$f":"SA!FB31-SA!FA31","v":-2000},{"$f":"SA!FC31-SA!FB31","v":900},{"$f":"SA!FD31-SA!FC31","v":4200},{"$f":"SA!FE31-SA!FD31","v":-4600},{"$f":"SA!FF31-SA!FE31","v":-10700},{"$f":"SA!FG31-SA!FF31","v":12300},{"$f":"SA!FH31-SA!FG31","v":-2200},{"$f":"SA!FI31-SA!FH31","v":-1500},{"$f":"SA!FJ31-SA!FI31","v":-600},{"$f":"SA!FK31-SA!FJ31","v":300},{"$f":"SA!FL31-SA!FK31","v":800},{"$f":"SA!FM31-SA!FL31","v":-400},{"$f":"SA!FN31-SA!FM31","v":2600},{"$f":"SA!FO31-SA!FN31","v":-400},{"$f":"SA!FP31-SA!FO31","v":-1900},{"$f":"SA!FQ31-SA!FP31","v":1100},{"$f":"SA!FR31-SA!FQ31","v":1100},{"$f":"SA!FS31-SA!FR31","v":-2800},{"$f":"SA!FT31-SA!FS31","v":1200},{"$f":"SA!FU31-SA!FT31","v":600},{"$f":"SA!FV31-SA!FU31","v":-400},{"$f":"SA!FW31-SA!FV31","v":600},{"$f":"SA!FX31-SA!FW31","v":800},{"$f":"SA!FY31-SA!FX31","v":5600},{"$f":"SA!FZ31-SA!FY31","v":-4400},{"$f":"SA!GA31-SA!FZ31","v":-1200},{"$f":"SA!GB31-SA!GA31","v":4600},{"$f":"SA!GC31-SA!GB31","v":-5200},{"$f":"SA!GD31-SA!GC31","v":-1300},{"$f":"SA!GE31-SA!GD31","v":1000},{"$f":"SA!GF31-SA!GE31","v":-500},{"$f":"SA!GG31-SA!GF31","v":-100},{"$f":"SA!GH31-SA!GG31","v":-1000},{"$f":"SA!GI31-SA!GH31","v":200},{"$f":"SA!GJ31-SA!GI31","v":-1000},{"$f":"SA!GK31-SA!GJ31","v":-400},{"$f":"SA!GL31-SA!GK31","v":100},{"$f":"SA!GM31-SA!GL31","v":-200},{"$f":"SA!GN31-SA!GM31","v":-3200},{"$f":"SA!GO31-SA!GN31","v":4200},{"$f":"SA!GP31-SA!GO31","v":1100},{"$f":"SA!GQ31-SA!GP31","v":-100},{"$f":"SA!GR31-SA!GQ31","v":-200},{"$f":"SA!GS31-SA!GR31","v":700},{"$f":"SA!GT31-SA!GS31","v":-3000},{"$f":"SA!GU31-SA!GT31","v":2400},{"$f":"SA!GV31-SA!GU31","v":2900},{"$f":"SA!GW31-SA!GV31","v":1800},{"$f":"SA!GX31-SA!GW31","v":-5200},{"$f":"SA!GY31-SA!GX31","v":6200},{"$f":"SA!GZ31-SA!GY31","v":4900},{"$f":"SA!HA31-SA!GZ31","v":-2300},{"$f":"SA!HB31-SA!HA31","v":-5000},{"$f":"SA!HC31-SA!HB31","v":2800},{"$f":"SA!HD31-SA!HC31","v":-4500},{"$f":"SA!HE31-SA!HD31","v":7100},{"$f":"SA!HF31-SA!HE31","v":-1100},{"$f":"SA!HG31-SA!HF31","v":-6700},{"$f":"SA!HH31-SA!HG31","v":6300},{"$f":"SA!HI31-SA!HH31","v":-4600},{"$f":"SA!HJ31-SA!HI31","v":2700},{"$f":"SA!HK31-SA!HJ31","v":-415200},{"$f":"SA!HL31-SA!HK31","v":0},{"$f":"SA!HM31-SA!HL31","v":0},"n/a",0,null,"Government",-10700,-2800,-1350,-400,275,1150,3100,12300,3195.7375854844181]
["Federal Government",{"$f":"SA!BN32-SA!BM32","v":0},{"$f":"SA!BO32-SA!BN32","v":0},{"$f":"SA!BP32-SA!BO32","v":-100},{"$f":"SA!BQ32-SA!BP32","v":100},{"$f":"SA!BR32-SA!BQ32","v":0},{"$f":"SA!BS32-SA!BR32","v":-200},{"$f":"SA!BT32-SA!BS32","v":0},{"$f":"SA!BU32-SA!BT32","v":0},{"$f":"SA!BV32-SA!BU32","v":0},{"$f":"SA!BW32-SA!BV32","v":-100},{"$f":"SA!BX32-SA!BW32","v":0},{"$f":"SA!BY32-SA!BX32","v":0},{"$f":"SA!BZ32-SA!BY32","v":0},{"$f":"SA!CA32-SA!BZ32","v":0},{"$f":"SA!CB32-SA!CA32","v":200},{"$f":"SA!CC32-SA!CB32","v":0},{"$f":"SA!CD32-SA!CC32","v":-100},{"$f":"SA!CE32-SA!CD32","v":100},{"$f":"SA!CF32-SA!CE32","v":0},{"$f":"SA!CG32-SA!CF32","v":-100},{"$f":"SA!CH32-SA!CG32","v":100},{"$f":"SA!CI32-SA!CH32","v":-100},{"$f":"SA!CJ32-SA!CI32","v":100},{"$f":"SA!CK32-SA!CJ32","v":0},{"$f":"SA!CL32-SA!CK32","v":100},{"$f":"SA!CM32-SA!CL32","v":-200},{"$f":"SA!CN32-SA!CM32","v":0},{"$f":"SA!CO32-SA!CN32","v":0},{"$f":"SA!CP32-SA!CO32","v":0},{"$f":"SA!CQ32-SA!CP32","v":100},{"$f":"SA!CR32-SA!CQ32","v":-100},{"$f":"SA!CS32-SA!CR32","v":100},{"$f":"SA!CT32-SA!CS32","v":-100},{"$f":"SA!CU32-SA!CT32","v":200},{"$f":"SA!CV32-SA!CU32","v":-100},{"$f":"SA!CW32-SA!CV32","v":-200},{"$f":"SA!CX32-SA!CW32","v":300},{"$f":"SA!CY32-SA!CX32","v":100},{"$f":"SA!CZ32-SA!CY32","v":0},{"$f":"SA!DA32-SA!CZ32","v":0},{"$f":"SA!DB32-SA!DA32","v":100},{"$f":"SA!DC32-SA!DB32","v":0},{"$f":"SA!DD32-SA!DC32","v":200},{"$f":"SA!DE32-SA!DD32","v":0},{"$f":"SA!DF32-SA!DE32","v":0},{"$f":"SA!DG32-SA!DF32","v":-200},{"$f":"SA!DH32-SA!DG32","v":100},{"$f":"SA!DI32-SA!DH32","v":100},{"$f":"SA!DJ32-SA!DI32","v":100},{"$f":"SA!DK32-SA!DJ32","v":0},{"$f":"SA!DL32-SA!DK32","v":-200},{"$f":"SA!DM32-SA!DL32","v":2200},{"$f":"SA!DN32-SA!DM32","v":0},{"$f":"SA!DO32-SA!DN32","v":-2100},{"$f":"SA!DP32-SA!DO32","v":-200},{"$f":"SA!DQ32-SA!DP32","v":100},{"$f":"SA!DR32-SA!DQ32","v":-100},{"$f":"SA!DS32-SA!DR32","v":200},{"$f":"SA!DT32-SA!DS32","v":-100},{"$f":"SA!DU32-SA!DT32","v":0},{"$f":"SA!DV32-SA!DU32","v":-100},{"$f":"SA!DW32-SA!DV32","v":0},{"$f":"SA!DX32-SA!DW32","v":700},{"$f":"SA!DY32-SA!DX32","v":3200},{"$f":"SA!DZ32-SA!DY32","v":4400},{"$f":"SA!EA32-SA!DZ32","v":-3600},{"$f":"SA!EB32-SA!EA32","v":-1900},{"$f":"SA!EC32-SA!EB32","v":-1900},{"$f":"SA!ED32-SA!EC32","v":-800},{"$f":"SA!EE32-SA!ED32","v":-100},{"$f":"SA!EF32-SA!EE32","v":0},{"$f":"SA!EG32-SA!EF32","v":-100},{"$f":"SA!EH32-SA!EG32","v":0},{"$f":"SA!EI32-SA!EH32","v":-100},{"$f":"SA!EJ32-SA!EI32","v":100},{"$f":"SA!EK32-SA!EJ32","v":0},{"$f":"SA!EL32-SA!EK32","v":-100},{"$f":"SA!EM32-SA!EL32","v":0},{"$f":"SA!EN32-SA!EM32","v":100},{"$f":"SA!EO32-SA!EN32","v":-100},{"$f":"SA!EP32-SA!EO32","v":0},{"$f":"SA!EQ32-SA!EP32","v":0},{"$f":"SA!ER32-SA!EQ32","v":-300},{"$f":"SA!ES32-SA!ER32","v":0},{"$f":"SA!ET32-SA!ES32","v":-100},{"$f":"SA!EU32-SA!ET32","v":0},{"$f":"SA!EV32-SA!EU32","v":100},{"$f":"SA!EW32-SA!EV32","v":-100},{"$f":"SA!EX32-SA!EW32","v":0},{"$f":"SA!EY32-SA!EX32","v":0},{"$f":"SA!EZ32-SA!EY32","v":100},{"$f":"SA!FA32-SA!EZ32","v":0},{"$f":"SA!FB32-SA!FA32","v":-100},{"$f":"SA!FC32-SA!FB32","v":100},{"$f":"SA!FD32-SA!FC32","v":-400},{"$f":"SA!FE32-SA!FD32","v":200},{"$f":"SA!FF32-SA!FE32","v":-100},{"$f":"SA!FG32-SA!FF32","v":100},{"$f":"SA!FH32-SA!FG32","v":-300},{"$f":"SA!FI32-SA!FH32","v":100},{"$f":"SA!FJ32-SA!FI32","v":0},{"$f":"SA!FK32-SA!FJ32","v":0},{"$f":"SA!FL32-SA!FK32","v":-100},{"$f":"SA!FM32-SA!FL32","v":-200},{"$f":"SA!FN32-SA!FM32","v":100},{"$f":"SA!FO32-SA!FN32","v":0},{"$f":"SA!FP32-SA!FO32","v":100},{"$f":"SA!FQ32-SA!FP32","v":-100},{"$f":"SA!FR32-SA!FQ32","v":100},{"$f":"SA!FS32-SA!FR32","v":0},{"$f":"SA!FT32-SA!FS32","v":0},{"$f":"SA!FU32-SA!FT32","v":-100},{"$f":"SA!FV32-SA!FU32","v":100},{"$f":"SA!FW32-SA!FV32","v":0},{"$f":"SA!FX32-SA!FW32","v":0},{"$f":"SA!FY32-SA!FX32","v":0},{"$f":"SA!FZ32-SA!FY32","v":0},{"$f":"SA!GA32-SA!FZ32","v":0},{"$f":"SA!GB32-SA!GA32","v":100},{"$f":"SA!GC32-SA!GB32","v":200},{"$f":"SA!GD32-SA!GC32","v":-200},{"$f":"SA!GE32-SA!GD32","v":0},{"$f":"SA!GF32-SA!GE32","v":0},{"$f":"SA!GG32-SA!GF32","v":100},{"$f":"SA!GH32-SA!GG32","v":0},{"$f":"SA!GI32-SA!GH32","v":200},{"$f":"SA!GJ32-SA!GI32","v":0},{"$f":"SA!GK32-SA!GJ32","v":-200},{"$f":"SA!GL32-SA!GK32","v":-100},{"$f":"SA!GM32-SA!GL32","v":0},{"$f":"SA!GN32-SA!GM32","v":100},{"$f":"SA!GO32-SA!GN32","v":300},{"$f":"SA!GP32-SA!GO32","v":-200},{"$f":"SA!GQ32-SA!GP32","v":0},{"$f":"SA!GR32-SA!GQ32","v":100},{"$f":"SA!GS32-SA!GR32","v":-100},{"$f":"SA!GT32-SA!GS32","v":0},{"$f":"SA!GU32-SA!GT32","v":100},{"$f":"SA!GV32-SA!GU32","v":0},{"$f":"SA!GW32-SA!GV32","v":100},{"$f":"SA!GX32-SA!GW32","v":100},{"$f":"SA!GY32-SA!GX32","v":0},{"$f":"SA!GZ32-SA!GY32","v":-100},{"$f":"SA!HA32-SA!GZ32","v":100},{"$f":"SA!HB32-SA!HA32","v":300},{"$f":"SA!HC32-SA!HB32","v":-300},{"$f":"SA!HD32-SA!HC32","v":0},{"$f":"SA!HE32-SA!HD32","v":-200},{"$f":"SA!HF32-SA!HE32","v":200},{"$f":"SA!HG32-SA!HF32","v":0},{"$f":"SA!HH32-SA!HG32","v":100},{"$f":"SA!HI32-SA!HH32","v":-200},{"$f":"SA!HJ32-SA!HI32","v":100},{"$f":"SA!HK32-SA!HJ32","v":-29200},{"$f":"SA!HL32-SA!HK32","v":0},{"$f":"SA!HM32-SA!HL32","v":0},"n/a",0,null,"Federal Government",-3600,-100,-100,0,0,100,100,4400,655.84827504274438]
["State Government",{"$f":"SA!BN33-SA!BM33","v":1900},{"$f":"SA!BO33-SA!BN33","v":-2700},{"$f":"SA!BP33-SA!BO33","v":-600},{"$f":"SA!BQ33-SA!BP33","v":-400},{"$f":"SA!BR33-SA!BQ33","v":100},{"$f":"SA!BS33-SA!BR33","v":-500},{"$f":"SA!BT33-SA!BS33","v":1100},{"$f":"SA!BU33-SA!BT33","v":-900},{"$f":"SA!BV33-SA!BU33","v":3700},{"$f":"SA!BW33-SA!BV33","v":-2300},{"$f":"SA!BX33-SA!BW33","v":-200},{"$f":"SA!BY33-SA!BX33","v":1400},{"$f":"SA!BZ33-SA!BY33","v":500},{"$f":"SA!CA33-SA!BZ33","v":-1200},{"$f":"SA!CB33-SA!CA33","v":-600},{"$f":"SA!CC33-SA!CB33","v":0},{"$f":"SA!CD33-SA!CC33","v":-600},{"$f":"SA!CE33-SA!CD33","v":2700},{"$f":"SA!CF33-SA!CE33","v":-400},{"$f":"SA!CG33-SA!CF33","v":200},{"$f":"SA!CH33-SA!CG33","v":1700},{"$f":"SA!CI33-SA!CH33","v":-2100},{"$f":"SA!CJ33-SA!CI33","v":-1000},{"$f":"SA!CK33-SA!CJ33","v":700},{"$f":"SA!CL33-SA!CK33","v":-400},{"$f":"SA!CM33-SA!CL33","v":400},{"$f":"SA!CN33-SA!CM33","v":600},{"$f":"SA!CO33-SA!CN33","v":-1000},{"$f":"SA!CP33-SA!CO33","v":900},{"$f":"SA!CQ33-SA!CP33","v":700},{"$f":"SA!CR33-SA!CQ33","v":-1000},{"$f":"SA!CS33-SA!CR33","v":600},{"$f":"SA!CT33-SA!CS33","v":300},{"$f":"SA!CU33-SA!CT33","v":-1700},{"$f":"SA!CV33-SA!CU33","v":-100},{"$f":"SA!CW33-SA!CV33","v":1000},{"$f":"SA!CX33-SA!CW33","v":1400},{"$f":"SA!CY33-SA!CX33","v":-1100},{"$f":"SA!CZ33-SA!CY33","v":-400},{"$f":"SA!DA33-SA!CZ33","v":-800},{"$f":"SA!DB33-SA!DA33","v":1300},{"$f":"SA!DC33-SA!DB33","v":-600},{"$f":"SA!DD33-SA!DC33","v":900},{"$f":"SA!DE33-SA!DD33","v":-200},{"$f":"SA!DF33-SA!DE33","v":-400},{"$f":"SA!DG33-SA!DF33","v":1400},{"$f":"SA!DH33-SA!DG33","v":-600},{"$f":"SA!DI33-SA!DH33","v":-100},{"$f":"SA!DJ33-SA!DI33","v":-700},{"$f":"SA!DK33-SA!DJ33","v":-500},{"$f":"SA!DL33-SA!DK33","v":100},{"$f":"SA!DM33-SA!DL33","v":-3600},{"$f":"SA!DN33-SA!DM33","v":1300},{"$f":"SA!DO33-SA!DN33","v":-1400},{"$f":"SA!DP33-SA!DO33","v":-300},{"$f":"SA!DQ33-SA!DP33","v":-100},{"$f":"SA!DR33-SA!DQ33","v":-1800},{"$f":"SA!DS33-SA!DR33","v":100},{"$f":"SA!DT33-SA!DS33","v":800},{"$f":"SA!DU33-SA!DT33","v":1000},{"$f":"SA!DV33-SA!DU33","v":-1400},{"$f":"SA!DW33-SA!DV33","v":500},{"$f":"SA!DX33-SA!DW33","v":-600},{"$f":"SA!DY33-SA!DX33","v":1700},{"$f":"SA!DZ33-SA!DY33","v":0},{"$f":"SA!EA33-SA!DZ33","v":1400},{"$f":"SA!EB33-SA!EA33","v":-100},{"$f":"SA!EC33-SA!EB33","v":0},{"$f":"SA!ED33-SA!EC33","v":-500},{"$f":"SA!EE33-SA!ED33","v":-600},{"$f":"SA!EF33-SA!EE33","v":-600},{"$f":"SA!EG33-SA!EF33","v":-1700},{"$f":"SA!EH33-SA!EG33","v":0},{"$f":"SA!EI33-SA!EH33","v":200},{"$f":"SA!EJ33-SA!EI33","v":600},{"$f":"SA!EK33-SA!EJ33","v":-1300},{"$f":"SA!EL33-SA!EK33","v":3100},{"$f":"SA!EM33-SA!EL33","v":-2800},{"$f":"SA!EN33-SA!EM33","v":-100},{"$f":"SA!EO33-SA!EN33","v":-5300},{"$f":"SA!EP33-SA!EO33","v":2700},{"$f":"SA!EQ33-SA!EP33","v":1200},{"$f":"SA!ER33-SA!EQ33","v":100},{"$f":"SA!ES33-SA!ER33","v":700},{"$f":"SA!ET33-SA!ES33","v":-9200},{"$f":"SA!EU33-SA!ET33","v":3100},{"$f":"SA!EV33-SA!EU33","v":5400},{"$f":"SA!EW33-SA!EV33","v":600},{"$f":"SA!EX33-SA!EW33","v":400},{"$f":"SA!EY33-SA!EX33","v":-1900},{"$f":"SA!EZ33-SA!EY33","v":1400},{"$f":"SA!FA33-SA!EZ33","v":-400},{"$f":"SA!FB33-SA!FA33","v":1800},{"$f":"SA!FC33-SA!FB33","v":-600},{"$f":"SA!FD33-SA!FC33","v":0},{"$f":"SA!FE33-SA!FD33","v":-500},{"$f":"SA!FF33-SA!FE33","v":-10200},{"$f":"SA!FG33-SA!FF33","v":10200},{"$f":"SA!FH33-SA!FG33","v":0},{"$f":"SA!FI33-SA!FH33","v":100},{"$f":"SA!FJ33-SA!FI33","v":-1900},{"$f":"SA!FK33-SA!FJ33","v":1300},{"$f":"SA!FL33-SA!FK33","v":1000},{"$f":"SA!FM33-SA!FL33","v":500},{"$f":"SA!FN33-SA!FM33","v":900},{"$f":"SA!FO33-SA!FN33","v":-200},{"$f":"SA!FP33-SA!FO33","v":200},{"$f":"SA!FQ33-SA!FP33","v":-600},{"$f":"SA!FR33-SA!FQ33","v":1800},{"$f":"SA!FS33-SA!FR33","v":-1400},{"$f":"SA!FT33-SA!FS33","v":-700},{"$f":"SA!FU33-SA!FT33","v":300},{"$f":"SA!FV33-SA!FU33","v":-400},{"$f":"SA!FW33-SA!FV33","v":100},{"$f":"SA!FX33-SA!FW33","v":400},{"$f":"SA!FY33-SA!FX33","v":500},{"$f":"SA!FZ33-SA!FY33","v":700},{"$f":"SA!GA33-SA!FZ33","v":-600},{"$f":"SA!GB33-SA!GA33","v":100},{"$f":"SA!GC33-SA!GB33","v":0},{"$f":"SA!GD33-SA!GC33","v":0},{"$f":"SA!GE33-SA!GD33","v":-100},{"$f":"SA!GF33-SA!GE33","v":-100},{"$f":"SA!GG33-SA!GF33","v":-200},{"$f":"SA!GH33-SA!GG33","v":-1300},{"$f":"SA!GI33-SA!GH33","v":-300},{"$f":"SA!GJ33-SA!GI33","v":-400},{"$f":"SA!GK33-SA!GJ33","v":-500},{"$f":"SA!GL33-SA!GK33","v":300},{"$f":"SA!GM33-SA!GL33","v":0},{"$f":"SA!GN33-SA!GM33","v":-300},{"$f":"SA!GO33-SA!GN33","v":400},{"$f":"SA!GP33-SA!GO33","v":-400},{"$f":"SA!GQ33-SA!GP33","v":-100},{"$f":"SA!GR33-SA!GQ33","v":100},{"$f":"SA!GS33-SA!GR33","v":-400},{"$f":"SA!GT33-SA!GS33","v":200},{"$f":"SA!GU33-SA!GT33","v":300},{"$f":"SA!GV33-SA!GU33","v":400},{"$f":"SA!GW33-SA!GV33","v":-900},{"$f":"SA!GX33-SA!GW33","v":-1900},{"$f":"SA!GY33-SA!GX33","v":3100},{"$f":"SA!GZ33-SA!GY33","v":1900},{"$f":"SA!HA33-SA!GZ33","v":1600},{"$f":"SA!HB33-SA!HA33","v":-3600},{"$f":"SA!HC33-SA!HB33","v":2600},{"$f":"SA!HD33-SA!HC33","v":-5000},{"$f":"SA!HE33-SA!HD33","v":5100},{"$f":"SA!HF33-SA!HE33","v":1500},{"$f":"SA!HG33-SA!HF33","v":-4500},{"$f":"SA!HH33-SA!HG33","v":700},{"$f":"SA!HI33-SA!HH33","v":-1400},{"$f":"SA!HJ33-SA!HI33","v":1600},{"$f":"SA!HK33-SA!HJ33","v":-97000},{"$f":"SA!HL33-SA!HK33","v":0},{"$f":"SA!HM33-SA!HL33","v":0},"n/a",0,null,"State Government",-10200,-1025,-500,-100,75,500,1300,10200,1939.2856914481567]
["Local Government",{"$f":"SA!BN34-SA!BM34","v":2900},{"$f":"SA!BO34-SA!BN34","v":2200},{"$f":"SA!BP34-SA!BO34","v":-1300},{"$f":"SA!BQ34-SA!BP34","v":700},{"$f":"SA!BR34-SA!BQ34","v":-500},{"$f":"SA!BS34-SA!BR34","v":-700},{"$f":"SA!BT34-SA!BS34","v":300},{"$f":"SA!BU34-SA!BT34","v":600},{"$f":"SA!BV34-SA!BU34","v":800},{"$f":"SA!BW34-SA!BV34","v":100},{"$f":"SA!BX34-SA!BW34","v":-1800},{"$f":"SA!BY34-SA!BX34","v":1300},{"$f":"SA!BZ34-SA!BY34","v":-1600},{"$f":"SA!CA34-SA!BZ34","v":100},{"$f":"SA!CB34-SA!CA34","v":1300},{"$f":"SA!CC34-SA!CB34","v":-100},{"$f":"SA!CD34-SA!CC34","v":-900},{"$f":"SA!CE34-SA!CD34","v":300},{"$f":"SA!CF34-SA!CE34","v":-700},{"$f":"SA!CG34-SA!CF34","v":0},{"$f":"SA!CH34-SA!CG34","v":400},{"$f":"SA!CI34-SA!CH34","v":-1500},{"$f":"SA!CJ34-SA!CI34","v":1500},{"$f":"SA!CK34-SA!CJ34","v":-1200},{"$f":"SA!CL34-SA!CK34","v":0},{"$f":"SA!CM34-SA!CL34","v":-1400},{"$f":"SA!CN34-SA!CM34","v":200},{"$f":"SA!CO34-SA!CN34","v":2200},{"$f":"SA!CP34-SA!CO34","v":0},{"$f":"SA!CQ34-SA!CP34","v":3800},{"$f":"SA!CR34-SA!CQ34","v":-2300},{"$f":"SA!CS34-SA!CR34","v":600},{"$f":"SA!CT34-SA!CS34","v":2600},{"$f":"SA!CU34-SA!CT34","v":-3900},{"$f":"SA!CV34-SA!CU34","v":-1600},{"$f":"SA!CW34-SA!CV34","v":2800},{"$f":"SA!CX34-SA!CW34","v":1400},{"$f":"SA!CY34-SA!CX34","v":-200},{"$f":"SA!CZ34-SA!CY34","v":-700},{"$f":"SA!DA34-SA!CZ34","v":-500},{"$f":"SA!DB34-SA!DA34","v":1500},{"$f":"SA!DC34-SA!DB34","v":100},{"$f":"SA!DD34-SA!DC34","v":1400},{"$f":"SA!DE34-SA!DD34","v":-1100},{"$f":"SA!DF34-SA!DE34","v":11400},{"$f":"SA!DG34-SA!DF34","v":-7900},{"$f":"SA!DH34-SA!DG34","v":4000},{"$f":"SA!DI34-SA!DH34","v":-3600},{"$f":"SA!DJ34-SA!DI34","v":-1500},{"$f":"SA!DK34-SA!DJ34","v":1200},{"$f":"SA!DL34-SA!DK34","v":-400},{"$f":"SA!DM34-SA!DL34","v":700},{"$f":"SA!DN34-SA!DM34","v":100},{"$f":"SA!DO34-SA!DN34","v":500},{"$f":"SA!DP34-SA!DO34","v":1000},{"$f":"SA!DQ34-SA!DP34","v":-2500},{"$f":"SA!DR34-SA!DQ34","v":100},{"$f":"SA!DS34-SA!DR34","v":2700},{"$f":"SA!DT34-SA!DS34","v":-2300},{"$f":"SA!DU34-SA!DT34","v":1000},{"$f":"SA!DV34-SA!DU34","v":500},{"$f":"SA!DW34-SA!DV34","v":-2500},{"$f":"SA!DX34-SA!DW34","v":700},{"$f":"SA!DY34-SA!DX34","v":-1300},{"$f":"SA!DZ34-SA!DY34","v":-400},{"$f":"SA!EA34-SA!DZ34","v":-600},{"$f":"SA!EB34-SA!EA34","v":-1700},{"$f":"SA!EC34-SA!EB34","v":100},{"$f":"SA!ED34-SA!EC34","v":2100},{"$f":"SA!EE34-SA!ED34","v":1300},{"$f":"SA!EF34-SA!EE34","v":1600},{"$f":"SA!EG34-SA!EF34","v":-3200},{"$f":"SA!EH34-SA!EG34","v":2300},{"$f":"SA!EI34-SA!EH34","v":1400},{"$f":"SA!EJ34-SA!EI34","v":-600},{"$f":"SA!EK34-SA!EJ34","v":-1500},{"$f":"SA!EL34-SA!EK34","v":-1400},{"$f":"SA!EM34-SA!EL34","v":-100},{"$f":"SA!EN34-SA!EM34","v":4500},{"$f":"SA!EO34-SA!EN34","v":300},{"$f":"SA!EP34-SA!EO34","v":-4500},{"$f":"SA!EQ34-SA!EP34","v":-4400},{"$f":"SA!ER34-SA!EQ34","v":-2300},{"$f":"SA!ES34-SA!ER34","v":3700},{"$f":"SA!ET34-SA!ES34","v":-200},{"$f":"SA!EU34-SA!ET34","v":-300},{"$f":"SA!EV34-SA!EU34","v":900},{"$f":"SA!EW34-SA!EV34","v":3000},{"$f":"SA!EX34-SA!EW34","v":3700},{"$f":"SA!EY34-SA!EX34","v":-3700},{"$f":"SA!EZ34-SA!EY34","v":-4200},{"$f":"SA!FA34-SA!EZ34","v":3300},{"$f":"SA!FB34-SA!FA34","v":-3700},{"$f":"SA!FC34-SA!FB34","v":1400},{"$f":"SA!FD34-SA!FC34","v":4600},{"$f":"SA!FE34-SA!FD34","v":-4300},{"$f":"SA!FF34-SA!FE34","v":-400},{"$f":"SA!FG34-SA!FF34","v":2000},{"$f":"SA!FH34-SA!FG34","v":-1900},{"$f":"SA!FI34-SA!FH34","v":-1700},{"$f":"SA!FJ34-SA!FI34","v":1300},{"$f":"SA!FK34-SA!FJ34","v":-1000},{"$f":"SA!FL34-SA!FK34","v":-100},{"$f":"SA!FM34-SA!FL34","v":-700},{"$f":"SA!FN34-SA!FM34","v":1600},{"$f":"SA!FO34-SA!FN34","v":-200},{"$f":"SA!FP34-SA!FO34","v":-2200},{"$f":"SA!FQ34-SA!FP34","v":1800},{"$f":"SA!FR34-SA!FQ34","v":-800},{"$f":"SA!FS34-SA!FR34","v":-1400},{"$f":"SA!FT34-SA!FS34","v":1900},{"$f":"SA!FU34-SA!FT34","v":400},{"$f":"SA!FV34-SA!FU34","v":-100},{"$f":"SA!FW34-SA!FV34","v":500},{"$f":"SA!FX34-SA!FW34","v":400},{"$f":"SA!FY34-SA!FX34","v":5100},{"$f":"SA!FZ34-SA!FY34","v":-5100},{"$f":"SA!GA34-SA!FZ34","v":-600},{"$f":"SA!GB34-SA!GA34","v":4400},{"$f":"SA!GC34-SA!GB34","v":-5400},{"$f":"SA!GD34-SA!GC34","v":-1100},{"$f":"SA!GE34-SA!GD34","v":1100},{"$f":"SA!GF34-SA!GE34","v":-400},{"$f":"SA!GG34-SA!GF34","v":0},{"$f":"SA!GH34-SA!GG34","v":300},{"$f":"SA!GI34-SA!GH34","v":300},{"$f":"SA!GJ34-SA!GI34","v":-600},{"$f":"SA!GK34-SA!GJ34","v":300},{"$f":"SA!GL34-SA!GK34","v":-100},{"$f":"SA!GM34-SA!GL34","v":-200},{"$f":"SA!GN34-SA!GM34","v":-3000},{"$f":"SA!GO34-SA!GN34","v":3500},{"$f":"SA!GP34-SA!GO34","v":1700},{"$f":"SA!GQ34-SA!GP34","v":0},{"$f":"SA!GR34-SA!GQ34","v":-400},{"$f":"SA!GS34-SA!GR34","v":1200},{"$f":"SA!GT34-SA!GS34","v":-3200},{"$f":"SA!GU34-SA!GT34","v":2000},{"$f":"SA!GV34-SA!GU34","v":2500},{"$f":"SA!GW34-SA!GV34","v":2600},{"$f":"SA!GX34-SA!GW34","v":-3400},{"$f":"SA!GY34-SA!GX34","v":3100},{"$f":"SA!GZ34-SA!GY34","v":3100},{"$f":"SA!HA34-SA!GZ34","v":-4000},{"$f":"SA!HB34-SA!HA34","v":-1700},{"$f":"SA!HC34-SA!HB34","v":500},{"$f":"SA!HD34-SA!HC34","v":500},{"$f":"SA!HE34-SA!HD34","v":2200},{"$f":"SA!HF34-SA!HE34","v":-2800},{"$f":"SA!HG34-SA!HF34","v":-2200},{"$f":"SA!HH34-SA!HG34","v":5500},{"$f":"SA!HI34-SA!HH34","v":-3000},{"$f":"SA!HJ34-SA!HI34","v":1000},{"$f":"SA!HK34-SA!HJ34","v":-289000},{"$f":"SA!HL34-SA!HK34","v":0},{"$f":"SA!HM34-SA!HL34","v":0},"n/a",0,null,"Local Government",-7900,-2225,-700,-100,275,1150,2225,11400,2394.6877293266557]
[]
[null,null,null,null,null,null,null,null,null,null,null,null,null,"Housing Market Prices Peaks",null,null,null,null,null,null,null,null,null,null,null,"Housing Market Price Declines Begin",null,null,null,null,"Peak","Decline",null,"Floods",null,null,null,null,null,null,null,null,"Floods",null,null,null,null,null,"GM Closes",null,null,null,null,null,null,null,null,null,null,null,null,null,null,null,null,null,null,null,null,null,null,null,null,"Act 10 Protests",null,null,null,null,"Act 10 Passes",null,null,"Education Cuts begin",null,null,null,null,null,null,null,null,"Severe Drought",null,null,null,null,null,null,null,null,null,null,null,"Flooding",null,null,null,null,null,"Severe Winter Weather/Late Spring"]
[null,null,null,null,null,null,null,null,null,null,null,null,null,null,null,null,null,null,null,null,null,null,null,null,null,null,null,null,null,null,null,null,null,null,null,null,null,null,null,null,null,null,null,null,null,null,"Great Recession",null,null,null,null,null,null,null,null,null,null,null,null,null,null,null,null,null,null,null,null,null,null,null,null,null,null,null,null,null,null,null,null,null,null,null,null,null,null,null,null,null,null,null,null,null,null,null,null,null,null,null,null,null,null,null,null,null,null,null,null,null,null,null,null,null,null,null,null,null,null,null,null,null,null,null,null,null,null,null,null,null,null,null,null,null,null,null,null,null,null,null,null,null,null,null,"Post Benchmark Re-estimates"]
["3 Month Change","2005-01-01","2005-02-01","2005-03-01","2005-04-01","2005-05-01","2005-06-01","2005-07-01","2005-08-01","2005-09-01","2005-10-01","2005-11-01","2005-12-01","2006-01-01","2006-02-01","2006-03-01","2006-04-01","2006-05-01","2006-06-01","2006-07-01","2006-08-01","2006-09-01","2006-10-01","2006-11-01","2006-12-01","2007-01-01","2007-02-01","2007-03-01","2007-04-01","2007-05-01","2007-06-01","2007-07-01","2007-08-01","2007-09-01","2007-10-01","2007-11-01","2007-12-01","2008-01-01","2008-02-01","2008-03-01","2008-04-01","2008-05-01","2008-06-01","2008-07-01","2008-08-01","2008-09-01","2008-10-01","2008-11-01","2008-12-01","2009-01-01","2009-02-01","2009-03-01","2009-04-01","2009-05-01","2009-06-01","2009-07-01","2009-08-01","2009-09-01","2009-10-01","2009-11-01","2009-12-01","2010-01-01","2010-02-01","2010-03-01","2010-04-01","2010-05-01","2010-06-01","2010-07-01","2010-08-01","2010-09-01","2010-10-01","2010-11-01","2010-12-01","2011-01-01","2011-02-01","2011-03-01","2011-04-01","2011-05-01","2011-06-01","2011-07-01","2011-08-01","2011-09-01","2011-10-01","2011-11-01","2011-12-01","2012-01-01","2012-02-01","2012-03-01","2012-04-01","2012-05-01","2012-06-01","2012-07-01","2012-08-01","2012-09-01","2012-10-01","2012-11-01","2012-12-01","2013-01-01","2013-02-01","2013-03-01","2013-04-01","2013-05-01","2013-06-01","2013-07-01","2013-08-01","2013-09-01","2013-10-01","2013-11-01","2013-12-01","2014-01-01","2014-02-01","2014-03-01","2014-04-01","2014-05-01","2014-06-01",{"$f":"EDATE(DK77,1)","v":"2014-07-01"},{"$f":"EDATE(DL77,1)","v":"2014-08-01"},"2014-09-01","2014-10-01","2014-11-01","2014-12-01","2015-01-01","2015-02-01","2015-03-01","2015-04-01","2015-05-01","2015-06-01","2015-07-01","2015-08-01","2015-09-01","2015-10-01","2015-11-01","2015-12-01","2016-01-01",{"$f":"EDATE(ED77,1)","v":"2016-02-01"},{"$f":"EDATE(EE77,1)","v":"2016-03-01"},{"$f":"EDATE(EF77,1)","v":"2016-04-01"},{"$f":"EDATE(EG77,1)","v":"2016-05-01"},{"$f":"EDATE(EH77,1)","v":"2016-06-01"},{"$f":"EDATE(EI77,1)","v":"2016-07-01"},{"$f":"EDATE(EJ77,1)","v":"2016-08-01"},{"$f":"EDATE(EK77,1)","v":"2016-09-01"},"2016-10-01","2016-11-01",{"$f":"EDATE(EN77,1)","v":"2016-12-01"},{"$f":"EDATE(EO77,1)","v":"2017-01-01"},{"$f":"EDATE(EP77,1)","v":"2017-02-01"},{"$f":"EDATE(EQ77,1)","v":"2017-03-01"},"2017-04-01","2017-05-01","2017-06-01","2017-07-01","2017-08-01","2017-09-01","2017-10-01","2017-11-01",{"$f":"EDATE(EZ77,1)","v":"2017-12-01"},"3mo Sig","# Positive Sig Changes since October 2016","12 mo Trend","3 Month Change","Min",0.15,0.3,0.45,0.55000000000000004,0.7,0.85,"Max","Std Deviation"]
["Total Non Farm",{"$f":"SA!BN2-SA!BK2","v":1000},{"$f":"SA!BO2-SA!BL2","v":6700},{"$f":"SA!BP2-SA!BM2","v":10300},{"$f":"SA!BQ2-SA!BN2","v":18000},{"$f":"SA!BR2-SA!BO2","v":6800},{"$f":"SA!BS2-SA!BP2","v":900},{"$f":"SA!BT2-SA!BQ2","v":1000},{"$f":"SA!BU2-SA!BR2","v":8200},{"$f":"SA!BV2-SA!BS2","v":17900},{"$f":"SA!BW2-SA!BT2","v":5700},{"$f":"SA!BX2-SA!BU2","v":5500},{"$f":"SA!BY2-SA!BV2","v":3700},{"$f":"SA!BZ2-SA!BW2","v":6400},{"$f":"SA!CA2-SA!BX2","v":7600},{"$f":"SA!CB2-SA!BY2","v":5500},{"$f":"SA!CC2-SA!BZ2","v":13000},{"$f":"SA!CD2-SA!CA2","v":2300},{"$f":"SA!CE2-SA!CB2","v":7600},{"$f":"SA!CF2-SA!CC2","v":-1300},{"$f":"SA!CG2-SA!CD2","v":5900},{"$f":"SA!CH2-SA!CE2","v":1400},{"$f":"SA!CI2-SA!CF2","v":1400},{"$f":"SA!CJ2-SA!CG2","v":1700},{"$f":"SA!CK2-SA!CH2","v":1200},{"$f":"SA!CL2-SA!CI2","v":8100},{"$f":"SA!CM2-SA!CJ2","v":6000},{"$f":"SA!CN2-SA!CK2","v":8000},{"$f":"SA!CO2-SA!CL2","v":2600},{"$f":"SA!CP2-SA!CM2","v":9800},{"$f":"SA!CQ2-SA!CN2","v":14100},{"$f":"SA!CR2-SA!CO2","v":8100},{"$f":"SA!CS2-SA!CP2","v":1500},{"$f":"SA!CT2-SA!CQ2","v":-8500},{"$f":"SA!CU2-SA!CR2","v":-8000},{"$f":"SA!CV2-SA!CS2","v":-7600},{"$f":"SA!CW2-SA!CT2","v":-1400},{"$f":"SA!CX2-SA!CU2","v":9600},{"$f":"SA!CY2-SA!CV2","v":9200},{"$f":"SA!CZ2-SA!CW2","v":1000},{"$f":"SA!DA2-SA!CX2","v":-8700},{"$f":"SA!DB2-SA!CY2","v":-4900},{"$f":"SA!DC2-SA!CZ2","v":-4100},{"$f":"SA!DD2-SA!DA2","v":-1800},{"$f":"SA!DE2-SA!DB2","v":-9200},{"$f":"SA!DF2-SA!DC2","v":-4700},{"$f":"SA!DG2-SA!DD2","v":-14300},{"$f":"SA!DH2-SA!DE2","v":-18500},{"$f":"SA!DI2-SA!DF2","v":-35100},{"$f":"SA!DJ2-SA!DG2","v":-49100},{"$f":"SA!DK2-SA!DH2","v":-57000},{"$f":"SA!DL2-SA!DI2","v":-63900},{"$f":"SA!DM2-SA!DJ2","v":-60900},{"$f":"SA!DN2-SA!DK2","v":-44200},{"$f":"SA!DO2-SA!DL2","v":-35600},{"$f":"SA!DP2-SA!DM2","v":-24400},{"$f":"SA!DQ2-SA!DN2","v":-31600},{"$f":"SA!DR2-SA!DO2","v":-20700},{"$f":"SA!DS2-SA!DP2","v":-8900},{"$f":"SA!DT2-SA!DQ2","v":-4700},{"$f":"SA!DU2-SA!DR2","v":-4100},{"$f":"SA!DV2-SA!DS2","v":-4500},{"$f":"SA!DW2-SA!DT2","v":-1700},{"$f":"SA!DX2-SA!DU2","v":1600},{"$f":"SA!DY2-SA!DV2","v":12300},{"$f":"SA!DZ2-SA!DW2","v":15200},{"$f":"SA!EA2-SA!DX2","v":11500},{"$f":"SA!EB2-SA!DY2","v":4500},{"$f":"SA!EC2-SA!DZ2","v":4600},{"$f":"SA!ED2-SA!EA2","v":4500},{"$f":"SA!EE2-SA!EB2","v":10600},{"$f":"SA!EF2-SA!EC2","v":9100},{"$f":"SA!EG2-SA!ED2","v":8400},{"$f":"SA!EH2-SA!EE2","v":3100},{"$f":"SA!EI2-SA!EF2","v":3700},{"$f":"SA!EJ2-SA!EG2","v":8700},{"$f":"SA!EK2-SA!EH2","v":8200},{"$f":"SA!EL2-SA!EI2","v":6700},{"$f":"SA!EM2-SA!EJ2","v":1400},{"$f":"SA!EN2-SA!EK2","v":11300},{"$f":"SA!EO2-SA!EL2","v":7300},{"$f":"SA!EP2-SA!EM2","v":12800},{"$f":"SA!EQ2-SA!EN2","v":-5100},{"$f":"SA!ER2-SA!EO2","v":-1100},{"$f":"SA!ES2-SA!EP2","v":2200},{"$f":"SA!ET2-SA!EQ2","v":2100},{"$f":"SA!EU2-SA!ER2","v":7800},{"$f":"SA!EV2-SA!ES2","v":16600},{"$f":"SA!EW2-SA!ET2","v":29100},{"$f":"SA!EX2-SA!EU2","v":20600},{"$f":"SA!EY2-SA!EV2","v":5600},{"$f":"SA!EZ2-SA!EW2","v":-12000},{"$f":"SA!FA2-SA!EX2","v":-4900},{"$f":"SA!FB2-SA!EY2","v":500},{"$f":"SA!FC2-SA!EZ2","v":14500},{"$f":"SA!FD2-SA!FA2","v":17500},{"$f":"SA!FE2-SA!FB2","v":9300},{"$f":"SA!FF2-SA!FC2","v":-4100},{"$f":"SA!FG2-SA!FD2","v":7300},{"$f":"SA!FH2-SA!FE2","v":11100},{"$f":"SA!FI2-SA!FF2","v":10900},{"$f":"SA!FJ2-SA!FG2","v":600},{"$f":"SA!FK2-SA!FH2","v":3300},{"$f":"SA!FL2-SA!FI2","v":11500},{"$f":"SA!FM2-SA!FJ2","v":10100},{"$f":"SA!FN2-SA!FK2","v":12400},{"$f":"SA!FO2-SA!FL2","v":13500},{"$f":"SA!FP2-SA!FM2","v":8900},{"$f":"SA!FQ2-SA!FN2","v":6000},{"$f":"SA!FR2-SA!FO2","v":10800},{"$f":"SA!FS2-SA!FP2","v":9300},{"$f":"SA!FT2-SA!FQ2","v":9900},{"$f":"SA!FU2-SA!FR2","v":11700},{"$f":"SA!FV2-SA!FS2","v":13000},{"$f":"SA!FW2-SA!FT2","v":16000},{"$f":"SA!FX2-SA!FU2","v":9000},{"$f":"SA!FY2-SA!FV2","v":18700},{"$f":"SA!FZ2-SA!FW2","v":10000},{"$f":"SA!GA2-SA!FX2","v":11500},{"$f":"SA!GB2-SA!FY2","v":11400},{"$f":"SA!GC2-SA!FZ2","v":7800},{"$f":"SA!GD2-SA!GA2","v":11300},{"$f":"SA!GE2-SA!GB2","v":2000},{"$f":"SA!GF2-SA!GC2","v":12100},{"$f":"SA!GG2-SA!GD2","v":8000},{"$f":"SA!GH2-SA!GE2","v":10300},{"$f":"SA!GI2-SA!GF2","v":8700},{"$f":"SA!GJ2-SA!GG2","v":10800},{"$f":"SA!GK2-SA!GH2","v":8500},{"$f":"SA!GL2-SA!GI2","v":5800},{"$f":"SA!GM2-SA!GJ2","v":7600},{"$f":"SA!GN2-SA!GK2","v":5000},{"$f":"SA!GO2-SA!GL2","v":11300},{"$f":"SA!GP2-SA!GM2","v":17100},{"$f":"SA!GQ2-SA!GN2","v":21000},{"$f":"SA!GR2-SA!GO2","v":15100},{"$f":"SA!GS2-SA!GP2","v":5900},{"$f":"SA!GT2-SA!GQ2","v":-5900},{"$f":"SA!GU2-SA!GR2","v":-6200},{"$f":"SA!GV2-SA!GS2","v":3900},{"$f":"SA!GW2-SA!GT2","v":12400},{"$f":"SA!GX2-SA!GU2","v":7000},{"$f":"SA!GY2-SA!GV2","v":1900},{"$f":"SA!GZ2-SA!GW2","v":4700},{"$f":"SA!HA2-SA!GX2","v":10500},{"$f":"SA!HB2-SA!GY2","v":9600},{"$f":"SA!HC2-SA!GZ2","v":17000},{"$f":"SA!HD2-SA!HA2","v":12800},{"$f":"SA!HE2-SA!HB2","v":20500},{"$f":"SA!HF2-SA!HC2","v":5700},{"$f":"SA!HG2-SA!HD2","v":4000},{"$f":"SA!HH2-SA!HE2","v":-3300},{"$f":"SA!HI2-SA!HF2","v":-6700},{"$f":"SA!HJ2-SA!HG2","v":7300},{"$f":"SA!HK2-SA!HH2","v":-2956900},{"$f":"SA!HL2-SA!HI2","v":-2949800},{"$f":"SA!HM2-SA!HJ2","v":-2958400},15435,{"$f":"COUNTIF(EM78:FA78, \">\" &FB78)","v":2},null,"Total Non Farm",{"$f":"MIN(B78:EO78)","v":-63900},{"$f":"_xlfn.PERCENTILE.EXC($B78:$EO78,0.15)","v":-5300},{"$f":"_xlfn.PERCENTILE.EXC($B78:$EO78,0.3)","v":1400},{"$f":"_xlfn.PERCENTILE.EXC($B78:$EO78,0.45)","v":5500},{"$f":"_xlfn.PERCENTILE.EXC($B78:$EO78,0.55)","v":7300},{"$f":"_xlfn.PERCENTILE.EXC($B78:$EO78,0.7)","v":9450},{"$f":"_xlfn.PERCENTILE.EXC($B78:$EO78,0.85)","v":12150},{"$f":"MAX(B78:EO78)","v":29100},{"$f":"STDEVP(B78:EO78)","v":14735.758043078973}]
["Total Private",{"$f":"SA!BN3-SA!BK3","v":-2100},{"$f":"SA!BO3-SA!BL3","v":5300},{"$f":"SA!BP3-SA!BM3","v":8000},{"$f":"SA!BQ3-SA!BN3","v":20100},{"$f":"SA!BR3-SA!BO3","v":8800},{"$f":"SA!BS3-SA!BP3","v":2300},{"$f":"SA!BT3-SA!BQ3","v":1400},{"$f":"SA!BU3-SA!BR3","v":8500},{"$f":"SA!BV3-SA!BS3","v":12300},{"$f":"SA!BW3-SA!BT3","v":3800},{"$f":"SA!BX3-SA!BU3","v":5300},{"$f":"SA!BY3-SA!BV3","v":5300},{"$f":"SA!BZ3-SA!BW3","v":6800},{"$f":"SA!CA3-SA!BX3","v":7100},{"$f":"SA!CB3-SA!BY3","v":6800},{"$f":"SA!CC3-SA!BZ3","v":13300},{"$f":"SA!CD3-SA!CA3","v":3100},{"$f":"SA!CE3-SA!CB3","v":6200},{"$f":"SA!CF3-SA!CC3","v":-1700},{"$f":"SA!CG3-SA!CD3","v":3800},{"$f":"SA!CH3-SA!CE3","v":200},{"$f":"SA!CI3-SA!CF3","v":2800},{"$f":"SA!CJ3-SA!CG3","v":2600},{"$f":"SA!CK3-SA!CH3","v":4800},{"$f":"SA!CL3-SA!CI3","v":8300},{"$f":"SA!CM3-SA!CJ3","v":8000},{"$f":"SA!CN3-SA!CK3","v":8700},{"$f":"SA!CO3-SA!CL3","v":1800},{"$f":"SA!CP3-SA!CM3","v":6900},{"$f":"SA!CQ3-SA!CN3","v":7400},{"$f":"SA!CR3-SA!CO3","v":6000},{"$f":"SA!CS3-SA!CP3","v":-1000},{"$f":"SA!CT3-SA!CQ3","v":-9200},{"$f":"SA!CU3-SA!CR3","v":-6700},{"$f":"SA!CV3-SA!CS3","v":-3200},{"$f":"SA!CW3-SA!CT3","v":2200},{"$f":"SA!CX3-SA!CU3","v":4700},{"$f":"SA!CY3-SA!CV3","v":3700},{"$f":"SA!CZ3-SA!CW3","v":200},{"$f":"SA!DA3-SA!CX3","v":-5100},{"$f":"SA!DB3-SA!CY3","v":-5400},{"$f":"SA!DC3-SA!CZ3","v":-5200},{"$f":"SA!DD3-SA!DA3","v":-6700},{"$f":"SA!DE3-SA!DB3","v":-9900},{"$f":"SA!DF3-SA!DC3","v":-16900},{"$f":"SA!DG3-SA!DD3","v":-17300},{"$f":"SA!DH3-SA!DE3","v":-26300},{"$f":"SA!DI3-SA!DF3","v":-28300},{"$f":"SA!DJ3-SA!DG3","v":-46900},{"$f":"SA!DK3-SA!DH3","v":-52000},{"$f":"SA!DL3-SA!DI3","v":-62000},{"$f":"SA!DM3-SA!DJ3","v":-60400},{"$f":"SA!DN3-SA!DK3","v":-44400},{"$f":"SA!DO3-SA!DL3","v":-33300},{"$f":"SA!DP3-SA!DM3","v":-23300},{"$f":"SA!DQ3-SA!DN3","v":-26600},{"$f":"SA!DR3-SA!DO3","v":-16900},{"$f":"SA!DS3-SA!DP3","v":-7600},{"$f":"SA!DT3-SA!DQ3","v":-4300},{"$f":"SA!DU3-SA!DR3","v":-7500},{"$f":"SA!DV3-SA!DS3","v":-3900},{"$f":"SA!DW3-SA!DT3","v":-700},{"$f":"SA!DX3-SA!DU3","v":3800},{"$f":"SA!DY3-SA!DV3","v":9900},{"$f":"SA!DZ3-SA!DW3","v":6800},{"$f":"SA!EA3-SA!DX3","v":6700},{"$f":"SA!EB3-SA!DY3","v":7000},{"$f":"SA!EC3-SA!DZ3","v":12900},{"$f":"SA!ED3-SA!EA3","v":9200},{"$f":"SA!EE3-SA!EB3","v":11000},{"$f":"SA!EF3-SA!EC3","v":6700},{"$f":"SA!EG3-SA!ED3","v":11800},{"$f":"SA!EH3-SA!EE3","v":4800},{"$f":"SA!EI3-SA!EF3","v":4900},{"$f":"SA!EJ3-SA!EG3","v":4800},{"$f":"SA!EK3-SA!EH3","v":9400},{"$f":"SA!EL3-SA!EI3","v":7800},{"$f":"SA!EM3-SA!EJ3","v":5500},{"$f":"SA!EN3-SA!EK3","v":8100},{"$f":"SA!EO3-SA!EL3","v":10800},{"$f":"SA!EP3-SA!EM3","v":15200},{"$f":"SA!EQ3-SA!EN3","v":5000},{"$f":"SA!ER3-SA!EO3","v":6400},{"$f":"SA!ES3-SA!EP3","v":3500},{"$f":"SA!ET3-SA!EQ3","v":9700},{"$f":"SA!EU3-SA!ER3","v":10100},{"$f":"SA!EV3-SA!ES3","v":16900},{"$f":"SA!EW3-SA!ET3","v":16400},{"$f":"SA!EX3-SA!EU3","v":6600},{"$f":"SA!EY3-SA!EV3","v":3600},{"$f":"SA!EZ3-SA!EW3","v":-7800},{"$f":"SA!FA3-SA!EX3","v":500},{"$f":"SA!FB3-SA!EY3","v":2300},{"$f":"SA!FC3-SA!EZ3","v":12700},{"$f":"SA!FD3-SA!FA3","v":14400},{"$f":"SA!FE3-SA!FB3","v":8800},{"$f":"SA!FF3-SA!FC3","v":7000},{"$f":"SA!FG3-SA!FD3","v":10300},{"$f":"SA!FH3-SA!FE3","v":11700},{"$f":"SA!FI3-SA!FF3","v":2300},{"$f":"SA!FJ3-SA!FG3","v":4900},{"$f":"SA!FK3-SA!FH3","v":5100},{"$f":"SA!FL3-SA!FI3","v":11000},{"$f":"SA!FM3-SA!FJ3","v":9400},{"$f":"SA!FN3-SA!FK3","v":9400},{"$f":"SA!FO3-SA!FL3","v":11700},{"$f":"SA!FP3-SA!FM3","v":8600},{"$f":"SA!FQ3-SA!FN3","v":7200},{"$f":"SA!FR3-SA!FO3","v":10500},{"$f":"SA!FS3-SA!FP3","v":9900},{"$f":"SA!FT3-SA!FQ3","v":10400},{"$f":"SA!FU3-SA!FR3","v":12700},{"$f":"SA!FV3-SA!FS3","v":11600},{"$f":"SA!FW3-SA!FT3","v":15200},{"$f":"SA!FX3-SA!FU3","v":8000},{"$f":"SA!FY3-SA!FV3","v":11700},{"$f":"SA!FZ3-SA!FW3","v":8000},{"$f":"SA!GA3-SA!FX3","v":11500},{"$f":"SA!GB3-SA!FY3","v":12400},{"$f":"SA!GC3-SA!FZ3","v":9600},{"$f":"SA!GD3-SA!GA3","v":13200},{"$f":"SA!GE3-SA!GB3","v":7500},{"$f":"SA!GF3-SA!GC3","v":12900},{"$f":"SA!GG3-SA!GD3","v":7600},{"$f":"SA!GH3-SA!GE3","v":11900},{"$f":"SA!GI3-SA!GF3","v":9600},{"$f":"SA!GJ3-SA!GG3","v":12600},{"$f":"SA!GK3-SA!GH3","v":9700},{"$f":"SA!GL3-SA!GI3","v":7100},{"$f":"SA!GM3-SA!GJ3","v":8100},{"$f":"SA!GN3-SA!GK3","v":8300},{"$f":"SA!GO3-SA!GL3","v":10500},{"$f":"SA!GP3-SA!GM3","v":15000},{"$f":"SA!GQ3-SA!GN3","v":15800},{"$f":"SA!GR3-SA!GO3","v":14300},{"$f":"SA!GS3-SA!GP3","v":5500},{"$f":"SA!GT3-SA!GQ3","v":-3400},{"$f":"SA!GU3-SA!GR3","v":-6300},{"$f":"SA!GV3-SA!GS3","v":1600},{"$f":"SA!GW3-SA!GT3","v":5300},{"$f":"SA!GX3-SA!GU3","v":7500},{"$f":"SA!GY3-SA!GV3","v":-900},{"$f":"SA!GZ3-SA!GW3","v":-1200},{"$f":"SA!HA3-SA!GX3","v":1700},{"$f":"SA!HB3-SA!GY3","v":12000},{"$f":"SA!HC3-SA!GZ3","v":21500},{"$f":"SA!HD3-SA!HA3","v":19500},{"$f":"SA!HE3-SA!HB3","v":15100},{"$f":"SA!HF3-SA!HC3","v":4200},{"$f":"SA!HG3-SA!HD3","v":4700},{"$f":"SA!HH3-SA!HE3","v":-1800},{"$f":"SA!HI3-SA!HF3","v":-1700},{"$f":"SA!HJ3-SA!HG3","v":2900},{"$f":"SA!HK3-SA!HH3","v":-2539800},{"$f":"SA!HL3-SA!HI3","v":-2537300},{"$f":"SA!HM3-SA!HJ3","v":-2543200},15129,2,null,"Total Private",-62000,-5625,2300,5300,7000,9000,11700,20100,13915.505589594768]
["Goods Producing",{"$f":"SA!BN4-SA!BK4","v":-3400},{"$f":"SA!BO4-SA!BL4","v":700},{"$f":"SA!BP4-SA!BM4","v":-200},{"$f":"SA!BQ4-SA!BN4","v":5100},{"$f":"SA!BR4-SA!BO4","v":-400},{"$f":"SA!BS4-SA!BP4","v":-700},{"$f":"SA!BT4-SA!BQ4","v":600},{"$f":"SA!BU4-SA!BR4","v":1000},{"$f":"SA!BV4-SA!BS4","v":500},{"$f":"SA!BW4-SA!BT4","v":-1700},{"$f":"SA!BX4-SA!BU4","v":-1100},{"$f":"SA!BY4-SA!BV4","v":-900},{"$f":"SA!BZ4-SA!BW4","v":2500},{"$f":"SA!CA4-SA!BX4","v":2700},{"$f":"SA!CB4-SA!BY4","v":3200},{"$f":"SA!CC4-SA!BZ4","v":2200},{"$f":"SA!CD4-SA!CA4","v":-600},{"$f":"SA!CE4-SA!CB4","v":1300},{"$f":"SA!CF4-SA!CC4","v":-2300},{"$f":"SA!CG4-SA!CD4","v":-700},{"$f":"SA!CH4-SA!CE4","v":-4000},{"$f":"SA!CI4-SA!CF4","v":-4100},{"$f":"SA!CJ4-SA!CG4","v":-5700},{"$f":"SA!CK4-SA!CH4","v":-3000},{"$f":"SA!CL4-SA!CI4","v":-700},{"$f":"SA!CM4-SA!CJ4","v":-100},{"$f":"SA!CN4-SA!CK4","v":500},{"$f":"SA!CO4-SA!CL4","v":-1100},{"$f":"SA!CP4-SA!CM4","v":1900},{"$f":"SA!CQ4-SA!CN4","v":0},{"$f":"SA!CR4-SA!CO4","v":0},{"$f":"SA!CS4-SA!CP4","v":-3000},{"$f":"SA!CT4-SA!CQ4","v":-5400},{"$f":"SA!CU4-SA!CR4","v":-5200},{"$f":"SA!CV4-SA!CS4","v":-3700},{"$f":"SA!CW4-SA!CT4","v":-2300},{"$f":"SA!CX4-SA!CU4","v":-1600},{"$f":"SA!CY4-SA!CV4","v":-1300},{"$f":"SA!CZ4-SA!CW4","v":-1100},{"$f":"SA!DA4-SA!CX4","v":-4100},{"$f":"SA!DB4-SA!CY4","v":-4900},{"$f":"SA!DC4-SA!CZ4","v":-4300},{"$f":"SA!DD4-SA!DA4","v":-6000},{"$f":"SA!DE4-SA!DB4","v":-8300},{"$f":"SA!DF4-SA!DC4","v":-12000},{"$f":"SA!DG4-SA!DD4","v":-10100},{"$f":"SA!DH4-SA!DE4","v":-12600},{"$f":"SA!DI4-SA!DF4","v":-15400},{"$f":"SA!DJ4-SA!DG4","v":-24400},{"$f":"SA!DK4-SA!DH4","v":-29800},{"$f":"SA!DL4-SA!DI4","v":-34200},{"$f":"SA!DM4-SA!DJ4","v":-34800},{"$f":"SA!DN4-SA!DK4","v":-29400},{"$f":"SA!DO4-SA!DL4","v":-24900},{"$f":"SA!DP4-SA!DM4","v":-18000},{"$f":"SA!DQ4-SA!DN4","v":-14400},{"$f":"SA!DR4-SA!DO4","v":-4200},{"$f":"SA!DS4-SA!DP4","v":-1400},{"$f":"SA!DT4-SA!DQ4","v":-700},{"$f":"SA!DU4-SA!DR4","v":-5300},{"$f":"SA!DV4-SA!DS4","v":-4000},{"$f":"SA!DW4-SA!DT4","v":-2300},{"$f":"SA!DX4-SA!DU4","v":200},{"$f":"SA!DY4-SA!DV4","v":4600},{"$f":"SA!DZ4-SA!DW4","v":3400},{"$f":"SA!EA4-SA!DX4","v":2800},{"$f":"SA!EB4-SA!DY4","v":1500},{"$f":"SA!EC4-SA!DZ4","v":3400},{"$f":"SA!ED4-SA!EA4","v":3200},{"$f":"SA!EE4-SA!EB4","v":2400},{"$f":"SA!EF4-SA!EC4","v":1300},{"$f":"SA!EG4-SA!ED4","v":1500},{"$f":"SA!EH4-SA!EE4","v":1800},{"$f":"SA!EI4-SA!EF4","v":3500},{"$f":"SA!EJ4-SA!EG4","v":4100},{"$f":"SA!EK4-SA!EH4","v":6000},{"$f":"SA!EL4-SA!EI4","v":5500},{"$f":"SA!EM4-SA!EJ4","v":4200},{"$f":"SA!EN4-SA!EK4","v":3700},{"$f":"SA!EO4-SA!EL4","v":3400},{"$f":"SA!EP4-SA!EM4","v":3600},{"$f":"SA!EQ4-SA!EN4","v":300},{"$f":"SA!ER4-SA!EO4","v":1000},{"$f":"SA!ES4-SA!EP4","v":2100},{"$f":"SA!ET4-SA!EQ4","v":4400},{"$f":"SA!EU4-SA!ER4","v":4500},{"$f":"SA!EV4-SA!ES4","v":5400},{"$f":"SA!EW4-SA!ET4","v":7100},{"$f":"SA!EX4-SA!EU4","v":2000},{"$f":"SA!EY4-SA!EV4","v":1300},{"$f":"SA!EZ4-SA!EW4","v":-2100},{"$f":"SA!FA4-SA!EX4","v":900},{"$f":"SA!FB4-SA!EY4","v":400},{"$f":"SA!FC4-SA!EZ4","v":2200},{"$f":"SA!FD4-SA!FA4","v":2200},{"$f":"SA!FE4-SA!FB4","v":3800},{"$f":"SA!FF4-SA!FC4","v":2800},{"$f":"SA!FG4-SA!FD4","v":4900},{"$f":"SA!FH4-SA!FE4","v":1800},{"$f":"SA!FI4-SA!FF4","v":-2500},{"$f":"SA!FJ4-SA!FG4","v":-600},{"$f":"SA!FK4-SA!FH4","v":400},{"$f":"SA!FL4-SA!FI4","v":3300},{"$f":"SA!FM4-SA!FJ4","v":1300},{"$f":"SA!FN4-SA!FK4","v":1700},{"$f":"SA!FO4-SA!FL4","v":3900},{"$f":"SA!FP4-SA!FM4","v":3300},{"$f":"SA!FQ4-SA!FN4","v":1400},{"$f":"SA!FR4-SA!FO4","v":2300},{"$f":"SA!FS4-SA!FP4","v":2500},{"$f":"SA!FT4-SA!FQ4","v":4400},{"$f":"SA!FU4-SA!FR4","v":3900},{"$f":"SA!FV4-SA!FS4","v":4800},{"$f":"SA!FW4-SA!FT4","v":5200},{"$f":"SA!FX4-SA!FU4","v":5400},{"$f":"SA!FY4-SA!FV4","v":4500},{"$f":"SA!FZ4-SA!FW4","v":4400},{"$f":"SA!GA4-SA!FX4","v":3000},{"$f":"SA!GB4-SA!FY4","v":2700},{"$f":"SA!GC4-SA!FZ4","v":2400},{"$f":"SA!GD4-SA!GA4","v":2900},{"$f":"SA!GE4-SA!GB4","v":3100},{"$f":"SA!GF4-SA!GC4","v":2000},{"$f":"SA!GG4-SA!GD4","v":1200},{"$f":"SA!GH4-SA!GE4","v":400},{"$f":"SA!GI4-SA!GF4","v":500},{"$f":"SA!GJ4-SA!GG4","v":100},{"$f":"SA!GK4-SA!GH4","v":-900},{"$f":"SA!GL4-SA!GI4","v":-1100},{"$f":"SA!GM4-SA!GJ4","v":-1100},{"$f":"SA!GN4-SA!GK4","v":200},{"$f":"SA!GO4-SA!GL4","v":1400},{"$f":"SA!GP4-SA!GM4","v":1700},{"$f":"SA!GQ4-SA!GN4","v":1300},{"$f":"SA!GR4-SA!GO4","v":1300},{"$f":"SA!GS4-SA!GP4","v":-100},{"$f":"SA!GT4-SA!GQ4","v":-1800},{"$f":"SA!GU4-SA!GR4","v":-3800},{"$f":"SA!GV4-SA!GS4","v":-2500},{"$f":"SA!GW4-SA!GT4","v":-1000},{"$f":"SA!GX4-SA!GU4","v":-100},{"$f":"SA!GY4-SA!GV4","v":2300},{"$f":"SA!GZ4-SA!GW4","v":1800},{"$f":"SA!HA4-SA!GX4","v":5900},{"$f":"SA!HB4-SA!GY4","v":5100},{"$f":"SA!HC4-SA!GZ4","v":5900},{"$f":"SA!HD4-SA!HA4","v":1000},{"$f":"SA!HE4-SA!HB4","v":4900},{"$f":"SA!HF4-SA!HC4","v":3800},{"$f":"SA!HG4-SA!HD4","v":2700},{"$f":"SA!HH4-SA!HE4","v":-500},{"$f":"SA!HI4-SA!HF4","v":200},{"$f":"SA!HJ4-SA!HG4","v":4700},{"$f":"SA!HK4-SA!HH4","v":-591000},{"$f":"SA!HL4-SA!HI4","v":-590900},{"$f":"SA!HM4-SA!HJ4","v":-593300},6435,0,null,"Goods Producing",-34800,-4125,-1100,225,1300,2300,3725,7100,7260.5762775377852]
["Service-Providing",{"$f":"SA!BN5-SA!BK5","v":4400},{"$f":"SA!BO5-SA!BL5","v":6000},{"$f":"SA!BP5-SA!BM5","v":10500},{"$f":"SA!BQ5-SA!BN5","v":12900},{"$f":"SA!BR5-SA!BO5","v":7200},{"$f":"SA!BS5-SA!BP5","v":1600},{"$f":"SA!BT5-SA!BQ5","v":400},{"$f":"SA!BU5-SA!BR5","v":7200},{"$f":"SA!BV5-SA!BS5","v":17400},{"$f":"SA!BW5-SA!BT5","v":7400},{"$f":"SA!BX5-SA!BU5","v":6600},{"$f":"SA!BY5-SA!BV5","v":4600},{"$f":"SA!BZ5-SA!BW5","v":3900},{"$f":"SA!CA5-SA!BX5","v":4900},{"$f":"SA!CB5-SA!BY5","v":2300},{"$f":"SA!CC5-SA!BZ5","v":10800},{"$f":"SA!CD5-SA!CA5","v":2900},{"$f":"SA!CE5-SA!CB5","v":6300},{"$f":"SA!CF5-SA!CC5","v":1000},{"$f":"SA!CG5-SA!CD5","v":6600},{"$f":"SA!CH5-SA!CE5","v":5400},{"$f":"SA!CI5-SA!CF5","v":5500},{"$f":"SA!CJ5-SA!CG5","v":7400},{"$f":"SA!CK5-SA!CH5","v":4200},{"$f":"SA!CL5-SA!CI5","v":8800},{"$f":"SA!CM5-SA!CJ5","v":6100},{"$f":"SA!CN5-SA!CK5","v":7500},{"$f":"SA!CO5-SA!CL5","v":3700},{"$f":"SA!CP5-SA!CM5","v":7900},{"$f":"SA!CQ5-SA!CN5","v":14100},{"$f":"SA!CR5-SA!CO5","v":8100},{"$f":"SA!CS5-SA!CP5","v":4500},{"$f":"SA!CT5-SA!CQ5","v":-3100},{"$f":"SA!CU5-SA!CR5","v":-2800},{"$f":"SA!CV5-SA!CS5","v":-3900},{"$f":"SA!CW5-SA!CT5","v":900},{"$f":"SA!CX5-SA!CU5","v":11200},{"$f":"SA!CY5-SA!CV5","v":10500},{"$f":"SA!CZ5-SA!CW5","v":2100},{"$f":"SA!DA5-SA!CX5","v":-4600},{"$f":"SA!DB5-SA!CY5","v":0},{"$f":"SA!DC5-SA!CZ5","v":200},{"$f":"SA!DD5-SA!DA5","v":4200},{"$f":"SA!DE5-SA!DB5","v":-900},{"$f":"SA!DF5-SA!DC5","v":7300},{"$f":"SA!DG5-SA!DD5","v":-4200},{"$f":"SA!DH5-SA!DE5","v":-5900},{"$f":"SA!DI5-SA!DF5","v":-19700},{"$f":"SA!DJ5-SA!DG5","v":-24700},{"$f":"SA!DK5-SA!DH5","v":-27200},{"$f":"SA!DL5-SA!DI5","v":-29700},{"$f":"SA!DM5-SA!DJ5","v":-26100},{"$f":"SA!DN5-SA!DK5","v":-14800},{"$f":"SA!DO5-SA!DL5","v":-10700},{"$f":"SA!DP5-SA!DM5","v":-6400},{"$f":"SA!DQ5-SA!DN5","v":-17200},{"$f":"SA!DR5-SA!DO5","v":-16500},{"$f":"SA!DS5-SA!DP5","v":-7500},{"$f":"SA!DT5-SA!DQ5","v":-4000},{"$f":"SA!DU5-SA!DR5","v":1200},{"$f":"SA!DV5-SA!DS5","v":-500},{"$f":"SA!DW5-SA!DT5","v":600},{"$f":"SA!DX5-SA!DU5","v":1400},{"$f":"SA!DY5-SA!DV5","v":7700},{"$f":"SA!DZ5-SA!DW5","v":11800},{"$f":"SA!EA5-SA!DX5","v":8700},{"$f":"SA!EB5-SA!DY5","v":3000},{"$f":"SA!EC5-SA!DZ5","v":1200},{"$f":"SA!ED5-SA!EA5","v":1300},{"$f":"SA!EE5-SA!EB5","v":8200},{"$f":"SA!EF5-SA!EC5","v":7800},{"$f":"SA!EG5-SA!ED5","v":6900},{"$f":"SA!EH5-SA!EE5","v":1300},{"$f":"SA!EI5-SA!EF5","v":200},{"$f":"SA!EJ5-SA!EG5","v":4600},{"$f":"SA!EK5-SA!EH5","v":2200},{"$f":"SA!EL5-SA!EI5","v":1200},{"$f":"SA!EM5-SA!EJ5","v":-2800},{"$f":"SA!EN5-SA!EK5","v":7600},{"$f":"SA!EO5-SA!EL5","v":3900},{"$f":"SA!EP5-SA!EM5","v":9200},{"$f":"SA!EQ5-SA!EN5","v":-5400},{"$f":"SA!ER5-SA!EO5","v":-2100},{"$f":"SA!ES5-SA!EP5","v":100},{"$f":"SA!ET5-SA!EQ5","v":-2300},{"$f":"SA!EU5-SA!ER5","v":3300},{"$f":"SA!EV5-SA!ES5","v":11200},{"$f":"SA!EW5-SA!ET5","v":22000},{"$f":"SA!EX5-SA!EU5","v":18600},{"$f":"SA!EY5-SA!EV5","v":4300},{"$f":"SA!EZ5-SA!EW5","v":-9900},{"$f":"SA!FA5-SA!EX5","v":-5800},{"$f":"SA!FB5-SA!EY5","v":100},{"$f":"SA!FC5-SA!EZ5","v":12300},{"$f":"SA!FD5-SA!FA5","v":15300},{"$f":"SA!FE5-SA!FB5","v":5500},{"$f":"SA!FF5-SA!FC5","v":-6900},{"$f":"SA!FG5-SA!FD5","v":2400},{"$f":"SA!FH5-SA!FE5","v":9300},{"$f":"SA!FI5-SA!FF5","v":13400},{"$f":"SA!FJ5-SA!FG5","v":1200},{"$f":"SA!FK5-SA!FH5","v":2900},{"$f":"SA!FL5-SA!FI5","v":8200},{"$f":"SA!FM5-SA!FJ5","v":8800},{"$f":"SA!FN5-SA!FK5","v":10700},{"$f":"SA!FO5-SA!FL5","v":9600},{"$f":"SA!FP5-SA!FM5","v":5600},{"$f":"SA!FQ5-SA!FN5","v":4600},{"$f":"SA!FR5-SA!FO5","v":8500},{"$f":"SA!FS5-SA!FP5","v":6800},{"$f":"SA!FT5-SA!FQ5","v":5500},{"$f":"SA!FU5-SA!FR5","v":7800},{"$f":"SA!FV5-SA!FS5","v":8200},{"$f":"SA!FW5-SA!FT5","v":10800},{"$f":"SA!FX5-SA!FU5","v":3600},{"$f":"SA!FY5-SA!FV5","v":14200},{"$f":"SA!FZ5-SA!FW5","v":5600},{"$f":"SA!GA5-SA!FX5","v":8500},{"$f":"SA!GB5-SA!FY5","v":8700},{"$f":"SA!GC5-SA!FZ5","v":5400},{"$f":"SA!GD5-SA!GA5","v":8400},{"$f":"SA!GE5-SA!GB5","v":-1100},{"$f":"SA!GF5-SA!GC5","v":10100},{"$f":"SA!GG5-SA!GD5","v":6800},{"$f":"SA!GH5-SA!GE5","v":9900},{"$f":"SA!GI5-SA!GF5","v":8200},{"$f":"SA!GJ5-SA!GG5","v":10700},{"$f":"SA!GK5-SA!GH5","v":9400},{"$f":"SA!GL5-SA!GI5","v":6900},{"$f":"SA!GM5-SA!GJ5","v":8700},{"$f":"SA!GN5-SA!GK5","v":4800},{"$f":"SA!GO5-SA!GL5","v":9900},{"$f":"SA!GP5-SA!GM5","v":15400},{"$f":"SA!GQ5-SA!GN5","v":19700},{"$f":"SA!GR5-SA!GO5","v":13800},{"$f":"SA!GS5-SA!GP5","v":6000},{"$f":"SA!GT5-SA!GQ5","v":-4100},{"$f":"SA!GU5-SA!GR5","v":-2400},{"$f":"SA!GV5-SA!GS5","v":6400},{"$f":"SA!GW5-SA!GT5","v":13400},{"$f":"SA!GX5-SA!GU5","v":7100},{"$f":"SA!GY5-SA!GV5","v":-400},{"$f":"SA!GZ5-SA!GW5","v":2900},{"$f":"SA!HA5-SA!GX5","v":4600},{"$f":"SA!HB5-SA!GY5","v":4500},{"$f":"SA!HC5-SA!GZ5","v":11100},{"$f":"SA!HD5-SA!HA5","v":11800},{"$f":"SA!HE5-SA!HB5","v":15600},{"$f":"SA!HF5-SA!HC5","v":1900},{"$f":"SA!HG5-SA!HD5","v":1300},{"$f":"SA!HH5-SA!HE5","v":-2800},{"$f":"SA!HI5-SA!HF5","v":-6900},{"$f":"SA!HJ5-SA!HG5","v":2600},{"$f":"SA!HK5-SA!HH5","v":-2365900},{"$f":"SA!HL5-SA!HI5","v":-2358900},{"$f":"SA!HM5-SA!HJ5","v":-2365100},"n/a",0,null,"Service-Providing",-29700,-3300,1200,4425,5900,7850,10500,22000,8545.8881844493553]
["Private Service Providing",{"$f":"SA!BN6-SA!BK6","v":1300},{"$f":"SA!BO6-SA!BL6","v":4600},{"$f":"SA!BP6-SA!BM6","v":8200},{"$f":"SA!BQ6-SA!BN6","v":15000},{"$f":"SA!BR6-SA!BO6","v":9200},{"$f":"SA!BS6-SA!BP6","v":3000},{"$f":"SA!BT6-SA!BQ6","v":800},{"$f":"SA!BU6-SA!BR6","v":7500},{"$f":"SA!BV6-SA!BS6","v":11800},{"$f":"SA!BW6-SA!BT6","v":5500},{"$f":"SA!BX6-SA!BU6","v":6400},{"$f":"SA!BY6-SA!BV6","v":6200},{"$f":"SA!BZ6-SA!BW6","v":4300},{"$f":"SA!CA6-SA!BX6","v":4400},{"$f":"SA!CB6-SA!BY6","v":3600},{"$f":"SA!CC6-SA!BZ6","v":11100},{"$f":"SA!CD6-SA!CA6","v":3700},{"$f":"SA!CE6-SA!CB6","v":4900},{"$f":"SA!CF6-SA!CC6","v":600},{"$f":"SA!CG6-SA!CD6","v":4500},{"$f":"SA!CH6-SA!CE6","v":4200},{"$f":"SA!CI6-SA!CF6","v":6900},{"$f":"SA!CJ6-SA!CG6","v":8300},{"$f":"SA!CK6-SA!CH6","v":7800},{"$f":"SA!CL6-SA!CI6","v":9000},{"$f":"SA!CM6-SA!CJ6","v":8100},{"$f":"SA!CN6-SA!CK6","v":8200},{"$f":"SA!CO6-SA!CL6","v":2900},{"$f":"SA!CP6-SA!CM6","v":5000},{"$f":"SA!CQ6-SA!CN6","v":7400},{"$f":"SA!CR6-SA!CO6","v":6000},{"$f":"SA!CS6-SA!CP6","v":2000},{"$f":"SA!CT6-SA!CQ6","v":-3800},{"$f":"SA!CU6-SA!CR6","v":-1500},{"$f":"SA!CV6-SA!CS6","v":500},{"$f":"SA!CW6-SA!CT6","v":4500},{"$f":"SA!CX6-SA!CU6","v":6300},{"$f":"SA!CY6-SA!CV6","v":5000},{"$f":"SA!CZ6-SA!CW6","v":1300},{"$f":"SA!DA6-SA!CX6","v":-1000},{"$f":"SA!DB6-SA!CY6","v":-500},{"$f":"SA!DC6-SA!CZ6","v":-900},{"$f":"SA!DD6-SA!DA6","v":-700},{"$f":"SA!DE6-SA!DB6","v":-1600},{"$f":"SA!DF6-SA!DC6","v":-4900},{"$f":"SA!DG6-SA!DD6","v":-7200},{"$f":"SA!DH6-SA!DE6","v":-13700},{"$f":"SA!DI6-SA!DF6","v":-12900},{"$f":"SA!DJ6-SA!DG6","v":-22500},{"$f":"SA!DK6-SA!DH6","v":-22200},{"$f":"SA!DL6-SA!DI6","v":-27800},{"$f":"SA!DM6-SA!DJ6","v":-25600},{"$f":"SA!DN6-SA!DK6","v":-15000},{"$f":"SA!DO6-SA!DL6","v":-8400},{"$f":"SA!DP6-SA!DM6","v":-5300},{"$f":"SA!DQ6-SA!DN6","v":-12200},{"$f":"SA!DR6-SA!DO6","v":-12700},{"$f":"SA!DS6-SA!DP6","v":-6200},{"$f":"SA!DT6-SA!DQ6","v":-3600},{"$f":"SA!DU6-SA!DR6","v":-2200},{"$f":"SA!DV6-SA!DS6","v":100},{"$f":"SA!DW6-SA!DT6","v":1600},{"$f":"SA!DX6-SA!DU6","v":3600},{"$f":"SA!DY6-SA!DV6","v":5300},{"$f":"SA!DZ6-SA!DW6","v":3400},{"$f":"SA!EA6-SA!DX6","v":3900},{"$f":"SA!EB6-SA!DY6","v":5500},{"$f":"SA!EC6-SA!DZ6","v":9500},{"$f":"SA!ED6-SA!EA6","v":6000},{"$f":"SA!EE6-SA!EB6","v":8600},{"$f":"SA!EF6-SA!EC6","v":5400},{"$f":"SA!EG6-SA!ED6","v":10300},{"$f":"SA!EH6-SA!EE6","v":3000},{"$f":"SA!EI6-SA!EF6","v":1400},{"$f":"SA!EJ6-SA!EG6","v":700},{"$f":"SA!EK6-SA!EH6","v":3400},{"$f":"SA!EL6-SA!EI6","v":2300},{"$f":"SA!EM6-SA!EJ6","v":1300},{"$f":"SA!EN6-SA!EK6","v":4400},{"$f":"SA!EO6-SA!EL6","v":7400},{"$f":"SA!EP6-SA!EM6","v":11600},{"$f":"SA!EQ6-SA!EN6","v":4700},{"$f":"SA!ER6-SA!EO6","v":5400},{"$f":"SA!ES6-SA!EP6","v":1400},{"$f":"SA!ET6-SA!EQ6","v":5300},{"$f":"SA!EU6-SA!ER6","v":5600},{"$f":"SA!EV6-SA!ES6","v":11500},{"$f":"SA!EW6-SA!ET6","v":9300},{"$f":"SA!EX6-SA!EU6","v":4600},{"$f":"SA!EY6-SA!EV6","v":2300},{"$f":"SA!EZ6-SA!EW6","v":-5700},{"$f":"SA!FA6-SA!EX6","v":-400},{"$f":"SA!FB6-SA!EY6","v":1900},{"$f":"SA!FC6-SA!EZ6","v":10500},{"$f":"SA!FD6-SA!FA6","v":12200},{"$f":"SA!FE6-SA!FB6","v":5000},{"$f":"SA!FF6-SA!FC6","v":4200},{"$f":"SA!FG6-SA!FD6","v":5400},{"$f":"SA!FH6-SA!FE6","v":9900},{"$f":"SA!FI6-SA!FF6","v":4800},{"$f":"SA!FJ6-SA!FG6","v":5500},{"$f":"SA!FK6-SA!FH6","v":4700},{"$f":"SA!FL6-SA!FI6","v":7700},{"$f":"SA!FM6-SA!FJ6","v":8100},{"$f":"SA!FN6-SA!FK6","v":7700},{"$f":"SA!FO6-SA!FL6","v":7800},{"$f":"SA!FP6-SA!FM6","v":5300},{"$f":"SA!FQ6-SA!FN6","v":5800},{"$f":"SA!FR6-SA!FO6","v":8200},{"$f":"SA!FS6-SA!FP6","v":7400},{"$f":"SA!FT6-SA!FQ6","v":6000},{"$f":"SA!FU6-SA!FR6","v":8800},{"$f":"SA!FV6-SA!FS6","v":6800},{"$f":"SA!FW6-SA!FT6","v":10000},{"$f":"SA!FX6-SA!FU6","v":2600},{"$f":"SA!FY6-SA!FV6","v":7200},{"$f":"SA!FZ6-SA!FW6","v":3600},{"$f":"SA!GA6-SA!FX6","v":8500},{"$f":"SA!GB6-SA!FY6","v":9700},{"$f":"SA!GC6-SA!FZ6","v":7200},{"$f":"SA!GD6-SA!GA6","v":10300},{"$f":"SA!GE6-SA!GB6","v":4400},{"$f":"SA!GF6-SA!GC6","v":10900},{"$f":"SA!GG6-SA!GD6","v":6400},{"$f":"SA!GH6-SA!GE6","v":11500},{"$f":"SA!GI6-SA!GF6","v":9100},{"$f":"SA!GJ6-SA!GG6","v":12500},{"$f":"SA!GK6-SA!GH6","v":10600},{"$f":"SA!GL6-SA!GI6","v":8200},{"$f":"SA!GM6-SA!GJ6","v":9200},{"$f":"SA!GN6-SA!GK6","v":8100},{"$f":"SA!GO6-SA!GL6","v":9100},{"$f":"SA!GP6-SA!GM6","v":13300},{"$f":"SA!GQ6-SA!GN6","v":14500},{"$f":"SA!GR6-SA!GO6","v":13000},{"$f":"SA!GS6-SA!GP6","v":5600},{"$f":"SA!GT6-SA!GQ6","v":-1600},{"$f":"SA!GU6-SA!GR6","v":-2500},{"$f":"SA!GV6-SA!GS6","v":4100},{"$f":"SA!GW6-SA!GT6","v":6300},{"$f":"SA!GX6-SA!GU6","v":7600},{"$f":"SA!GY6-SA!GV6","v":-3200},{"$f":"SA!GZ6-SA!GW6","v":-3000},{"$f":"SA!HA6-SA!GX6","v":-4200},{"$f":"SA!HB6-SA!GY6","v":6900},{"$f":"SA!HC6-SA!GZ6","v":15600},{"$f":"SA!HD6-SA!HA6","v":18500},{"$f":"SA!HE6-SA!HB6","v":10200},{"$f":"SA!HF6-SA!HC6","v":400},{"$f":"SA!HG6-SA!HD6","v":2000},{"$f":"SA!HH6-SA!HE6","v":-1300},{"$f":"SA!HI6-SA!HF6","v":-1900},{"$f":"SA!HJ6-SA!HG6","v":-1800},{"$f":"SA!HK6-SA!HH6","v":-1948800},{"$f":"SA!HL6-SA!HI6","v":-1946400},{"$f":"SA!HM6-SA!HJ6","v":-1949900},13691,2,null,"Private Service Providing",-27800,-2275,2150,4525,5400,7450,9225,15000,7369.1924978919951]
["Mining and Logging",{"$f":"SA!BN7-SA!BK7","v":0},{"$f":"SA!BO7-SA!BL7","v":-100},{"$f":"SA!BP7-SA!BM7","v":0},{"$f":"SA!BQ7-SA!BN7","v":0},{"$f":"SA!BR7-SA!BO7","v":0},{"$f":"SA!BS7-SA!BP7","v":0},{"$f":"SA!BT7-SA!BQ7","v":100},{"$f":"SA!BU7-SA!BR7","v":100},{"$f":"SA!BV7-SA!BS7","v":0},{"$f":"SA!BW7-SA!BT7","v":-100},{"$f":"SA!BX7-SA!BU7","v":0},{"$f":"SA!BY7-SA!BV7","v":-100},{"$f":"SA!BZ7-SA!BW7","v":100},{"$f":"SA!CA7-SA!BX7","v":0},{"$f":"SA!CB7-SA!BY7","v":100},{"$f":"SA!CC7-SA!BZ7","v":0},{"$f":"SA!CD7-SA!CA7","v":0},{"$f":"SA!CE7-SA!CB7","v":0},{"$f":"SA!CF7-SA!CC7","v":-100},{"$f":"SA!CG7-SA!CD7","v":-100},{"$f":"SA!CH7-SA!CE7","v":-100},{"$f":"SA!CI7-SA!CF7","v":0},{"$f":"SA!CJ7-SA!CG7","v":-100},{"$f":"SA!CK7-SA!CH7","v":-100},{"$f":"SA!CL7-SA!CI7","v":-100},{"$f":"SA!CM7-SA!CJ7","v":0},{"$f":"SA!CN7-SA!CK7","v":0},{"$f":"SA!CO7-SA!CL7","v":0},{"$f":"SA!CP7-SA!CM7","v":-100},{"$f":"SA!CQ7-SA!CN7","v":-200},{"$f":"SA!CR7-SA!CO7","v":-100},{"$f":"SA!CS7-SA!CP7","v":-100},{"$f":"SA!CT7-SA!CQ7","v":0},{"$f":"SA!CU7-SA!CR7","v":-100},{"$f":"SA!CV7-SA!CS7","v":0},{"$f":"SA!CW7-SA!CT7","v":-200},{"$f":"SA!CX7-SA!CU7","v":-100},{"$f":"SA!CY7-SA!CV7","v":-100},{"$f":"SA!CZ7-SA!CW7","v":0},{"$f":"SA!DA7-SA!CX7","v":-100},{"$f":"SA!DB7-SA!CY7","v":-200},{"$f":"SA!DC7-SA!CZ7","v":0},{"$f":"SA!DD7-SA!DA7","v":0},{"$f":"SA!DE7-SA!DB7","v":100},{"$f":"SA!DF7-SA!DC7","v":0},{"$f":"SA!DG7-SA!DD7","v":-100},{"$f":"SA!DH7-SA!DE7","v":-100},{"$f":"SA!DI7-SA!DF7","v":-200},{"$f":"SA!DJ7-SA!DG7","v":-100},{"$f":"SA!DK7-SA!DH7","v":-200},{"$f":"SA!DL7-SA!DI7","v":-200},{"$f":"SA!DM7-SA!DJ7","v":-300},{"$f":"SA!DN7-SA!DK7","v":-100},{"$f":"SA!DO7-SA!DL7","v":-100},{"$f":"SA!DP7-SA!DM7","v":100},{"$f":"SA!DQ7-SA!DN7","v":0},{"$f":"SA!DR7-SA!DO7","v":100},{"$f":"SA!DS7-SA!DP7","v":0},{"$f":"SA!DT7-SA!DQ7","v":-100},{"$f":"SA!DU7-SA!DR7","v":0},{"$f":"SA!DV7-SA!DS7","v":-100},{"$f":"SA!DW7-SA!DT7","v":0},{"$f":"SA!DX7-SA!DU7","v":-100},{"$f":"SA!DY7-SA!DV7","v":100},{"$f":"SA!DZ7-SA!DW7","v":100},{"$f":"SA!EA7-SA!DX7","v":0},{"$f":"SA!EB7-SA!DY7","v":0},{"$f":"SA!EC7-SA!DZ7","v":0},{"$f":"SA!ED7-SA!EA7","v":0},{"$f":"SA!EE7-SA!EB7","v":0},{"$f":"SA!EF7-SA!EC7","v":-100},{"$f":"SA!EG7-SA!ED7","v":0},{"$f":"SA!EH7-SA!EE7","v":0},{"$f":"SA!EI7-SA!EF7","v":100},{"$f":"SA!EJ7-SA!EG7","v":100},{"$f":"SA!EK7-SA!EH7","v":-100},{"$f":"SA!EL7-SA!EI7","v":-100},{"$f":"SA!EM7-SA!EJ7","v":100},{"$f":"SA!EN7-SA!EK7","v":100},{"$f":"SA!EO7-SA!EL7","v":100},{"$f":"SA!EP7-SA!EM7","v":0},{"$f":"SA!EQ7-SA!EN7","v":200},{"$f":"SA!ER7-SA!EO7","v":300},{"$f":"SA!ES7-SA!EP7","v":200},{"$f":"SA!ET7-SA!EQ7","v":100},{"$f":"SA!EU7-SA!ER7","v":100},{"$f":"SA!EV7-SA!ES7","v":200},{"$f":"SA!EW7-SA!ET7","v":300},{"$f":"SA!EX7-SA!EU7","v":100},{"$f":"SA!EY7-SA!EV7","v":0},{"$f":"SA!EZ7-SA!EW7","v":-100},{"$f":"SA!FA7-SA!EX7","v":0},{"$f":"SA!FB7-SA!EY7","v":0},{"$f":"SA!FC7-SA!EZ7","v":0},{"$f":"SA!FD7-SA!FA7","v":0},{"$f":"SA!FE7-SA!FB7","v":100},{"$f":"SA!FF7-SA!FC7","v":100},{"$f":"SA!FG7-SA!FD7","v":100},{"$f":"SA!FH7-SA!FE7","v":-100},{"$f":"SA!FI7-SA!FF7","v":0},{"$f":"SA!FJ7-SA!FG7","v":100},{"$f":"SA!FK7-SA!FH7","v":200},{"$f":"SA!FL7-SA!FI7","v":100},{"$f":"SA!FM7-SA!FJ7","v":100},{"$f":"SA!FN7-SA!FK7","v":100},{"$f":"SA!FO7-SA!FL7","v":100},{"$f":"SA!FP7-SA!FM7","v":0},{"$f":"SA!FQ7-SA!FN7","v":0},{"$f":"SA!FR7-SA!FO7","v":0},{"$f":"SA!FS7-SA!FP7","v":100},{"$f":"SA!FT7-SA!FQ7","v":0},{"$f":"SA!FU7-SA!FR7","v":200},{"$f":"SA!FV7-SA!FS7","v":100},{"$f":"SA!FW7-SA!FT7","v":200},{"$f":"SA!FX7-SA!FU7","v":100},{"$f":"SA!FY7-SA!FV7","v":200},{"$f":"SA!FZ7-SA!FW7","v":200},{"$f":"SA!GA7-SA!FX7","v":200},{"$f":"SA!GB7-SA!FY7","v":100},{"$f":"SA!GC7-SA!FZ7","v":200},{"$f":"SA!GD7-SA!GA7","v":0},{"$f":"SA!GE7-SA!GB7","v":100},{"$f":"SA!GF7-SA!GC7","v":-100},{"$f":"SA!GG7-SA!GD7","v":0},{"$f":"SA!GH7-SA!GE7","v":-100},{"$f":"SA!GI7-SA!GF7","v":-100},{"$f":"SA!GJ7-SA!GG7","v":-200},{"$f":"SA!GK7-SA!GH7","v":-200},{"$f":"SA!GL7-SA!GI7","v":-200},{"$f":"SA!GM7-SA!GJ7","v":-100},{"$f":"SA!GN7-SA!GK7","v":-100},{"$f":"SA!GO7-SA!GL7","v":0},{"$f":"SA!GP7-SA!GM7","v":-100},{"$f":"SA!GQ7-SA!GN7","v":-100},{"$f":"SA!GR7-SA!GO7","v":-100},{"$f":"SA!GS7-SA!GP7","v":-100},{"$f":"SA!GT7-SA!GQ7","v":-100},{"$f":"SA!GU7-SA!GR7","v":-200},{"$f":"SA!GV7-SA!GS7","v":-100},{"$f":"SA!GW7-SA!GT7","v":-100},{"$f":"SA!GX7-SA!GU7","v":-100},{"$f":"SA!GY7-SA!GV7","v":0},{"$f":"SA!GZ7-SA!GW7","v":100},{"$f":"SA!HA7-SA!GX7","v":100},{"$f":"SA!HB7-SA!GY7","v":200},{"$f":"SA!HC7-SA!GZ7","v":200},{"$f":"SA!HD7-SA!HA7","v":200},{"$f":"SA!HE7-SA!HB7","v":0},{"$f":"SA!HF7-SA!HC7","v":0},{"$f":"SA!HG7-SA!HD7","v":100},{"$f":"SA!HH7-SA!HE7","v":100},{"$f":"SA!HI7-SA!HF7","v":-100},{"$f":"SA!HJ7-SA!HG7","v":-100},{"$f":"SA!HK7-SA!HH7","v":-4000},{"$f":"SA!HL7-SA!HI7","v":-3900},{"$f":"SA!HM7-SA!HJ7","v":-3900},347,0,null,"Mining and Logging",-300,-100,-100,0,0,100,100,300,112.00809811442151]
["Construction",{"$f":"SA!BN9-SA!BK9","v":100},{"$f":"SA!BO9-SA!BL9","v":100},{"$f":"SA!BP9-SA!BM9","v":-400},{"$f":"SA!BQ9-SA!BN9","v":800},{"$f":"SA!BR9-SA!BO9","v":-100},{"$f":"SA!BS9-SA!BP9","v":-100},{"$f":"SA!BT9-SA!BQ9","v":0},{"$f":"SA!BU9-SA!BR9","v":300},{"$f":"SA!BV9-SA!BS9","v":600},{"$f":"SA!BW9-SA!BT9","v":-300},{"$f":"SA!BX9-SA!BU9","v":300},{"$f":"SA!BY9-SA!BV9","v":-300},{"$f":"SA!BZ9-SA!BW9","v":1699.9999999999854},{"$f":"SA!CA9-SA!BX9","v":1799.9999999999854},{"$f":"SA!CB9-SA!BY9","v":1200},{"$f":"SA!CC9-SA!BZ9","v":900.00000000001455},{"$f":"SA!CD9-SA!CA9","v":-1899.9999999999854},{"$f":"SA!CE9-SA!CB9","v":0},{"$f":"SA!CF9-SA!CC9","v":-2900},{"$f":"SA!CG9-SA!CD9","v":-800},{"$f":"SA!CH9-SA!CE9","v":-2200},{"$f":"SA!CI9-SA!CF9","v":-1500},{"$f":"SA!CJ9-SA!CG9","v":-2300},{"$f":"SA!CK9-SA!CH9","v":-100},{"$f":"SA!CL9-SA!CI9","v":1600},{"$f":"SA!CM9-SA!CJ9","v":600},{"$f":"SA!CN9-SA!CK9","v":1700},{"$f":"SA!CO9-SA!CL9","v":-800},{"$f":"SA!CP9-SA!CM9","v":1800},{"$f":"SA!CQ9-SA!CN9","v":-1300},{"$f":"SA!CR9-SA!CO9","v":-400},{"$f":"SA!CS9-SA!CP9","v":-1200},{"$f":"SA!CT9-SA!CQ9","v":-1300},{"$f":"SA!CU9-SA!CR9","v":-700},{"$f":"SA!CV9-SA!CS9","v":-900},{"$f":"SA!CW9-SA!CT9","v":-1400},{"$f":"SA!CX9-SA!CU9","v":-2700},{"$f":"SA!CY9-SA!CV9","v":-3000},{"$f":"SA!CZ9-SA!CW9","v":-2500},{"$f":"SA!DA9-SA!CX9","v":-3200},{"$f":"SA!DB9-SA!CY9","v":-2400},{"$f":"SA!DC9-SA!CZ9","v":-1900},{"$f":"SA!DD9-SA!DA9","v":-600},{"$f":"SA!DE9-SA!DB9","v":-1400},{"$f":"SA!DF9-SA!DC9","v":-2400},{"$f":"SA!DG9-SA!DD9","v":-3000},{"$f":"SA!DH9-SA!DE9","v":-4500},{"$f":"SA!DI9-SA!DF9","v":-5400},{"$f":"SA!DJ9-SA!DG9","v":-7400},{"$f":"SA!DK9-SA!DH9","v":-6000},{"$f":"SA!DL9-SA!DI9","v":-6600},{"$f":"SA!DM9-SA!DJ9","v":-5700},{"$f":"SA!DN9-SA!DK9","v":-5000},{"$f":"SA!DO9-SA!DL9","v":-3600},{"$f":"SA!DP9-SA!DM9","v":-2400},{"$f":"SA!DQ9-SA!DN9","v":-3500},{"$f":"SA!DR9-SA!DO9","v":-2600},{"$f":"SA!DS9-SA!DP9","v":-2200},{"$f":"SA!DT9-SA!DQ9","v":-1500},{"$f":"SA!DU9-SA!DR9","v":-2000},{"$f":"SA!DV9-SA!DS9","v":-1700},{"$f":"SA!DW9-SA!DT9","v":-1800},{"$f":"SA!DX9-SA!DU9","v":-1600},{"$f":"SA!DY9-SA!DV9","v":400},{"$f":"SA!DZ9-SA!DW9","v":-1700},{"$f":"SA!EA9-SA!DX9","v":-1400},{"$f":"SA!EB9-SA!DY9","v":-3300},{"$f":"SA!EC9-SA!DZ9","v":-400},{"$f":"SA!ED9-SA!EA9","v":-100},{"$f":"SA!EE9-SA!EB9","v":1100},{"$f":"SA!EF9-SA!EC9","v":-200},{"$f":"SA!EG9-SA!ED9","v":-700},{"$f":"SA!EH9-SA!EE9","v":-1700},{"$f":"SA!EI9-SA!EF9","v":-1000},{"$f":"SA!EJ9-SA!EG9","v":-600},{"$f":"SA!EK9-SA!EH9","v":-600},{"$f":"SA!EL9-SA!EI9","v":0},{"$f":"SA!EM9-SA!EJ9","v":0},{"$f":"SA!EN9-SA!EK9","v":700},{"$f":"SA!EO9-SA!EL9","v":500},{"$f":"SA!EP9-SA!EM9","v":600},{"$f":"SA!EQ9-SA!EN9","v":-400},{"$f":"SA!ER9-SA!EO9","v":-100},{"$f":"SA!ES9-SA!EP9","v":-100},{"$f":"SA!ET9-SA!EQ9","v":400},{"$f":"SA!EU9-SA!ER9","v":600},{"$f":"SA!EV9-SA!ES9","v":1400},{"$f":"SA!EW9-SA!ET9","v":3400},{"$f":"SA!EX9-SA!EU9","v":-900},{"$f":"SA!EY9-SA!EV9","v":-1900},{"$f":"SA!EZ9-SA!EW9","v":-4400},{"$f":"SA!FA9-SA!EX9","v":-800},{"$f":"SA!FB9-SA!EY9","v":200},{"$f":"SA!FC9-SA!EZ9","v":1800},{"$f":"SA!FD9-SA!FA9","v":2000},{"$f":"SA!FE9-SA!FB9","v":3300},{"$f":"SA!FF9-SA!FC9","v":2900},{"$f":"SA!FG9-SA!FD9","v":4300},{"$f":"SA!FH9-SA!FE9","v":1800},{"$f":"SA!FI9-SA!FF9","v":-1600},{"$f":"SA!FJ9-SA!FG9","v":100},{"$f":"SA!FK9-SA!FH9","v":600},{"$f":"SA!FL9-SA!FI9","v":3700},{"$f":"SA!FM9-SA!FJ9","v":1500},{"$f":"SA!FN9-SA!FK9","v":1600},{"$f":"SA!FO9-SA!FL9","v":1300},{"$f":"SA!FP9-SA!FM9","v":600},{"$f":"SA!FQ9-SA!FN9","v":-800},{"$f":"SA!FR9-SA!FO9","v":200},{"$f":"SA!FS9-SA!FP9","v":500},{"$f":"SA!FT9-SA!FQ9","v":2400},{"$f":"SA!FU9-SA!FR9","v":1200},{"$f":"SA!FV9-SA!FS9","v":1400},{"$f":"SA!FW9-SA!FT9","v":2100},{"$f":"SA!FX9-SA!FU9","v":2500},{"$f":"SA!FY9-SA!FV9","v":2500},{"$f":"SA!FZ9-SA!FW9","v":2000},{"$f":"SA!GA9-SA!FX9","v":1800},{"$f":"SA!GB9-SA!FY9","v":1500},{"$f":"SA!GC9-SA!FZ9","v":600},{"$f":"SA!GD9-SA!GA9","v":1700},{"$f":"SA!GE9-SA!GB9","v":1300},{"$f":"SA!GF9-SA!GC9","v":1700},{"$f":"SA!GG9-SA!GD9","v":1400},{"$f":"SA!GH9-SA!GE9","v":2100},{"$f":"SA!GI9-SA!GF9","v":1800},{"$f":"SA!GJ9-SA!GG9","v":900},{"$f":"SA!GK9-SA!GH9","v":0},{"$f":"SA!GL9-SA!GI9","v":-300},{"$f":"SA!GM9-SA!GJ9","v":-100},{"$f":"SA!GN9-SA!GK9","v":700},{"$f":"SA!GO9-SA!GL9","v":1800},{"$f":"SA!GP9-SA!GM9","v":1700},{"$f":"SA!GQ9-SA!GN9","v":1800},{"$f":"SA!GR9-SA!GO9","v":2100},{"$f":"SA!GS9-SA!GP9","v":900},{"$f":"SA!GT9-SA!GQ9","v":-600},{"$f":"SA!GU9-SA!GR9","v":-2100},{"$f":"SA!GV9-SA!GS9","v":-800},{"$f":"SA!GW9-SA!GT9","v":300},{"$f":"SA!GX9-SA!GU9","v":800},{"$f":"SA!GY9-SA!GV9","v":-900},{"$f":"SA!GZ9-SA!GW9","v":-900},{"$f":"SA!HA9-SA!GX9","v":700},{"$f":"SA!HB9-SA!GY9","v":3900},{"$f":"SA!HC9-SA!GZ9","v":2800},{"$f":"SA!HD9-SA!HA9","v":1300},{"$f":"SA!HE9-SA!HB9","v":900},{"$f":"SA!HF9-SA!HC9","v":800},{"$f":"SA!HG9-SA!HD9","v":-1900},{"$f":"SA!HH9-SA!HE9","v":-2800},{"$f":"SA!HI9-SA!HF9","v":-2300},{"$f":"SA!HJ9-SA!HG9","v":1300},{"$f":"SA!HK9-SA!HH9","v":-112700},{"$f":"SA!HL9-SA!HI9","v":-112300},{"$f":"SA!HM9-SA!HJ9","v":-113500},4147,0,null,"Construction",-7400,-2325,-1100,-300,75,750,1724.9999999999964,4300,2054.0084267801703]
["Manufacturing",{"$f":"SA!BN10-SA!BK10","v":-3500},{"$f":"SA!BO10-SA!BL10","v":700},{"$f":"SA!BP10-SA!BM10","v":200},{"$f":"SA!BQ10-SA!BN10","v":4300},{"$f":"SA!BR10-SA!BO10","v":-300},{"$f":"SA!BS10-SA!BP10","v":-600},{"$f":"SA!BT10-SA!BQ10","v":500},{"$f":"SA!BU10-SA!BR10","v":600},{"$f":"SA!BV10-SA!BS10","v":-100},{"$f":"SA!BW10-SA!BT10","v":-1300},{"$f":"SA!BX10-SA!BU10","v":-1400},{"$f":"SA!BY10-SA!BV10","v":-500},{"$f":"SA!BZ10-SA!BW10","v":700},{"$f":"SA!CA10-SA!BX10","v":900},{"$f":"SA!CB10-SA!BY10","v":1900},{"$f":"SA!CC10-SA!BZ10","v":1300},{"$f":"SA!CD10-SA!CA10","v":1300},{"$f":"SA!CE10-SA!CB10","v":1300},{"$f":"SA!CF10-SA!CC10","v":700},{"$f":"SA!CG10-SA!CD10","v":200},{"$f":"SA!CH10-SA!CE10","v":-1700},{"$f":"SA!CI10-SA!CF10","v":-2600},{"$f":"SA!CJ10-SA!CG10","v":-3300},{"$f":"SA!CK10-SA!CH10","v":-2800},{"$f":"SA!CL10-SA!CI10","v":-2200},{"$f":"SA!CM10-SA!CJ10","v":-700},{"$f":"SA!CN10-SA!CK10","v":-1200},{"$f":"SA!CO10-SA!CL10","v":-300},{"$f":"SA!CP10-SA!CM10","v":200},{"$f":"SA!CQ10-SA!CN10","v":1500},{"$f":"SA!CR10-SA!CO10","v":500},{"$f":"SA!CS10-SA!CP10","v":-1700},{"$f":"SA!CT10-SA!CQ10","v":-4100},{"$f":"SA!CU10-SA!CR10","v":-4400},{"$f":"SA!CV10-SA!CS10","v":-2800},{"$f":"SA!CW10-SA!CT10","v":-700},{"$f":"SA!CX10-SA!CU10","v":1200},{"$f":"SA!CY10-SA!CV10","v":1800},{"$f":"SA!CZ10-SA!CW10","v":1400},{"$f":"SA!DA10-SA!CX10","v":-800},{"$f":"SA!DB10-SA!CY10","v":-2300},{"$f":"SA!DC10-SA!CZ10","v":-2400},{"$f":"SA!DD10-SA!DA10","v":-5400},{"$f":"SA!DE10-SA!DB10","v":-7000},{"$f":"SA!DF10-SA!DC10","v":-9600},{"$f":"SA!DG10-SA!DD10","v":-7000},{"$f":"SA!DH10-SA!DE10","v":-8000},{"$f":"SA!DI10-SA!DF10","v":-9800},{"$f":"SA!DJ10-SA!DG10","v":-16900},{"$f":"SA!DK10-SA!DH10","v":-23600},{"$f":"SA!DL10-SA!DI10","v":-27400},{"$f":"SA!DM10-SA!DJ10","v":-28800},{"$f":"SA!DN10-SA!DK10","v":-24300},{"$f":"SA!DO10-SA!DL10","v":-21200},{"$f":"SA!DP10-SA!DM10","v":-15700},{"$f":"SA!DQ10-SA!DN10","v":-10900},{"$f":"SA!DR10-SA!DO10","v":-1700},{"$f":"SA!DS10-SA!DP10","v":800},{"$f":"SA!DT10-SA!DQ10","v":900},{"$f":"SA!DU10-SA!DR10","v":-3300},{"$f":"SA!DV10-SA!DS10","v":-2200},{"$f":"SA!DW10-SA!DT10","v":-500},{"$f":"SA!DX10-SA!DU10","v":1900},{"$f":"SA!DY10-SA!DV10","v":4100},{"$f":"SA!DZ10-SA!DW10","v":5000},{"$f":"SA!EA10-SA!DX10","v":4200},{"$f":"SA!EB10-SA!DY10","v":4800},{"$f":"SA!EC10-SA!DZ10","v":3800},{"$f":"SA!ED10-SA!EA10","v":3300},{"$f":"SA!EE10-SA!EB10","v":1300},{"$f":"SA!EF10-SA!EC10","v":1600},{"$f":"SA!EG10-SA!ED10","v":2200},{"$f":"SA!EH10-SA!EE10","v":3500},{"$f":"SA!EI10-SA!EF10","v":4400},{"$f":"SA!EJ10-SA!EG10","v":4600},{"$f":"SA!EK10-SA!EH10","v":6700},{"$f":"SA!EL10-SA!EI10","v":5600},{"$f":"SA!EM10-SA!EJ10","v":4100},{"$f":"SA!EN10-SA!EK10","v":2900},{"$f":"SA!EO10-SA!EL10","v":2800},{"$f":"SA!EP10-SA!EM10","v":3000},{"$f":"SA!EQ10-SA!EN10","v":500},{"$f":"SA!ER10-SA!EO10","v":800},{"$f":"SA!ES10-SA!EP10","v":2000},{"$f":"SA!ET10-SA!EQ10","v":3900},{"$f":"SA!EU10-SA!ER10","v":3800},{"$f":"SA!EV10-SA!ES10","v":3800},{"$f":"SA!EW10-SA!ET10","v":3400},{"$f":"SA!EX10-SA!EU10","v":2800},{"$f":"SA!EY10-SA!EV10","v":3200},{"$f":"SA!EZ10-SA!EW10","v":2400},{"$f":"SA!FA10-SA!EX10","v":1700},{"$f":"SA!FB10-SA!EY10","v":200},{"$f":"SA!FC10-SA!EZ10","v":400},{"$f":"SA!FD10-SA!FA10","v":200},{"$f":"SA!FE10-SA!FB10","v":400},{"$f":"SA!FF10-SA!FC10","v":-200},{"$f":"SA!FG10-SA!FD10","v":500},{"$f":"SA!FH10-SA!FE10","v":100},{"$f":"SA!FI10-SA!FF10","v":-900},{"$f":"SA!FJ10-SA!FG10","v":-800},{"$f":"SA!FK10-SA!FH10","v":-400},{"$f":"SA!FL10-SA!FI10","v":-500},{"$f":"SA!FM10-SA!FJ10","v":-300},{"$f":"SA!FN10-SA!FK10","v":0},{"$f":"SA!FO10-SA!FL10","v":2500},{"$f":"SA!FP10-SA!FM10","v":2700},{"$f":"SA!FQ10-SA!FN10","v":2200},{"$f":"SA!FR10-SA!FO10","v":2100},{"$f":"SA!FS10-SA!FP10","v":1900},{"$f":"SA!FT10-SA!FQ10","v":2000},{"$f":"SA!FU10-SA!FR10","v":2500},{"$f":"SA!FV10-SA!FS10","v":3300},{"$f":"SA!FW10-SA!FT10","v":2900},{"$f":"SA!FX10-SA!FU10","v":2800},{"$f":"SA!FY10-SA!FV10","v":1800},{"$f":"SA!FZ10-SA!FW10","v":2200},{"$f":"SA!GA10-SA!FX10","v":1000},{"$f":"SA!GB10-SA!FY10","v":1100},{"$f":"SA!GC10-SA!FZ10","v":1600},{"$f":"SA!GD10-SA!GA10","v":1200},{"$f":"SA!GE10-SA!GB10","v":1700},{"$f":"SA!GF10-SA!GC10","v":400},{"$f":"SA!GG10-SA!GD10","v":-200},{"$f":"SA!GH10-SA!GE10","v":-1600},{"$f":"SA!GI10-SA!GF10","v":-1200},{"$f":"SA!GJ10-SA!GG10","v":-600},{"$f":"SA!GK10-SA!GH10","v":-700},{"$f":"SA!GL10-SA!GI10","v":-600},{"$f":"SA!GM10-SA!GJ10","v":-900},{"$f":"SA!GN10-SA!GK10","v":-400},{"$f":"SA!GO10-SA!GL10","v":-400},{"$f":"SA!GP10-SA!GM10","v":100},{"$f":"SA!GQ10-SA!GN10","v":-400},{"$f":"SA!GR10-SA!GO10","v":-700},{"$f":"SA!GS10-SA!GP10","v":-900},{"$f":"SA!GT10-SA!GQ10","v":-1100},{"$f":"SA!GU10-SA!GR10","v":-1500},{"$f":"SA!GV10-SA!GS10","v":-1600},{"$f":"SA!GW10-SA!GT10","v":-1200},{"$f":"SA!GX10-SA!GU10","v":-800},{"$f":"SA!GY10-SA!GV10","v":3200},{"$f":"SA!GZ10-SA!GW10","v":2600},{"$f":"SA!HA10-SA!GX10","v":5100},{"$f":"SA!HB10-SA!GY10","v":1000},{"$f":"SA!HC10-SA!GZ10","v":2900},{"$f":"SA!HD10-SA!HA10","v":-500},{"$f":"SA!HE10-SA!HB10","v":4000},{"$f":"SA!HF10-SA!HC10","v":3000},{"$f":"SA!HG10-SA!HD10","v":4500},{"$f":"SA!HH10-SA!HE10","v":2200},{"$f":"SA!HI10-SA!HF10","v":2600},{"$f":"SA!HJ10-SA!HG10","v":3500},{"$f":"SA!HK10-SA!HH10","v":-474300},{"$f":"SA!HL10-SA!HI10","v":-474700},{"$f":"SA!HM10-SA!HJ10","v":-475900},4909,1,null,"Manufacturing",-28800,-2650,-800,25,575,1750,3050,6700,5779.8453832538626]
["  Durable Goods",{"$f":"SA!BN11-SA!BK11","v":-2300},{"$f":"SA!BO11-SA!BL11","v":1600},{"$f":"SA!BP11-SA!BM11","v":1100},{"$f":"SA!BQ11-SA!BN11","v":5400},{"$f":"SA!BR11-SA!BO11","v":500},{"$f":"SA!BS11-SA!BP11","v":300},{"$f":"SA!BT11-SA!BQ11","v":100},{"$f":"SA!BU11-SA!BR11","v":800},{"$f":"SA!BV11-SA!BS11","v":100},{"$f":"SA!BW11-SA!BT11","v":-100},{"$f":"SA!BX11-SA!BU11","v":-900},{"$f":"SA!BY11-SA!BV11","v":-300},{"$f":"SA!BZ11-SA!BW11","v":800},{"$f":"SA!CA11-SA!BX11","v":1300},{"$f":"SA!CB11-SA!BY11","v":2500},{"$f":"SA!CC11-SA!BZ11","v":1500},{"$f":"SA!CD11-SA!CA11","v":1800},{"$f":"SA!CE11-SA!CB11","v":1600},{"$f":"SA!CF11-SA!CC11","v":1200},{"$f":"SA!CG11-SA!CD11","v":700},{"$f":"SA!CH11-SA!CE11","v":-1000},{"$f":"SA!CI11-SA!CF11","v":-1800},{"$f":"SA!CJ11-SA!CG11","v":-2800},{"$f":"SA!CK11-SA!CH11","v":-2400},{"$f":"SA!CL11-SA!CI11","v":-2200},{"$f":"SA!CM11-SA!CJ11","v":-1000},{"$f":"SA!CN11-SA!CK11","v":-1600},{"$f":"SA!CO11-SA!CL11","v":200},{"$f":"SA!CP11-SA!CM11","v":300},{"$f":"SA!CQ11-SA!CN11","v":700},{"$f":"SA!CR11-SA!CO11","v":-600},{"$f":"SA!CS11-SA!CP11","v":-1800},{"$f":"SA!CT11-SA!CQ11","v":-3000},{"$f":"SA!CU11-SA!CR11","v":-3400},{"$f":"SA!CV11-SA!CS11","v":-2600},{"$f":"SA!CW11-SA!CT11","v":-1000},{"$f":"SA!CX11-SA!CU11","v":600},{"$f":"SA!CY11-SA!CV11","v":1300},{"$f":"SA!CZ11-SA!CW11","v":1300},{"$f":"SA!DA11-SA!CX11","v":-600},{"$f":"SA!DB11-SA!CY11","v":-1500},{"$f":"SA!DC11-SA!CZ11","v":-2000},{"$f":"SA!DD11-SA!DA11","v":-3100},{"$f":"SA!DE11-SA!DB11","v":-5000},{"$f":"SA!DF11-SA!DC11","v":-6700},{"$f":"SA!DG11-SA!DD11","v":-6400},{"$f":"SA!DH11-SA!DE11","v":-6400},{"$f":"SA!DI11-SA!DF11","v":-7900},{"$f":"SA!DJ11-SA!DG11","v":-13200},{"$f":"SA!DK11-SA!DH11","v":-19300},{"$f":"SA!DL11-SA!DI11","v":-22800},{"$f":"SA!DM11-SA!DJ11","v":-24200},{"$f":"SA!DN11-SA!DK11","v":-20300.000000000029},{"$f":"SA!DO11-SA!DL11","v":-17500.000000000029},{"$f":"SA!DP11-SA!DM11","v":-11700},{"$f":"SA!DQ11-SA!DN11","v":-8699.9999999999709},{"$f":"SA!DR11-SA!DO11","v":-1599.9999999999709},{"$f":"SA!DS11-SA!DP11","v":400},{"$f":"SA!DT11-SA!DQ11","v":1000},{"$f":"SA!DU11-SA!DR11","v":-2100},{"$f":"SA!DV11-SA!DS11","v":-2300},{"$f":"SA!DW11-SA!DT11","v":-500},{"$f":"SA!DX11-SA!DU11","v":1600},{"$f":"SA!DY11-SA!DV11","v":3500},{"$f":"SA!DZ11-SA!DW11","v":3900.0000000000291},{"$f":"SA!EA11-SA!DX11","v":2800.0000000000291},{"$f":"SA!EB11-SA!DY11","v":2599.9999999999709},{"$f":"SA!EC11-SA!DZ11","v":2699.9999999999709},{"$f":"SA!ED11-SA!EA11","v":2899.9999999999709},{"$f":"SA!EE11-SA!EB11","v":2000},{"$f":"SA!EF11-SA!EC11","v":1400},{"$f":"SA!EG11-SA!ED11","v":2100},{"$f":"SA!EH11-SA!EE11","v":3000.0000000000291},{"$f":"SA!EI11-SA!EF11","v":4200},{"$f":"SA!EJ11-SA!EG11","v":3900},{"$f":"SA!EK11-SA!EH11","v":5300},{"$f":"SA!EL11-SA!EI11","v":4000},{"$f":"SA!EM11-SA!EJ11","v":3500},{"$f":"SA!EN11-SA!EK11","v":2800},{"$f":"SA!EO11-SA!EL11","v":2400},{"$f":"SA!EP11-SA!EM11","v":1800},{"$f":"SA!EQ11-SA!EN11","v":0},{"$f":"SA!ER11-SA!EO11","v":900},{"$f":"SA!ES11-SA!EP11","v":1900},{"$f":"SA!ET11-SA!EQ11","v":3600},{"$f":"SA!EU11-SA!ER11","v":3400},{"$f":"SA!EV11-SA!ES11","v":3700},{"$f":"SA!EW11-SA!ET11","v":2700},{"$f":"SA!EX11-SA!EU11","v":2300},{"$f":"SA!EY11-SA!EV11","v":2400},{"$f":"SA!EZ11-SA!EW11","v":2100},{"$f":"SA!FA11-SA!EX11","v":1200},{"$f":"SA!FB11-SA!EY11","v":-300},{"$f":"SA!FC11-SA!EZ11","v":-200},{"$f":"SA!FD11-SA!FA11","v":-300},{"$f":"SA!FE11-SA!FB11","v":0},{"$f":"SA!FF11-SA!FC11","v":-300},{"$f":"SA!FG11-SA!FD11","v":200},{"$f":"SA!FH11-SA!FE11","v":0},{"$f":"SA!FI11-SA!FF11","v":-800},{"$f":"SA!FJ11-SA!FG11","v":-600},{"$f":"SA!FK11-SA!FH11","v":-300},{"$f":"SA!FL11-SA!FI11","v":-900},{"$f":"SA!FM11-SA!FJ11","v":-900},{"$f":"SA!FN11-SA!FK11","v":-800},{"$f":"SA!FO11-SA!FL11","v":1500},{"$f":"SA!FP11-SA!FM11","v":1600},{"$f":"SA!FQ11-SA!FN11","v":1200},{"$f":"SA!FR11-SA!FO11","v":900},{"$f":"SA!FS11-SA!FP11","v":400},{"$f":"SA!FT11-SA!FQ11","v":700},{"$f":"SA!FU11-SA!FR11","v":1700},{"$f":"SA!FV11-SA!FS11","v":3000},{"$f":"SA!FW11-SA!FT11","v":2800},{"$f":"SA!FX11-SA!FU11","v":2000},{"$f":"SA!FY11-SA!FV11","v":900},{"$f":"SA!FZ11-SA!FW11","v":1000},{"$f":"SA!GA11-SA!FX11","v":700},{"$f":"SA!GB11-SA!FY11","v":1000},{"$f":"SA!GC11-SA!FZ11","v":1600},{"$f":"SA!GD11-SA!GA11","v":900},{"$f":"SA!GE11-SA!GB11","v":900},{"$f":"SA!GF11-SA!GC11","v":0},{"$f":"SA!GG11-SA!GD11","v":-500},{"$f":"SA!GH11-SA!GE11","v":-1600},{"$f":"SA!GI11-SA!GF11","v":-1500},{"$f":"SA!GJ11-SA!GG11","v":-1000},{"$f":"SA!GK11-SA!GH11","v":-600},{"$f":"SA!GL11-SA!GI11","v":-1000},{"$f":"SA!GM11-SA!GJ11","v":-1500},{"$f":"SA!GN11-SA!GK11","v":-1500},{"$f":"SA!GO11-SA!GL11","v":-1500},{"$f":"SA!GP11-SA!GM11","v":-700},{"$f":"SA!GQ11-SA!GN11","v":-900},{"$f":"SA!GR11-SA!GO11","v":-1000},{"$f":"SA!GS11-SA!GP11","v":-1300},{"$f":"SA!GT11-SA!GQ11","v":-1300},{"$f":"SA!GU11-SA!GR11","v":-1400},{"$f":"SA!GV11-SA!GS11","v":-1300},{"$f":"SA!GW11-SA!GT11","v":-1000},{"$f":"SA!GX11-SA!GU11","v":-600},{"$f":"SA!GY11-SA!GV11","v":600},{"$f":"SA!GZ11-SA!GW11","v":500},{"$f":"SA!HA11-SA!GX11","v":3000},{"$f":"SA!HB11-SA!GY11","v":1800},{"$f":"SA!HC11-SA!GZ11","v":2400},{"$f":"SA!HD11-SA!HA11","v":-400},{"$f":"SA!HE11-SA!HB11","v":1600},{"$f":"SA!HF11-SA!HC11","v":800},{"$f":"SA!HG11-SA!HD11","v":2200},{"$f":"SA!HH11-SA!HE11","v":1400},{"$f":"SA!HI11-SA!HF11","v":2800},{"$f":"SA!HJ11-SA!HG11","v":2400},{"$f":"SA!HK11-SA!HH11","v":-285000},{"$f":"SA!HL11-SA!HI11","v":-285900},{"$f":"SA!HM11-SA!HJ11","v":-286400},3594,0,null,"  Durable Goods",-24200,-2225,-1000,-175,500,1300,2524.9999999999927,5400,4716.8676750127579]
["  Non-Durable Goods",{"$f":"SA!BN12-SA!BK12","v":-1200},{"$f":"SA!BO12-SA!BL12","v":-900},{"$f":"SA!BP12-SA!BM12","v":-900},{"$f":"SA!BQ12-SA!BN12","v":-1100},{"$f":"SA!BR12-SA!BO12","v":-800},{"$f":"SA!BS12-SA!BP12","v":-900},{"$f":"SA!BT12-SA!BQ12","v":400},{"$f":"SA!BU12-SA!BR12","v":-200},{"$f":"SA!BV12-SA!BS12","v":-200},{"$f":"SA!BW12-SA!BT12","v":-1200},{"$f":"SA!BX12-SA!BU12","v":-500},{"$f":"SA!BY12-SA!BV12","v":-200},{"$f":"SA!BZ12-SA!BW12","v":-100},{"$f":"SA!CA12-SA!BX12","v":-400},{"$f":"SA!CB12-SA!BY12","v":-600},{"$f":"SA!CC12-SA!BZ12","v":-200},{"$f":"SA!CD12-SA!CA12","v":-500},{"$f":"SA!CE12-SA!CB12","v":-300},{"$f":"SA!CF12-SA!CC12","v":-500},{"$f":"SA!CG12-SA!CD12","v":-500},{"$f":"SA!CH12-SA!CE12","v":-700},{"$f":"SA!CI12-SA!CF12","v":-800},{"$f":"SA!CJ12-SA!CG12","v":-500},{"$f":"SA!CK12-SA!CH12","v":-400},{"$f":"SA!CL12-SA!CI12","v":0},{"$f":"SA!CM12-SA!CJ12","v":300},{"$f":"SA!CN12-SA!CK12","v":400},{"$f":"SA!CO12-SA!CL12","v":-500},{"$f":"SA!CP12-SA!CM12","v":-100},{"$f":"SA!CQ12-SA!CN12","v":800},{"$f":"SA!CR12-SA!CO12","v":1100},{"$f":"SA!CS12-SA!CP12","v":100},{"$f":"SA!CT12-SA!CQ12","v":-1100},{"$f":"SA!CU12-SA!CR12","v":-1000},{"$f":"SA!CV12-SA!CS12","v":-200},{"$f":"SA!CW12-SA!CT12","v":300},{"$f":"SA!CX12-SA!CU12","v":600},{"$f":"SA!CY12-SA!CV12","v":500},{"$f":"SA!CZ12-SA!CW12","v":100},{"$f":"SA!DA12-SA!CX12","v":-200},{"$f":"SA!DB12-SA!CY12","v":-800},{"$f":"SA!DC12-SA!CZ12","v":-400},{"$f":"SA!DD12-SA!DA12","v":-2300},{"$f":"SA!DE12-SA!DB12","v":-2000},{"$f":"SA!DF12-SA!DC12","v":-2900},{"$f":"SA!DG12-SA!DD12","v":-600},{"$f":"SA!DH12-SA!DE12","v":-1600},{"$f":"SA!DI12-SA!DF12","v":-1900},{"$f":"SA!DJ12-SA!DG12","v":-3700},{"$f":"SA!DK12-SA!DH12","v":-4300},{"$f":"SA!DL12-SA!DI12","v":-4600},{"$f":"SA!DM12-SA!DJ12","v":-4600},{"$f":"SA!DN12-SA!DK12","v":-4000},{"$f":"SA!DO12-SA!DL12","v":-3700},{"$f":"SA!DP12-SA!DM12","v":-4000},{"$f":"SA!DQ12-SA!DN12","v":-2200},{"$f":"SA!DR12-SA!DO12","v":-100},{"$f":"SA!DS12-SA!DP12","v":400},{"$f":"SA!DT12-SA!DQ12","v":-100},{"$f":"SA!DU12-SA!DR12","v":-1200},{"$f":"SA!DV12-SA!DS12","v":100},{"$f":"SA!DW12-SA!DT12","v":0},{"$f":"SA!DX12-SA!DU12","v":300},{"$f":"SA!DY12-SA!DV12","v":600},{"$f":"SA!DZ12-SA!DW12","v":1100},{"$f":"SA!EA12-SA!DX12","v":1400},{"$f":"SA!EB12-SA!DY12","v":2200},{"$f":"SA!EC12-SA!DZ12","v":1100},{"$f":"SA!ED12-SA!EA12","v":400},{"$f":"SA!EE12-SA!EB12","v":-700},{"$f":"SA!EF12-SA!EC12","v":200},{"$f":"SA!EG12-SA!ED12","v":100},{"$f":"SA!EH12-SA!EE12","v":500},{"$f":"SA!EI12-SA!EF12","v":200},{"$f":"SA!EJ12-SA!EG12","v":700},{"$f":"SA!EK12-SA!EH12","v":1400},{"$f":"SA!EL12-SA!EI12","v":1600},{"$f":"SA!EM12-SA!EJ12","v":600},{"$f":"SA!EN12-SA!EK12","v":100},{"$f":"SA!EO12-SA!EL12","v":400},{"$f":"SA!EP12-SA!EM12","v":1200},{"$f":"SA!EQ12-SA!EN12","v":500},{"$f":"SA!ER12-SA!EO12","v":-100},{"$f":"SA!ES12-SA!EP12","v":100},{"$f":"SA!ET12-SA!EQ12","v":300},{"$f":"SA!EU12-SA!ER12","v":400},{"$f":"SA!EV12-SA!ES12","v":100},{"$f":"SA!EW12-SA!ET12","v":700},{"$f":"SA!EX12-SA!EU12","v":500},{"$f":"SA!EY12-SA!EV12","v":800},{"$f":"SA!EZ12-SA!EW12","v":300},{"$f":"SA!FA12-SA!EX12","v":500},{"$f":"SA!FB12-SA!EY12","v":500},{"$f":"SA!FC12-SA!EZ12","v":600},{"$f":"SA!FD12-SA!FA12","v":500},{"$f":"SA!FE12-SA!FB12","v":400},{"$f":"SA!FF12-SA!FC12","v":100},{"$f":"SA!FG12-SA!FD12","v":300},{"$f":"SA!FH12-SA!FE12","v":100},{"$f":"SA!FI12-SA!FF12","v":-100},{"$f":"SA!FJ12-SA!FG12","v":-200},{"$f":"SA!FK12-SA!FH12","v":-100},{"$f":"SA!FL12-SA!FI12","v":400},{"$f":"SA!FM12-SA!FJ12","v":600},{"$f":"SA!FN12-SA!FK12","v":800},{"$f":"SA!FO12-SA!FL12","v":1000},{"$f":"SA!FP12-SA!FM12","v":1100},{"$f":"SA!FQ12-SA!FN12","v":1000},{"$f":"SA!FR12-SA!FO12","v":1200},{"$f":"SA!FS12-SA!FP12","v":1500},{"$f":"SA!FT12-SA!FQ12","v":1300},{"$f":"SA!FU12-SA!FR12","v":800},{"$f":"SA!FV12-SA!FS12","v":300},{"$f":"SA!FW12-SA!FT12","v":100},{"$f":"SA!FX12-SA!FU12","v":800},{"$f":"SA!FY12-SA!FV12","v":900},{"$f":"SA!FZ12-SA!FW12","v":1200},{"$f":"SA!GA12-SA!FX12","v":300},{"$f":"SA!GB12-SA!FY12","v":100},{"$f":"SA!GC12-SA!FZ12","v":0},{"$f":"SA!GD12-SA!GA12","v":300},{"$f":"SA!GE12-SA!GB12","v":800},{"$f":"SA!GF12-SA!GC12","v":400},{"$f":"SA!GG12-SA!GD12","v":300},{"$f":"SA!GH12-SA!GE12","v":0},{"$f":"SA!GI12-SA!GF12","v":300},{"$f":"SA!GJ12-SA!GG12","v":400},{"$f":"SA!GK12-SA!GH12","v":-100},{"$f":"SA!GL12-SA!GI12","v":400},{"$f":"SA!GM12-SA!GJ12","v":600},{"$f":"SA!GN12-SA!GK12","v":1100},{"$f":"SA!GO12-SA!GL12","v":1100},{"$f":"SA!GP12-SA!GM12","v":800},{"$f":"SA!GQ12-SA!GN12","v":500},{"$f":"SA!GR12-SA!GO12","v":300},{"$f":"SA!GS12-SA!GP12","v":400},{"$f":"SA!GT12-SA!GQ12","v":200},{"$f":"SA!GU12-SA!GR12","v":-100},{"$f":"SA!GV12-SA!GS12","v":-300},{"$f":"SA!GW12-SA!GT12","v":-200},{"$f":"SA!GX12-SA!GU12","v":-200},{"$f":"SA!GY12-SA!GV12","v":2600},{"$f":"SA!GZ12-SA!GW12","v":2100},{"$f":"SA!HA12-SA!GX12","v":2100},{"$f":"SA!HB12-SA!GY12","v":-800},{"$f":"SA!HC12-SA!GZ12","v":500},{"$f":"SA!HD12-SA!HA12","v":-100},{"$f":"SA!HE12-SA!HB12","v":2400},{"$f":"SA!HF12-SA!HC12","v":2200},{"$f":"SA!HG12-SA!HD12","v":2300},{"$f":"SA!HH12-SA!HE12","v":800},{"$f":"SA!HI12-SA!HF12","v":-200},{"$f":"SA!HJ12-SA!HG12","v":1100},{"$f":"SA!HK12-SA!HH12","v":-189300},{"$f":"SA!HL12-SA!HI12","v":-188800},{"$f":"SA!HM12-SA!HJ12","v":-189500},3343,0,null,"  Non-Durable Goods",-4600,-900,-200,100,300,500,825,2600,1243.6311516514954]
["Trade, Transportation, and Utilities",{"$f":"SA!BN13-SA!BK13","v":-800},{"$f":"SA!BO13-SA!BL13","v":-100},{"$f":"SA!BP13-SA!BM13","v":1000},{"$f":"SA!BQ13-SA!BN13","v":3700},{"$f":"SA!BR13-SA!BO13","v":2100},{"$f":"SA!BS13-SA!BP13","v":-300},{"$f":"SA!BT13-SA!BQ13","v":-200},{"$f":"SA!BU13-SA!BR13","v":1600},{"$f":"SA!BV13-SA!BS13","v":3300},{"$f":"SA!BW13-SA!BT13","v":3700},{"$f":"SA!BX13-SA!BU13","v":2500},{"$f":"SA!BY13-SA!BV13","v":3700},{"$f":"SA!BZ13-SA!BW13","v":-3400},{"$f":"SA!CA13-SA!BX13","v":-2400},{"$f":"SA!CB13-SA!BY13","v":-3100},{"$f":"SA!CC13-SA!BZ13","v":1700},{"$f":"SA!CD13-SA!CA13","v":-300},{"$f":"SA!CE13-SA!CB13","v":100},{"$f":"SA!CF13-SA!CC13","v":-1400},{"$f":"SA!CG13-SA!CD13","v":200},{"$f":"SA!CH13-SA!CE13","v":-400},{"$f":"SA!CI13-SA!CF13","v":1000},{"$f":"SA!CJ13-SA!CG13","v":1900},{"$f":"SA!CK13-SA!CH13","v":3000},{"$f":"SA!CL13-SA!CI13","v":3800},{"$f":"SA!CM13-SA!CJ13","v":2200},{"$f":"SA!CN13-SA!CK13","v":1100},{"$f":"SA!CO13-SA!CL13","v":-2000},{"$f":"SA!CP13-SA!CM13","v":200},{"$f":"SA!CQ13-SA!CN13","v":400},{"$f":"SA!CR13-SA!CO13","v":1500},{"$f":"SA!CS13-SA!CP13","v":-2200},{"$f":"SA!CT13-SA!CQ13","v":-3000},{"$f":"SA!CU13-SA!CR13","v":-2600},{"$f":"SA!CV13-SA!CS13","v":-900},{"$f":"SA!CW13-SA!CT13","v":-600},{"$f":"SA!CX13-SA!CU13","v":1700},{"$f":"SA!CY13-SA!CV13","v":300},{"$f":"SA!CZ13-SA!CW13","v":0},{"$f":"SA!DA13-SA!CX13","v":-2200},{"$f":"SA!DB13-SA!CY13","v":-2500},{"$f":"SA!DC13-SA!CZ13","v":-3600},{"$f":"SA!DD13-SA!DA13","v":-3200},{"$f":"SA!DE13-SA!DB13","v":-2500},{"$f":"SA!DF13-SA!DC13","v":-3700},{"$f":"SA!DG13-SA!DD13","v":-6000},{"$f":"SA!DH13-SA!DE13","v":-7900},{"$f":"SA!DI13-SA!DF13","v":-7200},{"$f":"SA!DJ13-SA!DG13","v":-8100},{"$f":"SA!DK13-SA!DH13","v":-7500},{"$f":"SA!DL13-SA!DI13","v":-8800},{"$f":"SA!DM13-SA!DJ13","v":-8900},{"$f":"SA!DN13-SA!DK13","v":-5800},{"$f":"SA!DO13-SA!DL13","v":-3299.9999999999418},{"$f":"SA!DP13-SA!DM13","v":-2600},{"$f":"SA!DQ13-SA!DN13","v":-4700},{"$f":"SA!DR13-SA!DO13","v":-5600.0000000000582},{"$f":"SA!DS13-SA!DP13","v":-3900},{"$f":"SA!DT13-SA!DQ13","v":-4600},{"$f":"SA!DU13-SA!DR13","v":-4600},{"$f":"SA!DV13-SA!DS13","v":-3700},{"$f":"SA!DW13-SA!DT13","v":-2400},{"$f":"SA!DX13-SA!DU13","v":-300},{"$f":"SA!DY13-SA!DV13","v":-500},{"$f":"SA!DZ13-SA!DW13","v":100},{"$f":"SA!EA13-SA!DX13","v":-600},{"$f":"SA!EB13-SA!DY13","v":400},{"$f":"SA!EC13-SA!DZ13","v":0},{"$f":"SA!ED13-SA!EA13","v":-400},{"$f":"SA!EE13-SA!EB13","v":1800},{"$f":"SA!EF13-SA!EC13","v":700},{"$f":"SA!EG13-SA!ED13","v":1700},{"$f":"SA!EH13-SA!EE13","v":-1100},{"$f":"SA!EI13-SA!EF13","v":300},{"$f":"SA!EJ13-SA!EG13","v":500},{"$f":"SA!EK13-SA!EH13","v":2000},{"$f":"SA!EL13-SA!EI13","v":0},{"$f":"SA!EM13-SA!EJ13","v":-900},{"$f":"SA!EN13-SA!EK13","v":0},{"$f":"SA!EO13-SA!EL13","v":2500},{"$f":"SA!EP13-SA!EM13","v":3900},{"$f":"SA!EQ13-SA!EN13","v":1200.0000000000582},{"$f":"SA!ER13-SA!EO13","v":1000},{"$f":"SA!ES13-SA!EP13","v":-100.00000000005821},{"$f":"SA!ET13-SA!EQ13","v":500},{"$f":"SA!EU13-SA!ER13","v":-299.99999999994179},{"$f":"SA!EV13-SA!ES13","v":0},{"$f":"SA!EW13-SA!ET13","v":-1300.0000000000582},{"$f":"SA!EX13-SA!EU13","v":-900.00000000005821},{"$f":"SA!EY13-SA!EV13","v":-799.99999999994179},{"$f":"SA!EZ13-SA!EW13","v":-900},{"$f":"SA!FA13-SA!EX13","v":-300},{"$f":"SA!FB13-SA!EY13","v":400},{"$f":"SA!FC13-SA!EZ13","v":2500},{"$f":"SA!FD13-SA!FA13","v":3200.0000000000582},{"$f":"SA!FE13-SA!FB13","v":2200},{"$f":"SA!FF13-SA!FC13","v":1799.9999999999418},{"$f":"SA!FG13-SA!FD13","v":1799.9999999999418},{"$f":"SA!FH13-SA!FE13","v":1699.9999999999418},{"$f":"SA!FI13-SA!FF13","v":1700.0000000000582},{"$f":"SA!FJ13-SA!FG13","v":1200.0000000000582},{"$f":"SA!FK13-SA!FH13","v":1600.0000000000582},{"$f":"SA!FL13-SA!FI13","v":1100},{"$f":"SA!FM13-SA!FJ13","v":1299.9999999999418},{"$f":"SA!FN13-SA!FK13","v":800.00000000005821},{"$f":"SA!FO13-SA!FL13","v":1199.9999999999418},{"$f":"SA!FP13-SA!FM13","v":100},{"$f":"SA!FQ13-SA!FN13","v":2299.9999999999418},{"$f":"SA!FR13-SA!FO13","v":2300.0000000000582},{"$f":"SA!FS13-SA!FP13","v":3500},{"$f":"SA!FT13-SA!FQ13","v":2799.9999999999418},{"$f":"SA!FU13-SA!FR13","v":4200},{"$f":"SA!FV13-SA!FS13","v":2400},{"$f":"SA!FW13-SA!FT13","v":1400.0000000000582},{"$f":"SA!FX13-SA!FU13","v":-300},{"$f":"SA!FY13-SA!FV13","v":500},{"$f":"SA!FZ13-SA!FW13","v":100},{"$f":"SA!GA13-SA!FX13","v":-300},{"$f":"SA!GB13-SA!FY13","v":1800},{"$f":"SA!GC13-SA!FZ13","v":1500},{"$f":"SA!GD13-SA!GA13","v":2400},{"$f":"SA!GE13-SA!GB13","v":200},{"$f":"SA!GF13-SA!GC13","v":2300},{"$f":"SA!GG13-SA!GD13","v":700},{"$f":"SA!GH13-SA!GE13","v":2500},{"$f":"SA!GI13-SA!GF13","v":1800},{"$f":"SA!GJ13-SA!GG13","v":5600},{"$f":"SA!GK13-SA!GH13","v":5100},{"$f":"SA!GL13-SA!GI13","v":4900},{"$f":"SA!GM13-SA!GJ13","v":2400},{"$f":"SA!GN13-SA!GK13","v":800},{"$f":"SA!GO13-SA!GL13","v":-1400},{"$f":"SA!GP13-SA!GM13","v":2400},{"$f":"SA!GQ13-SA!GN13","v":4300},{"$f":"SA!GR13-SA!GO13","v":5900},{"$f":"SA!GS13-SA!GP13","v":2800},{"$f":"SA!GT13-SA!GQ13","v":200},{"$f":"SA!GU13-SA!GR13","v":0},{"$f":"SA!GV13-SA!GS13","v":600},{"$f":"SA!GW13-SA!GT13","v":1600},{"$f":"SA!GX13-SA!GU13","v":1600},{"$f":"SA!GY13-SA!GV13","v":-3400},{"$f":"SA!GZ13-SA!GW13","v":-3600},{"$f":"SA!HA13-SA!GX13","v":-5600},{"$f":"SA!HB13-SA!GY13","v":3600},{"$f":"SA!HC13-SA!GZ13","v":6300},{"$f":"SA!HD13-SA!HA13","v":7900},{"$f":"SA!HE13-SA!HB13","v":1400},{"$f":"SA!HF13-SA!HC13","v":-300},{"$f":"SA!HG13-SA!HD13","v":400},{"$f":"SA!HH13-SA!HE13","v":-1600},{"$f":"SA!HI13-SA!HF13","v":-2900},{"$f":"SA!HJ13-SA!HG13","v":2000},{"$f":"SA!HK13-SA!HH13","v":-541600},{"$f":"SA!HL13-SA!HI13","v":-541000},{"$f":"SA!HM13-SA!HJ13","v":-546100},6452,1,null,"Trade, Transportation, and Utilities",-8900,-3224.9999999999854,-699.9999999999709,100,500,1650,2425,5900,2904.2261139566349]
["  Wholesale Trade",{"$f":"SA!BN14-SA!BK14","v":800},{"$f":"SA!BO14-SA!BL14","v":600},{"$f":"SA!BP14-SA!BM14","v":200},{"$f":"SA!BQ14-SA!BN14","v":1100},{"$f":"SA!BR14-SA!BO14","v":1200},{"$f":"SA!BS14-SA!BP14","v":1300},{"$f":"SA!BT14-SA!BQ14","v":500},{"$f":"SA!BU14-SA!BR14","v":400},{"$f":"SA!BV14-SA!BS14","v":800},{"$f":"SA!BW14-SA!BT14","v":800},{"$f":"SA!BX14-SA!BU14","v":900},{"$f":"SA!BY14-SA!BV14","v":1000},{"$f":"SA!BZ14-SA!BW14","v":1100},{"$f":"SA!CA14-SA!BX14","v":1100},{"$f":"SA!CB14-SA!BY14","v":900},{"$f":"SA!CC14-SA!BZ14","v":600},{"$f":"SA!CD14-SA!CA14","v":300},{"$f":"SA!CE14-SA!CB14","v":500},{"$f":"SA!CF14-SA!CC14","v":500},{"$f":"SA!CG14-SA!CD14","v":600},{"$f":"SA!CH14-SA!CE14","v":400},{"$f":"SA!CI14-SA!CF14","v":300},{"$f":"SA!CJ14-SA!CG14","v":200},{"$f":"SA!CK14-SA!CH14","v":200},{"$f":"SA!CL14-SA!CI14","v":200},{"$f":"SA!CM14-SA!CJ14","v":500},{"$f":"SA!CN14-SA!CK14","v":200},{"$f":"SA!CO14-SA!CL14","v":300},{"$f":"SA!CP14-SA!CM14","v":200},{"$f":"SA!CQ14-SA!CN14","v":600},{"$f":"SA!CR14-SA!CO14","v":600},{"$f":"SA!CS14-SA!CP14","v":200},{"$f":"SA!CT14-SA!CQ14","v":-100},{"$f":"SA!CU14-SA!CR14","v":-200},{"$f":"SA!CV14-SA!CS14","v":200},{"$f":"SA!CW14-SA!CT14","v":300},{"$f":"SA!CX14-SA!CU14","v":400},{"$f":"SA!CY14-SA!CV14","v":100},{"$f":"SA!CZ14-SA!CW14","v":100},{"$f":"SA!DA14-SA!CX14","v":0},{"$f":"SA!DB14-SA!CY14","v":200},{"$f":"SA!DC14-SA!CZ14","v":-100},{"$f":"SA!DD14-SA!DA14","v":-300},{"$f":"SA!DE14-SA!DB14","v":-400},{"$f":"SA!DF14-SA!DC14","v":-1000},{"$f":"SA!DG14-SA!DD14","v":-1600},{"$f":"SA!DH14-SA!DE14","v":-1800},{"$f":"SA!DI14-SA!DF14","v":-1800},{"$f":"SA!DJ14-SA!DG14","v":-1400},{"$f":"SA!DK14-SA!DH14","v":-1900},{"$f":"SA!DL14-SA!DI14","v":-1900},{"$f":"SA!DM14-SA!DJ14","v":-3400},{"$f":"SA!DN14-SA!DK14","v":-2700},{"$f":"SA!DO14-SA!DL14","v":-2600},{"$f":"SA!DP14-SA!DM14","v":-1500},{"$f":"SA!DQ14-SA!DN14","v":-2000},{"$f":"SA!DR14-SA!DO14","v":-1700},{"$f":"SA!DS14-SA!DP14","v":-800},{"$f":"SA!DT14-SA!DQ14","v":-800},{"$f":"SA!DU14-SA!DR14","v":-700},{"$f":"SA!DV14-SA!DS14","v":-1200},{"$f":"SA!DW14-SA!DT14","v":-900},{"$f":"SA!DX14-SA!DU14","v":-600},{"$f":"SA!DY14-SA!DV14","v":0},{"$f":"SA!DZ14-SA!DW14","v":100},{"$f":"SA!EA14-SA!DX14","v":-200},{"$f":"SA!EB14-SA!DY14","v":300},{"$f":"SA!EC14-SA!DZ14","v":700},{"$f":"SA!ED14-SA!EA14","v":400},{"$f":"SA!EE14-SA!EB14","v":600},{"$f":"SA!EF14-SA!EC14","v":300},{"$f":"SA!EG14-SA!ED14","v":1000},{"$f":"SA!EH14-SA!EE14","v":200},{"$f":"SA!EI14-SA!EF14","v":400},{"$f":"SA!EJ14-SA!EG14","v":400},{"$f":"SA!EK14-SA!EH14","v":700},{"$f":"SA!EL14-SA!EI14","v":600},{"$f":"SA!EM14-SA!EJ14","v":400},{"$f":"SA!EN14-SA!EK14","v":1100},{"$f":"SA!EO14-SA!EL14","v":1100},{"$f":"SA!EP14-SA!EM14","v":1400},{"$f":"SA!EQ14-SA!EN14","v":500},{"$f":"SA!ER14-SA!EO14","v":500},{"$f":"SA!ES14-SA!EP14","v":500},{"$f":"SA!ET14-SA!EQ14","v":600},{"$f":"SA!EU14-SA!ER14","v":600},{"$f":"SA!EV14-SA!ES14","v":900},{"$f":"SA!EW14-SA!ET14","v":600},{"$f":"SA!EX14-SA!EU14","v":200},{"$f":"SA!EY14-SA!EV14","v":-200},{"$f":"SA!EZ14-SA!EW14","v":-500},{"$f":"SA!FA14-SA!EX14","v":-200},{"$f":"SA!FB14-SA!EY14","v":-100},{"$f":"SA!FC14-SA!EZ14","v":300},{"$f":"SA!FD14-SA!FA14","v":500},{"$f":"SA!FE14-SA!FB14","v":500},{"$f":"SA!FF14-SA!FC14","v":1800},{"$f":"SA!FG14-SA!FD14","v":1700},{"$f":"SA!FH14-SA!FE14","v":1400},{"$f":"SA!FI14-SA!FF14","v":0},{"$f":"SA!FJ14-SA!FG14","v":100},{"$f":"SA!FK14-SA!FH14","v":100},{"$f":"SA!FL14-SA!FI14","v":100},{"$f":"SA!FM14-SA!FJ14","v":100},{"$f":"SA!FN14-SA!FK14","v":200},{"$f":"SA!FO14-SA!FL14","v":200},{"$f":"SA!FP14-SA!FM14","v":100},{"$f":"SA!FQ14-SA!FN14","v":200},{"$f":"SA!FR14-SA!FO14","v":200},{"$f":"SA!FS14-SA!FP14","v":300},{"$f":"SA!FT14-SA!FQ14","v":700},{"$f":"SA!FU14-SA!FR14","v":700},{"$f":"SA!FV14-SA!FS14","v":500},{"$f":"SA!FW14-SA!FT14","v":200},{"$f":"SA!FX14-SA!FU14","v":300},{"$f":"SA!FY14-SA!FV14","v":700},{"$f":"SA!FZ14-SA!FW14","v":300},{"$f":"SA!GA14-SA!FX14","v":0},{"$f":"SA!GB14-SA!FY14","v":-200},{"$f":"SA!GC14-SA!FZ14","v":200},{"$f":"SA!GD14-SA!GA14","v":1000},{"$f":"SA!GE14-SA!GB14","v":700},{"$f":"SA!GF14-SA!GC14","v":700},{"$f":"SA!GG14-SA!GD14","v":400},{"$f":"SA!GH14-SA!GE14","v":1100},{"$f":"SA!GI14-SA!GF14","v":1000},{"$f":"SA!GJ14-SA!GG14","v":1000},{"$f":"SA!GK14-SA!GH14","v":600},{"$f":"SA!GL14-SA!GI14","v":300},{"$f":"SA!GM14-SA!GJ14","v":600},{"$f":"SA!GN14-SA!GK14","v":600},{"$f":"SA!GO14-SA!GL14","v":900},{"$f":"SA!GP14-SA!GM14","v":500},{"$f":"SA!GQ14-SA!GN14","v":400},{"$f":"SA!GR14-SA!GO14","v":400},{"$f":"SA!GS14-SA!GP14","v":200},{"$f":"SA!GT14-SA!GQ14","v":0},{"$f":"SA!GU14-SA!GR14","v":-300},{"$f":"SA!GV14-SA!GS14","v":300},{"$f":"SA!GW14-SA!GT14","v":500},{"$f":"SA!GX14-SA!GU14","v":900},{"$f":"SA!GY14-SA!GV14","v":100},{"$f":"SA!GZ14-SA!GW14","v":-200},{"$f":"SA!HA14-SA!GX14","v":-1000},{"$f":"SA!HB14-SA!GY14","v":1000},{"$f":"SA!HC14-SA!GZ14","v":1500},{"$f":"SA!HD14-SA!HA14","v":3900},{"$f":"SA!HE14-SA!HB14","v":3500},{"$f":"SA!HF14-SA!HC14","v":2600},{"$f":"SA!HG14-SA!HD14","v":800},{"$f":"SA!HH14-SA!HE14","v":-2800},{"$f":"SA!HI14-SA!HF14","v":-1100},{"$f":"SA!HJ14-SA!HG14","v":800},{"$f":"SA!HK14-SA!HH14","v":-125900},{"$f":"SA!HL14-SA!HI14","v":-127000},{"$f":"SA!HM14-SA!HJ14","v":-128900},2578,3,null,"  Wholesale Trade",-3400,-425,100,225,400,600,900,1800,842.80611356451868]
["  Retail Trade",{"$f":"SA!BN15-SA!BK15","v":-1400},{"$f":"SA!BO15-SA!BL15","v":-400},{"$f":"SA!BP15-SA!BM15","v":400},{"$f":"SA!BQ15-SA!BN15","v":2000},{"$f":"SA!BR15-SA!BO15","v":500},{"$f":"SA!BS15-SA!BP15","v":-1500},{"$f":"SA!BT15-SA!BQ15","v":-800},{"$f":"SA!BU15-SA!BR15","v":700},{"$f":"SA!BV15-SA!BS15","v":1900},{"$f":"SA!BW15-SA!BT15","v":3400},{"$f":"SA!BX15-SA!BU15","v":1700},{"$f":"SA!BY15-SA!BV15","v":2500},{"$f":"SA!BZ15-SA!BW15","v":-6000},{"$f":"SA!CA15-SA!BX15","v":-4600},{"$f":"SA!CB15-SA!BY15","v":-4900},{"$f":"SA!CC15-SA!BZ15","v":900},{"$f":"SA!CD15-SA!CA15","v":-600},{"$f":"SA!CE15-SA!CB15","v":-600},{"$f":"SA!CF15-SA!CC15","v":-1800},{"$f":"SA!CG15-SA!CD15","v":-500},{"$f":"SA!CH15-SA!CE15","v":-900},{"$f":"SA!CI15-SA!CF15","v":500},{"$f":"SA!CJ15-SA!CG15","v":1800},{"$f":"SA!CK15-SA!CH15","v":2600},{"$f":"SA!CL15-SA!CI15","v":3300},{"$f":"SA!CM15-SA!CJ15","v":1200},{"$f":"SA!CN15-SA!CK15","v":1100},{"$f":"SA!CO15-SA!CL15","v":-2000},{"$f":"SA!CP15-SA!CM15","v":-100},{"$f":"SA!CQ15-SA!CN15","v":-1100},{"$f":"SA!CR15-SA!CO15","v":1100},{"$f":"SA!CS15-SA!CP15","v":-2300},{"$f":"SA!CT15-SA!CQ15","v":-2000},{"$f":"SA!CU15-SA!CR15","v":-3000},{"$f":"SA!CV15-SA!CS15","v":-1400},{"$f":"SA!CW15-SA!CT15","v":-1200},{"$f":"SA!CX15-SA!CU15","v":900},{"$f":"SA!CY15-SA!CV15","v":400},{"$f":"SA!CZ15-SA!CW15","v":400},{"$f":"SA!DA15-SA!CX15","v":-1000},{"$f":"SA!DB15-SA!CY15","v":-1400},{"$f":"SA!DC15-SA!CZ15","v":-2000},{"$f":"SA!DD15-SA!DA15","v":-1700},{"$f":"SA!DE15-SA!DB15","v":-1000},{"$f":"SA!DF15-SA!DC15","v":-1500},{"$f":"SA!DG15-SA!DD15","v":-3200},{"$f":"SA!DH15-SA!DE15","v":-4900},{"$f":"SA!DI15-SA!DF15","v":-4400},{"$f":"SA!DJ15-SA!DG15","v":-5000},{"$f":"SA!DK15-SA!DH15","v":-3700},{"$f":"SA!DL15-SA!DI15","v":-4800},{"$f":"SA!DM15-SA!DJ15","v":-4300},{"$f":"SA!DN15-SA!DK15","v":-3000},{"$f":"SA!DO15-SA!DL15","v":-1400},{"$f":"SA!DP15-SA!DM15","v":-800},{"$f":"SA!DQ15-SA!DN15","v":-1900},{"$f":"SA!DR15-SA!DO15","v":-2600},{"$f":"SA!DS15-SA!DP15","v":-2200},{"$f":"SA!DT15-SA!DQ15","v":-2300},{"$f":"SA!DU15-SA!DR15","v":-2400},{"$f":"SA!DV15-SA!DS15","v":-1600},{"$f":"SA!DW15-SA!DT15","v":-1300},{"$f":"SA!DX15-SA!DU15","v":200},{"$f":"SA!DY15-SA!DV15","v":-800},{"$f":"SA!DZ15-SA!DW15","v":200},{"$f":"SA!EA15-SA!DX15","v":-500},{"$f":"SA!EB15-SA!DY15","v":200},{"$f":"SA!EC15-SA!DZ15","v":-300},{"$f":"SA!ED15-SA!EA15","v":0},{"$f":"SA!EE15-SA!EB15","v":1700},{"$f":"SA!EF15-SA!EC15","v":600},{"$f":"SA!EG15-SA!ED15","v":700},{"$f":"SA!EH15-SA!EE15","v":-900},{"$f":"SA!EI15-SA!EF15","v":300},{"$f":"SA!EJ15-SA!EG15","v":600},{"$f":"SA!EK15-SA!EH15","v":1900},{"$f":"SA!EL15-SA!EI15","v":-100},{"$f":"SA!EM15-SA!EJ15","v":-800},{"$f":"SA!EN15-SA!EK15","v":-1000},{"$f":"SA!EO15-SA!EL15","v":1300},{"$f":"SA!EP15-SA!EM15","v":2200},{"$f":"SA!EQ15-SA!EN15","v":800},{"$f":"SA!ER15-SA!EO15","v":600},{"$f":"SA!ES15-SA!EP15","v":-300},{"$f":"SA!ET15-SA!EQ15","v":100},{"$f":"SA!EU15-SA!ER15","v":-600},{"$f":"SA!EV15-SA!ES15","v":-400},{"$f":"SA!EW15-SA!ET15","v":-1100},{"$f":"SA!EX15-SA!EU15","v":-1100},{"$f":"SA!EY15-SA!EV15","v":-1000},{"$f":"SA!EZ15-SA!EW15","v":-1300},{"$f":"SA!FA15-SA!EX15","v":0},{"$f":"SA!FB15-SA!EY15","v":400},{"$f":"SA!FC15-SA!EZ15","v":2300},{"$f":"SA!FD15-SA!FA15","v":2700},{"$f":"SA!FE15-SA!FB15","v":1900},{"$f":"SA!FF15-SA!FC15","v":200},{"$f":"SA!FG15-SA!FD15","v":0},{"$f":"SA!FH15-SA!FE15","v":100},{"$f":"SA!FI15-SA!FF15","v":1700},{"$f":"SA!FJ15-SA!FG15","v":1300},{"$f":"SA!FK15-SA!FH15","v":2400},{"$f":"SA!FL15-SA!FI15","v":1400},{"$f":"SA!FM15-SA!FJ15","v":1200},{"$f":"SA!FN15-SA!FK15","v":400},{"$f":"SA!FO15-SA!FL15","v":800},{"$f":"SA!FP15-SA!FM15","v":0},{"$f":"SA!FQ15-SA!FN15","v":1900},{"$f":"SA!FR15-SA!FO15","v":1700},{"$f":"SA!FS15-SA!FP15","v":2500},{"$f":"SA!FT15-SA!FQ15","v":1300},{"$f":"SA!FU15-SA!FR15","v":2500},{"$f":"SA!FV15-SA!FS15","v":1500},{"$f":"SA!FW15-SA!FT15","v":800},{"$f":"SA!FX15-SA!FU15","v":-400},{"$f":"SA!FY15-SA!FV15","v":-200},{"$f":"SA!FZ15-SA!FW15","v":-400},{"$f":"SA!GA15-SA!FX15","v":-700},{"$f":"SA!GB15-SA!FY15","v":700},{"$f":"SA!GC15-SA!FZ15","v":0},{"$f":"SA!GD15-SA!GA15","v":600},{"$f":"SA!GE15-SA!GB15","v":-400},{"$f":"SA!GF15-SA!GC15","v":1500},{"$f":"SA!GG15-SA!GD15","v":100},{"$f":"SA!GH15-SA!GE15","v":800},{"$f":"SA!GI15-SA!GF15","v":0},{"$f":"SA!GJ15-SA!GG15","v":1700},{"$f":"SA!GK15-SA!GH15","v":1600},{"$f":"SA!GL15-SA!GI15","v":2100},{"$f":"SA!GM15-SA!GJ15","v":1100},{"$f":"SA!GN15-SA!GK15","v":-200},{"$f":"SA!GO15-SA!GL15","v":-2900},{"$f":"SA!GP15-SA!GM15","v":1700},{"$f":"SA!GQ15-SA!GN15","v":3600},{"$f":"SA!GR15-SA!GO15","v":5800},{"$f":"SA!GS15-SA!GP15","v":2500},{"$f":"SA!GT15-SA!GQ15","v":200},{"$f":"SA!GU15-SA!GR15","v":-100},{"$f":"SA!GV15-SA!GS15","v":-300},{"$f":"SA!GW15-SA!GT15","v":600},{"$f":"SA!GX15-SA!GU15","v":500},{"$f":"SA!GY15-SA!GV15","v":-3400},{"$f":"SA!GZ15-SA!GW15","v":-3400},{"$f":"SA!HA15-SA!GX15","v":-5000},{"$f":"SA!HB15-SA!GY15","v":2800},{"$f":"SA!HC15-SA!GZ15","v":5100},{"$f":"SA!HD15-SA!HA15","v":5200},{"$f":"SA!HE15-SA!HB15","v":-1700},{"$f":"SA!HF15-SA!HC15","v":-2700},{"$f":"SA!HG15-SA!HD15","v":-400},{"$f":"SA!HH15-SA!HE15","v":400},{"$f":"SA!HI15-SA!HF15","v":-1800},{"$f":"SA!HJ15-SA!HG15","v":-2000},{"$f":"SA!HK15-SA!HH15","v":-308400},{"$f":"SA!HL15-SA!HI15","v":-307300},{"$f":"SA!HM15-SA!HJ15","v":-307700},4863,2,null,"  Retail Trade",-6000,-2050,-1000,-200,200,800,1700,5800,1980.7307416287892]
["  Transportation, Warehousing, and Utilities",{"$f":"SA!BN16-SA!BK16","v":-200},{"$f":"SA!BO16-SA!BL16","v":-300},{"$f":"SA!BP16-SA!BM16","v":400},{"$f":"SA!BQ16-SA!BN16","v":600},{"$f":"SA!BR16-SA!BO16","v":400},{"$f":"SA!BS16-SA!BP16","v":-100},{"$f":"SA!BT16-SA!BQ16","v":100},{"$f":"SA!BU16-SA!BR16","v":500},{"$f":"SA!BV16-SA!BS16","v":600},{"$f":"SA!BW16-SA!BT16","v":-500},{"$f":"SA!BX16-SA!BU16","v":-100},{"$f":"SA!BY16-SA!BV16","v":200},{"$f":"SA!BZ16-SA!BW16","v":1500},{"$f":"SA!CA16-SA!BX16","v":1100},{"$f":"SA!CB16-SA!BY16","v":900},{"$f":"SA!CC16-SA!BZ16","v":200},{"$f":"SA!CD16-SA!CA16","v":0},{"$f":"SA!CE16-SA!CB16","v":200},{"$f":"SA!CF16-SA!CC16","v":-100},{"$f":"SA!CG16-SA!CD16","v":100},{"$f":"SA!CH16-SA!CE16","v":100},{"$f":"SA!CI16-SA!CF16","v":200},{"$f":"SA!CJ16-SA!CG16","v":-100},{"$f":"SA!CK16-SA!CH16","v":200},{"$f":"SA!CL16-SA!CI16","v":300},{"$f":"SA!CM16-SA!CJ16","v":500},{"$f":"SA!CN16-SA!CK16","v":-200},{"$f":"SA!CO16-SA!CL16","v":-300},{"$f":"SA!CP16-SA!CM16","v":100},{"$f":"SA!CQ16-SA!CN16","v":900},{"$f":"SA!CR16-SA!CO16","v":-200},{"$f":"SA!CS16-SA!CP16","v":-100},{"$f":"SA!CT16-SA!CQ16","v":-900},{"$f":"SA!CU16-SA!CR16","v":600},{"$f":"SA!CV16-SA!CS16","v":300},{"$f":"SA!CW16-SA!CT16","v":300},{"$f":"SA!CX16-SA!CU16","v":400},{"$f":"SA!CY16-SA!CV16","v":-200},{"$f":"SA!CZ16-SA!CW16","v":-500},{"$f":"SA!DA16-SA!CX16","v":-1200},{"$f":"SA!DB16-SA!CY16","v":-1300},{"$f":"SA!DC16-SA!CZ16","v":-1500},{"$f":"SA!DD16-SA!DA16","v":-1200},{"$f":"SA!DE16-SA!DB16","v":-1100},{"$f":"SA!DF16-SA!DC16","v":-1200},{"$f":"SA!DG16-SA!DD16","v":-1200},{"$f":"SA!DH16-SA!DE16","v":-1200},{"$f":"SA!DI16-SA!DF16","v":-1000},{"$f":"SA!DJ16-SA!DG16","v":-1700},{"$f":"SA!DK16-SA!DH16","v":-1900},{"$f":"SA!DL16-SA!DI16","v":-2100},{"$f":"SA!DM16-SA!DJ16","v":-1200},{"$f":"SA!DN16-SA!DK16","v":-100},{"$f":"SA!DO16-SA!DL16","v":700},{"$f":"SA!DP16-SA!DM16","v":-300},{"$f":"SA!DQ16-SA!DN16","v":-800},{"$f":"SA!DR16-SA!DO16","v":-1300},{"$f":"SA!DS16-SA!DP16","v":-900},{"$f":"SA!DT16-SA!DQ16","v":-1500},{"$f":"SA!DU16-SA!DR16","v":-1500},{"$f":"SA!DV16-SA!DS16","v":-900},{"$f":"SA!DW16-SA!DT16","v":-200},{"$f":"SA!DX16-SA!DU16","v":100},{"$f":"SA!DY16-SA!DV16","v":300},{"$f":"SA!DZ16-SA!DW16","v":-200},{"$f":"SA!EA16-SA!DX16","v":100},{"$f":"SA!EB16-SA!DY16","v":-100},{"$f":"SA!EC16-SA!DZ16","v":-400},{"$f":"SA!ED16-SA!EA16","v":-800},{"$f":"SA!EE16-SA!EB16","v":-500},{"$f":"SA!EF16-SA!EC16","v":-200},{"$f":"SA!EG16-SA!ED16","v":0},{"$f":"SA!EH16-SA!EE16","v":-400},{"$f":"SA!EI16-SA!EF16","v":-400},{"$f":"SA!EJ16-SA!EG16","v":-500},{"$f":"SA!EK16-SA!EH16","v":-600},{"$f":"SA!EL16-SA!EI16","v":-500},{"$f":"SA!EM16-SA!EJ16","v":-500},{"$f":"SA!EN16-SA!EK16","v":-100},{"$f":"SA!EO16-SA!EL16","v":100},{"$f":"SA!EP16-SA!EM16","v":300},{"$f":"SA!EQ16-SA!EN16","v":-100},{"$f":"SA!ER16-SA!EO16","v":-100},{"$f":"SA!ES16-SA!EP16","v":-300},{"$f":"SA!ET16-SA!EQ16","v":-200},{"$f":"SA!EU16-SA!ER16","v":-300},{"$f":"SA!EV16-SA!ES16","v":-500},{"$f":"SA!EW16-SA!ET16","v":-800},{"$f":"SA!EX16-SA!EU16","v":0},{"$f":"SA!EY16-SA!EV16","v":400},{"$f":"SA!EZ16-SA!EW16","v":900},{"$f":"SA!FA16-SA!EX16","v":-100},{"$f":"SA!FB16-SA!EY16","v":100},{"$f":"SA!FC16-SA!EZ16","v":-100},{"$f":"SA!FD16-SA!FA16","v":0},{"$f":"SA!FE16-SA!FB16","v":-200},{"$f":"SA!FF16-SA!FC16","v":-200},{"$f":"SA!FG16-SA!FD16","v":100},{"$f":"SA!FH16-SA!FE16","v":200},{"$f":"SA!FI16-SA!FF16","v":0},{"$f":"SA!FJ16-SA!FG16","v":-200},{"$f":"SA!FK16-SA!FH16","v":-900},{"$f":"SA!FL16-SA!FI16","v":-400},{"$f":"SA!FM16-SA!FJ16","v":0},{"$f":"SA!FN16-SA!FK16","v":200},{"$f":"SA!FO16-SA!FL16","v":200},{"$f":"SA!FP16-SA!FM16","v":0},{"$f":"SA!FQ16-SA!FN16","v":200},{"$f":"SA!FR16-SA!FO16","v":400},{"$f":"SA!FS16-SA!FP16","v":700},{"$f":"SA!FT16-SA!FQ16","v":800},{"$f":"SA!FU16-SA!FR16","v":1000},{"$f":"SA!FV16-SA!FS16","v":400},{"$f":"SA!FW16-SA!FT16","v":400},{"$f":"SA!FX16-SA!FU16","v":-200},{"$f":"SA!FY16-SA!FV16","v":0},{"$f":"SA!FZ16-SA!FW16","v":200},{"$f":"SA!GA16-SA!FX16","v":400},{"$f":"SA!GB16-SA!FY16","v":1300},{"$f":"SA!GC16-SA!FZ16","v":1300},{"$f":"SA!GD16-SA!GA16","v":800},{"$f":"SA!GE16-SA!GB16","v":-100},{"$f":"SA!GF16-SA!GC16","v":100},{"$f":"SA!GG16-SA!GD16","v":200},{"$f":"SA!GH16-SA!GE16","v":600},{"$f":"SA!GI16-SA!GF16","v":800},{"$f":"SA!GJ16-SA!GG16","v":2900},{"$f":"SA!GK16-SA!GH16","v":2900},{"$f":"SA!GL16-SA!GI16","v":2500},{"$f":"SA!GM16-SA!GJ16","v":700},{"$f":"SA!GN16-SA!GK16","v":400},{"$f":"SA!GO16-SA!GL16","v":600},{"$f":"SA!GP16-SA!GM16","v":200},{"$f":"SA!GQ16-SA!GN16","v":300},{"$f":"SA!GR16-SA!GO16","v":-300},{"$f":"SA!GS16-SA!GP16","v":100},{"$f":"SA!GT16-SA!GQ16","v":0},{"$f":"SA!GU16-SA!GR16","v":400},{"$f":"SA!GV16-SA!GS16","v":600},{"$f":"SA!GW16-SA!GT16","v":500},{"$f":"SA!GX16-SA!GU16","v":200},{"$f":"SA!GY16-SA!GV16","v":-100},{"$f":"SA!GZ16-SA!GW16","v":0},{"$f":"SA!HA16-SA!GX16","v":400},{"$f":"SA!HB16-SA!GY16","v":-200},{"$f":"SA!HC16-SA!GZ16","v":-300},{"$f":"SA!HD16-SA!HA16","v":-1200},{"$f":"SA!HE16-SA!HB16","v":-400},{"$f":"SA!HF16-SA!HC16","v":-200},{"$f":"SA!HG16-SA!HD16","v":0},{"$f":"SA!HH16-SA!HE16","v":800},{"$f":"SA!HI16-SA!HF16","v":0},{"$f":"SA!HJ16-SA!HG16","v":3200},{"$f":"SA!HK16-SA!HH16","v":-107300},{"$f":"SA!HL16-SA!HI16","v":-106700},{"$f":"SA!HM16-SA!HJ16","v":-109500},3367,0,null,"  Transportation, Warehousing, and Utilities",-2100,-800,-200,-100,100,250,600,2900,761.39206848012577]
["Information",{"$f":"SA!BN17-SA!BK17","v":-100},{"$f":"SA!BO17-SA!BL17","v":100},{"$f":"SA!BP17-SA!BM17","v":100},{"$f":"SA!BQ17-SA!BN17","v":400},{"$f":"SA!BR17-SA!BO17","v":200},{"$f":"SA!BS17-SA!BP17","v":400},{"$f":"SA!BT17-SA!BQ17","v":-300},{"$f":"SA!BU17-SA!BR17","v":-200},{"$f":"SA!BV17-SA!BS17","v":-200},{"$f":"SA!BW17-SA!BT17","v":-100},{"$f":"SA!BX17-SA!BU17","v":-100},{"$f":"SA!BY17-SA!BV17","v":-200},{"$f":"SA!BZ17-SA!BW17","v":0},{"$f":"SA!CA17-SA!BX17","v":0},{"$f":"SA!CB17-SA!BY17","v":-100},{"$f":"SA!CC17-SA!BZ17","v":-400},{"$f":"SA!CD17-SA!CA17","v":-500},{"$f":"SA!CE17-SA!CB17","v":-500},{"$f":"SA!CF17-SA!CC17","v":-100},{"$f":"SA!CG17-SA!CD17","v":0},{"$f":"SA!CH17-SA!CE17","v":100},{"$f":"SA!CI17-SA!CF17","v":200},{"$f":"SA!CJ17-SA!CG17","v":300},{"$f":"SA!CK17-SA!CH17","v":400},{"$f":"SA!CL17-SA!CI17","v":500},{"$f":"SA!CM17-SA!CJ17","v":400},{"$f":"SA!CN17-SA!CK17","v":300},{"$f":"SA!CO17-SA!CL17","v":200},{"$f":"SA!CP17-SA!CM17","v":300},{"$f":"SA!CQ17-SA!CN17","v":500},{"$f":"SA!CR17-SA!CO17","v":500},{"$f":"SA!CS17-SA!CP17","v":400},{"$f":"SA!CT17-SA!CQ17","v":200},{"$f":"SA!CU17-SA!CR17","v":0},{"$f":"SA!CV17-SA!CS17","v":-100},{"$f":"SA!CW17-SA!CT17","v":-100},{"$f":"SA!CX17-SA!CU17","v":-200},{"$f":"SA!CY17-SA!CV17","v":-100},{"$f":"SA!CZ17-SA!CW17","v":-100},{"$f":"SA!DA17-SA!CX17","v":200},{"$f":"SA!DB17-SA!CY17","v":900},{"$f":"SA!DC17-SA!CZ17","v":400},{"$f":"SA!DD17-SA!DA17","v":-200},{"$f":"SA!DE17-SA!DB17","v":-1100},{"$f":"SA!DF17-SA!DC17","v":-800},{"$f":"SA!DG17-SA!DD17","v":-600},{"$f":"SA!DH17-SA!DE17","v":-700},{"$f":"SA!DI17-SA!DF17","v":-600},{"$f":"SA!DJ17-SA!DG17","v":-500},{"$f":"SA!DK17-SA!DH17","v":-100},{"$f":"SA!DL17-SA!DI17","v":-500},{"$f":"SA!DM17-SA!DJ17","v":-900},{"$f":"SA!DN17-SA!DK17","v":-900},{"$f":"SA!DO17-SA!DL17","v":-600},{"$f":"SA!DP17-SA!DM17","v":-500},{"$f":"SA!DQ17-SA!DN17","v":-800},{"$f":"SA!DR17-SA!DO17","v":-700},{"$f":"SA!DS17-SA!DP17","v":-900},{"$f":"SA!DT17-SA!DQ17","v":-600},{"$f":"SA!DU17-SA!DR17","v":-400},{"$f":"SA!DV17-SA!DS17","v":-100},{"$f":"SA!DW17-SA!DT17","v":-500},{"$f":"SA!DX17-SA!DU17","v":-500},{"$f":"SA!DY17-SA!DV17","v":-400},{"$f":"SA!DZ17-SA!DW17","v":0},{"$f":"SA!EA17-SA!DX17","v":100},{"$f":"SA!EB17-SA!DY17","v":300},{"$f":"SA!EC17-SA!DZ17","v":300},{"$f":"SA!ED17-SA!EA17","v":100},{"$f":"SA!EE17-SA!EB17","v":-200},{"$f":"SA!EF17-SA!EC17","v":100},{"$f":"SA!EG17-SA!ED17","v":100},{"$f":"SA!EH17-SA!EE17","v":400},{"$f":"SA!EI17-SA!EF17","v":100},{"$f":"SA!EJ17-SA!EG17","v":0},{"$f":"SA!EK17-SA!EH17","v":200},{"$f":"SA!EL17-SA!EI17","v":-100},{"$f":"SA!EM17-SA!EJ17","v":-400},{"$f":"SA!EN17-SA!EK17","v":-300},{"$f":"SA!EO17-SA!EL17","v":-200},{"$f":"SA!EP17-SA!EM17","v":300},{"$f":"SA!EQ17-SA!EN17","v":-100},{"$f":"SA!ER17-SA!EO17","v":0},{"$f":"SA!ES17-SA!EP17","v":-200},{"$f":"SA!ET17-SA!EQ17","v":-300},{"$f":"SA!EU17-SA!ER17","v":-300},{"$f":"SA!EV17-SA!ES17","v":-300},{"$f":"SA!EW17-SA!ET17","v":0},{"$f":"SA!EX17-SA!EU17","v":-100},{"$f":"SA!EY17-SA!EV17","v":300},{"$f":"SA!EZ17-SA!EW17","v":0},{"$f":"SA!FA17-SA!EX17","v":200},{"$f":"SA!FB17-SA!EY17","v":0},{"$f":"SA!FC17-SA!EZ17","v":200},{"$f":"SA!FD17-SA!FA17","v":200},{"$f":"SA!FE17-SA!FB17","v":-100},{"$f":"SA!FF17-SA!FC17","v":300},{"$f":"SA!FG17-SA!FD17","v":400},{"$f":"SA!FH17-SA!FE17","v":600},{"$f":"SA!FI17-SA!FF17","v":300},{"$f":"SA!FJ17-SA!FG17","v":100},{"$f":"SA!FK17-SA!FH17","v":200},{"$f":"SA!FL17-SA!FI17","v":100},{"$f":"SA!FM17-SA!FJ17","v":100},{"$f":"SA!FN17-SA!FK17","v":0},{"$f":"SA!FO17-SA!FL17","v":0},{"$f":"SA!FP17-SA!FM17","v":100},{"$f":"SA!FQ17-SA!FN17","v":200},{"$f":"SA!FR17-SA!FO17","v":200},{"$f":"SA!FS17-SA!FP17","v":200},{"$f":"SA!FT17-SA!FQ17","v":200},{"$f":"SA!FU17-SA!FR17","v":100},{"$f":"SA!FV17-SA!FS17","v":0},{"$f":"SA!FW17-SA!FT17","v":100},{"$f":"SA!FX17-SA!FU17","v":400},{"$f":"SA!FY17-SA!FV17","v":500},{"$f":"SA!FZ17-SA!FW17","v":100},{"$f":"SA!GA17-SA!FX17","v":300},{"$f":"SA!GB17-SA!FY17","v":200},{"$f":"SA!GC17-SA!FZ17","v":500},{"$f":"SA!GD17-SA!GA17","v":300},{"$f":"SA!GE17-SA!GB17","v":100},{"$f":"SA!GF17-SA!GC17","v":0},{"$f":"SA!GG17-SA!GD17","v":0},{"$f":"SA!GH17-SA!GE17","v":300},{"$f":"SA!GI17-SA!GF17","v":200},{"$f":"SA!GJ17-SA!GG17","v":400},{"$f":"SA!GK17-SA!GH17","v":500},{"$f":"SA!GL17-SA!GI17","v":700},{"$f":"SA!GM17-SA!GJ17","v":400},{"$f":"SA!GN17-SA!GK17","v":200},{"$f":"SA!GO17-SA!GL17","v":0},{"$f":"SA!GP17-SA!GM17","v":-100},{"$f":"SA!GQ17-SA!GN17","v":0},{"$f":"SA!GR17-SA!GO17","v":200},{"$f":"SA!GS17-SA!GP17","v":300},{"$f":"SA!GT17-SA!GQ17","v":-100},{"$f":"SA!GU17-SA!GR17","v":-300},{"$f":"SA!GV17-SA!GS17","v":-500},{"$f":"SA!GW17-SA!GT17","v":-400},{"$f":"SA!GX17-SA!GU17","v":-400},{"$f":"SA!GY17-SA!GV17","v":-1000},{"$f":"SA!GZ17-SA!GW17","v":-1200},{"$f":"SA!HA17-SA!GX17","v":-1100},{"$f":"SA!HB17-SA!GY17","v":-300},{"$f":"SA!HC17-SA!GZ17","v":500},{"$f":"SA!HD17-SA!HA17","v":200},{"$f":"SA!HE17-SA!HB17","v":100},{"$f":"SA!HF17-SA!HC17","v":-1200},{"$f":"SA!HG17-SA!HD17","v":-1100},{"$f":"SA!HH17-SA!HE17","v":-1500},{"$f":"SA!HI17-SA!HF17","v":-1000},{"$f":"SA!HJ17-SA!HG17","v":-700},{"$f":"SA!HK17-SA!HH17","v":-46400},{"$f":"SA!HL17-SA!HI17","v":-46000},{"$f":"SA!HM17-SA!HJ17","v":-46100},1360,0,null,"Information",-1200,-500,-150,0,100,200,300,900,388.68484230260702]
["Financial Activities",{"$f":"SA!BN18-SA!BK18","v":-100},{"$f":"SA!BO18-SA!BL18","v":-600},{"$f":"SA!BP18-SA!BM18","v":-300},{"$f":"SA!BQ18-SA!BN18","v":-100},{"$f":"SA!BR18-SA!BO18","v":400},{"$f":"SA!BS18-SA!BP18","v":100},{"$f":"SA!BT18-SA!BQ18","v":500},{"$f":"SA!BU18-SA!BR18","v":600},{"$f":"SA!BV18-SA!BS18","v":600},{"$f":"SA!BW18-SA!BT18","v":400},{"$f":"SA!BX18-SA!BU18","v":300},{"$f":"SA!BY18-SA!BV18","v":100},{"$f":"SA!BZ18-SA!BW18","v":200},{"$f":"SA!CA18-SA!BX18","v":0},{"$f":"SA!CB18-SA!BY18","v":200},{"$f":"SA!CC18-SA!BZ18","v":700},{"$f":"SA!CD18-SA!CA18","v":1200},{"$f":"SA!CE18-SA!CB18","v":1000},{"$f":"SA!CF18-SA!CC18","v":900},{"$f":"SA!CG18-SA!CD18","v":400},{"$f":"SA!CH18-SA!CE18","v":800},{"$f":"SA!CI18-SA!CF18","v":300},{"$f":"SA!CJ18-SA!CG18","v":400},{"$f":"SA!CK18-SA!CH18","v":300},{"$f":"SA!CL18-SA!CI18","v":400},{"$f":"SA!CM18-SA!CJ18","v":400},{"$f":"SA!CN18-SA!CK18","v":-100},{"$f":"SA!CO18-SA!CL18","v":-200},{"$f":"SA!CP18-SA!CM18","v":-500},{"$f":"SA!CQ18-SA!CN18","v":200},{"$f":"SA!CR18-SA!CO18","v":-300},{"$f":"SA!CS18-SA!CP18","v":-300},{"$f":"SA!CT18-SA!CQ18","v":-500},{"$f":"SA!CU18-SA!CR18","v":1200},{"$f":"SA!CV18-SA!CS18","v":1400},{"$f":"SA!CW18-SA!CT18","v":1400},{"$f":"SA!CX18-SA!CU18","v":300},{"$f":"SA!CY18-SA!CV18","v":900},{"$f":"SA!CZ18-SA!CW18","v":400},{"$f":"SA!DA18-SA!CX18","v":300},{"$f":"SA!DB18-SA!CY18","v":300},{"$f":"SA!DC18-SA!CZ18","v":100},{"$f":"SA!DD18-SA!DA18","v":200},{"$f":"SA!DE18-SA!DB18","v":-500},{"$f":"SA!DF18-SA!DC18","v":-700},{"$f":"SA!DG18-SA!DD18","v":-1200},{"$f":"SA!DH18-SA!DE18","v":-1200},{"$f":"SA!DI18-SA!DF18","v":-800},{"$f":"SA!DJ18-SA!DG18","v":-200},{"$f":"SA!DK18-SA!DH18","v":-700},{"$f":"SA!DL18-SA!DI18","v":-900},{"$f":"SA!DM18-SA!DJ18","v":-1200},{"$f":"SA!DN18-SA!DK18","v":-700},{"$f":"SA!DO18-SA!DL18","v":-600},{"$f":"SA!DP18-SA!DM18","v":-1200},{"$f":"SA!DQ18-SA!DN18","v":-1000},{"$f":"SA!DR18-SA!DO18","v":-1400},{"$f":"SA!DS18-SA!DP18","v":-900},{"$f":"SA!DT18-SA!DQ18","v":-1200},{"$f":"SA!DU18-SA!DR18","v":-900},{"$f":"SA!DV18-SA!DS18","v":-900},{"$f":"SA!DW18-SA!DT18","v":-1000},{"$f":"SA!DX18-SA!DU18","v":-400},{"$f":"SA!DY18-SA!DV18","v":-800},{"$f":"SA!DZ18-SA!DW18","v":-700},{"$f":"SA!EA18-SA!DX18","v":-1000},{"$f":"SA!EB18-SA!DY18","v":-600},{"$f":"SA!EC18-SA!DZ18","v":-700},{"$f":"SA!ED18-SA!EA18","v":-600},{"$f":"SA!EE18-SA!EB18","v":-200},{"$f":"SA!EF18-SA!EC18","v":200},{"$f":"SA!EG18-SA!ED18","v":-200},{"$f":"SA!EH18-SA!EE18","v":-500},{"$f":"SA!EI18-SA!EF18","v":-600},{"$f":"SA!EJ18-SA!EG18","v":-200},{"$f":"SA!EK18-SA!EH18","v":-300},{"$f":"SA!EL18-SA!EI18","v":-400},{"$f":"SA!EM18-SA!EJ18","v":-600},{"$f":"SA!EN18-SA!EK18","v":-200},{"$f":"SA!EO18-SA!EL18","v":-400},{"$f":"SA!EP18-SA!EM18","v":100},{"$f":"SA!EQ18-SA!EN18","v":-100},{"$f":"SA!ER18-SA!EO18","v":400},{"$f":"SA!ES18-SA!EP18","v":100},{"$f":"SA!ET18-SA!EQ18","v":600},{"$f":"SA!EU18-SA!ER18","v":300},{"$f":"SA!EV18-SA!ES18","v":400},{"$f":"SA!EW18-SA!ET18","v":-300},{"$f":"SA!EX18-SA!EU18","v":0},{"$f":"SA!EY18-SA!EV18","v":-200},{"$f":"SA!EZ18-SA!EW18","v":-100},{"$f":"SA!FA18-SA!EX18","v":-200},{"$f":"SA!FB18-SA!EY18","v":-100},{"$f":"SA!FC18-SA!EZ18","v":-100},{"$f":"SA!FD18-SA!FA18","v":-100},{"$f":"SA!FE18-SA!FB18","v":-200},{"$f":"SA!FF18-SA!FC18","v":-100},{"$f":"SA!FG18-SA!FD18","v":-200},{"$f":"SA!FH18-SA!FE18","v":100},{"$f":"SA!FI18-SA!FF18","v":-300},{"$f":"SA!FJ18-SA!FG18","v":-100},{"$f":"SA!FK18-SA!FH18","v":-200},{"$f":"SA!FL18-SA!FI18","v":400},{"$f":"SA!FM18-SA!FJ18","v":200},{"$f":"SA!FN18-SA!FK18","v":100},{"$f":"SA!FO18-SA!FL18","v":-400},{"$f":"SA!FP18-SA!FM18","v":-300},{"$f":"SA!FQ18-SA!FN18","v":-400},{"$f":"SA!FR18-SA!FO18","v":-1300},{"$f":"SA!FS18-SA!FP18","v":-1000},{"$f":"SA!FT18-SA!FQ18","v":-700},{"$f":"SA!FU18-SA!FR18","v":800},{"$f":"SA!FV18-SA!FS18","v":600},{"$f":"SA!FW18-SA!FT18","v":600},{"$f":"SA!FX18-SA!FU18","v":200},{"$f":"SA!FY18-SA!FV18","v":500},{"$f":"SA!FZ18-SA!FW18","v":700},{"$f":"SA!GA18-SA!FX18","v":500},{"$f":"SA!GB18-SA!FY18","v":100},{"$f":"SA!GC18-SA!FZ18","v":-100},{"$f":"SA!GD18-SA!GA18","v":300},{"$f":"SA!GE18-SA!GB18","v":500},{"$f":"SA!GF18-SA!GC18","v":400},{"$f":"SA!GG18-SA!GD18","v":100},{"$f":"SA!GH18-SA!GE18","v":300},{"$f":"SA!GI18-SA!GF18","v":200},{"$f":"SA!GJ18-SA!GG18","v":500},{"$f":"SA!GK18-SA!GH18","v":-300},{"$f":"SA!GL18-SA!GI18","v":-100},{"$f":"SA!GM18-SA!GJ18","v":100},{"$f":"SA!GN18-SA!GK18","v":500},{"$f":"SA!GO18-SA!GL18","v":200},{"$f":"SA!GP18-SA!GM18","v":-300},{"$f":"SA!GQ18-SA!GN18","v":-100},{"$f":"SA!GR18-SA!GO18","v":0},{"$f":"SA!GS18-SA!GP18","v":200},{"$f":"SA!GT18-SA!GQ18","v":100},{"$f":"SA!GU18-SA!GR18","v":0},{"$f":"SA!GV18-SA!GS18","v":600},{"$f":"SA!GW18-SA!GT18","v":400},{"$f":"SA!GX18-SA!GU18","v":400},{"$f":"SA!GY18-SA!GV18","v":-200},{"$f":"SA!GZ18-SA!GW18","v":-300},{"$f":"SA!HA18-SA!GX18","v":400},{"$f":"SA!HB18-SA!GY18","v":2200},{"$f":"SA!HC18-SA!GZ18","v":1600},{"$f":"SA!HD18-SA!HA18","v":1500},{"$f":"SA!HE18-SA!HB18","v":-300},{"$f":"SA!HF18-SA!HC18","v":-400},{"$f":"SA!HG18-SA!HD18","v":-1500},{"$f":"SA!HH18-SA!HE18","v":-2000},{"$f":"SA!HI18-SA!HF18","v":0},{"$f":"SA!HJ18-SA!HG18","v":1100},{"$f":"SA!HK18-SA!HH18","v":-151700},{"$f":"SA!HL18-SA!HI18","v":-152800},{"$f":"SA!HM18-SA!HJ18","v":-153300},2681,0,null,"Financial Activities",-1400,-700,-300,-100,100,300,500,1400,567.03249357107575]
["Real Estate and Rental and Leasing",{"$f":"SA!BN19-SA!BK19","v":100},{"$f":"SA!BO19-SA!BL19","v":-100},{"$f":"SA!BP19-SA!BM19","v":200},{"$f":"SA!BQ19-SA!BN19","v":100},{"$f":"SA!BR19-SA!BO19","v":200},{"$f":"SA!BS19-SA!BP19","v":-100},{"$f":"SA!BT19-SA!BQ19","v":100},{"$f":"SA!BU19-SA!BR19","v":0},{"$f":"SA!BV19-SA!BS19","v":300},{"$f":"SA!BW19-SA!BT19","v":-200},{"$f":"SA!BX19-SA!BU19","v":100},{"$f":"SA!BY19-SA!BV19","v":0},{"$f":"SA!BZ19-SA!BW19","v":200},{"$f":"SA!CA19-SA!BX19","v":0},{"$f":"SA!CB19-SA!BY19","v":-100},{"$f":"SA!CC19-SA!BZ19","v":0},{"$f":"SA!CD19-SA!CA19","v":100},{"$f":"SA!CE19-SA!CB19","v":200},{"$f":"SA!CF19-SA!CC19","v":300},{"$f":"SA!CG19-SA!CD19","v":100},{"$f":"SA!CH19-SA!CE19","v":0},{"$f":"SA!CI19-SA!CF19","v":-300},{"$f":"SA!CJ19-SA!CG19","v":-100},{"$f":"SA!CK19-SA!CH19","v":-100},{"$f":"SA!CL19-SA!CI19","v":0},{"$f":"SA!CM19-SA!CJ19","v":0},{"$f":"SA!CN19-SA!CK19","v":0},{"$f":"SA!CO19-SA!CL19","v":0},{"$f":"SA!CP19-SA!CM19","v":0},{"$f":"SA!CQ19-SA!CN19","v":0},{"$f":"SA!CR19-SA!CO19","v":-100},{"$f":"SA!CS19-SA!CP19","v":-200},{"$f":"SA!CT19-SA!CQ19","v":-200},{"$f":"SA!CU19-SA!CR19","v":0},{"$f":"SA!CV19-SA!CS19","v":-100},{"$f":"SA!CW19-SA!CT19","v":-100},{"$f":"SA!CX19-SA!CU19","v":-400},{"$f":"SA!CY19-SA!CV19","v":-100},{"$f":"SA!CZ19-SA!CW19","v":-200},{"$f":"SA!DA19-SA!CX19","v":-100},{"$f":"SA!DB19-SA!CY19","v":-300},{"$f":"SA!DC19-SA!CZ19","v":-300},{"$f":"SA!DD19-SA!DA19","v":-300},{"$f":"SA!DE19-SA!DB19","v":-400},{"$f":"SA!DF19-SA!DC19","v":-500},{"$f":"SA!DG19-SA!DD19","v":-300},{"$f":"SA!DH19-SA!DE19","v":-200},{"$f":"SA!DI19-SA!DF19","v":-100},{"$f":"SA!DJ19-SA!DG19","v":-700},{"$f":"SA!DK19-SA!DH19","v":-800},{"$f":"SA!DL19-SA!DI19","v":-900},{"$f":"SA!DM19-SA!DJ19","v":-700},{"$f":"SA!DN19-SA!DK19","v":-400},{"$f":"SA!DO19-SA!DL19","v":-200},{"$f":"SA!DP19-SA!DM19","v":-100},{"$f":"SA!DQ19-SA!DN19","v":-200},{"$f":"SA!DR19-SA!DO19","v":-300},{"$f":"SA!DS19-SA!DP19","v":-200},{"$f":"SA!DT19-SA!DQ19","v":-400},{"$f":"SA!DU19-SA!DR19","v":-300},{"$f":"SA!DV19-SA!DS19","v":0},{"$f":"SA!DW19-SA!DT19","v":100},{"$f":"SA!DX19-SA!DU19","v":0},{"$f":"SA!DY19-SA!DV19","v":-400},{"$f":"SA!DZ19-SA!DW19","v":-400},{"$f":"SA!EA19-SA!DX19","v":-500},{"$f":"SA!EB19-SA!DY19","v":-300},{"$f":"SA!EC19-SA!DZ19","v":-300},{"$f":"SA!ED19-SA!EA19","v":-200},{"$f":"SA!EE19-SA!EB19","v":0},{"$f":"SA!EF19-SA!EC19","v":0},{"$f":"SA!EG19-SA!ED19","v":100},{"$f":"SA!EH19-SA!EE19","v":-200},{"$f":"SA!EI19-SA!EF19","v":-100},{"$f":"SA!EJ19-SA!EG19","v":0},{"$f":"SA!EK19-SA!EH19","v":100},{"$f":"SA!EL19-SA!EI19","v":-200},{"$f":"SA!EM19-SA!EJ19","v":-200},{"$f":"SA!EN19-SA!EK19","v":-300},{"$f":"SA!EO19-SA!EL19","v":-100},{"$f":"SA!EP19-SA!EM19","v":-100},{"$f":"SA!EQ19-SA!EN19","v":-100},{"$f":"SA!ER19-SA!EO19","v":0},{"$f":"SA!ES19-SA!EP19","v":-100},{"$f":"SA!ET19-SA!EQ19","v":100},{"$f":"SA!EU19-SA!ER19","v":0},{"$f":"SA!EV19-SA!ES19","v":0},{"$f":"SA!EW19-SA!ET19","v":-100},{"$f":"SA!EX19-SA!EU19","v":100},{"$f":"SA!EY19-SA!EV19","v":100},{"$f":"SA!EZ19-SA!EW19","v":200},{"$f":"SA!FA19-SA!EX19","v":0},{"$f":"SA!FB19-SA!EY19","v":-100},{"$f":"SA!FC19-SA!EZ19","v":-100},{"$f":"SA!FD19-SA!FA19","v":-100},{"$f":"SA!FE19-SA!FB19","v":100},{"$f":"SA!FF19-SA!FC19","v":100},{"$f":"SA!FG19-SA!FD19","v":200},{"$f":"SA!FH19-SA!FE19","v":200},{"$f":"SA!FI19-SA!FF19","v":0},{"$f":"SA!FJ19-SA!FG19","v":200},{"$f":"SA!FK19-SA!FH19","v":0},{"$f":"SA!FL19-SA!FI19","v":200},{"$f":"SA!FM19-SA!FJ19","v":-100},{"$f":"SA!FN19-SA!FK19","v":100},{"$f":"SA!FO19-SA!FL19","v":-200},{"$f":"SA!FP19-SA!FM19","v":0},{"$f":"SA!FQ19-SA!FN19","v":-200},{"$f":"SA!FR19-SA!FO19","v":-100},{"$f":"SA!FS19-SA!FP19","v":-100},{"$f":"SA!FT19-SA!FQ19","v":100},{"$f":"SA!FU19-SA!FR19","v":200},{"$f":"SA!FV19-SA!FS19","v":100},{"$f":"SA!FW19-SA!FT19","v":100},{"$f":"SA!FX19-SA!FU19","v":0},{"$f":"SA!FY19-SA!FV19","v":0},{"$f":"SA!FZ19-SA!FW19","v":0},{"$f":"SA!GA19-SA!FX19","v":0},{"$f":"SA!GB19-SA!FY19","v":0},{"$f":"SA!GC19-SA!FZ19","v":-100},{"$f":"SA!GD19-SA!GA19","v":0},{"$f":"SA!GE19-SA!GB19","v":100},{"$f":"SA!GF19-SA!GC19","v":200},{"$f":"SA!GG19-SA!GD19","v":100},{"$f":"SA!GH19-SA!GE19","v":300},{"$f":"SA!GI19-SA!GF19","v":300},{"$f":"SA!GJ19-SA!GG19","v":600},{"$f":"SA!GK19-SA!GH19","v":300},{"$f":"SA!GL19-SA!GI19","v":300},{"$f":"SA!GM19-SA!GJ19","v":200},{"$f":"SA!GN19-SA!GK19","v":300},{"$f":"SA!GO19-SA!GL19","v":200},{"$f":"SA!GP19-SA!GM19","v":-200},{"$f":"SA!GQ19-SA!GN19","v":0},{"$f":"SA!GR19-SA!GO19","v":-100},{"$f":"SA!GS19-SA!GP19","v":300},{"$f":"SA!GT19-SA!GQ19","v":0},{"$f":"SA!GU19-SA!GR19","v":100},{"$f":"SA!GV19-SA!GS19","v":-100},{"$f":"SA!GW19-SA!GT19","v":0},{"$f":"SA!GX19-SA!GU19","v":0},{"$f":"SA!GY19-SA!GV19","v":100},{"$f":"SA!GZ19-SA!GW19","v":0},{"$f":"SA!HA19-SA!GX19","v":-200},{"$f":"SA!HB19-SA!GY19","v":400},{"$f":"SA!HC19-SA!GZ19","v":400},{"$f":"SA!HD19-SA!HA19","v":700},{"$f":"SA!HE19-SA!HB19","v":200},{"$f":"SA!HF19-SA!HC19","v":100},{"$f":"SA!HG19-SA!HD19","v":-100},{"$f":"SA!HH19-SA!HE19","v":-200},{"$f":"SA!HI19-SA!HF19","v":0},{"$f":"SA!HJ19-SA!HG19","v":300},{"$f":"SA!HK19-SA!HH19","v":-25800},{"$f":"SA!HL19-SA!HI19","v":-25900},{"$f":"SA!HM19-SA!HJ19","v":-26100},1013,0,null,"Real Estate and Rental and Leasing",-900,-300,-100,-75,0,100,200,600,222.34371678790865]
["Professional and Business Services",{"$f":"SA!BN20-SA!BK20","v":2199.9999999999709},{"$f":"SA!BO20-SA!BL20","v":2800},{"$f":"SA!BP20-SA!BM20","v":3899.9999999999709},{"$f":"SA!BQ20-SA!BN20","v":4000},{"$f":"SA!BR20-SA!BO20","v":2100},{"$f":"SA!BS20-SA!BP20","v":600},{"$f":"SA!BT20-SA!BQ20","v":1300},{"$f":"SA!BU20-SA!BR20","v":3200},{"$f":"SA!BV20-SA!BS20","v":3700},{"$f":"SA!BW20-SA!BT20","v":-300},{"$f":"SA!BX20-SA!BU20","v":900},{"$f":"SA!BY20-SA!BV20","v":1600},{"$f":"SA!BZ20-SA!BW20","v":2600},{"$f":"SA!CA20-SA!BX20","v":2200},{"$f":"SA!CB20-SA!BY20","v":1400},{"$f":"SA!CC20-SA!BZ20","v":5600},{"$f":"SA!CD20-SA!CA20","v":3200},{"$f":"SA!CE20-SA!CB20","v":3400},{"$f":"SA!CF20-SA!CC20","v":-800},{"$f":"SA!CG20-SA!CD20","v":-100},{"$f":"SA!CH20-SA!CE20","v":200},{"$f":"SA!CI20-SA!CF20","v":1800},{"$f":"SA!CJ20-SA!CG20","v":2400},{"$f":"SA!CK20-SA!CH20","v":600},{"$f":"SA!CL20-SA!CI20","v":1600},{"$f":"SA!CM20-SA!CJ20","v":1600},{"$f":"SA!CN20-SA!CK20","v":3900},{"$f":"SA!CO20-SA!CL20","v":3800},{"$f":"SA!CP20-SA!CM20","v":4000},{"$f":"SA!CQ20-SA!CN20","v":4300},{"$f":"SA!CR20-SA!CO20","v":1800},{"$f":"SA!CS20-SA!CP20","v":1500},{"$f":"SA!CT20-SA!CQ20","v":-500},{"$f":"SA!CU20-SA!CR20","v":-300},{"$f":"SA!CV20-SA!CS20","v":500},{"$f":"SA!CW20-SA!CT20","v":2400},{"$f":"SA!CX20-SA!CU20","v":3300},{"$f":"SA!CY20-SA!CV20","v":3300},{"$f":"SA!CZ20-SA!CW20","v":700},{"$f":"SA!DA20-SA!CX20","v":-700},{"$f":"SA!DB20-SA!CY20","v":-1400},{"$f":"SA!DC20-SA!CZ20","v":100},{"$f":"SA!DD20-SA!DA20","v":500},{"$f":"SA!DE20-SA!DB20","v":700},{"$f":"SA!DF20-SA!DC20","v":-1400},{"$f":"SA!DG20-SA!DD20","v":-4400},{"$f":"SA!DH20-SA!DE20","v":-8000},{"$f":"SA!DI20-SA!DF20","v":-8300},{"$f":"SA!DJ20-SA!DG20","v":-10200},{"$f":"SA!DK20-SA!DH20","v":-11900},{"$f":"SA!DL20-SA!DI20","v":-14599.999999999971},{"$f":"SA!DM20-SA!DJ20","v":-11700},{"$f":"SA!DN20-SA!DK20","v":-6900},{"$f":"SA!DO20-SA!DL20","v":-4000},{"$f":"SA!DP20-SA!DM20","v":-1900},{"$f":"SA!DQ20-SA!DN20","v":-2699.9999999999709},{"$f":"SA!DR20-SA!DO20","v":-600.0000000000291},{"$f":"SA!DS20-SA!DP20","v":2099.9999999999709},{"$f":"SA!DT20-SA!DQ20","v":5299.9999999999709},{"$f":"SA!DU20-SA!DR20","v":6000},{"$f":"SA!DV20-SA!DS20","v":4200.0000000000291},{"$f":"SA!DW20-SA!DT20","v":4800},{"$f":"SA!DX20-SA!DU20","v":2500},{"$f":"SA!DY20-SA!DV20","v":7400},{"$f":"SA!DZ20-SA!DW20","v":5200},{"$f":"SA!EA20-SA!DX20","v":6800},{"$f":"SA!EB20-SA!DY20","v":3600},{"$f":"SA!EC20-SA!DZ20","v":5200},{"$f":"SA!ED20-SA!EA20","v":4900},{"$f":"SA!EE20-SA!EB20","v":5900},{"$f":"SA!EF20-SA!EC20","v":4900},{"$f":"SA!EG20-SA!ED20","v":6800},{"$f":"SA!EH20-SA!EE20","v":4600},{"$f":"SA!EI20-SA!EF20","v":2900},{"$f":"SA!EJ20-SA!EG20","v":3000},{"$f":"SA!EK20-SA!EH20","v":500},{"$f":"SA!EL20-SA!EI20","v":500},{"$f":"SA!EM20-SA!EJ20","v":-800},{"$f":"SA!EN20-SA!EK20","v":1900},{"$f":"SA!EO20-SA!EL20","v":2200},{"$f":"SA!EP20-SA!EM20","v":3200},{"$f":"SA!EQ20-SA!EN20","v":1300},{"$f":"SA!ER20-SA!EO20","v":2000},{"$f":"SA!ES20-SA!EP20","v":0},{"$f":"SA!ET20-SA!EQ20","v":1900},{"$f":"SA!EU20-SA!ER20","v":1700},{"$f":"SA!EV20-SA!ES20","v":5200},{"$f":"SA!EW20-SA!ET20","v":4300},{"$f":"SA!EX20-SA!EU20","v":2300},{"$f":"SA!EY20-SA!EV20","v":-300},{"$f":"SA!EZ20-SA!EW20","v":-1900},{"$f":"SA!FA20-SA!EX20","v":-800},{"$f":"SA!FB20-SA!EY20","v":100},{"$f":"SA!FC20-SA!EZ20","v":1900},{"$f":"SA!FD20-SA!FA20","v":4200},{"$f":"SA!FE20-SA!FB20","v":400},{"$f":"SA!FF20-SA!FC20","v":600},{"$f":"SA!FG20-SA!FD20","v":1100},{"$f":"SA!FH20-SA!FE20","v":6400},{"$f":"SA!FI20-SA!FF20","v":2500},{"$f":"SA!FJ20-SA!FG20","v":2000},{"$f":"SA!FK20-SA!FH20","v":800},{"$f":"SA!FL20-SA!FI20","v":4300},{"$f":"SA!FM20-SA!FJ20","v":3000},{"$f":"SA!FN20-SA!FK20","v":1300},{"$f":"SA!FO20-SA!FL20","v":0},{"$f":"SA!FP20-SA!FM20","v":1400},{"$f":"SA!FQ20-SA!FN20","v":1700},{"$f":"SA!FR20-SA!FO20","v":3200},{"$f":"SA!FS20-SA!FP20","v":1200},{"$f":"SA!FT20-SA!FQ20","v":400},{"$f":"SA!FU20-SA!FR20","v":100},{"$f":"SA!FV20-SA!FS20","v":1000},{"$f":"SA!FW20-SA!FT20","v":1800},{"$f":"SA!FX20-SA!FU20","v":1000},{"$f":"SA!FY20-SA!FV20","v":1200},{"$f":"SA!FZ20-SA!FW20","v":700},{"$f":"SA!GA20-SA!FX20","v":2700},{"$f":"SA!GB20-SA!FY20","v":3200},{"$f":"SA!GC20-SA!FZ20","v":1000},{"$f":"SA!GD20-SA!GA20","v":900},{"$f":"SA!GE20-SA!GB20","v":-1200},{"$f":"SA!GF20-SA!GC20","v":1800},{"$f":"SA!GG20-SA!GD20","v":1600},{"$f":"SA!GH20-SA!GE20","v":3300},{"$f":"SA!GI20-SA!GF20","v":3200},{"$f":"SA!GJ20-SA!GG20","v":3400},{"$f":"SA!GK20-SA!GH20","v":3700},{"$f":"SA!GL20-SA!GI20","v":1900},{"$f":"SA!GM20-SA!GJ20","v":1300},{"$f":"SA!GN20-SA!GK20","v":500},{"$f":"SA!GO20-SA!GL20","v":3200},{"$f":"SA!GP20-SA!GM20","v":5500},{"$f":"SA!GQ20-SA!GN20","v":4900},{"$f":"SA!GR20-SA!GO20","v":3100},{"$f":"SA!GS20-SA!GP20","v":300},{"$f":"SA!GT20-SA!GQ20","v":-1000},{"$f":"SA!GU20-SA!GR20","v":-1800},{"$f":"SA!GV20-SA!GS20","v":-300},{"$f":"SA!GW20-SA!GT20","v":100},{"$f":"SA!GX20-SA!GU20","v":1500},{"$f":"SA!GY20-SA!GV20","v":-1500},{"$f":"SA!GZ20-SA!GW20","v":-1200},{"$f":"SA!HA20-SA!GX20","v":-2000},{"$f":"SA!HB20-SA!GY20","v":700},{"$f":"SA!HC20-SA!GZ20","v":2400},{"$f":"SA!HD20-SA!HA20","v":6000},{"$f":"SA!HE20-SA!HB20","v":2800},{"$f":"SA!HF20-SA!HC20","v":3900},{"$f":"SA!HG20-SA!HD20","v":-4000},{"$f":"SA!HH20-SA!HE20","v":200},{"$f":"SA!HI20-SA!HF20","v":-5800},{"$f":"SA!HJ20-SA!HG20","v":600},{"$f":"SA!HK20-SA!HH20","v":-324800},{"$f":"SA!HL20-SA!HI20","v":-321200},{"$f":"SA!HM20-SA!HJ20","v":-322900},6113,0,null,"Professional and Business Services",-14599.999999999971,-800,500,1325,1875,3050,4200.0000000000073,7400,3422.9914781842817]
["  Professional, Scientific, and Technical Services",{"$f":"SA!BN21-SA!BK21","v":1100},{"$f":"SA!BO21-SA!BL21","v":900},{"$f":"SA!BP21-SA!BM21","v":1000},{"$f":"SA!BQ21-SA!BN21","v":400},{"$f":"SA!BR21-SA!BO21","v":400},{"$f":"SA!BS21-SA!BP21","v":500},{"$f":"SA!BT21-SA!BQ21","v":1100},{"$f":"SA!BU21-SA!BR21","v":1300},{"$f":"SA!BV21-SA!BS21","v":1300},{"$f":"SA!BW21-SA!BT21","v":800},{"$f":"SA!BX21-SA!BU21","v":700},{"$f":"SA!BY21-SA!BV21","v":900},{"$f":"SA!BZ21-SA!BW21","v":900},{"$f":"SA!CA21-SA!BX21","v":800},{"$f":"SA!CB21-SA!BY21","v":300},{"$f":"SA!CC21-SA!BZ21","v":1100},{"$f":"SA!CD21-SA!CA21","v":800},{"$f":"SA!CE21-SA!CB21","v":1100},{"$f":"SA!CF21-SA!CC21","v":300},{"$f":"SA!CG21-SA!CD21","v":400},{"$f":"SA!CH21-SA!CE21","v":200},{"$f":"SA!CI21-SA!CF21","v":300},{"$f":"SA!CJ21-SA!CG21","v":300},{"$f":"SA!CK21-SA!CH21","v":100},{"$f":"SA!CL21-SA!CI21","v":600},{"$f":"SA!CM21-SA!CJ21","v":700},{"$f":"SA!CN21-SA!CK21","v":1200},{"$f":"SA!CO21-SA!CL21","v":1100},{"$f":"SA!CP21-SA!CM21","v":1400},{"$f":"SA!CQ21-SA!CN21","v":1300},{"$f":"SA!CR21-SA!CO21","v":1000},{"$f":"SA!CS21-SA!CP21","v":800},{"$f":"SA!CT21-SA!CQ21","v":600},{"$f":"SA!CU21-SA!CR21","v":300},{"$f":"SA!CV21-SA!CS21","v":300},{"$f":"SA!CW21-SA!CT21","v":300},{"$f":"SA!CX21-SA!CU21","v":500},{"$f":"SA!CY21-SA!CV21","v":600},{"$f":"SA!CZ21-SA!CW21","v":500},{"$f":"SA!DA21-SA!CX21","v":1600},{"$f":"SA!DB21-SA!CY21","v":1000},{"$f":"SA!DC21-SA!CZ21","v":1100},{"$f":"SA!DD21-SA!DA21","v":-300},{"$f":"SA!DE21-SA!DB21","v":200},{"$f":"SA!DF21-SA!DC21","v":200},{"$f":"SA!DG21-SA!DD21","v":-100},{"$f":"SA!DH21-SA!DE21","v":-800},{"$f":"SA!DI21-SA!DF21","v":-1200},{"$f":"SA!DJ21-SA!DG21","v":-1600},{"$f":"SA!DK21-SA!DH21","v":-1800},{"$f":"SA!DL21-SA!DI21","v":-2400},{"$f":"SA!DM21-SA!DJ21","v":-2800},{"$f":"SA!DN21-SA!DK21","v":-3200},{"$f":"SA!DO21-SA!DL21","v":-2700},{"$f":"SA!DP21-SA!DM21","v":-2400},{"$f":"SA!DQ21-SA!DN21","v":-1900},{"$f":"SA!DR21-SA!DO21","v":-1700},{"$f":"SA!DS21-SA!DP21","v":-900},{"$f":"SA!DT21-SA!DQ21","v":100},{"$f":"SA!DU21-SA!DR21","v":-200},{"$f":"SA!DV21-SA!DS21","v":-100},{"$f":"SA!DW21-SA!DT21","v":-600},{"$f":"SA!DX21-SA!DU21","v":0},{"$f":"SA!DY21-SA!DV21","v":0},{"$f":"SA!DZ21-SA!DW21","v":200},{"$f":"SA!EA21-SA!DX21","v":100},{"$f":"SA!EB21-SA!DY21","v":600},{"$f":"SA!EC21-SA!DZ21","v":600},{"$f":"SA!ED21-SA!EA21","v":400},{"$f":"SA!EE21-SA!EB21","v":700},{"$f":"SA!EF21-SA!EC21","v":800},{"$f":"SA!EG21-SA!ED21","v":1500},{"$f":"SA!EH21-SA!EE21","v":1000},{"$f":"SA!EI21-SA!EF21","v":1100},{"$f":"SA!EJ21-SA!EG21","v":500},{"$f":"SA!EK21-SA!EH21","v":1000},{"$f":"SA!EL21-SA!EI21","v":500},{"$f":"SA!EM21-SA!EJ21","v":300},{"$f":"SA!EN21-SA!EK21","v":-200},{"$f":"SA!EO21-SA!EL21","v":200},{"$f":"SA!EP21-SA!EM21","v":900},{"$f":"SA!EQ21-SA!EN21","v":500},{"$f":"SA!ER21-SA!EO21","v":1000},{"$f":"SA!ES21-SA!EP21","v":100},{"$f":"SA!ET21-SA!EQ21","v":500},{"$f":"SA!EU21-SA!ER21","v":0},{"$f":"SA!EV21-SA!ES21","v":800},{"$f":"SA!EW21-SA!ET21","v":800},{"$f":"SA!EX21-SA!EU21","v":700},{"$f":"SA!EY21-SA!EV21","v":900},{"$f":"SA!EZ21-SA!EW21","v":100},{"$f":"SA!FA21-SA!EX21","v":100},{"$f":"SA!FB21-SA!EY21","v":-300},{"$f":"SA!FC21-SA!EZ21","v":700},{"$f":"SA!FD21-SA!FA21","v":2100},{"$f":"SA!FE21-SA!FB21","v":400},{"$f":"SA!FF21-SA!FC21","v":100},{"$f":"SA!FG21-SA!FD21","v":-1000},{"$f":"SA!FH21-SA!FE21","v":700},{"$f":"SA!FI21-SA!FF21","v":500},{"$f":"SA!FJ21-SA!FG21","v":400},{"$f":"SA!FK21-SA!FH21","v":300},{"$f":"SA!FL21-SA!FI21","v":1000},{"$f":"SA!FM21-SA!FJ21","v":500},{"$f":"SA!FN21-SA!FK21","v":700},{"$f":"SA!FO21-SA!FL21","v":100},{"$f":"SA!FP21-SA!FM21","v":600},{"$f":"SA!FQ21-SA!FN21","v":600},{"$f":"SA!FR21-SA!FO21","v":100},{"$f":"SA!FS21-SA!FP21","v":-200},{"$f":"SA!FT21-SA!FQ21","v":-100},{"$f":"SA!FU21-SA!FR21","v":300},{"$f":"SA!FV21-SA!FS21","v":400},{"$f":"SA!FW21-SA!FT21","v":800},{"$f":"SA!FX21-SA!FU21","v":700},{"$f":"SA!FY21-SA!FV21","v":800},{"$f":"SA!FZ21-SA!FW21","v":-200},{"$f":"SA!GA21-SA!FX21","v":-100},{"$f":"SA!GB21-SA!FY21","v":-100},{"$f":"SA!GC21-SA!FZ21","v":600},{"$f":"SA!GD21-SA!GA21","v":1700},{"$f":"SA!GE21-SA!GB21","v":1400},{"$f":"SA!GF21-SA!GC21","v":1500},{"$f":"SA!GG21-SA!GD21","v":700},{"$f":"SA!GH21-SA!GE21","v":1300},{"$f":"SA!GI21-SA!GF21","v":1300},{"$f":"SA!GJ21-SA!GG21","v":1200},{"$f":"SA!GK21-SA!GH21","v":800},{"$f":"SA!GL21-SA!GI21","v":500},{"$f":"SA!GM21-SA!GJ21","v":800},{"$f":"SA!GN21-SA!GK21","v":900},{"$f":"SA!GO21-SA!GL21","v":800},{"$f":"SA!GP21-SA!GM21","v":700},{"$f":"SA!GQ21-SA!GN21","v":700},{"$f":"SA!GR21-SA!GO21","v":700},{"$f":"SA!GS21-SA!GP21","v":600},{"$f":"SA!GT21-SA!GQ21","v":500},{"$f":"SA!GU21-SA!GR21","v":300},{"$f":"SA!GV21-SA!GS21","v":700},{"$f":"SA!GW21-SA!GT21","v":700},{"$f":"SA!GX21-SA!GU21","v":1200},{"$f":"SA!GY21-SA!GV21","v":-1200},{"$f":"SA!GZ21-SA!GW21","v":-1400},{"$f":"SA!HA21-SA!GX21","v":-2700},{"$f":"SA!HB21-SA!GY21","v":-700},{"$f":"SA!HC21-SA!GZ21","v":-200},{"$f":"SA!HD21-SA!HA21","v":2300},{"$f":"SA!HE21-SA!HB21","v":1700},{"$f":"SA!HF21-SA!HC21","v":2800},{"$f":"SA!HG21-SA!HD21","v":-1000},{"$f":"SA!HH21-SA!HE21","v":-1200},{"$f":"SA!HI21-SA!HF21","v":-4600},{"$f":"SA!HJ21-SA!HG21","v":-2300},{"$f":"SA!HK21-SA!HH21","v":-106400},{"$f":"SA!HL21-SA!HI21","v":-104500},{"$f":"SA!HM21-SA!HJ21","v":-104600},2843,0,null,"  Professional, Scientific, and Technical Services",-3200,-200,200,500,600,800,1100,2100,924.81829004338215]
["  Administrative and Support and Waste Management and Remediation Services",{"$f":"SA!BN23-SA!BK23","v":900},{"$f":"SA!BO23-SA!BL23","v":1600},{"$f":"SA!BP23-SA!BM23","v":2399.9999999999854},{"$f":"SA!BQ23-SA!BN23","v":3100},{"$f":"SA!BR23-SA!BO23","v":1500},{"$f":"SA!BS23-SA!BP23","v":0},{"$f":"SA!BT23-SA!BQ23","v":200},{"$f":"SA!BU23-SA!BR23","v":1700.0000000000146},{"$f":"SA!BV23-SA!BS23","v":2300.0000000000146},{"$f":"SA!BW23-SA!BT23","v":-900.00000000001455},{"$f":"SA!BX23-SA!BU23","v":399.9999999999709},{"$f":"SA!BY23-SA!BV23","v":800},{"$f":"SA!BZ23-SA!BW23","v":1800.0000000000146},{"$f":"SA!CA23-SA!BX23","v":1700.0000000000146},{"$f":"SA!CB23-SA!BY23","v":1400},{"$f":"SA!CC23-SA!BZ23","v":4000},{"$f":"SA!CD23-SA!CA23","v":1800},{"$f":"SA!CE23-SA!CB23","v":1500},{"$f":"SA!CF23-SA!CC23","v":-1500},{"$f":"SA!CG23-SA!CD23","v":-1000},{"$f":"SA!CH23-SA!CE23","v":-400},{"$f":"SA!CI23-SA!CF23","v":900},{"$f":"SA!CJ23-SA!CG23","v":1500},{"$f":"SA!CK23-SA!CH23","v":0},{"$f":"SA!CL23-SA!CI23","v":200},{"$f":"SA!CM23-SA!CJ23","v":0},{"$f":"SA!CN23-SA!CK23","v":1700},{"$f":"SA!CO23-SA!CL23","v":2000},{"$f":"SA!CP23-SA!CM23","v":2100},{"$f":"SA!CQ23-SA!CN23","v":2700},{"$f":"SA!CR23-SA!CO23","v":1200},{"$f":"SA!CS23-SA!CP23","v":1200},{"$f":"SA!CT23-SA!CQ23","v":-600},{"$f":"SA!CU23-SA!CR23","v":-700},{"$f":"SA!CV23-SA!CS23","v":-100},{"$f":"SA!CW23-SA!CT23","v":1800},{"$f":"SA!CX23-SA!CU23","v":2300},{"$f":"SA!CY23-SA!CV23","v":2100},{"$f":"SA!CZ23-SA!CW23","v":-400},{"$f":"SA!DA23-SA!CX23","v":-2700},{"$f":"SA!DB23-SA!CY23","v":-3000},{"$f":"SA!DC23-SA!CZ23","v":-1700},{"$f":"SA!DD23-SA!DA23","v":-200},{"$f":"SA!DE23-SA!DB23","v":-200},{"$f":"SA!DF23-SA!DC23","v":-2400},{"$f":"SA!DG23-SA!DD23","v":-4500},{"$f":"SA!DH23-SA!DE23","v":-7499.9999999999854},{"$f":"SA!DI23-SA!DF23","v":-7300},{"$f":"SA!DJ23-SA!DG23","v":-8600},{"$f":"SA!DK23-SA!DH23","v":-9900.0000000000146},{"$f":"SA!DL23-SA!DI23","v":-11700},{"$f":"SA!DM23-SA!DJ23","v":-8500},{"$f":"SA!DN23-SA!DK23","v":-3400},{"$f":"SA!DO23-SA!DL23","v":-1300},{"$f":"SA!DP23-SA!DM23","v":100},{"$f":"SA!DQ23-SA!DN23","v":-1100},{"$f":"SA!DR23-SA!DO23","v":700},{"$f":"SA!DS23-SA!DP23","v":2800},{"$f":"SA!DT23-SA!DQ23","v":4900},{"$f":"SA!DU23-SA!DR23","v":5800},{"$f":"SA!DV23-SA!DS23","v":4500},{"$f":"SA!DW23-SA!DT23","v":5100},{"$f":"SA!DX23-SA!DU23","v":2200},{"$f":"SA!DY23-SA!DV23","v":6000.0000000000146},{"$f":"SA!DZ23-SA!DW23","v":4100},{"$f":"SA!EA23-SA!DX23","v":5800},{"$f":"SA!EB23-SA!DY23","v":2699.9999999999854},{"$f":"SA!EC23-SA!DZ23","v":3600},{"$f":"SA!ED23-SA!EA23","v":3700},{"$f":"SA!EE23-SA!EB23","v":3900},{"$f":"SA!EF23-SA!EC23","v":3200},{"$f":"SA!EG23-SA!ED23","v":4100},{"$f":"SA!EH23-SA!EE23","v":2700},{"$f":"SA!EI23-SA!EF23","v":1000},{"$f":"SA!EJ23-SA!EG23","v":1900},{"$f":"SA!EK23-SA!EH23","v":-1300},{"$f":"SA!EL23-SA!EI23","v":-700},{"$f":"SA!EM23-SA!EJ23","v":-1800},{"$f":"SA!EN23-SA!EK23","v":1500},{"$f":"SA!EO23-SA!EL23","v":1300},{"$f":"SA!EP23-SA!EM23","v":1400},{"$f":"SA!EQ23-SA!EN23","v":-100},{"$f":"SA!ER23-SA!EO23","v":300},{"$f":"SA!ES23-SA!EP23","v":-600},{"$f":"SA!ET23-SA!EQ23","v":800},{"$f":"SA!EU23-SA!ER23","v":1100},{"$f":"SA!EV23-SA!ES23","v":3700},{"$f":"SA!EW23-SA!ET23","v":2900},{"$f":"SA!EX23-SA!EU23","v":1000},{"$f":"SA!EY23-SA!EV23","v":-1800},{"$f":"SA!EZ23-SA!EW23","v":-2400},{"$f":"SA!FA23-SA!EX23","v":-1200},{"$f":"SA!FB23-SA!EY23","v":400},{"$f":"SA!FC23-SA!EZ23","v":1000},{"$f":"SA!FD23-SA!FA23","v":1600},{"$f":"SA!FE23-SA!FB23","v":-800},{"$f":"SA!FF23-SA!FC23","v":-400},{"$f":"SA!FG23-SA!FD23","v":1200},{"$f":"SA!FH23-SA!FE23","v":4600},{"$f":"SA!FI23-SA!FF23","v":1400},{"$f":"SA!FJ23-SA!FG23","v":1200},{"$f":"SA!FK23-SA!FH23","v":200},{"$f":"SA!FL23-SA!FI23","v":3000},{"$f":"SA!FM23-SA!FJ23","v":2200},{"$f":"SA!FN23-SA!FK23","v":600},{"$f":"SA!FO23-SA!FL23","v":-500},{"$f":"SA!FP23-SA!FM23","v":400},{"$f":"SA!FQ23-SA!FN23","v":600},{"$f":"SA!FR23-SA!FO23","v":2900},{"$f":"SA!FS23-SA!FP23","v":1300},{"$f":"SA!FT23-SA!FQ23","v":500},{"$f":"SA!FU23-SA!FR23","v":-300},{"$f":"SA!FV23-SA!FS23","v":300},{"$f":"SA!FW23-SA!FT23","v":600},{"$f":"SA!FX23-SA!FU23","v":200},{"$f":"SA!FY23-SA!FV23","v":100},{"$f":"SA!FZ23-SA!FW23","v":800},{"$f":"SA!GA23-SA!FX23","v":2500},{"$f":"SA!GB23-SA!FY23","v":3300},{"$f":"SA!GC23-SA!FZ23","v":500},{"$f":"SA!GD23-SA!GA23","v":-2700},{"$f":"SA!GE23-SA!GB23","v":-4600},{"$f":"SA!GF23-SA!GC23","v":-2000},{"$f":"SA!GG23-SA!GD23","v":200},{"$f":"SA!GH23-SA!GE23","v":900},{"$f":"SA!GI23-SA!GF23","v":500},{"$f":"SA!GJ23-SA!GG23","v":300},{"$f":"SA!GK23-SA!GH23","v":900},{"$f":"SA!GL23-SA!GI23","v":-500},{"$f":"SA!GM23-SA!GJ23","v":-1200},{"$f":"SA!GN23-SA!GK23","v":-1800},{"$f":"SA!GO23-SA!GL23","v":900},{"$f":"SA!GP23-SA!GM23","v":2500},{"$f":"SA!GQ23-SA!GN23","v":2200},{"$f":"SA!GR23-SA!GO23","v":400},{"$f":"SA!GS23-SA!GP23","v":-900},{"$f":"SA!GT23-SA!GQ23","v":-1900},{"$f":"SA!GU23-SA!GR23","v":-1900},{"$f":"SA!GV23-SA!GS23","v":-1000},{"$f":"SA!GW23-SA!GT23","v":-600},{"$f":"SA!GX23-SA!GU23","v":200},{"$f":"SA!GY23-SA!GV23","v":-700},{"$f":"SA!GZ23-SA!GW23","v":-500},{"$f":"SA!HA23-SA!GX23","v":-200},{"$f":"SA!HB23-SA!GY23","v":1200},{"$f":"SA!HC23-SA!GZ23","v":2400},{"$f":"SA!HD23-SA!HA23","v":3300},{"$f":"SA!HE23-SA!HB23","v":800},{"$f":"SA!HF23-SA!HC23","v":900},{"$f":"SA!HG23-SA!HD23","v":-2400},{"$f":"SA!HH23-SA!HE23","v":1200},{"$f":"SA!HI23-SA!HF23","v":-1600},{"$f":"SA!HJ23-SA!HG23","v":1900},{"$f":"SA!HK23-SA!HH23","v":-148500},{"$f":"SA!HL23-SA!HI23","v":-146500},{"$f":"SA!HM23-SA!HJ23","v":-147900},5252,0,null,"  Administrative and Support and Waste Management and Remediation Services",-11700,-1550,-400,399.99999999997817,900,1600,2725,6000.0000000000146,2769.2744849219093]
["Education and Health Services",{"$f":"SA!BN24-SA!BK24","v":2200},{"$f":"SA!BO24-SA!BL24","v":2000},{"$f":"SA!BP24-SA!BM24","v":2100},{"$f":"SA!BQ24-SA!BN24","v":1900},{"$f":"SA!BR24-SA!BO24","v":2200},{"$f":"SA!BS24-SA!BP24","v":1800},{"$f":"SA!BT24-SA!BQ24","v":1700},{"$f":"SA!BU24-SA!BR24","v":1700},{"$f":"SA!BV24-SA!BS24","v":2200},{"$f":"SA!BW24-SA!BT24","v":1700},{"$f":"SA!BX24-SA!BU24","v":2000},{"$f":"SA!BY24-SA!BV24","v":1200},{"$f":"SA!BZ24-SA!BW24","v":2300},{"$f":"SA!CA24-SA!BX24","v":2500},{"$f":"SA!CB24-SA!BY24","v":1900},{"$f":"SA!CC24-SA!BZ24","v":1800},{"$f":"SA!CD24-SA!CA24","v":1200},{"$f":"SA!CE24-SA!CB24","v":2000},{"$f":"SA!CF24-SA!CC24","v":2200},{"$f":"SA!CG24-SA!CD24","v":1900},{"$f":"SA!CH24-SA!CE24","v":2200},{"$f":"SA!CI24-SA!CF24","v":2100},{"$f":"SA!CJ24-SA!CG24","v":2200},{"$f":"SA!CK24-SA!CH24","v":1300},{"$f":"SA!CL24-SA!CI24","v":200},{"$f":"SA!CM24-SA!CJ24","v":500},{"$f":"SA!CN24-SA!CK24","v":1000},{"$f":"SA!CO24-SA!CL24","v":1500},{"$f":"SA!CP24-SA!CM24","v":1400},{"$f":"SA!CQ24-SA!CN24","v":1900},{"$f":"SA!CR24-SA!CO24","v":2300},{"$f":"SA!CS24-SA!CP24","v":2500},{"$f":"SA!CT24-SA!CQ24","v":2600},{"$f":"SA!CU24-SA!CR24","v":-500},{"$f":"SA!CV24-SA!CS24","v":-1600},{"$f":"SA!CW24-SA!CT24","v":-1500},{"$f":"SA!CX24-SA!CU24","v":1300},{"$f":"SA!CY24-SA!CV24","v":2100},{"$f":"SA!CZ24-SA!CW24","v":1600},{"$f":"SA!DA24-SA!CX24","v":2300},{"$f":"SA!DB24-SA!CY24","v":2400},{"$f":"SA!DC24-SA!CZ24","v":2800},{"$f":"SA!DD24-SA!DA24","v":2600},{"$f":"SA!DE24-SA!DB24","v":2900},{"$f":"SA!DF24-SA!DC24","v":2900},{"$f":"SA!DG24-SA!DD24","v":3500},{"$f":"SA!DH24-SA!DE24","v":4000},{"$f":"SA!DI24-SA!DF24","v":4700},{"$f":"SA!DJ24-SA!DG24","v":2300},{"$f":"SA!DK24-SA!DH24","v":1800},{"$f":"SA!DL24-SA!DI24","v":300},{"$f":"SA!DM24-SA!DJ24","v":300},{"$f":"SA!DN24-SA!DK24","v":100},{"$f":"SA!DO24-SA!DL24","v":1300},{"$f":"SA!DP24-SA!DM24","v":1600},{"$f":"SA!DQ24-SA!DN24","v":1500},{"$f":"SA!DR24-SA!DO24","v":-1600},{"$f":"SA!DS24-SA!DP24","v":-300},{"$f":"SA!DT24-SA!DQ24","v":-1300},{"$f":"SA!DU24-SA!DR24","v":-400},{"$f":"SA!DV24-SA!DS24","v":700},{"$f":"SA!DW24-SA!DT24","v":1600},{"$f":"SA!DX24-SA!DU24","v":2900},{"$f":"SA!DY24-SA!DV24","v":-1700},{"$f":"SA!DZ24-SA!DW24","v":-2500},{"$f":"SA!EA24-SA!DX24","v":-1900},{"$f":"SA!EB24-SA!DY24","v":2300},{"$f":"SA!EC24-SA!DZ24","v":3600},{"$f":"SA!ED24-SA!EA24","v":600},{"$f":"SA!EE24-SA!EB24","v":-400},{"$f":"SA!EF24-SA!EC24","v":-1200},{"$f":"SA!EG24-SA!ED24","v":800},{"$f":"SA!EH24-SA!EE24","v":400},{"$f":"SA!EI24-SA!EF24","v":100},{"$f":"SA!EJ24-SA!EG24","v":-1000},{"$f":"SA!EK24-SA!EH24","v":1400},{"$f":"SA!EL24-SA!EI24","v":2100},{"$f":"SA!EM24-SA!EJ24","v":3300},{"$f":"SA!EN24-SA!EK24","v":1800},{"$f":"SA!EO24-SA!EL24","v":1300},{"$f":"SA!EP24-SA!EM24","v":2300},{"$f":"SA!EQ24-SA!EN24","v":1600},{"$f":"SA!ER24-SA!EO24","v":2100},{"$f":"SA!ES24-SA!EP24","v":1700},{"$f":"SA!ET24-SA!EQ24","v":1800},{"$f":"SA!EU24-SA!ER24","v":2100},{"$f":"SA!EV24-SA!ES24","v":2200},{"$f":"SA!EW24-SA!ET24","v":2400},{"$f":"SA!EX24-SA!EU24","v":1700},{"$f":"SA!EY24-SA!EV24","v":1400},{"$f":"SA!EZ24-SA!EW24","v":-2000},{"$f":"SA!FA24-SA!EX24","v":300},{"$f":"SA!FB24-SA!EY24","v":2000},{"$f":"SA!FC24-SA!EZ24","v":6600},{"$f":"SA!FD24-SA!FA24","v":4400},{"$f":"SA!FE24-SA!FB24","v":2700},{"$f":"SA!FF24-SA!FC24","v":200},{"$f":"SA!FG24-SA!FD24","v":900},{"$f":"SA!FH24-SA!FE24","v":300},{"$f":"SA!FI24-SA!FF24","v":1200},{"$f":"SA!FJ24-SA!FG24","v":800},{"$f":"SA!FK24-SA!FH24","v":600},{"$f":"SA!FL24-SA!FI24","v":-1800},{"$f":"SA!FM24-SA!FJ24","v":800},{"$f":"SA!FN24-SA!FK24","v":1800},{"$f":"SA!FO24-SA!FL24","v":4600},{"$f":"SA!FP24-SA!FM24","v":2100},{"$f":"SA!FQ24-SA!FN24","v":1000},{"$f":"SA!FR24-SA!FO24","v":1900},{"$f":"SA!FS24-SA!FP24","v":1900},{"$f":"SA!FT24-SA!FQ24","v":2400},{"$f":"SA!FU24-SA!FR24","v":1400},{"$f":"SA!FV24-SA!FS24","v":1200},{"$f":"SA!FW24-SA!FT24","v":2100},{"$f":"SA!FX24-SA!FU24","v":0},{"$f":"SA!FY24-SA!FV24","v":1800},{"$f":"SA!FZ24-SA!FW24","v":1100},{"$f":"SA!GA24-SA!FX24","v":2400},{"$f":"SA!GB24-SA!FY24","v":1600},{"$f":"SA!GC24-SA!FZ24","v":1200},{"$f":"SA!GD24-SA!GA24","v":1000},{"$f":"SA!GE24-SA!GB24","v":600},{"$f":"SA!GF24-SA!GC24","v":1400},{"$f":"SA!GG24-SA!GD24","v":1600},{"$f":"SA!GH24-SA!GE24","v":1900},{"$f":"SA!GI24-SA!GF24","v":1500},{"$f":"SA!GJ24-SA!GG24","v":1500},{"$f":"SA!GK24-SA!GH24","v":1200},{"$f":"SA!GL24-SA!GI24","v":700},{"$f":"SA!GM24-SA!GJ24","v":2100},{"$f":"SA!GN24-SA!GK24","v":1900},{"$f":"SA!GO24-SA!GL24","v":3200},{"$f":"SA!GP24-SA!GM24","v":3100},{"$f":"SA!GQ24-SA!GN24","v":3500},{"$f":"SA!GR24-SA!GO24","v":2600},{"$f":"SA!GS24-SA!GP24","v":2400},{"$f":"SA!GT24-SA!GQ24","v":800},{"$f":"SA!GU24-SA!GR24","v":1100},{"$f":"SA!GV24-SA!GS24","v":3000},{"$f":"SA!GW24-SA!GT24","v":3600},{"$f":"SA!GX24-SA!GU24","v":3300},{"$f":"SA!GY24-SA!GV24","v":2400},{"$f":"SA!GZ24-SA!GW24","v":3000},{"$f":"SA!HA24-SA!GX24","v":2200},{"$f":"SA!HB24-SA!GY24","v":1800},{"$f":"SA!HC24-SA!GZ24","v":-900},{"$f":"SA!HD24-SA!HA24","v":900},{"$f":"SA!HE24-SA!HB24","v":-400},{"$f":"SA!HF24-SA!HC24","v":-300},{"$f":"SA!HG24-SA!HD24","v":-900},{"$f":"SA!HH24-SA!HE24","v":-400},{"$f":"SA!HI24-SA!HF24","v":2600},{"$f":"SA!HJ24-SA!HG24","v":2100},{"$f":"SA!HK24-SA!HH24","v":-449800},{"$f":"SA!HL24-SA!HI24","v":-451000},{"$f":"SA!HM24-SA!HJ24","v":-451300},4716,0,null,"Education and Health Services",-2500,300,1200,1600,1900,2200,2600,6600,1387.8855751101262]
["Educational Services",{"$f":"SA!BN25-SA!BK25","v":500},{"$f":"SA!BO25-SA!BL25","v":500},{"$f":"SA!BP25-SA!BM25","v":400},{"$f":"SA!BQ25-SA!BN25","v":200},{"$f":"SA!BR25-SA!BO25","v":200},{"$f":"SA!BS25-SA!BP25","v":200},{"$f":"SA!BT25-SA!BQ25","v":0},{"$f":"SA!BU25-SA!BR25","v":300},{"$f":"SA!BV25-SA!BS25","v":0},{"$f":"SA!BW25-SA!BT25","v":0},{"$f":"SA!BX25-SA!BU25","v":0},{"$f":"SA!BY25-SA!BV25","v":0},{"$f":"SA!BZ25-SA!BW25","v":500},{"$f":"SA!CA25-SA!BX25","v":400},{"$f":"SA!CB25-SA!BY25","v":400},{"$f":"SA!CC25-SA!BZ25","v":500},{"$f":"SA!CD25-SA!CA25","v":500},{"$f":"SA!CE25-SA!CB25","v":400},{"$f":"SA!CF25-SA!CC25","v":300},{"$f":"SA!CG25-SA!CD25","v":-200},{"$f":"SA!CH25-SA!CE25","v":200},{"$f":"SA!CI25-SA!CF25","v":0},{"$f":"SA!CJ25-SA!CG25","v":700},{"$f":"SA!CK25-SA!CH25","v":100},{"$f":"SA!CL25-SA!CI25","v":0},{"$f":"SA!CM25-SA!CJ25","v":-300},{"$f":"SA!CN25-SA!CK25","v":300},{"$f":"SA!CO25-SA!CL25","v":0},{"$f":"SA!CP25-SA!CM25","v":200},{"$f":"SA!CQ25-SA!CN25","v":-200},{"$f":"SA!CR25-SA!CO25","v":400},{"$f":"SA!CS25-SA!CP25","v":300},{"$f":"SA!CT25-SA!CQ25","v":600},{"$f":"SA!CU25-SA!CR25","v":-2100},{"$f":"SA!CV25-SA!CS25","v":-3100},{"$f":"SA!CW25-SA!CT25","v":-2800},{"$f":"SA!CX25-SA!CU25","v":-300},{"$f":"SA!CY25-SA!CV25","v":500},{"$f":"SA!CZ25-SA!CW25","v":0},{"$f":"SA!DA25-SA!CX25","v":700},{"$f":"SA!DB25-SA!CY25","v":500},{"$f":"SA!DC25-SA!CZ25","v":1100},{"$f":"SA!DD25-SA!DA25","v":800},{"$f":"SA!DE25-SA!DB25","v":1100},{"$f":"SA!DF25-SA!DC25","v":1200},{"$f":"SA!DG25-SA!DD25","v":1700},{"$f":"SA!DH25-SA!DE25","v":1900},{"$f":"SA!DI25-SA!DF25","v":2100},{"$f":"SA!DJ25-SA!DG25","v":700},{"$f":"SA!DK25-SA!DH25","v":400},{"$f":"SA!DL25-SA!DI25","v":-400},{"$f":"SA!DM25-SA!DJ25","v":-900},{"$f":"SA!DN25-SA!DK25","v":-900},{"$f":"SA!DO25-SA!DL25","v":300},{"$f":"SA!DP25-SA!DM25","v":1100},{"$f":"SA!DQ25-SA!DN25","v":1200},{"$f":"SA!DR25-SA!DO25","v":-1200},{"$f":"SA!DS25-SA!DP25","v":-1200},{"$f":"SA!DT25-SA!DQ25","v":-1500},{"$f":"SA!DU25-SA!DR25","v":-600},{"$f":"SA!DV25-SA!DS25","v":-100},{"$f":"SA!DW25-SA!DT25","v":200},{"$f":"SA!DX25-SA!DU25","v":600},{"$f":"SA!DY25-SA!DV25","v":-600},{"$f":"SA!DZ25-SA!DW25","v":-1400},{"$f":"SA!EA25-SA!DX25","v":-300},{"$f":"SA!EB25-SA!DY25","v":1500},{"$f":"SA!EC25-SA!DZ25","v":2900},{"$f":"SA!ED25-SA!EA25","v":600},{"$f":"SA!EE25-SA!EB25","v":-1100},{"$f":"SA!EF25-SA!EC25","v":-2100},{"$f":"SA!EG25-SA!ED25","v":-1000},{"$f":"SA!EH25-SA!EE25","v":-100},{"$f":"SA!EI25-SA!EF25","v":-200},{"$f":"SA!EJ25-SA!EG25","v":-1100},{"$f":"SA!EK25-SA!EH25","v":100},{"$f":"SA!EL25-SA!EI25","v":900},{"$f":"SA!EM25-SA!EJ25","v":1600},{"$f":"SA!EN25-SA!EK25","v":700},{"$f":"SA!EO25-SA!EL25","v":500},{"$f":"SA!EP25-SA!EM25","v":700},{"$f":"SA!EQ25-SA!EN25","v":300},{"$f":"SA!ER25-SA!EO25","v":300},{"$f":"SA!ES25-SA!EP25","v":200},{"$f":"SA!ET25-SA!EQ25","v":-1000},{"$f":"SA!EU25-SA!ER25","v":-1100},{"$f":"SA!EV25-SA!ES25","v":-600},{"$f":"SA!EW25-SA!ET25","v":600},{"$f":"SA!EX25-SA!EU25","v":700},{"$f":"SA!EY25-SA!EV25","v":0},{"$f":"SA!EZ25-SA!EW25","v":-4100},{"$f":"SA!FA25-SA!EX25","v":-2400},{"$f":"SA!FB25-SA!EY25","v":-800},{"$f":"SA!FC25-SA!EZ25","v":3900},{"$f":"SA!FD25-SA!FA25","v":2000},{"$f":"SA!FE25-SA!FB25","v":900},{"$f":"SA!FF25-SA!FC25","v":0},{"$f":"SA!FG25-SA!FD25","v":300},{"$f":"SA!FH25-SA!FE25","v":-200},{"$f":"SA!FI25-SA!FF25","v":0},{"$f":"SA!FJ25-SA!FG25","v":-600},{"$f":"SA!FK25-SA!FH25","v":-600},{"$f":"SA!FL25-SA!FI25","v":-3100},{"$f":"SA!FM25-SA!FJ25","v":-900},{"$f":"SA!FN25-SA!FK25","v":0},{"$f":"SA!FO25-SA!FL25","v":2900},{"$f":"SA!FP25-SA!FM25","v":1100},{"$f":"SA!FQ25-SA!FN25","v":500},{"$f":"SA!FR25-SA!FO25","v":100},{"$f":"SA!FS25-SA!FP25","v":100},{"$f":"SA!FT25-SA!FQ25","v":-100},{"$f":"SA!FU25-SA!FR25","v":0},{"$f":"SA!FV25-SA!FS25","v":200},{"$f":"SA!FW25-SA!FT25","v":100},{"$f":"SA!FX25-SA!FU25","v":-1700},{"$f":"SA!FY25-SA!FV25","v":-500},{"$f":"SA!FZ25-SA!FW25","v":0},{"$f":"SA!GA25-SA!FX25","v":1700},{"$f":"SA!GB25-SA!FY25","v":100},{"$f":"SA!GC25-SA!FZ25","v":200},{"$f":"SA!GD25-SA!GA25","v":0},{"$f":"SA!GE25-SA!GB25","v":500},{"$f":"SA!GF25-SA!GC25","v":200},{"$f":"SA!GG25-SA!GD25","v":100},{"$f":"SA!GH25-SA!GE25","v":0},{"$f":"SA!GI25-SA!GF25","v":-200},{"$f":"SA!GJ25-SA!GG25","v":-700},{"$f":"SA!GK25-SA!GH25","v":-200},{"$f":"SA!GL25-SA!GI25","v":-200},{"$f":"SA!GM25-SA!GJ25","v":700},{"$f":"SA!GN25-SA!GK25","v":-100},{"$f":"SA!GO25-SA!GL25","v":300},{"$f":"SA!GP25-SA!GM25","v":100},{"$f":"SA!GQ25-SA!GN25","v":200},{"$f":"SA!GR25-SA!GO25","v":100},{"$f":"SA!GS25-SA!GP25","v":300},{"$f":"SA!GT25-SA!GQ25","v":-200},{"$f":"SA!GU25-SA!GR25","v":400},{"$f":"SA!GV25-SA!GS25","v":-100},{"$f":"SA!GW25-SA!GT25","v":1100},{"$f":"SA!GX25-SA!GU25","v":700},{"$f":"SA!GY25-SA!GV25","v":1900},{"$f":"SA!GZ25-SA!GW25","v":1300},{"$f":"SA!HA25-SA!GX25","v":1000},{"$f":"SA!HB25-SA!GY25","v":-600},{"$f":"SA!HC25-SA!GZ25","v":-800},{"$f":"SA!HD25-SA!HA25","v":-1100},{"$f":"SA!HE25-SA!HB25","v":-700},{"$f":"SA!HF25-SA!HC25","v":-700},{"$f":"SA!HG25-SA!HD25","v":-1600},{"$f":"SA!HH25-SA!HE25","v":-1900},{"$f":"SA!HI25-SA!HF25","v":300},{"$f":"SA!HJ25-SA!HG25","v":2300},{"$f":"SA!HK25-SA!HH25","v":-49100},{"$f":"SA!HL25-SA!HI25","v":-51300},{"$f":"SA!HM25-SA!HJ25","v":-52100},3497,0,null,"Educational Services",-4100,-725,-100,100,200,500,900,3900,1058.3604454824115]
["Health Care and Social Assistance",{"$f":"SA!BN26-SA!BK26","v":1700},{"$f":"SA!BO26-SA!BL26","v":1500},{"$f":"SA!BP26-SA!BM26","v":1700},{"$f":"SA!BQ26-SA!BN26","v":1700},{"$f":"SA!BR26-SA!BO26","v":2000},{"$f":"SA!BS26-SA!BP26","v":1600},{"$f":"SA!BT26-SA!BQ26","v":1700},{"$f":"SA!BU26-SA!BR26","v":1400},{"$f":"SA!BV26-SA!BS26","v":2200},{"$f":"SA!BW26-SA!BT26","v":1700},{"$f":"SA!BX26-SA!BU26","v":2000},{"$f":"SA!BY26-SA!BV26","v":1200},{"$f":"SA!BZ26-SA!BW26","v":1800},{"$f":"SA!CA26-SA!BX26","v":2100},{"$f":"SA!CB26-SA!BY26","v":1500},{"$f":"SA!CC26-SA!BZ26","v":1300},{"$f":"SA!CD26-SA!CA26","v":700},{"$f":"SA!CE26-SA!CB26","v":1600},{"$f":"SA!CF26-SA!CC26","v":1900},{"$f":"SA!CG26-SA!CD26","v":2100},{"$f":"SA!CH26-SA!CE26","v":2000},{"$f":"SA!CI26-SA!CF26","v":2100},{"$f":"SA!CJ26-SA!CG26","v":1500},{"$f":"SA!CK26-SA!CH26","v":1200},{"$f":"SA!CL26-SA!CI26","v":200},{"$f":"SA!CM26-SA!CJ26","v":800},{"$f":"SA!CN26-SA!CK26","v":700},{"$f":"SA!CO26-SA!CL26","v":1500},{"$f":"SA!CP26-SA!CM26","v":1200},{"$f":"SA!CQ26-SA!CN26","v":2100},{"$f":"SA!CR26-SA!CO26","v":1900},{"$f":"SA!CS26-SA!CP26","v":2200},{"$f":"SA!CT26-SA!CQ26","v":2000},{"$f":"SA!CU26-SA!CR26","v":1600},{"$f":"SA!CV26-SA!CS26","v":1500},{"$f":"SA!CW26-SA!CT26","v":1300},{"$f":"SA!CX26-SA!CU26","v":1600},{"$f":"SA!CY26-SA!CV26","v":1600},{"$f":"SA!CZ26-SA!CW26","v":1600},{"$f":"SA!DA26-SA!CX26","v":1600},{"$f":"SA!DB26-SA!CY26","v":1900},{"$f":"SA!DC26-SA!CZ26","v":1700},{"$f":"SA!DD26-SA!DA26","v":1800},{"$f":"SA!DE26-SA!DB26","v":1800},{"$f":"SA!DF26-SA!DC26","v":1700},{"$f":"SA!DG26-SA!DD26","v":1800},{"$f":"SA!DH26-SA!DE26","v":2100},{"$f":"SA!DI26-SA!DF26","v":2600},{"$f":"SA!DJ26-SA!DG26","v":1600},{"$f":"SA!DK26-SA!DH26","v":1400},{"$f":"SA!DL26-SA!DI26","v":700},{"$f":"SA!DM26-SA!DJ26","v":1200},{"$f":"SA!DN26-SA!DK26","v":1000},{"$f":"SA!DO26-SA!DL26","v":1000},{"$f":"SA!DP26-SA!DM26","v":500},{"$f":"SA!DQ26-SA!DN26","v":300},{"$f":"SA!DR26-SA!DO26","v":-400},{"$f":"SA!DS26-SA!DP26","v":900},{"$f":"SA!DT26-SA!DQ26","v":200},{"$f":"SA!DU26-SA!DR26","v":200},{"$f":"SA!DV26-SA!DS26","v":800},{"$f":"SA!DW26-SA!DT26","v":1400},{"$f":"SA!DX26-SA!DU26","v":2300},{"$f":"SA!DY26-SA!DV26","v":-1100},{"$f":"SA!DZ26-SA!DW26","v":-1100},{"$f":"SA!EA26-SA!DX26","v":-1600},{"$f":"SA!EB26-SA!DY26","v":800},{"$f":"SA!EC26-SA!DZ26","v":700},{"$f":"SA!ED26-SA!EA26","v":0},{"$f":"SA!EE26-SA!EB26","v":700},{"$f":"SA!EF26-SA!EC26","v":900},{"$f":"SA!EG26-SA!ED26","v":1800},{"$f":"SA!EH26-SA!EE26","v":500},{"$f":"SA!EI26-SA!EF26","v":300},{"$f":"SA!EJ26-SA!EG26","v":100},{"$f":"SA!EK26-SA!EH26","v":1300},{"$f":"SA!EL26-SA!EI26","v":1200},{"$f":"SA!EM26-SA!EJ26","v":1700},{"$f":"SA!EN26-SA!EK26","v":1100},{"$f":"SA!EO26-SA!EL26","v":800},{"$f":"SA!EP26-SA!EM26","v":1600},{"$f":"SA!EQ26-SA!EN26","v":1300},{"$f":"SA!ER26-SA!EO26","v":1800},{"$f":"SA!ES26-SA!EP26","v":1500},{"$f":"SA!ET26-SA!EQ26","v":2800},{"$f":"SA!EU26-SA!ER26","v":3200},{"$f":"SA!EV26-SA!ES26","v":2800},{"$f":"SA!EW26-SA!ET26","v":1800},{"$f":"SA!EX26-SA!EU26","v":1000},{"$f":"SA!EY26-SA!EV26","v":1400},{"$f":"SA!EZ26-SA!EW26","v":2100},{"$f":"SA!FA26-SA!EX26","v":2700},{"$f":"SA!FB26-SA!EY26","v":2800},{"$f":"SA!FC26-SA!EZ26","v":2700},{"$f":"SA!FD26-SA!FA26","v":2400},{"$f":"SA!FE26-SA!FB26","v":1800},{"$f":"SA!FF26-SA!FC26","v":200},{"$f":"SA!FG26-SA!FD26","v":600},{"$f":"SA!FH26-SA!FE26","v":500},{"$f":"SA!FI26-SA!FF26","v":1200},{"$f":"SA!FJ26-SA!FG26","v":1400},{"$f":"SA!FK26-SA!FH26","v":1200},{"$f":"SA!FL26-SA!FI26","v":1300},{"$f":"SA!FM26-SA!FJ26","v":1700},{"$f":"SA!FN26-SA!FK26","v":1800},{"$f":"SA!FO26-SA!FL26","v":1700},{"$f":"SA!FP26-SA!FM26","v":1000},{"$f":"SA!FQ26-SA!FN26","v":500},{"$f":"SA!FR26-SA!FO26","v":1800},{"$f":"SA!FS26-SA!FP26","v":1800},{"$f":"SA!FT26-SA!FQ26","v":2500},{"$f":"SA!FU26-SA!FR26","v":1400},{"$f":"SA!FV26-SA!FS26","v":1000},{"$f":"SA!FW26-SA!FT26","v":2000},{"$f":"SA!FX26-SA!FU26","v":1700},{"$f":"SA!FY26-SA!FV26","v":2300},{"$f":"SA!FZ26-SA!FW26","v":1100},{"$f":"SA!GA26-SA!FX26","v":700},{"$f":"SA!GB26-SA!FY26","v":1500},{"$f":"SA!GC26-SA!FZ26","v":1000},{"$f":"SA!GD26-SA!GA26","v":1000},{"$f":"SA!GE26-SA!GB26","v":100},{"$f":"SA!GF26-SA!GC26","v":1200},{"$f":"SA!GG26-SA!GD26","v":1500},{"$f":"SA!GH26-SA!GE26","v":1900},{"$f":"SA!GI26-SA!GF26","v":1700},{"$f":"SA!GJ26-SA!GG26","v":2200},{"$f":"SA!GK26-SA!GH26","v":1400},{"$f":"SA!GL26-SA!GI26","v":900},{"$f":"SA!GM26-SA!GJ26","v":1400},{"$f":"SA!GN26-SA!GK26","v":2000},{"$f":"SA!GO26-SA!GL26","v":2900},{"$f":"SA!GP26-SA!GM26","v":3000},{"$f":"SA!GQ26-SA!GN26","v":3300},{"$f":"SA!GR26-SA!GO26","v":2500},{"$f":"SA!GS26-SA!GP26","v":2100},{"$f":"SA!GT26-SA!GQ26","v":1000},{"$f":"SA!GU26-SA!GR26","v":700},{"$f":"SA!GV26-SA!GS26","v":3100},{"$f":"SA!GW26-SA!GT26","v":2500},{"$f":"SA!GX26-SA!GU26","v":2600},{"$f":"SA!GY26-SA!GV26","v":500},{"$f":"SA!GZ26-SA!GW26","v":1700},{"$f":"SA!HA26-SA!GX26","v":1200},{"$f":"SA!HB26-SA!GY26","v":2400},{"$f":"SA!HC26-SA!GZ26","v":-100},{"$f":"SA!HD26-SA!HA26","v":2000},{"$f":"SA!HE26-SA!HB26","v":300},{"$f":"SA!HF26-SA!HC26","v":400},{"$f":"SA!HG26-SA!HD26","v":700},{"$f":"SA!HH26-SA!HE26","v":1500},{"$f":"SA!HI26-SA!HF26","v":2300},{"$f":"SA!HJ26-SA!HG26","v":-200},{"$f":"SA!HK26-SA!HH26","v":-400700},{"$f":"SA!HL26-SA!HI26","v":-399700},{"$f":"SA!HM26-SA!HJ26","v":-399200},3163,0,null,"Health Care and Social Assistance",-1600,700,1150,1425,1600,1800,2125,3300,812.05115807646837]
["Leisure and Hospitality",{"$f":"SA!BN27-SA!BK27","v":-700},{"$f":"SA!BO27-SA!BL27","v":300},{"$f":"SA!BP27-SA!BM27","v":700},{"$f":"SA!BQ27-SA!BN27","v":4700},{"$f":"SA!BR27-SA!BO27","v":2000},{"$f":"SA!BS27-SA!BP27","v":600},{"$f":"SA!BT27-SA!BQ27","v":-2000},{"$f":"SA!BU27-SA!BR27","v":700},{"$f":"SA!BV27-SA!BS27","v":1899.9999999999709},{"$f":"SA!BW27-SA!BT27","v":100},{"$f":"SA!BX27-SA!BU27","v":1000},{"$f":"SA!BY27-SA!BV27","v":-99.999999999970896},{"$f":"SA!BZ27-SA!BW27","v":2700},{"$f":"SA!CA27-SA!BX27","v":2300},{"$f":"SA!CB27-SA!BY27","v":3500},{"$f":"SA!CC27-SA!BZ27","v":1899.9999999999709},{"$f":"SA!CD27-SA!CA27","v":-1200},{"$f":"SA!CE27-SA!CB27","v":-1199.9999999999709},{"$f":"SA!CF27-SA!CC27","v":-500},{"$f":"SA!CG27-SA!CD27","v":1900},{"$f":"SA!CH27-SA!CE27","v":1000},{"$f":"SA!CI27-SA!CF27","v":1300.0000000000291},{"$f":"SA!CJ27-SA!CG27","v":800},{"$f":"SA!CK27-SA!CH27","v":1799.9999999999418},{"$f":"SA!CL27-SA!CI27","v":1600},{"$f":"SA!CM27-SA!CJ27","v":2100},{"$f":"SA!CN27-SA!CK27","v":1300.0000000000291},{"$f":"SA!CO27-SA!CL27","v":-800},{"$f":"SA!CP27-SA!CM27","v":-900},{"$f":"SA!CQ27-SA!CN27","v":-300},{"$f":"SA!CR27-SA!CO27","v":-100.0000000000291},{"$f":"SA!CS27-SA!CP27","v":300},{"$f":"SA!CT27-SA!CQ27","v":-2100},{"$f":"SA!CU27-SA!CR27","v":600.0000000000291},{"$f":"SA!CV27-SA!CS27","v":700},{"$f":"SA!CW27-SA!CT27","v":2000},{"$f":"SA!CX27-SA!CU27","v":-200},{"$f":"SA!CY27-SA!CV27","v":-1599.9999999999709},{"$f":"SA!CZ27-SA!CW27","v":-1400.0000000000291},{"$f":"SA!DA27-SA!CX27","v":-1500},{"$f":"SA!DB27-SA!CY27","v":-1000},{"$f":"SA!DC27-SA!CZ27","v":-1399.9999999999709},{"$f":"SA!DD27-SA!DA27","v":-1000},{"$f":"SA!DE27-SA!DB27","v":-1400.0000000000291},{"$f":"SA!DF27-SA!DC27","v":-1399.9999999999709},{"$f":"SA!DG27-SA!DD27","v":-699.9999999999709},{"$f":"SA!DH27-SA!DE27","v":-800.0000000000291},{"$f":"SA!DI27-SA!DF27","v":-1100.0000000000291},{"$f":"SA!DJ27-SA!DG27","v":-3800.0000000000291},{"$f":"SA!DK27-SA!DH27","v":-2699.9999999999709},{"$f":"SA!DL27-SA!DI27","v":-2800},{"$f":"SA!DM27-SA!DJ27","v":-2300},{"$f":"SA!DN27-SA!DK27","v":-100},{"$f":"SA!DO27-SA!DL27","v":-300},{"$f":"SA!DP27-SA!DM27","v":-200},{"$f":"SA!DQ27-SA!DN27","v":-3800},{"$f":"SA!DR27-SA!DO27","v":-2300},{"$f":"SA!DS27-SA!DP27","v":-2000},{"$f":"SA!DT27-SA!DQ27","v":-1100},{"$f":"SA!DU27-SA!DR27","v":-1600},{"$f":"SA!DV27-SA!DS27","v":500},{"$f":"SA!DW27-SA!DT27","v":-300},{"$f":"SA!DX27-SA!DU27","v":-300},{"$f":"SA!DY27-SA!DV27","v":1000},{"$f":"SA!DZ27-SA!DW27","v":1300},{"$f":"SA!EA27-SA!DX27","v":800},{"$f":"SA!EB27-SA!DY27","v":-200},{"$f":"SA!EC27-SA!DZ27","v":1100},{"$f":"SA!ED27-SA!EA27","v":1300},{"$f":"SA!EE27-SA!EB27","v":1100},{"$f":"SA!EF27-SA!EC27","v":600},{"$f":"SA!EG27-SA!ED27","v":1000},{"$f":"SA!EH27-SA!EE27","v":-400},{"$f":"SA!EI27-SA!EF27","v":-1400},{"$f":"SA!EJ27-SA!EG27","v":-1800},{"$f":"SA!EK27-SA!EH27","v":-500},{"$f":"SA!EL27-SA!EI27","v":0},{"$f":"SA!EM27-SA!EJ27","v":900},{"$f":"SA!EN27-SA!EK27","v":900},{"$f":"SA!EO27-SA!EL27","v":1900},{"$f":"SA!EP27-SA!EM27","v":1500},{"$f":"SA!EQ27-SA!EN27","v":1200},{"$f":"SA!ER27-SA!EO27","v":0},{"$f":"SA!ES27-SA!EP27","v":-500},{"$f":"SA!ET27-SA!EQ27","v":300},{"$f":"SA!EU27-SA!ER27","v":1400},{"$f":"SA!EV27-SA!ES27","v":3900},{"$f":"SA!EW27-SA!ET27","v":4000},{"$f":"SA!EX27-SA!EU27","v":1800.0000000000291},{"$f":"SA!EY27-SA!EV27","v":800.0000000000291},{"$f":"SA!EZ27-SA!EW27","v":-800.0000000000291},{"$f":"SA!FA27-SA!EX27","v":299.99999999994179},{"$f":"SA!FB27-SA!EY27","v":599.9999999999709},{"$f":"SA!FC27-SA!EZ27","v":-399.9999999999709},{"$f":"SA!FD27-SA!FA27","v":400.0000000000291},{"$f":"SA!FE27-SA!FB27","v":100},{"$f":"SA!FF27-SA!FC27","v":1600.0000000000291},{"$f":"SA!FG27-SA!FD27","v":1800.0000000000291},{"$f":"SA!FH27-SA!FE27","v":900},{"$f":"SA!FI27-SA!FF27","v":-500},{"$f":"SA!FJ27-SA!FG27","v":1099.9999999999709},{"$f":"SA!FK27-SA!FH27","v":1300},{"$f":"SA!FL27-SA!FI27","v":3299.9999999999418},{"$f":"SA!FM27-SA!FJ27","v":2500},{"$f":"SA!FN27-SA!FK27","v":2800},{"$f":"SA!FO27-SA!FL27","v":1900.0000000000291},{"$f":"SA!FP27-SA!FM27","v":500},{"$f":"SA!FQ27-SA!FN27","v":100},{"$f":"SA!FR27-SA!FO27","v":-400},{"$f":"SA!FS27-SA!FP27","v":-200},{"$f":"SA!FT27-SA!FQ27","v":-600},{"$f":"SA!FU27-SA!FR27","v":800},{"$f":"SA!FV27-SA!FS27","v":300},{"$f":"SA!FW27-SA!FT27","v":2100},{"$f":"SA!FX27-SA!FU27","v":-700},{"$f":"SA!FY27-SA!FV27","v":500},{"$f":"SA!FZ27-SA!FW27","v":-1000},{"$f":"SA!GA27-SA!FX27","v":1500},{"$f":"SA!GB27-SA!FY27","v":1700},{"$f":"SA!GC27-SA!FZ27","v":2100},{"$f":"SA!GD27-SA!GA27","v":3400},{"$f":"SA!GE27-SA!GB27","v":2300},{"$f":"SA!GF27-SA!GC27","v":3100},{"$f":"SA!GG27-SA!GD27","v":1400},{"$f":"SA!GH27-SA!GE27","v":2300},{"$f":"SA!GI27-SA!GF27","v":1700},{"$f":"SA!GJ27-SA!GG27","v":1000},{"$f":"SA!GK27-SA!GH27","v":800},{"$f":"SA!GL27-SA!GI27","v":200},{"$f":"SA!GM27-SA!GJ27","v":2800},{"$f":"SA!GN27-SA!GK27","v":3900},{"$f":"SA!GO27-SA!GL27","v":3500},{"$f":"SA!GP27-SA!GM27","v":2100},{"$f":"SA!GQ27-SA!GN27","v":1400},{"$f":"SA!GR27-SA!GO27","v":1000},{"$f":"SA!GS27-SA!GP27","v":-200},{"$f":"SA!GT27-SA!GQ27","v":-1500},{"$f":"SA!GU27-SA!GR27","v":-1400},{"$f":"SA!GV27-SA!GS27","v":300},{"$f":"SA!GW27-SA!GT27","v":500},{"$f":"SA!GX27-SA!GU27","v":500},{"$f":"SA!GY27-SA!GV27","v":-700},{"$f":"SA!GZ27-SA!GW27","v":-900},{"$f":"SA!HA27-SA!GX27","v":-300},{"$f":"SA!HB27-SA!GY27","v":-1600},{"$f":"SA!HC27-SA!GZ27","v":3800},{"$f":"SA!HD27-SA!HA27","v":1600},{"$f":"SA!HE27-SA!HB27","v":4600},{"$f":"SA!HF27-SA!HC27","v":700},{"$f":"SA!HG27-SA!HD27","v":9000},{"$f":"SA!HH27-SA!HE27","v":4700},{"$f":"SA!HI27-SA!HF27","v":3300},{"$f":"SA!HJ27-SA!HG27","v":-6500},{"$f":"SA!HK27-SA!HH27","v":-282300},{"$f":"SA!HL27-SA!HI27","v":-282100},{"$f":"SA!HM27-SA!HJ27","v":-278400},7618,1,null,"Leisure and Hospitality",-3800.0000000000291,-1199.9999999999782,-399.99999999998545,300,675.00000000000728,1300,2000,4700,1568.6525472657124]
["Arts, Entertainment, and Recreation",{"$f":"SA!BN28-SA!BK28","v":-100},{"$f":"SA!BO28-SA!BL28","v":-600},{"$f":"SA!BP28-SA!BM28","v":-500},{"$f":"SA!BQ28-SA!BN28","v":700},{"$f":"SA!BR28-SA!BO28","v":200},{"$f":"SA!BS28-SA!BP28","v":100},{"$f":"SA!BT28-SA!BQ28","v":-800},{"$f":"SA!BU28-SA!BR28","v":200},{"$f":"SA!BV28-SA!BS28","v":300},{"$f":"SA!BW28-SA!BT28","v":300},{"$f":"SA!BX28-SA!BU28","v":300},{"$f":"SA!BY28-SA!BV28","v":-100},{"$f":"SA!BZ28-SA!BW28","v":-100},{"$f":"SA!CA28-SA!BX28","v":200},{"$f":"SA!CB28-SA!BY28","v":400},{"$f":"SA!CC28-SA!BZ28","v":1200},{"$f":"SA!CD28-SA!CA28","v":-200},{"$f":"SA!CE28-SA!CB28","v":-100},{"$f":"SA!CF28-SA!CC28","v":-900},{"$f":"SA!CG28-SA!CD28","v":300},{"$f":"SA!CH28-SA!CE28","v":300},{"$f":"SA!CI28-SA!CF28","v":200},{"$f":"SA!CJ28-SA!CG28","v":-200},{"$f":"SA!CK28-SA!CH28","v":-100},{"$f":"SA!CL28-SA!CI28","v":400},{"$f":"SA!CM28-SA!CJ28","v":900},{"$f":"SA!CN28-SA!CK28","v":900},{"$f":"SA!CO28-SA!CL28","v":-100},{"$f":"SA!CP28-SA!CM28","v":300},{"$f":"SA!CQ28-SA!CN28","v":300},{"$f":"SA!CR28-SA!CO28","v":600},{"$f":"SA!CS28-SA!CP28","v":-100},{"$f":"SA!CT28-SA!CQ28","v":-400},{"$f":"SA!CU28-SA!CR28","v":100},{"$f":"SA!CV28-SA!CS28","v":400},{"$f":"SA!CW28-SA!CT28","v":500},{"$f":"SA!CX28-SA!CU28","v":300},{"$f":"SA!CY28-SA!CV28","v":-200},{"$f":"SA!CZ28-SA!CW28","v":-500},{"$f":"SA!DA28-SA!CX28","v":-1100},{"$f":"SA!DB28-SA!CY28","v":-400},{"$f":"SA!DC28-SA!CZ28","v":-100},{"$f":"SA!DD28-SA!DA28","v":400},{"$f":"SA!DE28-SA!DB28","v":100},{"$f":"SA!DF28-SA!DC28","v":-700},{"$f":"SA!DG28-SA!DD28","v":200},{"$f":"SA!DH28-SA!DE28","v":-800},{"$f":"SA!DI28-SA!DF28","v":300},{"$f":"SA!DJ28-SA!DG28","v":-900},{"$f":"SA!DK28-SA!DH28","v":-500},{"$f":"SA!DL28-SA!DI28","v":-800},{"$f":"SA!DM28-SA!DJ28","v":-1300},{"$f":"SA!DN28-SA!DK28","v":700},{"$f":"SA!DO28-SA!DL28","v":500},{"$f":"SA!DP28-SA!DM28","v":800},{"$f":"SA!DQ28-SA!DN28","v":-900},{"$f":"SA!DR28-SA!DO28","v":-300},{"$f":"SA!DS28-SA!DP28","v":-500},{"$f":"SA!DT28-SA!DQ28","v":-100},{"$f":"SA!DU28-SA!DR28","v":-800},{"$f":"SA!DV28-SA!DS28","v":100},{"$f":"SA!DW28-SA!DT28","v":-300},{"$f":"SA!DX28-SA!DU28","v":400},{"$f":"SA!DY28-SA!DV28","v":1300},{"$f":"SA!DZ28-SA!DW28","v":700},{"$f":"SA!EA28-SA!DX28","v":-600},{"$f":"SA!EB28-SA!DY28","v":-700},{"$f":"SA!EC28-SA!DZ28","v":200},{"$f":"SA!ED28-SA!EA28","v":800},{"$f":"SA!EE28-SA!EB28","v":-100},{"$f":"SA!EF28-SA!EC28","v":-300},{"$f":"SA!EG28-SA!ED28","v":100},{"$f":"SA!EH28-SA!EE28","v":-100},{"$f":"SA!EI28-SA!EF28","v":100},{"$f":"SA!EJ28-SA!EG28","v":-400},{"$f":"SA!EK28-SA!EH28","v":200},{"$f":"SA!EL28-SA!EI28","v":-500},{"$f":"SA!EM28-SA!EJ28","v":300},{"$f":"SA!EN28-SA!EK28","v":500},{"$f":"SA!EO28-SA!EL28","v":1000},{"$f":"SA!EP28-SA!EM28","v":600},{"$f":"SA!EQ28-SA!EN28","v":400},{"$f":"SA!ER28-SA!EO28","v":300},{"$f":"SA!ES28-SA!EP28","v":300},{"$f":"SA!ET28-SA!EQ28","v":-100},{"$f":"SA!EU28-SA!ER28","v":-300},{"$f":"SA!EV28-SA!ES28","v":900},{"$f":"SA!EW28-SA!ET28","v":1900},{"$f":"SA!EX28-SA!EU28","v":400},{"$f":"SA!EY28-SA!EV28","v":-900},{"$f":"SA!EZ28-SA!EW28","v":-1900},{"$f":"SA!FA28-SA!EX28","v":-300},{"$f":"SA!FB28-SA!EY28","v":500},{"$f":"SA!FC28-SA!EZ28","v":0},{"$f":"SA!FD28-SA!FA28","v":0},{"$f":"SA!FE28-SA!FB28","v":-400},{"$f":"SA!FF28-SA!FC28","v":200},{"$f":"SA!FG28-SA!FD28","v":300},{"$f":"SA!FH28-SA!FE28","v":-200},{"$f":"SA!FI28-SA!FF28","v":-800},{"$f":"SA!FJ28-SA!FG28","v":400},{"$f":"SA!FK28-SA!FH28","v":400},{"$f":"SA!FL28-SA!FI28","v":800},{"$f":"SA!FM28-SA!FJ28","v":0},{"$f":"SA!FN28-SA!FK28","v":600},{"$f":"SA!FO28-SA!FL28","v":700},{"$f":"SA!FP28-SA!FM28","v":600},{"$f":"SA!FQ28-SA!FN28","v":400},{"$f":"SA!FR28-SA!FO28","v":100},{"$f":"SA!FS28-SA!FP28","v":0},{"$f":"SA!FT28-SA!FQ28","v":-400},{"$f":"SA!FU28-SA!FR28","v":100},{"$f":"SA!FV28-SA!FS28","v":-500},{"$f":"SA!FW28-SA!FT28","v":200},{"$f":"SA!FX28-SA!FU28","v":200},{"$f":"SA!FY28-SA!FV28","v":600},{"$f":"SA!FZ28-SA!FW28","v":100},{"$f":"SA!GA28-SA!FX28","v":-400},{"$f":"SA!GB28-SA!FY28","v":200},{"$f":"SA!GC28-SA!FZ28","v":400},{"$f":"SA!GD28-SA!GA28","v":1100},{"$f":"SA!GE28-SA!GB28","v":200},{"$f":"SA!GF28-SA!GC28","v":500},{"$f":"SA!GG28-SA!GD28","v":0},{"$f":"SA!GH28-SA!GE28","v":700},{"$f":"SA!GI28-SA!GF28","v":600},{"$f":"SA!GJ28-SA!GG28","v":-100},{"$f":"SA!GK28-SA!GH28","v":-100},{"$f":"SA!GL28-SA!GI28","v":-300},{"$f":"SA!GM28-SA!GJ28","v":1300},{"$f":"SA!GN28-SA!GK28","v":1500},{"$f":"SA!GO28-SA!GL28","v":500},{"$f":"SA!GP28-SA!GM28","v":300},{"$f":"SA!GQ28-SA!GN28","v":100},{"$f":"SA!GR28-SA!GO28","v":1000},{"$f":"SA!GS28-SA!GP28","v":200},{"$f":"SA!GT28-SA!GQ28","v":0},{"$f":"SA!GU28-SA!GR28","v":0},{"$f":"SA!GV28-SA!GS28","v":500},{"$f":"SA!GW28-SA!GT28","v":500},{"$f":"SA!GX28-SA!GU28","v":300},{"$f":"SA!GY28-SA!GV28","v":-500},{"$f":"SA!GZ28-SA!GW28","v":-1100},{"$f":"SA!HA28-SA!GX28","v":-1600},{"$f":"SA!HB28-SA!GY28","v":-1900},{"$f":"SA!HC28-SA!GZ28","v":-1900},{"$f":"SA!HD28-SA!HA28","v":400},{"$f":"SA!HE28-SA!HB28","v":2600},{"$f":"SA!HF28-SA!HC28","v":2900},{"$f":"SA!HG28-SA!HD28","v":4000},{"$f":"SA!HH28-SA!HE28","v":2000},{"$f":"SA!HI28-SA!HF28","v":2400},{"$f":"SA!HJ28-SA!HG28","v":-800},{"$f":"SA!HK28-SA!HH28","v":-41900},{"$f":"SA!HL28-SA!HI28","v":-42100},{"$f":"SA!HM28-SA!HJ28","v":-41700},5280,0,null,"Arts, Entertainment, and Recreation",-1900,-500,-100,100,200,400,600,1900,586.69624228375324]
["Accommodation and Food Services",{"$f":"SA!BN29-SA!BK29","v":-600},{"$f":"SA!BO29-SA!BL29","v":900},{"$f":"SA!BP29-SA!BM29","v":1200},{"$f":"SA!BQ29-SA!BN29","v":4000},{"$f":"SA!BR29-SA!BO29","v":1800},{"$f":"SA!BS29-SA!BP29","v":500},{"$f":"SA!BT29-SA!BQ29","v":-1200},{"$f":"SA!BU29-SA!BR29","v":500},{"$f":"SA!BV29-SA!BS29","v":1600},{"$f":"SA!BW29-SA!BT29","v":-200},{"$f":"SA!BX29-SA!BU29","v":700},{"$f":"SA!BY29-SA!BV29","v":0},{"$f":"SA!BZ29-SA!BW29","v":2800},{"$f":"SA!CA29-SA!BX29","v":2100},{"$f":"SA!CB29-SA!BY29","v":3100},{"$f":"SA!CC29-SA!BZ29","v":700},{"$f":"SA!CD29-SA!CA29","v":-1000},{"$f":"SA!CE29-SA!CB29","v":-1100},{"$f":"SA!CF29-SA!CC29","v":400},{"$f":"SA!CG29-SA!CD29","v":1600},{"$f":"SA!CH29-SA!CE29","v":700},{"$f":"SA!CI29-SA!CF29","v":1100},{"$f":"SA!CJ29-SA!CG29","v":1000},{"$f":"SA!CK29-SA!CH29","v":1900},{"$f":"SA!CL29-SA!CI29","v":1200},{"$f":"SA!CM29-SA!CJ29","v":1200},{"$f":"SA!CN29-SA!CK29","v":400},{"$f":"SA!CO29-SA!CL29","v":-700},{"$f":"SA!CP29-SA!CM29","v":-1200},{"$f":"SA!CQ29-SA!CN29","v":-600},{"$f":"SA!CR29-SA!CO29","v":-700},{"$f":"SA!CS29-SA!CP29","v":400},{"$f":"SA!CT29-SA!CQ29","v":-1700},{"$f":"SA!CU29-SA!CR29","v":500},{"$f":"SA!CV29-SA!CS29","v":300},{"$f":"SA!CW29-SA!CT29","v":1500},{"$f":"SA!CX29-SA!CU29","v":-500},{"$f":"SA!CY29-SA!CV29","v":-1400},{"$f":"SA!CZ29-SA!CW29","v":-900},{"$f":"SA!DA29-SA!CX29","v":-400},{"$f":"SA!DB29-SA!CY29","v":-600},{"$f":"SA!DC29-SA!CZ29","v":-1300},{"$f":"SA!DD29-SA!DA29","v":-1400},{"$f":"SA!DE29-SA!DB29","v":-1500},{"$f":"SA!DF29-SA!DC29","v":-700},{"$f":"SA!DG29-SA!DD29","v":-900},{"$f":"SA!DH29-SA!DE29","v":0},{"$f":"SA!DI29-SA!DF29","v":-1400},{"$f":"SA!DJ29-SA!DG29","v":-2900},{"$f":"SA!DK29-SA!DH29","v":-2200},{"$f":"SA!DL29-SA!DI29","v":-2000},{"$f":"SA!DM29-SA!DJ29","v":-1000},{"$f":"SA!DN29-SA!DK29","v":-800},{"$f":"SA!DO29-SA!DL29","v":-800},{"$f":"SA!DP29-SA!DM29","v":-1000},{"$f":"SA!DQ29-SA!DN29","v":-2900},{"$f":"SA!DR29-SA!DO29","v":-2000},{"$f":"SA!DS29-SA!DP29","v":-1500},{"$f":"SA!DT29-SA!DQ29","v":-1000},{"$f":"SA!DU29-SA!DR29","v":-800},{"$f":"SA!DV29-SA!DS29","v":400},{"$f":"SA!DW29-SA!DT29","v":0},{"$f":"SA!DX29-SA!DU29","v":-700},{"$f":"SA!DY29-SA!DV29","v":-300},{"$f":"SA!DZ29-SA!DW29","v":600},{"$f":"SA!EA29-SA!DX29","v":1400},{"$f":"SA!EB29-SA!DY29","v":500},{"$f":"SA!EC29-SA!DZ29","v":900},{"$f":"SA!ED29-SA!EA29","v":500},{"$f":"SA!EE29-SA!EB29","v":1200},{"$f":"SA!EF29-SA!EC29","v":900},{"$f":"SA!EG29-SA!ED29","v":900},{"$f":"SA!EH29-SA!EE29","v":-300},{"$f":"SA!EI29-SA!EF29","v":-1500},{"$f":"SA!EJ29-SA!EG29","v":-1400},{"$f":"SA!EK29-SA!EH29","v":-700},{"$f":"SA!EL29-SA!EI29","v":500},{"$f":"SA!EM29-SA!EJ29","v":600},{"$f":"SA!EN29-SA!EK29","v":400},{"$f":"SA!EO29-SA!EL29","v":900},{"$f":"SA!EP29-SA!EM29","v":900},{"$f":"SA!EQ29-SA!EN29","v":800},{"$f":"SA!ER29-SA!EO29","v":-300},{"$f":"SA!ES29-SA!EP29","v":-800},{"$f":"SA!ET29-SA!EQ29","v":400},{"$f":"SA!EU29-SA!ER29","v":1700},{"$f":"SA!EV29-SA!ES29","v":3000},{"$f":"SA!EW29-SA!ET29","v":2100},{"$f":"SA!EX29-SA!EU29","v":1400},{"$f":"SA!EY29-SA!EV29","v":1700},{"$f":"SA!EZ29-SA!EW29","v":1100},{"$f":"SA!FA29-SA!EX29","v":600},{"$f":"SA!FB29-SA!EY29","v":100},{"$f":"SA!FC29-SA!EZ29","v":-400},{"$f":"SA!FD29-SA!FA29","v":400},{"$f":"SA!FE29-SA!FB29","v":500},{"$f":"SA!FF29-SA!FC29","v":1400},{"$f":"SA!FG29-SA!FD29","v":1500},{"$f":"SA!FH29-SA!FE29","v":1100},{"$f":"SA!FI29-SA!FF29","v":300},{"$f":"SA!FJ29-SA!FG29","v":700},{"$f":"SA!FK29-SA!FH29","v":900},{"$f":"SA!FL29-SA!FI29","v":2500},{"$f":"SA!FM29-SA!FJ29","v":2500},{"$f":"SA!FN29-SA!FK29","v":2200},{"$f":"SA!FO29-SA!FL29","v":1200},{"$f":"SA!FP29-SA!FM29","v":-100},{"$f":"SA!FQ29-SA!FN29","v":-300},{"$f":"SA!FR29-SA!FO29","v":-500},{"$f":"SA!FS29-SA!FP29","v":-200},{"$f":"SA!FT29-SA!FQ29","v":-200},{"$f":"SA!FU29-SA!FR29","v":700},{"$f":"SA!FV29-SA!FS29","v":800},{"$f":"SA!FW29-SA!FT29","v":1900},{"$f":"SA!FX29-SA!FU29","v":-900},{"$f":"SA!FY29-SA!FV29","v":-100},{"$f":"SA!FZ29-SA!FW29","v":-1100},{"$f":"SA!GA29-SA!FX29","v":1900},{"$f":"SA!GB29-SA!FY29","v":1500},{"$f":"SA!GC29-SA!FZ29","v":1700},{"$f":"SA!GD29-SA!GA29","v":2300},{"$f":"SA!GE29-SA!GB29","v":2100},{"$f":"SA!GF29-SA!GC29","v":2600},{"$f":"SA!GG29-SA!GD29","v":1400},{"$f":"SA!GH29-SA!GE29","v":1600},{"$f":"SA!GI29-SA!GF29","v":1100},{"$f":"SA!GJ29-SA!GG29","v":1100},{"$f":"SA!GK29-SA!GH29","v":900},{"$f":"SA!GL29-SA!GI29","v":500},{"$f":"SA!GM29-SA!GJ29","v":1500},{"$f":"SA!GN29-SA!GK29","v":2400},{"$f":"SA!GO29-SA!GL29","v":3000},{"$f":"SA!GP29-SA!GM29","v":1800},{"$f":"SA!GQ29-SA!GN29","v":1300},{"$f":"SA!GR29-SA!GO29","v":0},{"$f":"SA!GS29-SA!GP29","v":-400},{"$f":"SA!GT29-SA!GQ29","v":-1500},{"$f":"SA!GU29-SA!GR29","v":-1400},{"$f":"SA!GV29-SA!GS29","v":-200},{"$f":"SA!GW29-SA!GT29","v":0},{"$f":"SA!GX29-SA!GU29","v":200},{"$f":"SA!GY29-SA!GV29","v":-200},{"$f":"SA!GZ29-SA!GW29","v":200},{"$f":"SA!HA29-SA!GX29","v":1300},{"$f":"SA!HB29-SA!GY29","v":300},{"$f":"SA!HC29-SA!GZ29","v":5700},{"$f":"SA!HD29-SA!HA29","v":1200},{"$f":"SA!HE29-SA!HB29","v":2000},{"$f":"SA!HF29-SA!HC29","v":-2200},{"$f":"SA!HG29-SA!HD29","v":5000},{"$f":"SA!HH29-SA!HE29","v":2700},{"$f":"SA!HI29-SA!HF29","v":900},{"$f":"SA!HJ29-SA!HG29","v":-5700},{"$f":"SA!HK29-SA!HH29","v":-240400},{"$f":"SA!HL29-SA!HI29","v":-240000},{"$f":"SA!HM29-SA!HJ29","v":-236700},5491,1,null,"Accommodation and Food Services",-2900,-1000,-400,325,500,1100,1700,4000,1280.5638406577002]
["Other Services",{"$f":"SA!BN30-SA!BK30","v":-1400},{"$f":"SA!BO30-SA!BL30","v":100},{"$f":"SA!BP30-SA!BM30","v":700},{"$f":"SA!BQ30-SA!BN30","v":400},{"$f":"SA!BR30-SA!BO30","v":200},{"$f":"SA!BS30-SA!BP30","v":-200},{"$f":"SA!BT30-SA!BQ30","v":-200},{"$f":"SA!BU30-SA!BR30","v":-100},{"$f":"SA!BV30-SA!BS30","v":300},{"$f":"SA!BW30-SA!BT30","v":0},{"$f":"SA!BX30-SA!BU30","v":-200},{"$f":"SA!BY30-SA!BV30","v":-100},{"$f":"SA!BZ30-SA!BW30","v":-100},{"$f":"SA!CA30-SA!BX30","v":-200},{"$f":"SA!CB30-SA!BY30","v":-200},{"$f":"SA!CC30-SA!BZ30","v":-200},{"$f":"SA!CD30-SA!CA30","v":100},{"$f":"SA!CE30-SA!CB30","v":100},{"$f":"SA!CF30-SA!CC30","v":300},{"$f":"SA!CG30-SA!CD30","v":200},{"$f":"SA!CH30-SA!CE30","v":300},{"$f":"SA!CI30-SA!CF30","v":200},{"$f":"SA!CJ30-SA!CG30","v":300},{"$f":"SA!CK30-SA!CH30","v":400},{"$f":"SA!CL30-SA!CI30","v":900},{"$f":"SA!CM30-SA!CJ30","v":900},{"$f":"SA!CN30-SA!CK30","v":700},{"$f":"SA!CO30-SA!CL30","v":400},{"$f":"SA!CP30-SA!CM30","v":500},{"$f":"SA!CQ30-SA!CN30","v":400},{"$f":"SA!CR30-SA!CO30","v":300},{"$f":"SA!CS30-SA!CP30","v":-200},{"$f":"SA!CT30-SA!CQ30","v":-500},{"$f":"SA!CU30-SA!CR30","v":100},{"$f":"SA!CV30-SA!CS30","v":500},{"$f":"SA!CW30-SA!CT30","v":900},{"$f":"SA!CX30-SA!CU30","v":100},{"$f":"SA!CY30-SA!CV30","v":100},{"$f":"SA!CZ30-SA!CW30","v":100},{"$f":"SA!DA30-SA!CX30","v":600},{"$f":"SA!DB30-SA!CY30","v":800},{"$f":"SA!DC30-SA!CZ30","v":700},{"$f":"SA!DD30-SA!DA30","v":400},{"$f":"SA!DE30-SA!DB30","v":300},{"$f":"SA!DF30-SA!DC30","v":200},{"$f":"SA!DG30-SA!DD30","v":2200},{"$f":"SA!DH30-SA!DE30","v":900},{"$f":"SA!DI30-SA!DF30","v":400},{"$f":"SA!DJ30-SA!DG30","v":-2000},{"$f":"SA!DK30-SA!DH30","v":-1100},{"$f":"SA!DL30-SA!DI30","v":-500},{"$f":"SA!DM30-SA!DJ30","v":-900},{"$f":"SA!DN30-SA!DK30","v":-700},{"$f":"SA!DO30-SA!DL30","v":-900},{"$f":"SA!DP30-SA!DM30","v":-500},{"$f":"SA!DQ30-SA!DN30","v":-700},{"$f":"SA!DR30-SA!DO30","v":-500},{"$f":"SA!DS30-SA!DP30","v":-300},{"$f":"SA!DT30-SA!DQ30","v":-100},{"$f":"SA!DU30-SA!DR30","v":-300},{"$f":"SA!DV30-SA!DS30","v":-600},{"$f":"SA!DW30-SA!DT30","v":-600},{"$f":"SA!DX30-SA!DU30","v":-300},{"$f":"SA!DY30-SA!DV30","v":300},{"$f":"SA!DZ30-SA!DW30","v":0},{"$f":"SA!EA30-SA!DX30","v":-300},{"$f":"SA!EB30-SA!DY30","v":-300},{"$f":"SA!EC30-SA!DZ30","v":0},{"$f":"SA!ED30-SA!EA30","v":100},{"$f":"SA!EE30-SA!EB30","v":600},{"$f":"SA!EF30-SA!EC30","v":100},{"$f":"SA!EG30-SA!ED30","v":100},{"$f":"SA!EH30-SA!EE30","v":-400},{"$f":"SA!EI30-SA!EF30","v":0},{"$f":"SA!EJ30-SA!EG30","v":200},{"$f":"SA!EK30-SA!EH30","v":100},{"$f":"SA!EL30-SA!EI30","v":200},{"$f":"SA!EM30-SA!EJ30","v":-200},{"$f":"SA!EN30-SA!EK30","v":300},{"$f":"SA!EO30-SA!EL30","v":100},{"$f":"SA!EP30-SA!EM30","v":300},{"$f":"SA!EQ30-SA!EN30","v":-400},{"$f":"SA!ER30-SA!EO30","v":-100},{"$f":"SA!ES30-SA!EP30","v":400},{"$f":"SA!ET30-SA!EQ30","v":500},{"$f":"SA!EU30-SA!ER30","v":700},{"$f":"SA!EV30-SA!ES30","v":100},{"$f":"SA!EW30-SA!ET30","v":200},{"$f":"SA!EX30-SA!EU30","v":-200},{"$f":"SA!EY30-SA!EV30","v":1100},{"$f":"SA!EZ30-SA!EW30","v":0},{"$f":"SA!FA30-SA!EX30","v":100},{"$f":"SA!FB30-SA!EY30","v":-1100},{"$f":"SA!FC30-SA!EZ30","v":-200},{"$f":"SA!FD30-SA!FA30","v":-100},{"$f":"SA!FE30-SA!FB30","v":-100},{"$f":"SA!FF30-SA!FC30","v":-200},{"$f":"SA!FG30-SA!FD30","v":-400},{"$f":"SA!FH30-SA!FE30","v":-100},{"$f":"SA!FI30-SA!FF30","v":-100},{"$f":"SA!FJ30-SA!FG30","v":400},{"$f":"SA!FK30-SA!FH30","v":400},{"$f":"SA!FL30-SA!FI30","v":300},{"$f":"SA!FM30-SA!FJ30","v":200},{"$f":"SA!FN30-SA!FK30","v":900},{"$f":"SA!FO30-SA!FL30","v":500},{"$f":"SA!FP30-SA!FM30","v":1400},{"$f":"SA!FQ30-SA!FN30","v":900},{"$f":"SA!FR30-SA!FO30","v":2300},{"$f":"SA!FS30-SA!FP30","v":1800},{"$f":"SA!FT30-SA!FQ30","v":1500},{"$f":"SA!FU30-SA!FR30","v":1400},{"$f":"SA!FV30-SA!FS30","v":1300},{"$f":"SA!FW30-SA!FT30","v":1900},{"$f":"SA!FX30-SA!FU30","v":2000},{"$f":"SA!FY30-SA!FV30","v":2200},{"$f":"SA!FZ30-SA!FW30","v":1900},{"$f":"SA!GA30-SA!FX30","v":1400},{"$f":"SA!GB30-SA!FY30","v":1100},{"$f":"SA!GC30-SA!FZ30","v":1000},{"$f":"SA!GD30-SA!GA30","v":2000},{"$f":"SA!GE30-SA!GB30","v":1900},{"$f":"SA!GF30-SA!GC30","v":1900},{"$f":"SA!GG30-SA!GD30","v":1000},{"$f":"SA!GH30-SA!GE30","v":900},{"$f":"SA!GI30-SA!GF30","v":500},{"$f":"SA!GJ30-SA!GG30","v":100},{"$f":"SA!GK30-SA!GH30","v":-400},{"$f":"SA!GL30-SA!GI30","v":-100},{"$f":"SA!GM30-SA!GJ30","v":100},{"$f":"SA!GN30-SA!GK30","v":300},{"$f":"SA!GO30-SA!GL30","v":400},{"$f":"SA!GP30-SA!GM30","v":600},{"$f":"SA!GQ30-SA!GN30","v":500},{"$f":"SA!GR30-SA!GO30","v":200},{"$f":"SA!GS30-SA!GP30","v":-200},{"$f":"SA!GT30-SA!GQ30","v":-100},{"$f":"SA!GU30-SA!GR30","v":-100},{"$f":"SA!GV30-SA!GS30","v":400},{"$f":"SA!GW30-SA!GT30","v":500},{"$f":"SA!GX30-SA!GU30","v":700},{"$f":"SA!GY30-SA!GV30","v":1200},{"$f":"SA!GZ30-SA!GW30","v":1200},{"$f":"SA!HA30-SA!GX30","v":2200},{"$f":"SA!HB30-SA!GY30","v":500},{"$f":"SA!HC30-SA!GZ30","v":1900},{"$f":"SA!HD30-SA!HA30","v":400},{"$f":"SA!HE30-SA!HB30","v":2000},{"$f":"SA!HF30-SA!HC30","v":-2000},{"$f":"SA!HG30-SA!HD30","v":100},{"$f":"SA!HH30-SA!HE30","v":-700},{"$f":"SA!HI30-SA!HF30","v":1900},{"$f":"SA!HJ30-SA!HG30","v":-400},{"$f":"SA!HK30-SA!HH30","v":-152200},{"$f":"SA!HL30-SA!HI30","v":-152300},{"$f":"SA!HM30-SA!HJ30","v":-151800},4379,0,null,"Other Services",-2000,-300,-100,100,300,500,1000,2300,737.3613596408195]
["Government",{"$f":"SA!BN31-SA!BK31","v":3100},{"$f":"SA!BO31-SA!BL31","v":1400},{"$f":"SA!BP31-SA!BM31","v":2300},{"$f":"SA!BQ31-SA!BN31","v":-2100},{"$f":"SA!BR31-SA!BO31","v":-2000},{"$f":"SA!BS31-SA!BP31","v":-1400},{"$f":"SA!BT31-SA!BQ31","v":-400},{"$f":"SA!BU31-SA!BR31","v":-300},{"$f":"SA!BV31-SA!BS31","v":5600},{"$f":"SA!BW31-SA!BT31","v":1900},{"$f":"SA!BX31-SA!BU31","v":200},{"$f":"SA!BY31-SA!BV31","v":-1600},{"$f":"SA!BZ31-SA!BW31","v":-400},{"$f":"SA!CA31-SA!BX31","v":500},{"$f":"SA!CB31-SA!BY31","v":-1300},{"$f":"SA!CC31-SA!BZ31","v":-300},{"$f":"SA!CD31-SA!CA31","v":-800},{"$f":"SA!CE31-SA!CB31","v":1400},{"$f":"SA!CF31-SA!CC31","v":400},{"$f":"SA!CG31-SA!CD31","v":2100},{"$f":"SA!CH31-SA!CE31","v":1200},{"$f":"SA!CI31-SA!CF31","v":-1400},{"$f":"SA!CJ31-SA!CG31","v":-900},{"$f":"SA!CK31-SA!CH31","v":-3600},{"$f":"SA!CL31-SA!CI31","v":-200},{"$f":"SA!CM31-SA!CJ31","v":-2000},{"$f":"SA!CN31-SA!CK31","v":-700},{"$f":"SA!CO31-SA!CL31","v":800},{"$f":"SA!CP31-SA!CM31","v":2900},{"$f":"SA!CQ31-SA!CN31","v":6700},{"$f":"SA!CR31-SA!CO31","v":2100},{"$f":"SA!CS31-SA!CP31","v":2500},{"$f":"SA!CT31-SA!CQ31","v":700},{"$f":"SA!CU31-SA!CR31","v":-1300},{"$f":"SA!CV31-SA!CS31","v":-4400},{"$f":"SA!CW31-SA!CT31","v":-3600},{"$f":"SA!CX31-SA!CU31","v":4900},{"$f":"SA!CY31-SA!CV31","v":5500},{"$f":"SA!CZ31-SA!CW31","v":800},{"$f":"SA!DA31-SA!CX31","v":-3600},{"$f":"SA!DB31-SA!CY31","v":500},{"$f":"SA!DC31-SA!CZ31","v":1100},{"$f":"SA!DD31-SA!DA31","v":4900},{"$f":"SA!DE31-SA!DB31","v":700},{"$f":"SA!DF31-SA!DC31","v":12200},{"$f":"SA!DG31-SA!DD31","v":3000},{"$f":"SA!DH31-SA!DE31","v":7800},{"$f":"SA!DI31-SA!DF31","v":-6800},{"$f":"SA!DJ31-SA!DG31","v":-2200},{"$f":"SA!DK31-SA!DH31","v":-5000},{"$f":"SA!DL31-SA!DI31","v":-1900},{"$f":"SA!DM31-SA!DJ31","v":-500},{"$f":"SA!DN31-SA!DK31","v":200},{"$f":"SA!DO31-SA!DL31","v":-2300},{"$f":"SA!DP31-SA!DM31","v":-1100},{"$f":"SA!DQ31-SA!DN31","v":-5000},{"$f":"SA!DR31-SA!DO31","v":-3800},{"$f":"SA!DS31-SA!DP31","v":-1300},{"$f":"SA!DT31-SA!DQ31","v":-400},{"$f":"SA!DU31-SA!DR31","v":3400},{"$f":"SA!DV31-SA!DS31","v":-600},{"$f":"SA!DW31-SA!DT31","v":-1000},{"$f":"SA!DX31-SA!DU31","v":-2200},{"$f":"SA!DY31-SA!DV31","v":2400},{"$f":"SA!DZ31-SA!DW31","v":8400},{"$f":"SA!EA31-SA!DX31","v":4800},{"$f":"SA!EB31-SA!DY31","v":-2500},{"$f":"SA!EC31-SA!DZ31","v":-8300},{"$f":"SA!ED31-SA!EA31","v":-4700},{"$f":"SA!EE31-SA!EB31","v":-400},{"$f":"SA!EF31-SA!EC31","v":2400},{"$f":"SA!EG31-SA!ED31","v":-3400},{"$f":"SA!EH31-SA!EE31","v":-1700},{"$f":"SA!EI31-SA!EF31","v":-1200},{"$f":"SA!EJ31-SA!EG31","v":3900},{"$f":"SA!EK31-SA!EH31","v":-1200},{"$f":"SA!EL31-SA!EI31","v":-1100},{"$f":"SA!EM31-SA!EJ31","v":-4100},{"$f":"SA!EN31-SA!EK31","v":3200},{"$f":"SA!EO31-SA!EL31","v":-3500},{"$f":"SA!EP31-SA!EM31","v":-2400},{"$f":"SA!EQ31-SA!EN31","v":-10100},{"$f":"SA!ER31-SA!EO31","v":-7500},{"$f":"SA!ES31-SA!EP31","v":-1300},{"$f":"SA!ET31-SA!EQ31","v":-7600},{"$f":"SA!EU31-SA!ER31","v":-2300},{"$f":"SA!EV31-SA!ES31","v":-300},{"$f":"SA!EW31-SA!ET31","v":12700},{"$f":"SA!EX31-SA!EU31","v":14000},{"$f":"SA!EY31-SA!EV31","v":2000},{"$f":"SA!EZ31-SA!EW31","v":-4200},{"$f":"SA!FA31-SA!EX31","v":-5400},{"$f":"SA!FB31-SA!EY31","v":-1800},{"$f":"SA!FC31-SA!EZ31","v":1800},{"$f":"SA!FD31-SA!FA31","v":3100},{"$f":"SA!FE31-SA!FB31","v":500},{"$f":"SA!FF31-SA!FC31","v":-11100},{"$f":"SA!FG31-SA!FD31","v":-3000},{"$f":"SA!FH31-SA!FE31","v":-600},{"$f":"SA!FI31-SA!FF31","v":8600},{"$f":"SA!FJ31-SA!FG31","v":-4300},{"$f":"SA!FK31-SA!FH31","v":-1800},{"$f":"SA!FL31-SA!FI31","v":500},{"$f":"SA!FM31-SA!FJ31","v":700},{"$f":"SA!FN31-SA!FK31","v":3000},{"$f":"SA!FO31-SA!FL31","v":1800},{"$f":"SA!FP31-SA!FM31","v":300},{"$f":"SA!FQ31-SA!FN31","v":-1200},{"$f":"SA!FR31-SA!FO31","v":300},{"$f":"SA!FS31-SA!FP31","v":-600},{"$f":"SA!FT31-SA!FQ31","v":-500},{"$f":"SA!FU31-SA!FR31","v":-1000},{"$f":"SA!FV31-SA!FS31","v":1400},{"$f":"SA!FW31-SA!FT31","v":800},{"$f":"SA!FX31-SA!FU31","v":1000},{"$f":"SA!FY31-SA!FV31","v":7000},{"$f":"SA!FZ31-SA!FW31","v":2000},{"$f":"SA!GA31-SA!FX31","v":0},{"$f":"SA!GB31-SA!FY31","v":-1000},{"$f":"SA!GC31-SA!FZ31","v":-1800},{"$f":"SA!GD31-SA!GA31","v":-1900},{"$f":"SA!GE31-SA!GB31","v":-5500},{"$f":"SA!GF31-SA!GC31","v":-800},{"$f":"SA!GG31-SA!GD31","v":400},{"$f":"SA!GH31-SA!GE31","v":-1600},{"$f":"SA!GI31-SA!GF31","v":-900},{"$f":"SA!GJ31-SA!GG31","v":-1800},{"$f":"SA!GK31-SA!GH31","v":-1200},{"$f":"SA!GL31-SA!GI31","v":-1300},{"$f":"SA!GM31-SA!GJ31","v":-500},{"$f":"SA!GN31-SA!GK31","v":-3300},{"$f":"SA!GO31-SA!GL31","v":800},{"$f":"SA!GP31-SA!GM31","v":2100},{"$f":"SA!GQ31-SA!GN31","v":5200},{"$f":"SA!GR31-SA!GO31","v":800},{"$f":"SA!GS31-SA!GP31","v":400},{"$f":"SA!GT31-SA!GQ31","v":-2500},{"$f":"SA!GU31-SA!GR31","v":100},{"$f":"SA!GV31-SA!GS31","v":2300},{"$f":"SA!GW31-SA!GT31","v":7100},{"$f":"SA!GX31-SA!GU31","v":-500},{"$f":"SA!GY31-SA!GV31","v":2800},{"$f":"SA!GZ31-SA!GW31","v":5900},{"$f":"SA!HA31-SA!GX31","v":8800},{"$f":"SA!HB31-SA!GY31","v":-2400},{"$f":"SA!HC31-SA!GZ31","v":-4500},{"$f":"SA!HD31-SA!HA31","v":-6700},{"$f":"SA!HE31-SA!HB31","v":5400},{"$f":"SA!HF31-SA!HC31","v":1500},{"$f":"SA!HG31-SA!HD31","v":-700},{"$f":"SA!HH31-SA!HE31","v":-1500},{"$f":"SA!HI31-SA!HF31","v":-5000},{"$f":"SA!HJ31-SA!HG31","v":4400},{"$f":"SA!HK31-SA!HH31","v":-417100},{"$f":"SA!HL31-SA!HI31","v":-412500},{"$f":"SA!HM31-SA!HJ31","v":-415200},"n/a",0,null,"Government",-11100,-3325,-1400,-600,75,1150,3100,14000,3870.0765217177059]
["Federal Government",{"$f":"SA!BN32-SA!BK32","v":-200},{"$f":"SA!BO32-SA!BL32","v":-200},{"$f":"SA!BP32-SA!BM32","v":-100},{"$f":"SA!BQ32-SA!BN32","v":0},{"$f":"SA!BR32-SA!BO32","v":0},{"$f":"SA!BS32-SA!BP32","v":-100},{"$f":"SA!BT32-SA!BQ32","v":-200},{"$f":"SA!BU32-SA!BR32","v":-200},{"$f":"SA!BV32-SA!BS32","v":0},{"$f":"SA!BW32-SA!BT32","v":-100},{"$f":"SA!BX32-SA!BU32","v":-100},{"$f":"SA!BY32-SA!BV32","v":-100},{"$f":"SA!BZ32-SA!BW32","v":0},{"$f":"SA!CA32-SA!BX32","v":0},{"$f":"SA!CB32-SA!BY32","v":200},{"$f":"SA!CC32-SA!BZ32","v":200},{"$f":"SA!CD32-SA!CA32","v":100},{"$f":"SA!CE32-SA!CB32","v":0},{"$f":"SA!CF32-SA!CC32","v":0},{"$f":"SA!CG32-SA!CD32","v":0},{"$f":"SA!CH32-SA!CE32","v":0},{"$f":"SA!CI32-SA!CF32","v":-100},{"$f":"SA!CJ32-SA!CG32","v":100},{"$f":"SA!CK32-SA!CH32","v":0},{"$f":"SA!CL32-SA!CI32","v":200},{"$f":"SA!CM32-SA!CJ32","v":-100},{"$f":"SA!CN32-SA!CK32","v":-100},{"$f":"SA!CO32-SA!CL32","v":-200},{"$f":"SA!CP32-SA!CM32","v":0},{"$f":"SA!CQ32-SA!CN32","v":100},{"$f":"SA!CR32-SA!CO32","v":0},{"$f":"SA!CS32-SA!CP32","v":100},{"$f":"SA!CT32-SA!CQ32","v":-100},{"$f":"SA!CU32-SA!CR32","v":200},{"$f":"SA!CV32-SA!CS32","v":0},{"$f":"SA!CW32-SA!CT32","v":-100},{"$f":"SA!CX32-SA!CU32","v":0},{"$f":"SA!CY32-SA!CV32","v":200},{"$f":"SA!CZ32-SA!CW32","v":400},{"$f":"SA!DA32-SA!CX32","v":100},{"$f":"SA!DB32-SA!CY32","v":100},{"$f":"SA!DC32-SA!CZ32","v":100},{"$f":"SA!DD32-SA!DA32","v":300},{"$f":"SA!DE32-SA!DB32","v":200},{"$f":"SA!DF32-SA!DC32","v":200},{"$f":"SA!DG32-SA!DD32","v":-200},{"$f":"SA!DH32-SA!DE32","v":-100},{"$f":"SA!DI32-SA!DF32","v":0},{"$f":"SA!DJ32-SA!DG32","v":300},{"$f":"SA!DK32-SA!DH32","v":200},{"$f":"SA!DL32-SA!DI32","v":-100},{"$f":"SA!DM32-SA!DJ32","v":2000},{"$f":"SA!DN32-SA!DK32","v":2000},{"$f":"SA!DO32-SA!DL32","v":100},{"$f":"SA!DP32-SA!DM32","v":-2300},{"$f":"SA!DQ32-SA!DN32","v":-2200},{"$f":"SA!DR32-SA!DO32","v":-200},{"$f":"SA!DS32-SA!DP32","v":200},{"$f":"SA!DT32-SA!DQ32","v":0},{"$f":"SA!DU32-SA!DR32","v":100},{"$f":"SA!DV32-SA!DS32","v":-200},{"$f":"SA!DW32-SA!DT32","v":-100},{"$f":"SA!DX32-SA!DU32","v":600},{"$f":"SA!DY32-SA!DV32","v":3900},{"$f":"SA!DZ32-SA!DW32","v":8300},{"$f":"SA!EA32-SA!DX32","v":4000},{"$f":"SA!EB32-SA!DY32","v":-1100},{"$f":"SA!EC32-SA!DZ32","v":-7400},{"$f":"SA!ED32-SA!EA32","v":-4600},{"$f":"SA!EE32-SA!EB32","v":-2800},{"$f":"SA!EF32-SA!EC32","v":-900},{"$f":"SA!EG32-SA!ED32","v":-200},{"$f":"SA!EH32-SA!EE32","v":-100},{"$f":"SA!EI32-SA!EF32","v":-200},{"$f":"SA!EJ32-SA!EG32","v":0},{"$f":"SA!EK32-SA!EH32","v":0},{"$f":"SA!EL32-SA!EI32","v":0},{"$f":"SA!EM32-SA!EJ32","v":-100},{"$f":"SA!EN32-SA!EK32","v":0},{"$f":"SA!EO32-SA!EL32","v":0},{"$f":"SA!EP32-SA!EM32","v":0},{"$f":"SA!EQ32-SA!EN32","v":-100},{"$f":"SA!ER32-SA!EO32","v":-300},{"$f":"SA!ES32-SA!EP32","v":-300},{"$f":"SA!ET32-SA!EQ32","v":-400},{"$f":"SA!EU32-SA!ER32","v":-100},{"$f":"SA!EV32-SA!ES32","v":0},{"$f":"SA!EW32-SA!ET32","v":0},{"$f":"SA!EX32-SA!EU32","v":0},{"$f":"SA!EY32-SA!EV32","v":-100},{"$f":"SA!EZ32-SA!EW32","v":100},{"$f":"SA!FA32-SA!EX32","v":100},{"$f":"SA!FB32-SA!EY32","v":0},{"$f":"SA!FC32-SA!EZ32","v":0},{"$f":"SA!FD32-SA!FA32","v":-400},{"$f":"SA!FE32-SA!FB32","v":-100},{"$f":"SA!FF32-SA!FC32","v":-300},{"$f":"SA!FG32-SA!FD32","v":200},{"$f":"SA!FH32-SA!FE32","v":-300},{"$f":"SA!FI32-SA!FF32","v":-100},{"$f":"SA!FJ32-SA!FG32","v":-200},{"$f":"SA!FK32-SA!FH32","v":100},{"$f":"SA!FL32-SA!FI32","v":-100},{"$f":"SA!FM32-SA!FJ32","v":-300},{"$f":"SA!FN32-SA!FK32","v":-200},{"$f":"SA!FO32-SA!FL32","v":-100},{"$f":"SA!FP32-SA!FM32","v":200},{"$f":"SA!FQ32-SA!FN32","v":0},{"$f":"SA!FR32-SA!FO32","v":100},{"$f":"SA!FS32-SA!FP32","v":0},{"$f":"SA!FT32-SA!FQ32","v":100},{"$f":"SA!FU32-SA!FR32","v":-100},{"$f":"SA!FV32-SA!FS32","v":0},{"$f":"SA!FW32-SA!FT32","v":0},{"$f":"SA!FX32-SA!FU32","v":100},{"$f":"SA!FY32-SA!FV32","v":0},{"$f":"SA!FZ32-SA!FW32","v":0},{"$f":"SA!GA32-SA!FX32","v":0},{"$f":"SA!GB32-SA!FY32","v":100},{"$f":"SA!GC32-SA!FZ32","v":300},{"$f":"SA!GD32-SA!GA32","v":100},{"$f":"SA!GE32-SA!GB32","v":0},{"$f":"SA!GF32-SA!GC32","v":-200},{"$f":"SA!GG32-SA!GD32","v":100},{"$f":"SA!GH32-SA!GE32","v":100},{"$f":"SA!GI32-SA!GF32","v":300},{"$f":"SA!GJ32-SA!GG32","v":200},{"$f":"SA!GK32-SA!GH32","v":0},{"$f":"SA!GL32-SA!GI32","v":-300},{"$f":"SA!GM32-SA!GJ32","v":-300},{"$f":"SA!GN32-SA!GK32","v":0},{"$f":"SA!GO32-SA!GL32","v":400},{"$f":"SA!GP32-SA!GM32","v":200},{"$f":"SA!GQ32-SA!GN32","v":100},{"$f":"SA!GR32-SA!GO32","v":-100},{"$f":"SA!GS32-SA!GP32","v":0},{"$f":"SA!GT32-SA!GQ32","v":0},{"$f":"SA!GU32-SA!GR32","v":0},{"$f":"SA!GV32-SA!GS32","v":100},{"$f":"SA!GW32-SA!GT32","v":200},{"$f":"SA!GX32-SA!GU32","v":200},{"$f":"SA!GY32-SA!GV32","v":200},{"$f":"SA!GZ32-SA!GW32","v":0},{"$f":"SA!HA32-SA!GX32","v":0},{"$f":"SA!HB32-SA!GY32","v":300},{"$f":"SA!HC32-SA!GZ32","v":100},{"$f":"SA!HD32-SA!HA32","v":0},{"$f":"SA!HE32-SA!HB32","v":-500},{"$f":"SA!HF32-SA!HC32","v":0},{"$f":"SA!HG32-SA!HD32","v":0},{"$f":"SA!HH32-SA!HE32","v":300},{"$f":"SA!HI32-SA!HF32","v":-100},{"$f":"SA!HJ32-SA!HG32","v":0},{"$f":"SA!HK32-SA!HH32","v":-29300},{"$f":"SA!HL32-SA!HI32","v":-29100},{"$f":"SA!HM32-SA!HJ32","v":-29200},"n/a",0,null,"Federal Government",-7400,-200,-100,0,0,100,200,8300,1200.6988625328395]
["State Government",{"$f":"SA!BN33-SA!BK33","v":1700},{"$f":"SA!BO33-SA!BL33","v":-900},{"$f":"SA!BP33-SA!BM33","v":-1400},{"$f":"SA!BQ33-SA!BN33","v":-3700},{"$f":"SA!BR33-SA!BO33","v":-900},{"$f":"SA!BS33-SA!BP33","v":-800},{"$f":"SA!BT33-SA!BQ33","v":700},{"$f":"SA!BU33-SA!BR33","v":-300},{"$f":"SA!BV33-SA!BS33","v":3900},{"$f":"SA!BW33-SA!BT33","v":500},{"$f":"SA!BX33-SA!BU33","v":1200},{"$f":"SA!BY33-SA!BV33","v":-1100},{"$f":"SA!BZ33-SA!BW33","v":1700},{"$f":"SA!CA33-SA!BX33","v":700},{"$f":"SA!CB33-SA!BY33","v":-1300},{"$f":"SA!CC33-SA!BZ33","v":-1800},{"$f":"SA!CD33-SA!CA33","v":-1200},{"$f":"SA!CE33-SA!CB33","v":2100},{"$f":"SA!CF33-SA!CC33","v":1700},{"$f":"SA!CG33-SA!CD33","v":2500},{"$f":"SA!CH33-SA!CE33","v":1500},{"$f":"SA!CI33-SA!CF33","v":-200},{"$f":"SA!CJ33-SA!CG33","v":-1400},{"$f":"SA!CK33-SA!CH33","v":-2400},{"$f":"SA!CL33-SA!CI33","v":-700},{"$f":"SA!CM33-SA!CJ33","v":700},{"$f":"SA!CN33-SA!CK33","v":600},{"$f":"SA!CO33-SA!CL33","v":0},{"$f":"SA!CP33-SA!CM33","v":500},{"$f":"SA!CQ33-SA!CN33","v":600},{"$f":"SA!CR33-SA!CO33","v":600},{"$f":"SA!CS33-SA!CP33","v":300},{"$f":"SA!CT33-SA!CQ33","v":-100},{"$f":"SA!CU33-SA!CR33","v":-800},{"$f":"SA!CV33-SA!CS33","v":-1500},{"$f":"SA!CW33-SA!CT33","v":-800},{"$f":"SA!CX33-SA!CU33","v":2300},{"$f":"SA!CY33-SA!CV33","v":1300},{"$f":"SA!CZ33-SA!CW33","v":-100},{"$f":"SA!DA33-SA!CX33","v":-2300},{"$f":"SA!DB33-SA!CY33","v":100},{"$f":"SA!DC33-SA!CZ33","v":-100},{"$f":"SA!DD33-SA!DA33","v":1600},{"$f":"SA!DE33-SA!DB33","v":100},{"$f":"SA!DF33-SA!DC33","v":300},{"$f":"SA!DG33-SA!DD33","v":800},{"$f":"SA!DH33-SA!DE33","v":400},{"$f":"SA!DI33-SA!DF33","v":700},{"$f":"SA!DJ33-SA!DG33","v":-1400},{"$f":"SA!DK33-SA!DH33","v":-1300},{"$f":"SA!DL33-SA!DI33","v":-1100},{"$f":"SA!DM33-SA!DJ33","v":-4000},{"$f":"SA!DN33-SA!DK33","v":-2200},{"$f":"SA!DO33-SA!DL33","v":-3700},{"$f":"SA!DP33-SA!DM33","v":-400},{"$f":"SA!DQ33-SA!DN33","v":-1800},{"$f":"SA!DR33-SA!DO33","v":-2200},{"$f":"SA!DS33-SA!DP33","v":-1800},{"$f":"SA!DT33-SA!DQ33","v":-900},{"$f":"SA!DU33-SA!DR33","v":1900},{"$f":"SA!DV33-SA!DS33","v":400},{"$f":"SA!DW33-SA!DT33","v":100},{"$f":"SA!DX33-SA!DU33","v":-1500},{"$f":"SA!DY33-SA!DV33","v":1600},{"$f":"SA!DZ33-SA!DW33","v":1100},{"$f":"SA!EA33-SA!DX33","v":3100},{"$f":"SA!EB33-SA!DY33","v":1300},{"$f":"SA!EC33-SA!DZ33","v":1300},{"$f":"SA!ED33-SA!EA33","v":-600},{"$f":"SA!EE33-SA!EB33","v":-1100},{"$f":"SA!EF33-SA!EC33","v":-1700},{"$f":"SA!EG33-SA!ED33","v":-2900},{"$f":"SA!EH33-SA!EE33","v":-2300},{"$f":"SA!EI33-SA!EF33","v":-1500},{"$f":"SA!EJ33-SA!EG33","v":800},{"$f":"SA!EK33-SA!EH33","v":-500},{"$f":"SA!EL33-SA!EI33","v":2400},{"$f":"SA!EM33-SA!EJ33","v":-1000},{"$f":"SA!EN33-SA!EK33","v":200},{"$f":"SA!EO33-SA!EL33","v":-8200},{"$f":"SA!EP33-SA!EM33","v":-2700},{"$f":"SA!EQ33-SA!EN33","v":-1400},{"$f":"SA!ER33-SA!EO33","v":4000},{"$f":"SA!ES33-SA!EP33","v":2000},{"$f":"SA!ET33-SA!EQ33","v":-8400},{"$f":"SA!EU33-SA!ER33","v":-5400},{"$f":"SA!EV33-SA!ES33","v":-700},{"$f":"SA!EW33-SA!ET33","v":9100},{"$f":"SA!EX33-SA!EU33","v":6400},{"$f":"SA!EY33-SA!EV33","v":-900},{"$f":"SA!EZ33-SA!EW33","v":-100},{"$f":"SA!FA33-SA!EX33","v":-900},{"$f":"SA!FB33-SA!EY33","v":2800},{"$f":"SA!FC33-SA!EZ33","v":800},{"$f":"SA!FD33-SA!FA33","v":1200},{"$f":"SA!FE33-SA!FB33","v":-1100},{"$f":"SA!FF33-SA!FC33","v":-10700},{"$f":"SA!FG33-SA!FD33","v":-500},{"$f":"SA!FH33-SA!FE33","v":0},{"$f":"SA!FI33-SA!FF33","v":10300},{"$f":"SA!FJ33-SA!FG33","v":-1800},{"$f":"SA!FK33-SA!FH33","v":-500},{"$f":"SA!FL33-SA!FI33","v":400},{"$f":"SA!FM33-SA!FJ33","v":2800},{"$f":"SA!FN33-SA!FK33","v":2400},{"$f":"SA!FO33-SA!FL33","v":1200},{"$f":"SA!FP33-SA!FM33","v":900},{"$f":"SA!FQ33-SA!FN33","v":-600},{"$f":"SA!FR33-SA!FO33","v":1400},{"$f":"SA!FS33-SA!FP33","v":-200},{"$f":"SA!FT33-SA!FQ33","v":-300},{"$f":"SA!FU33-SA!FR33","v":-1800},{"$f":"SA!FV33-SA!FS33","v":-800},{"$f":"SA!FW33-SA!FT33","v":0},{"$f":"SA!FX33-SA!FU33","v":100},{"$f":"SA!FY33-SA!FV33","v":1000},{"$f":"SA!FZ33-SA!FW33","v":1600},{"$f":"SA!GA33-SA!FX33","v":600},{"$f":"SA!GB33-SA!FY33","v":200},{"$f":"SA!GC33-SA!FZ33","v":-500},{"$f":"SA!GD33-SA!GA33","v":100},{"$f":"SA!GE33-SA!GB33","v":-100},{"$f":"SA!GF33-SA!GC33","v":-200},{"$f":"SA!GG33-SA!GD33","v":-400},{"$f":"SA!GH33-SA!GE33","v":-1600},{"$f":"SA!GI33-SA!GF33","v":-1800},{"$f":"SA!GJ33-SA!GG33","v":-2000},{"$f":"SA!GK33-SA!GH33","v":-1200},{"$f":"SA!GL33-SA!GI33","v":-600},{"$f":"SA!GM33-SA!GJ33","v":-200},{"$f":"SA!GN33-SA!GK33","v":0},{"$f":"SA!GO33-SA!GL33","v":100},{"$f":"SA!GP33-SA!GM33","v":-300},{"$f":"SA!GQ33-SA!GN33","v":-100},{"$f":"SA!GR33-SA!GO33","v":-400},{"$f":"SA!GS33-SA!GP33","v":-400},{"$f":"SA!GT33-SA!GQ33","v":-100},{"$f":"SA!GU33-SA!GR33","v":100},{"$f":"SA!GV33-SA!GS33","v":900},{"$f":"SA!GW33-SA!GT33","v":-200},{"$f":"SA!GX33-SA!GU33","v":-2400},{"$f":"SA!GY33-SA!GV33","v":300},{"$f":"SA!GZ33-SA!GW33","v":3100},{"$f":"SA!HA33-SA!GX33","v":6600},{"$f":"SA!HB33-SA!GY33","v":-100},{"$f":"SA!HC33-SA!GZ33","v":600},{"$f":"SA!HD33-SA!HA33","v":-6000},{"$f":"SA!HE33-SA!HB33","v":2700},{"$f":"SA!HF33-SA!HC33","v":1600},{"$f":"SA!HG33-SA!HD33","v":2100},{"$f":"SA!HH33-SA!HE33","v":-2300},{"$f":"SA!HI33-SA!HF33","v":-5200},{"$f":"SA!HJ33-SA!HG33","v":900},{"$f":"SA!HK33-SA!HH33","v":-96800},{"$f":"SA!HL33-SA!HI33","v":-95400},{"$f":"SA!HM33-SA!HJ33","v":-97000},"n/a",0,null,"State Government",-10700,-1800,-900,-275,0,600,1600,10300,2433.2539584656774]
["Local Government",{"$f":"SA!BN34-SA!BK34","v":1600},{"$f":"SA!BO34-SA!BL34","v":2500},{"$f":"SA!BP34-SA!BM34","v":3800},{"$f":"SA!BQ34-SA!BN34","v":1600},{"$f":"SA!BR34-SA!BO34","v":-1100},{"$f":"SA!BS34-SA!BP34","v":-500},{"$f":"SA!BT34-SA!BQ34","v":-900},{"$f":"SA!BU34-SA!BR34","v":200},{"$f":"SA!BV34-SA!BS34","v":1700},{"$f":"SA!BW34-SA!BT34","v":1500},{"$f":"SA!BX34-SA!BU34","v":-900},{"$f":"SA!BY34-SA!BV34","v":-400},{"$f":"SA!BZ34-SA!BW34","v":-2100},{"$f":"SA!CA34-SA!BX34","v":-200},{"$f":"SA!CB34-SA!BY34","v":-200},{"$f":"SA!CC34-SA!BZ34","v":1300},{"$f":"SA!CD34-SA!CA34","v":300},{"$f":"SA!CE34-SA!CB34","v":-700},{"$f":"SA!CF34-SA!CC34","v":-1300},{"$f":"SA!CG34-SA!CD34","v":-400},{"$f":"SA!CH34-SA!CE34","v":-300},{"$f":"SA!CI34-SA!CF34","v":-1100},{"$f":"SA!CJ34-SA!CG34","v":400},{"$f":"SA!CK34-SA!CH34","v":-1200},{"$f":"SA!CL34-SA!CI34","v":300},{"$f":"SA!CM34-SA!CJ34","v":-2600},{"$f":"SA!CN34-SA!CK34","v":-1200},{"$f":"SA!CO34-SA!CL34","v":1000},{"$f":"SA!CP34-SA!CM34","v":2400},{"$f":"SA!CQ34-SA!CN34","v":6000},{"$f":"SA!CR34-SA!CO34","v":1500},{"$f":"SA!CS34-SA!CP34","v":2100},{"$f":"SA!CT34-SA!CQ34","v":900},{"$f":"SA!CU34-SA!CR34","v":-700},{"$f":"SA!CV34-SA!CS34","v":-2900},{"$f":"SA!CW34-SA!CT34","v":-2700},{"$f":"SA!CX34-SA!CU34","v":2600},{"$f":"SA!CY34-SA!CV34","v":4000},{"$f":"SA!CZ34-SA!CW34","v":500},{"$f":"SA!DA34-SA!CX34","v":-1400},{"$f":"SA!DB34-SA!CY34","v":300},{"$f":"SA!DC34-SA!CZ34","v":1100},{"$f":"SA!DD34-SA!DA34","v":3000},{"$f":"SA!DE34-SA!DB34","v":400},{"$f":"SA!DF34-SA!DC34","v":11700},{"$f":"SA!DG34-SA!DD34","v":2400},{"$f":"SA!DH34-SA!DE34","v":7500},{"$f":"SA!DI34-SA!DF34","v":-7500},{"$f":"SA!DJ34-SA!DG34","v":-1100},{"$f":"SA!DK34-SA!DH34","v":-3900},{"$f":"SA!DL34-SA!DI34","v":-700},{"$f":"SA!DM34-SA!DJ34","v":1500},{"$f":"SA!DN34-SA!DK34","v":400},{"$f":"SA!DO34-SA!DL34","v":1300},{"$f":"SA!DP34-SA!DM34","v":1600},{"$f":"SA!DQ34-SA!DN34","v":-1000},{"$f":"SA!DR34-SA!DO34","v":-1400},{"$f":"SA!DS34-SA!DP34","v":300},{"$f":"SA!DT34-SA!DQ34","v":500},{"$f":"SA!DU34-SA!DR34","v":1400},{"$f":"SA!DV34-SA!DS34","v":-800},{"$f":"SA!DW34-SA!DT34","v":-1000},{"$f":"SA!DX34-SA!DU34","v":-1300},{"$f":"SA!DY34-SA!DV34","v":-3100},{"$f":"SA!DZ34-SA!DW34","v":-1000},{"$f":"SA!EA34-SA!DX34","v":-2300},{"$f":"SA!EB34-SA!DY34","v":-2700},{"$f":"SA!EC34-SA!DZ34","v":-2200},{"$f":"SA!ED34-SA!EA34","v":500},{"$f":"SA!EE34-SA!EB34","v":3500},{"$f":"SA!EF34-SA!EC34","v":5000},{"$f":"SA!EG34-SA!ED34","v":-300},{"$f":"SA!EH34-SA!EE34","v":700},{"$f":"SA!EI34-SA!EF34","v":500},{"$f":"SA!EJ34-SA!EG34","v":3100},{"$f":"SA!EK34-SA!EH34","v":-700},{"$f":"SA!EL34-SA!EI34","v":-3500},{"$f":"SA!EM34-SA!EJ34","v":-3000},{"$f":"SA!EN34-SA!EK34","v":3000},{"$f":"SA!EO34-SA!EL34","v":4700},{"$f":"SA!EP34-SA!EM34","v":300},{"$f":"SA!EQ34-SA!EN34","v":-8600},{"$f":"SA!ER34-SA!EO34","v":-11200},{"$f":"SA!ES34-SA!EP34","v":-3000},{"$f":"SA!ET34-SA!EQ34","v":1200},{"$f":"SA!EU34-SA!ER34","v":3200},{"$f":"SA!EV34-SA!ES34","v":400},{"$f":"SA!EW34-SA!ET34","v":3600},{"$f":"SA!EX34-SA!EU34","v":7600},{"$f":"SA!EY34-SA!EV34","v":3000},{"$f":"SA!EZ34-SA!EW34","v":-4200},{"$f":"SA!FA34-SA!EX34","v":-4600},{"$f":"SA!FB34-SA!EY34","v":-4600},{"$f":"SA!FC34-SA!EZ34","v":1000},{"$f":"SA!FD34-SA!FA34","v":2300},{"$f":"SA!FE34-SA!FB34","v":1700},{"$f":"SA!FF34-SA!FC34","v":-100},{"$f":"SA!FG34-SA!FD34","v":-2700},{"$f":"SA!FH34-SA!FE34","v":-300},{"$f":"SA!FI34-SA!FF34","v":-1600},{"$f":"SA!FJ34-SA!FG34","v":-2300},{"$f":"SA!FK34-SA!FH34","v":-1400},{"$f":"SA!FL34-SA!FI34","v":200},{"$f":"SA!FM34-SA!FJ34","v":-1800},{"$f":"SA!FN34-SA!FK34","v":800},{"$f":"SA!FO34-SA!FL34","v":700},{"$f":"SA!FP34-SA!FM34","v":-800},{"$f":"SA!FQ34-SA!FN34","v":-600},{"$f":"SA!FR34-SA!FO34","v":-1200},{"$f":"SA!FS34-SA!FP34","v":-400},{"$f":"SA!FT34-SA!FQ34","v":-300},{"$f":"SA!FU34-SA!FR34","v":900},{"$f":"SA!FV34-SA!FS34","v":2200},{"$f":"SA!FW34-SA!FT34","v":800},{"$f":"SA!FX34-SA!FU34","v":800},{"$f":"SA!FY34-SA!FV34","v":6000},{"$f":"SA!FZ34-SA!FW34","v":400},{"$f":"SA!GA34-SA!FX34","v":-600},{"$f":"SA!GB34-SA!FY34","v":-1300},{"$f":"SA!GC34-SA!FZ34","v":-1600},{"$f":"SA!GD34-SA!GA34","v":-2100},{"$f":"SA!GE34-SA!GB34","v":-5400},{"$f":"SA!GF34-SA!GC34","v":-400},{"$f":"SA!GG34-SA!GD34","v":700},{"$f":"SA!GH34-SA!GE34","v":-100},{"$f":"SA!GI34-SA!GF34","v":600},{"$f":"SA!GJ34-SA!GG34","v":0},{"$f":"SA!GK34-SA!GH34","v":0},{"$f":"SA!GL34-SA!GI34","v":-400},{"$f":"SA!GM34-SA!GJ34","v":0},{"$f":"SA!GN34-SA!GK34","v":-3300},{"$f":"SA!GO34-SA!GL34","v":300},{"$f":"SA!GP34-SA!GM34","v":2200},{"$f":"SA!GQ34-SA!GN34","v":5200},{"$f":"SA!GR34-SA!GO34","v":1300},{"$f":"SA!GS34-SA!GP34","v":800},{"$f":"SA!GT34-SA!GQ34","v":-2400},{"$f":"SA!GU34-SA!GR34","v":0},{"$f":"SA!GV34-SA!GS34","v":1300},{"$f":"SA!GW34-SA!GT34","v":7100},{"$f":"SA!GX34-SA!GU34","v":1700},{"$f":"SA!GY34-SA!GV34","v":2300},{"$f":"SA!GZ34-SA!GW34","v":2800},{"$f":"SA!HA34-SA!GX34","v":2200},{"$f":"SA!HB34-SA!GY34","v":-2600},{"$f":"SA!HC34-SA!GZ34","v":-5200},{"$f":"SA!HD34-SA!HA34","v":-700},{"$f":"SA!HE34-SA!HB34","v":3200},{"$f":"SA!HF34-SA!HC34","v":-100},{"$f":"SA!HG34-SA!HD34","v":-2800},{"$f":"SA!HH34-SA!HE34","v":500},{"$f":"SA!HI34-SA!HF34","v":300},{"$f":"SA!HJ34-SA!HG34","v":3500},{"$f":"SA!HK34-SA!HH34","v":-291000},{"$f":"SA!HL34-SA!HI34","v":-288000},{"$f":"SA!HM34-SA!HJ34","v":-289000},"n/a",0,null,"Local Government",-11200,-2225,-900,-100,400,1250,2425,11700,2845.7567366732155]
[]
[]
[null,null,null,null,null,null,null,null,null,null,null,null,null,null,null,null,null,null,null,null,null,null,null,null,null,null,null,null,null,null,null,null,null,null,null,null,null,null,null,null,null,null,null,null,null,null,null,null,null,null,null,null,null,null,null,null,null,null,null,null,null,null,null,null,null,null,null,null,null,null,null,null,null,null,null,null,null,null,null,null,null,null,null,null,null,null,null,null,null,null,null,null,null,null,null,null,null,null,null,null,null,null,null,null,null,null,null,null,null,null,null,null,null,null,null,null,null,null,null,null,null,null,null,null,null,null,null,null,null,null,null,null,null,null,null,null,null,null,null,null,null,null,"Post Benchmark Re-estimates"]
["Year over Year % Change","2005-01-01","2005-02-01","2005-03-01","2005-04-01","2005-05-01","2005-06-01","2005-07-01","2005-08-01","2005-09-01","2005-10-01","2005-11-01","2005-12-01","2006-01-01","2006-02-01","2006-03-01","2006-04-01","2006-05-01","2006-06-01","2006-07-01","2006-08-01","2006-09-01","2006-10-01","2006-11-01","2006-12-01","2007-01-01","2007-02-01","2007-03-01","2007-04-01","2007-05-01","2007-06-01","2007-07-01","2007-08-01","2007-09-01","2007-10-01","2007-11-01","2007-12-01","2008-01-01","2008-02-01","2008-03-01","2008-04-01","2008-05-01","2008-06-01","2008-07-01","2008-08-01","2008-09-01","2008-10-01","2008-11-01","2008-12-01","2009-01-01","2009-02-01","2009-03-01","2009-04-01","2009-05-01","2009-06-01","2009-07-01","2009-08-01","2009-09-01","2009-10-01","2009-11-01","2009-12-01","2010-01-01","2010-02-01","2010-03-01","2010-04-01","2010-05-01","2010-06-01","2010-07-01","2010-08-01","2010-09-01","2010-10-01","2010-11-01","2010-12-01","2011-01-01","2011-02-01","2011-03-01","2011-04-01","2011-05-01","2011-06-01","2011-07-01","2011-08-01","2011-09-01","2011-10-01","2011-11-01","2011-12-01","2012-01-01","2012-02-01","2012-03-01","2012-04-01","2012-05-01","2012-06-01","2012-07-01","2012-08-01","2012-09-01","2012-10-01","2012-11-01","2012-12-01","2013-01-01","2013-02-01","2013-03-01","2013-04-01","2013-05-01","2013-06-01","2013-07-01","2013-08-01","2013-09-01","2013-10-01","2013-11-01","2013-12-01","2014-01-01","2014-02-01","2014-03-01","2014-04-01","2014-05-01","2014-06-01",{"$f":"EDATE(DK112,1)","v":"2014-07-01"},{"$f":"EDATE(DL112,1)","v":"2014-08-01"},{"$f":"EDATE(DM112,1)","v":"2014-09-01"},{"$f":"EDATE(DN112,1)","v":"2014-10-01"},{"$f":"EDATE(DO112,1)","v":"2014-11-01"},{"$f":"EDATE(DP112,1)","v":"2014-12-01"},{"$f":"EDATE(DQ112,1)","v":"2015-01-01"},{"$f":"EDATE(DR112,1)","v":"2015-02-01"},{"$f":"EDATE(DS112,1)","v":"2015-03-01"},{"$f":"EDATE(DT112,1)","v":"2015-04-01"},{"$f":"EDATE(DU112,1)","v":"2015-05-01"},{"$f":"EDATE(DV112,1)","v":"2015-06-01"},{"$f":"EDATE(DW112,1)","v":"2015-07-01"},{"$f":"EDATE(DX112,1)","v":"2015-08-01"},{"$f":"EDATE(DY112,1)","v":"2015-09-01"},{"$f":"EDATE(DZ112,1)","v":"2015-10-01"},{"$f":"EDATE(EA112,1)","v":"2015-11-01"},{"$f":"EDATE(EB112,1)","v":"2015-12-01"},"2016-01-01",{"$f":"EDATE(ED112,1)","v":"2016-02-01"},{"$f":"EDATE(EE112,1)","v":"2016-03-01"},{"$f":"EDATE(EF112,1)","v":"2016-04-01"},{"$f":"EDATE(EG112,1)","v":"2016-05-01"},{"$f":"EDATE(EH112,1)","v":"2016-06-01"},{"$f":"EDATE(EI112,1)","v":"2016-07-01"},{"$f":"EDATE(EJ112,1)","v":"2016-08-01"},{"$f":"EDATE(EK112,1)","v":"2016-09-01"},"2016-10-01","2016-11-01",{"$f":"EDATE(EN112,1)","v":"2016-12-01"},{"$f":"EDATE(EO112,1)","v":"2017-01-01"},{"$f":"EDATE(EP112,1)","v":"2017-02-01"},{"$f":"EDATE(EQ112,1)","v":"2017-03-01"},{"$f":"EDATE(ER112,1)","v":"2017-04-01"},{"$f":"EDATE(ES112,1)","v":"2017-05-01"},{"$f":"EDATE(ET112,1)","v":"2017-06-01"},{"$f":"EDATE(EU112,1)","v":"2017-07-01"},{"$f":"EDATE(EV112,1)","v":"2017-08-01"},{"$f":"EDATE(EW112,1)","v":"2017-09-01"},{"$f":"EDATE(EX112,1)","v":"2017-10-01"},{"$f":"EDATE(EY112,1)","v":"2017-11-01"},"2017-12-01","1 yr sig","# Positive Sig Changes since October 2016","12 mo Trend","Year over Year % Change","Min",0.15,0.3,0.45,0.55000000000000004,0.7,0.85,"Max","Std Deviation"]
["Total Non Farm",{"$f":"(SA!BN2-SA!BB2)/SA!BB2","v":1.3449367088607595E-2},{"$f":"(SA!BO2-SA!BC2)/SA!BC2","v":1.4290330688305626E-2},{"$f":"(SA!BP2-SA!BD2)/SA!BD2","v":1.3878429263044648E-2},{"$f":"(SA!BQ2-SA!BE2)/SA!BE2","v":1.6559139784946237E-2},{"$f":"(SA!BR2-SA!BF2)/SA!BF2","v":1.2768240343347639E-2},{"$f":"(SA!BS2-SA!BG2)/SA!BG2","v":1.0180025717959708E-2},{"$f":"(SA!BT2-SA!BH2)/SA!BH2","v":1.0147043116032328E-2},{"$f":"(SA!BU2-SA!BI2)/SA!BI2","v":8.5230299371426548E-3},{"$f":"(SA!BV2-SA!BJ2)/SA!BJ2","v":1.3893836836480229E-2},{"$f":"(SA!BW2-SA!BK2)/SA!BK2","v":9.1225330115007816E-3},{"$f":"(SA!BX2-SA!BL2)/SA!BL2","v":9.6515506351571925E-3},{"$f":"(SA!BY2-SA!BM2)/SA!BM2","v":1.1644005822002911E-2},{"$f":"(SA!BZ2-SA!BN2)/SA!BN2","v":1.1035412674756937E-2},{"$f":"(SA!CA2-SA!BO2)/SA!BO2","v":9.9472547700803562E-3},{"$f":"(SA!CB2-SA!BP2)/SA!BP2","v":9.903791737408036E-3},{"$f":"(SA!CC2-SA!BQ2)/SA!BQ2","v":9.202453987730062E-3},{"$f":"(SA!CD2-SA!BR2)/SA!BR2","v":8.3342161952184197E-3},{"$f":"(SA!CE2-SA!BS2)/SA!BS2","v":1.2269721721296983E-2},{"$f":"(SA!CF2-SA!BT2)/SA!BT2","v":8.3885520936134213E-3},{"$f":"(SA!CG2-SA!BU2)/SA!BU2","v":7.5002640938061195E-3},{"$f":"(SA!CH2-SA!BV2)/SA!BV2","v":6.3949402670414619E-3},{"$f":"(SA!CI2-SA!BW2)/SA!BW2","v":6.8591930774912942E-3},{"$f":"(SA!CJ2-SA!BX2)/SA!BX2","v":6.1502776411049417E-3},{"$f":"(SA!CK2-SA!BY2)/SA!BY2","v":5.5093518615994663E-3},{"$f":"(SA!CL2-SA!BZ2)/SA!BZ2","v":7.4404239637805777E-3},{"$f":"(SA!CM2-SA!CA2)/SA!CA2","v":5.5730809674027337E-3},{"$f":"(SA!CN2-SA!CB2)/SA!CB2","v":6.3743345474922952E-3},{"$f":"(SA!CO2-SA!CC2)/SA!CC2","v":3.7731893931453727E-3},{"$f":"(SA!CP2-SA!CD2)/SA!CD2","v":8.1952859594438404E-3},{"$f":"(SA!CQ2-SA!CE2)/SA!CE2","v":8.627916724884728E-3},{"$f":"(SA!CR2-SA!CF2)/SA!CF2","v":7.0604683677036005E-3},{"$f":"(SA!CS2-SA!CG2)/SA!CG2","v":6.6405703900461344E-3},{"$f":"(SA!CT2-SA!CH2)/SA!CH2","v":5.1672369247957543E-3},{"$f":"(SA!CU2-SA!CI2)/SA!CI2","v":3.7730575740637226E-3},{"$f":"(SA!CV2-SA!CJ2)/SA!CJ2","v":3.3881728317440357E-3},{"$f":"(SA!CW2-SA!CK2)/SA!CK2","v":4.2576952606965873E-3},{"$f":"(SA!CX2-SA!CL2)/SA!CL2","v":4.2849677756488418E-3},{"$f":"(SA!CY2-SA!CM2)/SA!CM2","v":4.496496915193977E-3},{"$f":"(SA!CZ2-SA!CN2)/SA!CN2","v":1.8097027911185355E-3},{"$f":"(SA!DA2-SA!CO2)/SA!CO2","v":3.4805610664439109E-4},{"$f":"(SA!DB2-SA!CP2)/SA!CP2","v":-6.2528224545801926E-4},{"$f":"(SA!DC2-SA!CQ2)/SA!CQ2","v":-4.5021645021645022E-3},{"$f":"(SA!DD2-SA!CR2)/SA!CR2","v":-3.0889906983201446E-3},{"$f":"(SA!DE2-SA!CS2)/SA!CS2","v":-4.3399763905284357E-3},{"$f":"(SA!DF2-SA!CT2)/SA!CT2","v":-3.1955540118096563E-3},{"$f":"(SA!DG2-SA!CU2)/SA!CU2","v":-5.2902686899624109E-3},{"$f":"(SA!DH2-SA!CV2)/SA!CV2","v":-8.1459305159089328E-3},{"$f":"(SA!DI2-SA!CW2)/SA!CW2","v":-1.4908256880733946E-2},{"$f":"(SA!DJ2-SA!CX2)/SA!CX2","v":-2.5634799500485639E-2},{"$f":"(SA!DK2-SA!CY2)/SA!CY2","v":-3.1091678811853703E-2},{"$f":"(SA!DL2-SA!CZ2)/SA!CZ2","v":-3.7448759813798374E-2},{"$f":"(SA!DM2-SA!DA2)/SA!DA2","v":-4.3874604223930969E-2},{"$f":"(SA!DN2-SA!DB2)/SA!DB2","v":-4.4805172234001878E-2},{"$f":"(SA!DO2-SA!DC2)/SA!DC2","v":-4.8460601843798919E-2},{"$f":"(SA!DP2-SA!DD2)/SA!DD2","v":-5.1770358249486476E-2},{"$f":"(SA!DQ2-SA!DE2)/SA!DE2","v":-5.2760051609303624E-2},{"$f":"(SA!DR2-SA!DF2)/SA!DF2","v":-5.4115269356749603E-2},{"$f":"(SA!DS2-SA!DG2)/SA!DG2","v":-5.0139958012596221E-2},{"$f":"(SA!DT2-SA!DH2)/SA!DH2","v":-4.8259160466095748E-2},{"$f":"(SA!DU2-SA!DI2)/SA!DI2","v":-4.3849437330228946E-2},{"$f":"(SA!DV2-SA!DJ2)/SA!DJ2","v":-3.513831037060771E-2},{"$f":"(SA!DW2-SA!DK2)/SA!DK2","v":-2.9439151923214668E-2},{"$f":"(SA!DX2-SA!DL2)/SA!DL2","v":-2.122130792550888E-2},{"$f":"(SA!DY2-SA!DM2)/SA!DM2","v":-9.2794759825327519E-3},{"$f":"(SA!DZ2-SA!DN2)/SA!DN2","v":-8.296943231441048E-3},{"$f":"(SA!EA2-SA!DO2)/SA!DO2","v":-4.2775665399239545E-3},{"$f":"(SA!EB2-SA!DP2)/SA!DP2","v":1.2483477750036716E-3},{"$f":"(SA!EC2-SA!DQ2)/SA!DQ2","v":4.9329995582388453E-3},{"$f":"(SA!ED2-SA!DR2)/SA!DR2","v":4.9732915822435072E-3},{"$f":"(SA!EE2-SA!DS2)/SA!DS2","v":8.4355545732493469E-3},{"$f":"(SA!EF2-SA!DT2)/SA!DT2","v":1.0030608105616403E-2},{"$f":"(SA!EG2-SA!DU2)/SA!DU2","v":9.5926800472255023E-3},{"$f":"(SA!EH2-SA!DV2)/SA!DV2","v":1.1253782008707844E-2},{"$f":"(SA!EI2-SA!DW2)/SA!DW2","v":1.2029520295202953E-2},{"$f":"(SA!EJ2-SA!DX2)/SA!DX2","v":1.2205014749262538E-2},{"$f":"(SA!EK2-SA!DY2)/SA!DY2","v":9.696969696969697E-3},{"$f":"(SA!EL2-SA!DZ2)/SA!DZ2","v":8.843387641274035E-3},{"$f":"(SA!EM2-SA!EA2)/SA!EA2","v":8.4450156049201402E-3},{"$f":"(SA!EN2-SA!EB2)/SA!EB2","v":1.2174550788412175E-2},{"$f":"(SA!EO2-SA!EC2)/SA!EC2","v":9.8175690526778516E-3},{"$f":"(SA!EP2-SA!ED2)/SA!ED2","v":1.1473607038123166E-2},{"$f":"(SA!EQ2-SA!EE2)/SA!EE2","v":6.3924605493863237E-3},{"$f":"(SA!ER2-SA!EF2)/SA!EF2","v":6.0608273394428423E-3},{"$f":"(SA!ES2-SA!EG2)/SA!EG2","v":9.1726355795936267E-3},{"$f":"(SA!ET2-SA!EH2)/SA!EH2","v":6.0203597621045716E-3},{"$f":"(SA!EU2-SA!EI2)/SA!EI2","v":7.5475825858674255E-3},{"$f":"(SA!EV2-SA!EJ2)/SA!EJ2","v":1.2021419984700011E-2},{"$f":"(SA!EW2-SA!EK2)/SA!EK2","v":1.3605442176870748E-2},{"$f":"(SA!EX2-SA!EL2)/SA!EL2","v":1.2585021641872477E-2},{"$f":"(SA!EY2-SA!EM2)/SA!EM2","v":1.3544511196067723E-2},{"$f":"(SA!EZ2-SA!EN2)/SA!EN2","v":5.1083254836606041E-3},{"$f":"(SA!FA2-SA!EO2)/SA!EO2","v":8.1259522600304716E-3},{"$f":"(SA!FB2-SA!EP2)/SA!EP2","v":9.0240278331460873E-3},{"$f":"(SA!FC2-SA!EQ2)/SA!EQ2","v":1.2231860912489565E-2},{"$f":"(SA!FD2-SA!ER2)/SA!ER2","v":1.4879332244601706E-2},{"$f":"(SA!FE2-SA!ES2)/SA!ES2","v":1.1587905124026797E-2},{"$f":"(SA!FF2-SA!ET2)/SA!ET2","v":9.9738865515740602E-3},{"$f":"(SA!FG2-SA!EU2)/SA!EU2","v":1.4656389099989144E-2},{"$f":"(SA!FH2-SA!EV2)/SA!EV2","v":9.5388934883553506E-3},{"$f":"(SA!FI2-SA!EW2)/SA!EW2","v":3.3377597530775583E-3},{"$f":"(SA!FJ2-SA!EX2)/SA!EX2","v":7.3637702503681884E-3},{"$f":"(SA!FK2-SA!EY2)/SA!EY2","v":8.6934655314868693E-3},{"$f":"(SA!FL2-SA!EZ2)/SA!EZ2","v":1.1822802148289659E-2},{"$f":"(SA!FM2-SA!FA2)/SA!FA2","v":1.2774379273119828E-2},{"$f":"(SA!FN2-SA!FB2)/SA!FB2","v":1.2966022555850873E-2},{"$f":"(SA!FO2-SA!FC2)/SA!FC2","v":1.1402753872633391E-2},{"$f":"(SA!FP2-SA!FD2)/SA!FD2","v":9.6191668156624353E-3},{"$f":"(SA!FQ2-SA!FE2)/SA!FE2","v":1.1741542867370681E-2},{"$f":"(SA!FR2-SA!FF2)/SA!FF2","v":1.6770208640068947E-2},{"$f":"(SA!FS2-SA!FG2)/SA!FG2","v":1.0307439902988802E-2},{"$f":"(SA!FT2-SA!FH2)/SA!FH2","v":1.1267203879341083E-2},{"$f":"(SA!FU2-SA!FI2)/SA!FI2","v":1.6990985834883388E-2},{"$f":"(SA!FV2-SA!FJ2)/SA!FJ2","v":1.4726857794893739E-2},{"$f":"(SA!FW2-SA!FK2)/SA!FK2","v":1.577691513230528E-2},{"$f":"(SA!FX2-SA!FL2)/SA!FL2","v":1.6030779095864058E-2},{"$f":"(SA!FY2-SA!FM2)/SA!FM2","v":1.7729614496358147E-2},{"$f":"(SA!FZ2-SA!FN2)/SA!FN2","v":1.4856575541609048E-2},{"$f":"(SA!GA2-SA!FO2)/SA!FO2","v":1.5244983336878678E-2},{"$f":"(SA!GB2-SA!FP2)/SA!FP2","v":1.8559183962598286E-2},{"$f":"(SA!GC2-SA!FQ2)/SA!FQ2","v":1.5461911332837986E-2},{"$f":"(SA!GD2-SA!FR2)/SA!FR2","v":1.5363424454333545E-2},{"$f":"(SA!GE2-SA!FS2)/SA!FS2","v":1.5921205916616655E-2},{"$f":"(SA!GF2-SA!FT2)/SA!FT2","v":1.6183625978421833E-2},{"$f":"(SA!GG2-SA!FU2)/SA!FU2","v":1.3998804122260912E-2},{"$f":"(SA!GH2-SA!FV2)/SA!FV2","v":1.4899673191130478E-2},{"$f":"(SA!GI2-SA!FW2)/SA!FW2","v":1.3533412804151181E-2},{"$f":"(SA!GJ2-SA!FX2)/SA!FX2","v":1.4585743837873847E-2},{"$f":"(SA!GK2-SA!FY2)/SA!FY2","v":1.1241446725317693E-2},{"$f":"(SA!GL2-SA!FZ2)/SA!FZ2","v":1.201872685346936E-2},{"$f":"(SA!GM2-SA!GA2)/SA!GA2","v":1.3165246542813243E-2},{"$f":"(SA!GN2-SA!GB2)/SA!GB2","v":8.9714166492802002E-3},{"$f":"(SA!GO2-SA!GC2)/SA!GC2","v":1.3205574912891985E-2},{"$f":"(SA!GP2-SA!GD2)/SA!GD2","v":1.5130961076907022E-2},{"$f":"(SA!GQ2-SA!GE2)/SA!GE2","v":1.5567447355618876E-2},{"$f":"(SA!GR2-SA!GF2)/SA!GF2","v":1.4191041254640713E-2},{"$f":"(SA!GS2-SA!GG2)/SA!GG2","v":1.4360539734295328E-2},{"$f":"(SA!GT2-SA!GH2)/SA!GH2","v":9.9027041999930742E-3},{"$f":"(SA!GU2-SA!GI2)/SA!GI2","v":8.9940500899405012E-3},{"$f":"(SA!GV2-SA!GJ2)/SA!GJ2","v":1.1922452223796523E-2},{"$f":"(SA!GW2-SA!GK2)/SA!GK2","v":1.1220051094386523E-2},{"$f":"(SA!GX2-SA!GL2)/SA!GL2","v":9.3903196851481043E-3},{"$f":"(SA!GY2-SA!GM2)/SA!GM2","v":9.9265846344742011E-3},{"$f":"(SA!GZ2-SA!GN2)/SA!GN2","v":1.1097325613454646E-2},{"$f":"(SA!HA2-SA!GO2)/SA!GO2","v":9.0787165996079645E-3},{"$f":"(SA!HB2-SA!GP2)/SA!GP2","v":7.2985197368421054E-3},{"$f":"(SA!HC2-SA!GQ2)/SA!GQ2","v":9.6489427222336277E-3},{"$f":"(SA!HD2-SA!GR2)/SA!GR2","v":8.2449538145740672E-3},{"$f":"(SA!HE2-SA!GS2)/SA!GS2","v":1.2276442225489861E-2},{"$f":"(SA!HF2-SA!GT2)/SA!GT2","v":1.3645558336476155E-2},{"$f":"(SA!HG2-SA!GU2)/SA!GU2","v":1.1759462424574877E-2},{"$f":"(SA!HH2-SA!GV2)/SA!GV2","v":9.8012430844887644E-3},{"$f":"(SA!HI2-SA!GW2)/SA!GW2","v":7.0670171725103273E-3},{"$f":"(SA!HJ2-SA!GX2)/SA!GX2","v":1.1833914768452015E-2},{"$f":"(SA!HK2-SA!GY2)/SA!GY2","v":-1},{"$f":"(SA!HL2-SA!GZ2)/SA!GZ2","v":-1},{"$f":"(SA!HM2-SA!HA2)/SA!HA2","v":-1}," n/a ","n/a",null,"Total Non Farm",{"$f":"MIN(B113:EO113)","v":-5.4115269356749603E-2},{"$f":"_xlfn.PERCENTILE.EXC($B113:$EO113,0.15)","v":-4.3805234184374521E-3},{"$f":"_xlfn.PERCENTILE.EXC($B113:$EO113,0.3)","v":6.0405935507737065E-3},{"$f":"_xlfn.PERCENTILE.EXC($B113:$EO113,0.45)","v":8.8753948932755768E-3},{"$f":"_xlfn.PERCENTILE.EXC($B113:$EO113,0.55)","v":9.8814204131642686E-3},{"$f":"_xlfn.PERCENTILE.EXC($B113:$EO113,0.7)","v":1.1970589538632941E-2},{"$f":"_xlfn.PERCENTILE.EXC($B113:$EO113,0.85)","v":1.4307882949803051E-2},{"$f":"MAX(B113:EO113)","v":1.8559183962598286E-2},{"$f":"STDEVP(B113:EO113)","v":1.6656681118021755E-2}]
["Total Private",{"$f":"(SA!BN3-SA!BB3)/SA!BB3","v":1.2266059686393526E-2},{"$f":"(SA!BO3-SA!BC3)/SA!BC3","v":1.4873177719726974E-2},{"$f":"(SA!BP3-SA!BD3)/SA!BD3","v":1.5401447567749537E-2},{"$f":"(SA!BQ3-SA!BE3)/SA!BE3","v":1.7436242174698541E-2},{"$f":"(SA!BR3-SA!BF3)/SA!BF3","v":1.354184135502264E-2},{"$f":"(SA!BS3-SA!BG3)/SA!BG3","v":1.2237542433259294E-2},{"$f":"(SA!BT3-SA!BH3)/SA!BH3","v":1.1353201435846064E-2},{"$f":"(SA!BU3-SA!BI3)/SA!BI3","v":1.0033723302385611E-2},{"$f":"(SA!BV3-SA!BJ3)/SA!BJ3","v":1.293499123758658E-2},{"$f":"(SA!BW3-SA!BK3)/SA!BK3","v":9.652188384090531E-3},{"$f":"(SA!BX3-SA!BL3)/SA!BL3","v":1.1608554547724057E-2},{"$f":"(SA!BY3-SA!BM3)/SA!BM3","v":1.16008316008316E-2},{"$f":"(SA!BZ3-SA!BN3)/SA!BN3","v":1.3366645846346033E-2},{"$f":"(SA!CA3-SA!BO3)/SA!BO3","v":1.2330302652883297E-2},{"$f":"(SA!CB3-SA!BP3)/SA!BP3","v":1.1065064235391629E-2},{"$f":"(SA!CC3-SA!BQ3)/SA!BQ3","v":1.0447637925338619E-2},{"$f":"(SA!CD3-SA!BR3)/SA!BR3","v":9.9276111685625643E-3},{"$f":"(SA!CE3-SA!BS3)/SA!BS3","v":1.2669233635573221E-2},{"$f":"(SA!CF3-SA!BT3)/SA!BT3","v":9.1621956252579441E-3},{"$f":"(SA!CG3-SA!BU3)/SA!BU3","v":7.9554822753503708E-3},{"$f":"(SA!CH3-SA!BV3)/SA!BV3","v":7.6206953369583131E-3},{"$f":"(SA!CI3-SA!BW3)/SA!BW3","v":8.7357837481457055E-3},{"$f":"(SA!CJ3-SA!BX3)/SA!BX3","v":6.8276230823016495E-3},{"$f":"(SA!CK3-SA!BY3)/SA!BY3","v":7.3985778289284397E-3},{"$f":"(SA!CL3-SA!BZ3)/SA!BZ3","v":9.3277449046679818E-3},{"$f":"(SA!CM3-SA!CA3)/SA!CA3","v":7.176837270341207E-3},{"$f":"(SA!CN3-SA!CB3)/SA!CB3","v":8.1567405828585487E-3},{"$f":"(SA!CO3-SA!CC3)/SA!CC3","v":4.5772201561159014E-3},{"$f":"(SA!CP3-SA!CD3)/SA!CD3","v":8.7241449928322744E-3},{"$f":"(SA!CQ3-SA!CE3)/SA!CE3","v":8.626681385175191E-3},{"$f":"(SA!CR3-SA!CF3)/SA!CF3","v":7.7294290855553739E-3},{"$f":"(SA!CS3-SA!CG3)/SA!CG3","v":6.7476383265856954E-3},{"$f":"(SA!CT3-SA!CH3)/SA!CH3","v":4.7831241568210619E-3},{"$f":"(SA!CU3-SA!CI3)/SA!CI3","v":3.8398692810457514E-3},{"$f":"(SA!CV3-SA!CJ3)/SA!CJ3","v":4.3710935904244458E-3},{"$f":"(SA!CW3-SA!CK3)/SA!CK3","v":3.7129217838345096E-3},{"$f":"(SA!CX3-SA!CL3)/SA!CL3","v":2.3612750885478157E-3},{"$f":"(SA!CY3-SA!CM3)/SA!CM3","v":2.605969298424203E-3},{"$f":"(SA!CZ3-SA!CN3)/SA!CN3","v":2.4394210440722069E-4},{"$f":"(SA!DA3-SA!CO3)/SA!CO3","v":-4.4750010170456858E-4},{"$f":"(SA!DB3-SA!CP3)/SA!CP3","v":-2.3956472307942178E-3},{"$f":"(SA!DC3-SA!CQ3)/SA!CQ3","v":-4.8642075395216866E-3},{"$f":"(SA!DD3-SA!CR3)/SA!CR3","v":-5.6004220607929877E-3},{"$f":"(SA!DE3-SA!CS3)/SA!CS3","v":-6.0118612397432776E-3},{"$f":"(SA!DF3-SA!CT3)/SA!CT3","v":-8.015298234193181E-3},{"$f":"(SA!DG3-SA!CU3)/SA!CU3","v":-9.9291934564987392E-3},{"$f":"(SA!DH3-SA!CV3)/SA!CV3","v":-1.5415276986903115E-2},{"$f":"(SA!DI3-SA!CW3)/SA!CW3","v":-2.0406504065040649E-2},{"$f":"(SA!DJ3-SA!CX3)/SA!CX3","v":-3.0867958247024898E-2},{"$f":"(SA!DK3-SA!CY3)/SA!CY3","v":-3.8013239653982046E-2},{"$f":"(SA!DL3-SA!CZ3)/SA!CZ3","v":-4.5687342492480285E-2},{"$f":"(SA!DM3-SA!DA3)/SA!DA3","v":-5.3439153439153439E-2},{"$f":"(SA!DN3-SA!DB3)/SA!DB3","v":-5.3970450567788673E-2},{"$f":"(SA!DO3-SA!DC3)/SA!DC3","v":-5.7230142566191446E-2},{"$f":"(SA!DP3-SA!DD3)/SA!DD3","v":-6.035995592376444E-2},{"$f":"(SA!DQ3-SA!DE3)/SA!DE3","v":-6.1013485901103393E-2},{"$f":"(SA!DR3-SA!DF3)/SA!DF3","v":-5.7626840572577005E-2},{"$f":"(SA!DS3-SA!DG3)/SA!DG3","v":-5.680230168516235E-2},{"$f":"(SA!DT3-SA!DH3)/SA!DH3","v":-5.2588094352873135E-2},{"$f":"(SA!DU3-SA!DI3)/SA!DI3","v":-4.967217196447838E-2},{"$f":"(SA!DV3-SA!DJ3)/SA!DJ3","v":-3.9897741083776875E-2},{"$f":"(SA!DW3-SA!DK3)/SA!DK3","v":-3.2085109975936166E-2},{"$f":"(SA!DX3-SA!DL3)/SA!DL3","v":-2.2957662492546212E-2},{"$f":"(SA!DY3-SA!DM3)/SA!DM3","v":-1.0706453970847487E-2},{"$f":"(SA!DZ3-SA!DN3)/SA!DN3","v":-1.0669879103385965E-2},{"$f":"(SA!EA3-SA!DO3)/SA!DO3","v":-6.0056167638798874E-3},{"$f":"(SA!EB3-SA!DP3)/SA!DP3","v":2.3453787352328004E-3},{"$f":"(SA!EC3-SA!DQ3)/SA!DQ3","v":6.3977020498759626E-3},{"$f":"(SA!ED3-SA!DR3)/SA!DR3","v":5.3098885793871863E-3},{"$f":"(SA!EE3-SA!DS3)/SA!DS3","v":1.0458427749694962E-2},{"$f":"(SA!EF3-SA!DT3)/SA!DT3","v":1.1206069591000262E-2},{"$f":"(SA!EG3-SA!DU3)/SA!DU3","v":1.3754857866468713E-2},{"$f":"(SA!EH3-SA!DV3)/SA!DV3","v":1.4273866166135581E-2},{"$f":"(SA!EI3-SA!DW3)/SA!DW3","v":1.3652025995551096E-2},{"$f":"(SA!EJ3-SA!DX3)/SA!DX3","v":1.4168010811282095E-2},{"$f":"(SA!EK3-SA!DY3)/SA!DY3","v":1.3995132127955494E-2},{"$f":"(SA!EL3-SA!DZ3)/SA!DZ3","v":1.4046531854751033E-2},{"$f":"(SA!EM3-SA!EA3)/SA!EA3","v":1.3605146483526037E-2},{"$f":"(SA!EN3-SA!EB3)/SA!EB3","v":1.4429326631423867E-2},{"$f":"(SA!EO3-SA!EC3)/SA!EC3","v":1.3060024217263448E-2},{"$f":"(SA!EP3-SA!ED3)/SA!ED3","v":1.6148584293012382E-2},{"$f":"(SA!EQ3-SA!EE3)/SA!EE3","v":1.1773331033293083E-2},{"$f":"(SA!ER3-SA!EF3)/SA!EF3","v":1.2892932603165021E-2},{"$f":"(SA!ES3-SA!EG3)/SA!EG3","v":1.2491385251550654E-2},{"$f":"(SA!ET3-SA!EH3)/SA!EH3","v":1.3857806851437424E-2},{"$f":"(SA!EU3-SA!EI3)/SA!EI3","v":1.5103270223752151E-2},{"$f":"(SA!EV3-SA!EJ3)/SA!EJ3","v":1.7666781292984868E-2},{"$f":"(SA!EW3-SA!EK3)/SA!EK3","v":1.6802400342906129E-2},{"$f":"(SA!EX3-SA!EL3)/SA!EL3","v":1.4538125053606656E-2},{"$f":"(SA!EY3-SA!EM3)/SA!EM3","v":1.6810326343325185E-2},{"$f":"(SA!EZ3-SA!EN3)/SA!EN3","v":9.9525863910127719E-3},{"$f":"(SA!FA3-SA!EO3)/SA!EO3","v":1.0074276444975667E-2},{"$f":"(SA!FB3-SA!EP3)/SA!EP3","v":1.1205317199948873E-2},{"$f":"(SA!FC3-SA!EQ3)/SA!EQ3","v":1.3213418012872426E-2},{"$f":"(SA!FD3-SA!ER3)/SA!ER3","v":1.3452532992762879E-2},{"$f":"(SA!FE3-SA!ES3)/SA!ES3","v":1.3443376159278483E-2},{"$f":"(SA!FF3-SA!ET3)/SA!ET3","v":1.2012904321249681E-2},{"$f":"(SA!FG3-SA!EU3)/SA!EU3","v":1.3479716841168242E-2},{"$f":"(SA!FH3-SA!EV3)/SA!EV3","v":1.1151003167898627E-2},{"$f":"(SA!FI3-SA!EW3)/SA!EW3","v":5.9860045527358567E-3},{"$f":"(SA!FJ3-SA!EX3)/SA!EX3","v":1.2723506784461259E-2},{"$f":"(SA!FK3-SA!EY3)/SA!EY3","v":1.1766690565560288E-2},{"$f":"(SA!FL3-SA!EZ3)/SA!EZ3","v":1.3957029267467433E-2},{"$f":"(SA!FM3-SA!FA3)/SA!FA3","v":1.6482123235567577E-2},{"$f":"(SA!FN3-SA!FB3)/SA!FB3","v":1.474677677593326E-2},{"$f":"(SA!FO3-SA!FC3)/SA!FC3","v":1.3461781161919987E-2},{"$f":"(SA!FP3-SA!FD3)/SA!FD3","v":1.3946064017474587E-2},{"$f":"(SA!FQ3-SA!FE3)/SA!FE3","v":1.4020653177734868E-2},{"$f":"(SA!FR3-SA!FF3)/SA!FF3","v":1.4890315003565286E-2},{"$f":"(SA!FS3-SA!FG3)/SA!FG3","v":1.3718683341001297E-2},{"$f":"(SA!FT3-SA!FH3)/SA!FH3","v":1.3409081415263795E-2},{"$f":"(SA!FU3-SA!FI3)/SA!FI3","v":1.9233992624874286E-2},{"$f":"(SA!FV3-SA!FJ3)/SA!FJ3","v":1.6487185908673513E-2},{"$f":"(SA!FW3-SA!FK3)/SA!FK3","v":1.7590662776156733E-2},{"$f":"(SA!FX3-SA!FL3)/SA!FL3","v":1.7894385584383082E-2},{"$f":"(SA!FY3-SA!FM3)/SA!FM3","v":1.7379012140362547E-2},{"$f":"(SA!FZ3-SA!FN3)/SA!FN3","v":1.6940707523667164E-2},{"$f":"(SA!GA3-SA!FO3)/SA!FO3","v":1.7724461417126729E-2},{"$f":"(SA!GB3-SA!FP3)/SA!FP3","v":1.8891374596072583E-2},{"$f":"(SA!GC3-SA!FQ3)/SA!FQ3","v":1.7883755588673621E-2},{"$f":"(SA!GD3-SA!FR3)/SA!FR3","v":1.8763431972226813E-2},{"$f":"(SA!GE3-SA!FS3)/SA!FS3","v":1.7823988117341254E-2},{"$f":"(SA!GF3-SA!FT3)/SA!FT3","v":1.8837592745259688E-2},{"$f":"(SA!GG3-SA!FU3)/SA!FU3","v":1.6568679850347406E-2},{"$f":"(SA!GH3-SA!FV3)/SA!FV3","v":1.7862275694986243E-2},{"$f":"(SA!GI3-SA!FW3)/SA!FW3","v":1.6426347697853515E-2},{"$f":"(SA!GJ3-SA!FX3)/SA!FX3","v":1.8399377125763224E-2},{"$f":"(SA!GK3-SA!FY3)/SA!FY3","v":1.6959542296689823E-2},{"$f":"(SA!GL3-SA!FZ3)/SA!FZ3","v":1.6005226196308998E-2},{"$f":"(SA!GM3-SA!GA3)/SA!GA3","v":1.6926339831960194E-2},{"$f":"(SA!GN3-SA!GB3)/SA!GB3","v":1.5206961047409937E-2},{"$f":"(SA!GO3-SA!GC3)/SA!GC3","v":1.6308768504961772E-2},{"$f":"(SA!GP3-SA!GD3)/SA!GD3","v":1.7565922920892495E-2},{"$f":"(SA!GQ3-SA!GE3)/SA!GE3","v":1.8525274636183062E-2},{"$f":"(SA!GR3-SA!GF3)/SA!GF3","v":1.6790063519035482E-2},{"$f":"(SA!GS3-SA!GG3)/SA!GG3","v":1.666262234085578E-2},{"$f":"(SA!GT3-SA!GH3)/SA!GH3","v":1.2263998709052768E-2},{"$f":"(SA!GU3-SA!GI3)/SA!GI3","v":1.0317172449925442E-2},{"$f":"(SA!GV3-SA!GJ3)/SA!GJ3","v":1.2151939481731853E-2},{"$f":"(SA!GW3-SA!GK3)/SA!GK3","v":1.0448061080972473E-2},{"$f":"(SA!GX3-SA!GL3)/SA!GL3","v":1.0448480951615496E-2},{"$f":"(SA!GY3-SA!GM3)/SA!GM3","v":8.5027874704207279E-3},{"$f":"(SA!GZ3-SA!GN3)/SA!GN3","v":6.6084588272989422E-3},{"$f":"(SA!HA3-SA!GO3)/SA!GO3","v":6.8830285325543238E-3},{"$f":"(SA!HB3-SA!GP3)/SA!GP3","v":7.2559103775465452E-3},{"$f":"(SA!HC3-SA!GQ3)/SA!GQ3","v":8.835469235055321E-3},{"$f":"(SA!HD3-SA!GR3)/SA!GR3","v":8.9129396784975324E-3},{"$f":"(SA!HE3-SA!GS3)/SA!GS3","v":1.1058954570769353E-2},{"$f":"(SA!HF3-SA!GT3)/SA!GT3","v":1.1876295233540571E-2},{"$f":"(SA!HG3-SA!GU3)/SA!GU3","v":1.3323227891020783E-2},{"$f":"(SA!HH3-SA!GV3)/SA!GV3","v":9.7002464816728952E-3},{"$f":"(SA!HI3-SA!GW3)/SA!GW3","v":9.0674090276396894E-3},{"$f":"(SA!HJ3-SA!GX3)/SA!GX3","v":1.145402481705377E-2},{"$f":"(SA!HK3-SA!GY3)/SA!GY3","v":-1},{"$f":"(SA!HL3-SA!GZ3)/SA!GZ3","v":-1},{"$f":"(SA!HM3-SA!HA3)/SA!HA3","v":-1}," n/a ","n/a",null,"Total Private",-6.1013485901103393E-2,-6.512720488355753E-3,7.0299329014477654E-3,1.0610086871119129E-2,1.2314241911260855E-2,1.3976080697711463E-2,1.6793147725003142E-2,1.9233992624874286E-2,1.9399964157693565E-2]
["Goods Producing",{"$f":"(SA!BN4-SA!BB4)/SA!BB4","v":5.8879694462126032E-3},{"$f":"(SA!BO4-SA!BC4)/SA!BC4","v":1.1918004131574766E-2},{"$f":"(SA!BP4-SA!BD4)/SA!BD4","v":9.8334655035685961E-3},{"$f":"(SA!BQ4-SA!BE4)/SA!BE4","v":8.2278481012658233E-3},{"$f":"(SA!BR4-SA!BF4)/SA!BF4","v":4.8949944733933364E-3},{"$f":"(SA!BS4-SA!BG4)/SA!BG4","v":7.2853975292999683E-3},{"$f":"(SA!BT4-SA!BH4)/SA!BH4","v":5.0425464859754172E-3},{"$f":"(SA!BU4-SA!BI4)/SA!BI4","v":2.2012578616352201E-3},{"$f":"(SA!BV4-SA!BJ4)/SA!BJ4","v":1.2584552461853075E-3},{"$f":"(SA!BW4-SA!BK4)/SA!BK4","v":9.4413847364280094E-4},{"$f":"(SA!BX4-SA!BL4)/SA!BL4","v":3.1441597233139445E-4},{"$f":"(SA!BY4-SA!BM4)/SA!BM4","v":-2.0411367561626627E-3},{"$f":"(SA!BZ4-SA!BN4)/SA!BN4","v":1.0283183040658124E-2},{"$f":"(SA!CA4-SA!BO4)/SA!BO4","v":3.4547738693467339E-3},{"$f":"(SA!CB4-SA!BP4)/SA!BP4","v":3.2982566357782316E-3},{"$f":"(SA!CC4-SA!BQ4)/SA!BQ4","v":5.6497175141242938E-3},{"$f":"(SA!CD4-SA!BR4)/SA!BR4","v":3.1426775612822125E-3},{"$f":"(SA!CE4-SA!BS4)/SA!BS4","v":6.446540880503145E-3},{"$f":"(SA!CF4-SA!BT4)/SA!BT4","v":1.0975227343994983E-3},{"$f":"(SA!CG4-SA!BU4)/SA!BU4","v":4.706620646375902E-4},{"$f":"(SA!CH4-SA!BV4)/SA!BV4","v":-6.2843676355066769E-4},{"$f":"(SA!CI4-SA!BW4)/SA!BW4","v":-2.6725357648168528E-3},{"$f":"(SA!CJ4-SA!BX4)/SA!BX4","v":-6.7578186390067577E-3},{"$f":"(SA!CK4-SA!BY4)/SA!BY4","v":-3.9332913782252985E-3},{"$f":"(SA!CL4-SA!BZ4)/SA!BZ4","v":-7.6730347635452553E-3},{"$f":"(SA!CM4-SA!CA4)/SA!CA4","v":-1.1111111111111112E-2},{"$f":"(SA!CN4-SA!CB4)/SA!CB4","v":-8.1402629931120844E-3},{"$f":"(SA!CO4-SA!CC4)/SA!CC4","v":-1.2796504369538077E-2},{"$f":"(SA!CP4-SA!CD4)/SA!CD4","v":-7.2055137844611525E-3},{"$f":"(SA!CQ4-SA!CE4)/SA!CE4","v":-1.0154663333854085E-2},{"$f":"(SA!CR4-SA!CF4)/SA!CF4","v":-9.2404072043852786E-3},{"$f":"(SA!CS4-SA!CG4)/SA!CG4","v":-1.0820134859651874E-2},{"$f":"(SA!CT4-SA!CH4)/SA!CH4","v":-1.2419430907090081E-2},{"$f":"(SA!CU4-SA!CI4)/SA!CI4","v":-1.1034047919293822E-2},{"$f":"(SA!CV4-SA!CJ4)/SA!CJ4","v":-7.753164556962025E-3},{"$f":"(SA!CW4-SA!CK4)/SA!CK4","v":-1.1372610961933344E-2},{"$f":"(SA!CX4-SA!CL4)/SA!CL4","v":-1.2466466782389144E-2},{"$f":"(SA!CY4-SA!CM4)/SA!CM4","v":-9.6534261750276934E-3},{"$f":"(SA!CZ4-SA!CN4)/SA!CN4","v":-1.3888888888888888E-2},{"$f":"(SA!DA4-SA!CO4)/SA!CO4","v":-1.723047739487828E-2},{"$f":"(SA!DB4-SA!CP4)/SA!CP4","v":-2.0353423792994634E-2},{"$f":"(SA!DC4-SA!CQ4)/SA!CQ4","v":-2.0675505050505052E-2},{"$f":"(SA!DD4-SA!CR4)/SA!CR4","v":-2.6715143850774579E-2},{"$f":"(SA!DE4-SA!CS4)/SA!CS4","v":-2.8852251109701965E-2},{"$f":"(SA!DF4-SA!CT4)/SA!CT4","v":-3.1359439668895255E-2},{"$f":"(SA!DG4-SA!CU4)/SA!CU4","v":-3.4746573159069177E-2},{"$f":"(SA!DH4-SA!CV4)/SA!CV4","v":-4.321479827778664E-2},{"$f":"(SA!DI4-SA!CW4)/SA!CW4","v":-5.2404537466048888E-2},{"$f":"(SA!DJ4-SA!CX4)/SA!CX4","v":-7.1268775966762538E-2},{"$f":"(SA!DK4-SA!CY4)/SA!CY4","v":-8.8846276765739848E-2},{"$f":"(SA!DL4-SA!CZ4)/SA!CZ4","v":-0.10547375160051216},{"$f":"(SA!DM4-SA!DA4)/SA!DA4","v":-0.12111951101817597},{"$f":"(SA!DN4-SA!DB4)/SA!DB4","v":-0.12900628120470284},{"$f":"(SA!DO4-SA!DC4)/SA!DC4","v":-0.13940370668815472},{"$f":"(SA!DP4-SA!DD4)/SA!DD4","v":-0.14178983271073575},{"$f":"(SA!DQ4-SA!DE4)/SA!DE4","v":-0.1407117205354228},{"$f":"(SA!DR4-SA!DF4)/SA!DF4","v":-0.12933442892358257},{"$f":"(SA!DS4-SA!DG4)/SA!DG4","v":-0.12978863936591808},{"$f":"(SA!DT4-SA!DH4)/SA!DH4","v":-0.12383333333333334},{"$f":"(SA!DU4-SA!DI4)/SA!DI4","v":-0.11566346315966954},{"$f":"(SA!DV4-SA!DJ4)/SA!DJ4","v":-0.10013764624913971},{"$f":"(SA!DW4-SA!DK4)/SA!DK4","v":-8.2076464398456686E-2},{"$f":"(SA!DX4-SA!DL4)/SA!DL4","v":-6.1191626409017714E-2},{"$f":"(SA!DY4-SA!DM4)/SA!DM4","v":-3.4407027818448024E-2},{"$f":"(SA!DZ4-SA!DN4)/SA!DN4","v":-2.5887573964497042E-2},{"$f":"(SA!EA4-SA!DO4)/SA!DO4","v":-1.2172284644194757E-2},{"$f":"(SA!EB4-SA!DP4)/SA!DP4","v":1.3247539742619228E-3},{"$f":"(SA!EC4-SA!DQ4)/SA!DQ4","v":7.2188449848024317E-3},{"$f":"(SA!ED4-SA!DR4)/SA!DR4","v":1.6987542468856172E-3},{"$f":"(SA!EE4-SA!DS4)/SA!DS4","v":8.5388994307400382E-3},{"$f":"(SA!EF4-SA!DT4)/SA!DT4","v":1.103290850294845E-2},{"$f":"(SA!EG4-SA!DU4)/SA!DU4","v":1.4680648236415635E-2},{"$f":"(SA!EH4-SA!DV4)/SA!DV4","v":1.9694072657743786E-2},{"$f":"(SA!EI4-SA!DW4)/SA!DW4","v":2.2162781811234239E-2},{"$f":"(SA!EJ4-SA!DX4)/SA!DX4","v":2.2107871164474938E-2},{"$f":"(SA!EK4-SA!DY4)/SA!DY4","v":2.2175890826383625E-2},{"$f":"(SA!EL4-SA!DZ4)/SA!DZ4","v":2.6006074411541381E-2},{"$f":"(SA!EM4-SA!EA4)/SA!EA4","v":2.4644549763033177E-2},{"$f":"(SA!EN4-SA!EB4)/SA!EB4","v":2.627102627102627E-2},{"$f":"(SA!EO4-SA!EC4)/SA!EC4","v":2.5839305922293474E-2},{"$f":"(SA!EP4-SA!ED4)/SA!ED4","v":2.524967024684379E-2},{"$f":"(SA!EQ4-SA!EE4)/SA!EE4","v":2.220131702728128E-2},{"$f":"(SA!ER4-SA!EF4)/SA!EF4","v":2.5211665098777047E-2},{"$f":"(SA!ES4-SA!EG4)/SA!EG4","v":2.6305900037579856E-2},{"$f":"(SA!ET4-SA!EH4)/SA!EH4","v":2.7001687605475343E-2},{"$f":"(SA!EU4-SA!EI4)/SA!EI4","v":2.691588785046729E-2},{"$f":"(SA!EV4-SA!EJ4)/SA!EJ4","v":2.8528808502703711E-2},{"$f":"(SA!EW4-SA!EK4)/SA!EK4","v":2.87409605043575E-2},{"$f":"(SA!EX4-SA!EL4)/SA!EL4","v":2.0166512488436632E-2},{"$f":"(SA!EY4-SA!EM4)/SA!EM4","v":2.2941720629047178E-2},{"$f":"(SA!EZ4-SA!EN4)/SA!EN4","v":1.7863720073664824E-2},{"$f":"(SA!FA4-SA!EO4)/SA!EO4","v":1.5444015444015444E-2},{"$f":"(SA!FB4-SA!EP4)/SA!EP4","v":1.6908656496967468E-2},{"$f":"(SA!FC4-SA!EQ4)/SA!EQ4","v":2.1351003129026321E-2},{"$f":"(SA!FD4-SA!ER4)/SA!ER4","v":1.7617911543402458E-2},{"$f":"(SA!FE4-SA!ES4)/SA!ES4","v":1.9956060051263273E-2},{"$f":"(SA!FF4-SA!ET4)/SA!ET4","v":1.8258170531312762E-2},{"$f":"(SA!FG4-SA!EU4)/SA!EU4","v":1.8201674554058973E-2},{"$f":"(SA!FH4-SA!EV4)/SA!EV4","v":1.3234227701232778E-2},{"$f":"(SA!FI4-SA!EW4)/SA!EW4","v":7.2098053352559477E-4},{"$f":"(SA!FJ4-SA!EX4)/SA!EX4","v":1.3420384475879579E-2},{"$f":"(SA!FK4-SA!EY4)/SA!EY4","v":1.1575330077771749E-2},{"$f":"(SA!FL4-SA!EZ4)/SA!EZ4","v":1.0493938845666727E-2},{"$f":"(SA!FM4-SA!FA4)/SA!FA4","v":1.4122759369907659E-2},{"$f":"(SA!FN4-SA!FB4)/SA!FB4","v":1.3916500994035786E-2},{"$f":"(SA!FO4-SA!FC4)/SA!FC4","v":1.3515948819607137E-2},{"$f":"(SA!FP4-SA!FD4)/SA!FD4","v":1.6050495942290351E-2},{"$f":"(SA!FQ4-SA!FE4)/SA!FE4","v":9.5135523245377853E-3},{"$f":"(SA!FR4-SA!FF4)/SA!FF4","v":1.2551551013089475E-2},{"$f":"(SA!FS4-SA!FG4)/SA!FG4","v":1.1619592420450483E-2},{"$f":"(SA!FT4-SA!FH4)/SA!FH4","v":1.4134907854714617E-2},{"$f":"(SA!FU4-SA!FI4)/SA!FI4","v":2.4135446685878963E-2},{"$f":"(SA!FV4-SA!FJ4)/SA!FJ4","v":2.1295633500357909E-2},{"$f":"(SA!FW4-SA!FK4)/SA!FK4","v":2.2706955122474521E-2},{"$f":"(SA!FX4-SA!FL4)/SA!FL4","v":2.775290957923008E-2},{"$f":"(SA!FY4-SA!FM4)/SA!FM4","v":2.6959471522942331E-2},{"$f":"(SA!FZ4-SA!FN4)/SA!FN4","v":2.7450980392156862E-2},{"$f":"(SA!GA4-SA!FO4)/SA!FO4","v":2.5960170697012803E-2},{"$f":"(SA!GB4-SA!FP4)/SA!FP4","v":2.5736599219027333E-2},{"$f":"(SA!GC4-SA!FQ4)/SA!FQ4","v":2.9160739687055477E-2},{"$f":"(SA!GD4-SA!FR4)/SA!FR4","v":2.6916947051531786E-2},{"$f":"(SA!GE4-SA!FS4)/SA!FS4","v":2.6683159568828416E-2},{"$f":"(SA!GF4-SA!FT4)/SA!FT4","v":2.4700070571630206E-2},{"$f":"(SA!GG4-SA!FU4)/SA!FU4","v":2.1983819908547308E-2},{"$f":"(SA!GH4-SA!FV4)/SA!FV4","v":1.8748904853688454E-2},{"$f":"(SA!GI4-SA!FW4)/SA!FW4","v":1.6258741258741258E-2},{"$f":"(SA!GJ4-SA!FX4)/SA!FX4","v":1.2543554006968641E-2},{"$f":"(SA!GK4-SA!FY4)/SA!FY4","v":9.214186369958275E-3},{"$f":"(SA!GL4-SA!FZ4)/SA!FZ4","v":6.5926439972241501E-3},{"$f":"(SA!GM4-SA!GA4)/SA!GA4","v":5.37261698440208E-3},{"$f":"(SA!GN4-SA!GB4)/SA!GB4","v":4.8451289150372038E-3},{"$f":"(SA!GO4-SA!GC4)/SA!GC4","v":4.8375950241879755E-3},{"$f":"(SA!GP4-SA!GD4)/SA!GD4","v":3.2764269701672701E-3},{"$f":"(SA!GQ4-SA!GE4)/SA!GE4","v":1.7211703958691911E-3},{"$f":"(SA!GR4-SA!GF4)/SA!GF4","v":3.6157024793388431E-3},{"$f":"(SA!GS4-SA!GG4)/SA!GG4","v":1.0325245224574084E-3},{"$f":"(SA!GT4-SA!GH4)/SA!GH4","v":-2.0639834881320948E-3},{"$f":"(SA!GU4-SA!GI4)/SA!GI4","v":-3.7846206777911577E-3},{"$f":"(SA!GV4-SA!GJ4)/SA!GJ4","v":-3.4411562284927736E-3},{"$f":"(SA!GW4-SA!GK4)/SA!GK4","v":-2.2394487510766581E-3},{"$f":"(SA!GX4-SA!GL4)/SA!GL4","v":-2.0682523267838678E-3},{"$f":"(SA!GY4-SA!GM4)/SA!GM4","v":2.4133770039648336E-3},{"$f":"(SA!GZ4-SA!GN4)/SA!GN4","v":5.1661787497847425E-4},{"$f":"(SA!HA4-SA!GO4)/SA!GO4","v":5.6740027510316371E-3},{"$f":"(SA!HB4-SA!GP4)/SA!GP4","v":8.250257820556892E-3},{"$f":"(SA!HC4-SA!GQ4)/SA!GQ4","v":8.4192439862542951E-3},{"$f":"(SA!HD4-SA!GR4)/SA!GR4","v":5.1466803911477095E-3},{"$f":"(SA!HE4-SA!GS4)/SA!GS4","v":1.684717208182912E-2},{"$f":"(SA!HF4-SA!GT4)/SA!GT4","v":1.8097207859358842E-2},{"$f":"(SA!HG4-SA!GU4)/SA!GU4","v":1.6404766016232083E-2},{"$f":"(SA!HH4-SA!GV4)/SA!GV4","v":2.037292817679558E-2},{"$f":"(SA!HI4-SA!GW4)/SA!GW4","v":2.0200276243093923E-2},{"$f":"(SA!HJ4-SA!GX4)/SA!GX4","v":2.4697754749568222E-2},{"$f":"(SA!HK4-SA!GY4)/SA!GY4","v":-1},{"$f":"(SA!HL4-SA!GZ4)/SA!GZ4","v":-1},{"$f":"(SA!HM4-SA!HA4)/SA!HA4","v":-1}," n/a ","n/a",null,"Goods Producing",-0.14178983271073575,-2.7249420665506424E-2,-5.3455550086160281E-3,2.5957021432941783E-3,6.5561182180438986E-3,1.4407778045565126E-2,2.3240152143255123E-2,2.9160739687055477E-2,4.0094353388313408E-2]
["Service-Providing",{"$f":"(SA!BN5-SA!BB5)/SA!BB5","v":1.5656941089016913E-2},{"$f":"(SA!BO5-SA!BC5)/SA!BC5","v":1.4982836997866221E-2},{"$f":"(SA!BP5-SA!BD5)/SA!BD5","v":1.5060240963855422E-2},{"$f":"(SA!BQ5-SA!BE5)/SA!BE5","v":1.8999073215940687E-2},{"$f":"(SA!BR5-SA!BF5)/SA!BF5","v":1.5073750404586859E-2},{"$f":"(SA!BS5-SA!BG5)/SA!BG5","v":1.102296836085232E-2},{"$f":"(SA!BT5-SA!BH5)/SA!BH5","v":1.1636999218067247E-2},{"$f":"(SA!BU5-SA!BI5)/SA!BI5","v":1.03674480480756E-2},{"$f":"(SA!BV5-SA!BJ5)/SA!BJ5","v":1.7593146962649103E-2},{"$f":"(SA!BW5-SA!BK5)/SA!BK5","v":1.150478984278315E-2},{"$f":"(SA!BX5-SA!BL5)/SA!BL5","v":1.237340176893818E-2},{"$f":"(SA!BY5-SA!BM5)/SA!BM5","v":1.5642201834862385E-2},{"$f":"(SA!BZ5-SA!BN5)/SA!BN5","v":1.1252916152051599E-2},{"$f":"(SA!CA5-SA!BO5)/SA!BO5","v":1.1836753347653215E-2},{"$f":"(SA!CB5-SA!BP5)/SA!BP5","v":1.182378452408126E-2},{"$f":"(SA!CC5-SA!BQ5)/SA!BQ5","v":1.0231923601637109E-2},{"$f":"(SA!CD5-SA!BR5)/SA!BR5","v":9.8392019313988978E-3},{"$f":"(SA!CE5-SA!BS5)/SA!BS5","v":1.3959217188996852E-2},{"$f":"(SA!CF5-SA!BT5)/SA!BT5","v":1.0502864417568428E-2},{"$f":"(SA!CG5-SA!BU5)/SA!BU5","v":9.5346197502837685E-3},{"$f":"(SA!CH5-SA!BV5)/SA!BV5","v":8.4181941615750176E-3},{"$f":"(SA!CI5-SA!BW5)/SA!BW5","v":9.6066702918252665E-3},{"$f":"(SA!CJ5-SA!BX5)/SA!BX5","v":9.8682721470282012E-3},{"$f":"(SA!CK5-SA!BY5)/SA!BY5","v":8.220044261776794E-3},{"$f":"(SA!CL5-SA!BZ5)/SA!BZ5","v":1.1806215225946532E-2},{"$f":"(SA!CM5-SA!CA5)/SA!CA5","v":1.038843721770551E-2},{"$f":"(SA!CN5-SA!CB5)/SA!CB5","v":1.0557661072008662E-2},{"$f":"(SA!CO5-SA!CC5)/SA!CC5","v":8.5527796533873511E-3},{"$f":"(SA!CP5-SA!CD5)/SA!CD5","v":1.2630249447426587E-2},{"$f":"(SA!CQ5-SA!CE5)/SA!CE5","v":1.4036982048859495E-2},{"$f":"(SA!CR5-SA!CF5)/SA!CF5","v":1.1743532058492689E-2},{"$f":"(SA!CS5-SA!CG5)/SA!CG5","v":1.1648302226219924E-2},{"$f":"(SA!CT5-SA!CH5)/SA!CH5","v":1.0188052600870696E-2},{"$f":"(SA!CU5-SA!CI5)/SA!CI5","v":7.9892280071813277E-3},{"$f":"(SA!CV5-SA!CJ5)/SA!CJ5","v":6.5444439463893493E-3},{"$f":"(SA!CW5-SA!CK5)/SA!CK5","v":8.6905881825919459E-3},{"$f":"(SA!CX5-SA!CL5)/SA!CL5","v":9.0307582260371957E-3},{"$f":"(SA!CY5-SA!CM5)/SA!CM5","v":8.493518104604381E-3},{"$f":"(SA!CZ5-SA!CN5)/SA!CN5","v":6.2505580855433517E-3},{"$f":"(SA!DA5-SA!CO5)/SA!CO5","v":5.3113144387413524E-3},{"$f":"(SA!DB5-SA!CP5)/SA!CP5","v":4.9445409595082184E-3},{"$f":"(SA!DC5-SA!CQ5)/SA!CQ5","v":4.43675407072186E-5},{"$f":"(SA!DD5-SA!CR5)/SA!CR5","v":3.5577692786622787E-3},{"$f":"(SA!DE5-SA!CS5)/SA!CS5","v":2.5340090690850895E-3},{"$f":"(SA!DF5-SA!CT5)/SA!CT5","v":4.6650079971565662E-3},{"$f":"(SA!DG5-SA!CU5)/SA!CU5","v":2.9388191290408761E-3},{"$f":"(SA!DH5-SA!CV5)/SA!CV5","v":1.6477399242930304E-3},{"$f":"(SA!DI5-SA!CW5)/SA!CW5","v":-4.485499844561887E-3},{"$f":"(SA!DJ5-SA!CX5)/SA!CX5","v":-1.2981834293309702E-2},{"$f":"(SA!DK5-SA!CY5)/SA!CY5","v":-1.5070921985815602E-2},{"$f":"(SA!DL5-SA!CZ5)/SA!CZ5","v":-1.8590824385482298E-2},{"$f":"(SA!DM5-SA!DA5)/SA!DA5","v":-2.2553720475936779E-2},{"$f":"(SA!DN5-SA!DB5)/SA!DB5","v":-2.1631205673758865E-2},{"$f":"(SA!DO5-SA!DC5)/SA!DC5","v":-2.3425022182786158E-2},{"$f":"(SA!DP5-SA!DD5)/SA!DD5","v":-2.7209075600460871E-2},{"$f":"(SA!DQ5-SA!DE5)/SA!DE5","v":-2.8867899427963282E-2},{"$f":"(SA!DR5-SA!DF5)/SA!DF5","v":-3.3874320081369126E-2},{"$f":"(SA!DS5-SA!DG5)/SA!DG5","v":-2.8724915645533654E-2},{"$f":"(SA!DT5-SA!DH5)/SA!DH5","v":-2.8098879601636137E-2},{"$f":"(SA!DU5-SA!DI5)/SA!DI5","v":-2.4848322626695219E-2},{"$f":"(SA!DV5-SA!DJ5)/SA!DJ5","v":-1.8180185841899718E-2},{"$f":"(SA!DW5-SA!DK5)/SA!DK5","v":-1.5931593159315933E-2},{"$f":"(SA!DX5-SA!DL5)/SA!DL5","v":-1.11216601112166E-2},{"$f":"(SA!DY5-SA!DM5)/SA!DM5","v":-3.0432412790697676E-3},{"$f":"(SA!DZ5-SA!DN5)/SA!DN5","v":-3.9869517941283072E-3},{"$f":"(SA!EA5-SA!DO5)/SA!DO5","v":-2.3623478102852988E-3},{"$f":"(SA!EB5-SA!DP5)/SA!DP5","v":1.2299562682215744E-3},{"$f":"(SA!EC5-SA!DQ5)/SA!DQ5","v":4.3835616438356161E-3},{"$f":"(SA!ED5-SA!DR5)/SA!DR5","v":5.7673822492790771E-3},{"$f":"(SA!EE5-SA!DS5)/SA!DS5","v":8.4106595968368603E-3},{"$f":"(SA!EF5-SA!DT5)/SA!DT5","v":9.7895699908508698E-3},{"$f":"(SA!EG5-SA!DU5)/SA!DU5","v":8.3718376869939149E-3},{"$f":"(SA!EH5-SA!DV5)/SA!DV5","v":9.2355523043160213E-3},{"$f":"(SA!EI5-SA!DW5)/SA!DW5","v":9.603951339979877E-3},{"$f":"(SA!EJ5-SA!DX5)/SA!DX5","v":9.8294701229826725E-3},{"$f":"(SA!EK5-SA!DY5)/SA!DY5","v":6.6973438425440793E-3},{"$f":"(SA!EL5-SA!DZ5)/SA!DZ5","v":4.7307132459970891E-3},{"$f":"(SA!EM5-SA!EA5)/SA!EA5","v":4.5537340619307837E-3},{"$f":"(SA!EN5-SA!EB5)/SA!EB5","v":8.7811092406387924E-3},{"$f":"(SA!EO5-SA!EC5)/SA!EC5","v":5.9556282960538283E-3},{"$f":"(SA!EP5-SA!ED5)/SA!ED5","v":8.1463614435898606E-3},{"$f":"(SA!EQ5-SA!EE5)/SA!EE5","v":2.5837450704863786E-3},{"$f":"(SA!ER5-SA!EF5)/SA!EF5","v":1.4496692941922623E-3},{"$f":"(SA!ES5-SA!EG5)/SA!EG5","v":5.035840667815988E-3},{"$f":"(SA!ET5-SA!EH5)/SA!EH5","v":9.5134547431367214E-4},{"$f":"(SA!EU5-SA!EI5)/SA!EI5","v":2.8537778583076646E-3},{"$f":"(SA!EV5-SA!EJ5)/SA!EJ5","v":8.0134009416877941E-3},{"$f":"(SA!EW5-SA!EK5)/SA!EK5","v":9.9112961622013027E-3},{"$f":"(SA!EX5-SA!EL5)/SA!EL5","v":1.0729808040565012E-2},{"$f":"(SA!EY5-SA!EM5)/SA!EM5","v":1.1242067089755213E-2},{"$f":"(SA!EZ5-SA!EN5)/SA!EN5","v":1.9844849359552589E-3},{"$f":"(SA!FA5-SA!EO5)/SA!EO5","v":6.3271116735210374E-3},{"$f":"(SA!FB5-SA!EP5)/SA!EP5","v":7.087396171903214E-3},{"$f":"(SA!FC5-SA!EQ5)/SA!EQ5","v":9.9918618319920424E-3},{"$f":"(SA!FD5-SA!ER5)/SA!ER5","v":1.4204288428480956E-2},{"$f":"(SA!FE5-SA!ES5)/SA!ES5","v":9.5246693450097061E-3},{"$f":"(SA!FF5-SA!ET5)/SA!ET5","v":7.9203439692238069E-3},{"$f":"(SA!FG5-SA!EU5)/SA!EU5","v":1.3776593342066037E-2},{"$f":"(SA!FH5-SA!EV5)/SA!EV5","v":8.6233999550864582E-3},{"$f":"(SA!FI5-SA!EW5)/SA!EW5","v":3.98834864440959E-3},{"$f":"(SA!FJ5-SA!EX5)/SA!EX5","v":5.8678611422172452E-3},{"$f":"(SA!FK5-SA!EY5)/SA!EY5","v":7.9792002868925953E-3},{"$f":"(SA!FL5-SA!EZ5)/SA!EZ5","v":1.2153402952826792E-2},{"$f":"(SA!FM5-SA!FA5)/SA!FA5","v":1.2439933533929132E-2},{"$f":"(SA!FN5-SA!FB5)/SA!FB5","v":1.2730288224483393E-2},{"$f":"(SA!FO5-SA!FC5)/SA!FC5","v":1.0877836966739782E-2},{"$f":"(SA!FP5-SA!FD5)/SA!FD5","v":8.0285459411239962E-3},{"$f":"(SA!FQ5-SA!FE5)/SA!FE5","v":1.2296548023609372E-2},{"$f":"(SA!FR5-SA!FF5)/SA!FF5","v":1.7826672653794343E-2},{"$f":"(SA!FS5-SA!FG5)/SA!FG5","v":9.9803956513990384E-3},{"$f":"(SA!FT5-SA!FH5)/SA!FH5","v":1.055350224874204E-2},{"$f":"(SA!FU5-SA!FI5)/SA!FI5","v":1.5220496339939297E-2},{"$f":"(SA!FV5-SA!FJ5)/SA!FJ5","v":1.3092269326683292E-2},{"$f":"(SA!FW5-SA!FK5)/SA!FK5","v":1.4053188650716001E-2},{"$f":"(SA!FX5-SA!FL5)/SA!FL5","v":1.3119274215067154E-2},{"$f":"(SA!FY5-SA!FM5)/SA!FM5","v":1.5436479772888574E-2},{"$f":"(SA!FZ5-SA!FN5)/SA!FN5","v":1.1729296684813881E-2},{"$f":"(SA!GA5-SA!FO5)/SA!FO5","v":1.2576388273846426E-2},{"$f":"(SA!GB5-SA!FP5)/SA!FP5","v":1.6769911504424778E-2},{"$f":"(SA!GC5-SA!FQ5)/SA!FQ5","v":1.205883652104775E-2},{"$f":"(SA!GD5-SA!FR5)/SA!FR5","v":1.248511051308069E-2},{"$f":"(SA!GE5-SA!FS5)/SA!FS5","v":1.3234515616728428E-2},{"$f":"(SA!GF5-SA!FT5)/SA!FT5","v":1.4056578831409183E-2},{"$f":"(SA!GG5-SA!FU5)/SA!FU5","v":1.2002637942404925E-2},{"$f":"(SA!GH5-SA!FV5)/SA!FV5","v":1.3934065934065935E-2},{"$f":"(SA!GI5-SA!FW5)/SA!FW5","v":1.2849750021927901E-2},{"$f":"(SA!GJ5-SA!FX5)/SA!FX5","v":1.5100302883982265E-2},{"$f":"(SA!GK5-SA!FY5)/SA!FY5","v":1.1750829984273983E-2},{"$f":"(SA!GL5-SA!FZ5)/SA!FZ5","v":1.3386997987575465E-2},{"$f":"(SA!GM5-SA!GA5)/SA!GA5","v":1.5131636490859792E-2},{"$f":"(SA!GN5-SA!GB5)/SA!GB5","v":1.0009138778885068E-2},{"$f":"(SA!GO5-SA!GC5)/SA!GC5","v":1.5319483240223464E-2},{"$f":"(SA!GP5-SA!GD5)/SA!GD5","v":1.8126361655773419E-2},{"$f":"(SA!GQ5-SA!GE5)/SA!GE5","v":1.9070010449320794E-2},{"$f":"(SA!GR5-SA!GF5)/SA!GF5","v":1.6860035632034066E-2},{"$f":"(SA!GS5-SA!GG5)/SA!GG5","v":1.7725258493353029E-2},{"$f":"(SA!GT5-SA!GH5)/SA!GH5","v":1.2918888455369142E-2},{"$f":"(SA!GU5-SA!GI5)/SA!GI5","v":1.2210435159125352E-2},{"$f":"(SA!GV5-SA!GJ5)/SA!GJ5","v":1.5783783783783784E-2},{"$f":"(SA!GW5-SA!GK5)/SA!GK5","v":1.4593497690082466E-2},{"$f":"(SA!GX5-SA!GL5)/SA!GL5","v":1.2260404075289243E-2},{"$f":"(SA!GY5-SA!GM5)/SA!GM5","v":1.1804239186627607E-2},{"$f":"(SA!GZ5-SA!GN5)/SA!GN5","v":1.3744668016717653E-2},{"$f":"(SA!HA5-SA!GO5)/SA!GO5","v":9.9299316511198034E-3},{"$f":"(SA!HB5-SA!GP5)/SA!GP5","v":7.0615424120516988E-3},{"$f":"(SA!HC5-SA!GQ5)/SA!GQ5","v":9.9547124668888324E-3},{"$f":"(SA!HD5-SA!GR5)/SA!GR5","v":9.0167086876629197E-3},{"$f":"(SA!HE5-SA!GS5)/SA!GS5","v":1.114146674635021E-2},{"$f":"(SA!HF5-SA!GT5)/SA!GT5","v":1.254012411726942E-2},{"$f":"(SA!HG5-SA!GU5)/SA!GU5","v":1.0608717970654918E-2},{"$f":"(SA!HH5-SA!GV5)/SA!GV5","v":7.1945508727117927E-3},{"$f":"(SA!HI5-SA!GW5)/SA!GW5","v":3.8299502106472617E-3},{"$f":"(SA!HJ5-SA!GX5)/SA!GX5","v":8.6574547935858066E-3},{"$f":"(SA!HK5-SA!GY5)/SA!GY5","v":-1},{"$f":"(SA!HL5-SA!GZ5)/SA!GZ5","v":-1},{"$f":"(SA!HM5-SA!HA5)/SA!HA5","v":-1}," n/a ","n/a",null,"Service-Providing",-3.3874320081369126E-2,1.1603035697445988E-3,6.4357778099551934E-3,9.5519526477077961E-3,1.0383189925298034E-2,1.2181919055976072E-2,1.4093506230677125E-2,1.9070010449320794E-2,1.0960150164496925E-2]
["Private Service Providing",{"$f":"(SA!BN6-SA!BB6)/SA!BB6","v":1.4564220183486239E-2},{"$f":"(SA!BO6-SA!BC6)/SA!BC6","v":1.593945301301531E-2},{"$f":"(SA!BP6-SA!BD6)/SA!BD6","v":1.7412222922275046E-2},{"$f":"(SA!BQ6-SA!BE6)/SA!BE6","v":2.0765402436931524E-2},{"$f":"(SA!BR6-SA!BF6)/SA!BF6","v":1.6667618014726868E-2},{"$f":"(SA!BS6-SA!BG6)/SA!BG6","v":1.4019490511198496E-2},{"$f":"(SA!BT6-SA!BH6)/SA!BH6","v":1.3627072450601862E-2},{"$f":"(SA!BU6-SA!BI6)/SA!BI6","v":1.2854635030296166E-2},{"$f":"(SA!BV6-SA!BJ6)/SA!BJ6","v":1.7150320858651827E-2},{"$f":"(SA!BW6-SA!BK6)/SA!BK6","v":1.2782082461399242E-2},{"$f":"(SA!BX6-SA!BL6)/SA!BL6","v":1.5673626435806033E-2},{"$f":"(SA!BY6-SA!BM6)/SA!BM6","v":1.6514903003223801E-2},{"$f":"(SA!BZ6-SA!BN6)/SA!BN6","v":1.4468181304396971E-2},{"$f":"(SA!CA6-SA!BO6)/SA!BO6","v":1.5520063208984705E-2},{"$f":"(SA!CB6-SA!BP6)/SA!BP6","v":1.38490119912177E-2},{"$f":"(SA!CC6-SA!BQ6)/SA!BQ6","v":1.216095045953822E-2},{"$f":"(SA!CD6-SA!BR6)/SA!BR6","v":1.2351917354443883E-2},{"$f":"(SA!CE6-SA!BS6)/SA!BS6","v":1.4893497442814589E-2},{"$f":"(SA!CF6-SA!BT6)/SA!BT6","v":1.2043468518933453E-2},{"$f":"(SA!CG6-SA!BU6)/SA!BU6","v":1.0622833501062284E-2},{"$f":"(SA!CH6-SA!BV6)/SA!BV6","v":1.0552174641281893E-2},{"$f":"(SA!CI6-SA!BW6)/SA!BW6","v":1.278829508013626E-2},{"$f":"(SA!CJ6-SA!BX6)/SA!BX6","v":1.1643454038997214E-2},{"$f":"(SA!CK6-SA!BY6)/SA!BY6","v":1.1405997885717466E-2},{"$f":"(SA!CL6-SA!BZ6)/SA!BZ6","v":1.5376044568245125E-2},{"$f":"(SA!CM6-SA!CA6)/SA!CA6","v":1.3671223741247083E-2},{"$f":"(SA!CN6-SA!CB6)/SA!CB6","v":1.393747570659115E-2},{"$f":"(SA!CO6-SA!CC6)/SA!CC6","v":1.0741376446486905E-2},{"$f":"(SA!CP6-SA!CD6)/SA!CD6","v":1.4364150629471465E-2},{"$f":"(SA!CQ6-SA!CE6)/SA!CE6","v":1.528408461623657E-2},{"$f":"(SA!CR6-SA!CF6)/SA!CF6","v":1.372668400952012E-2},{"$f":"(SA!CS6-SA!CG6)/SA!CG6","v":1.2945341889798628E-2},{"$f":"(SA!CT6-SA!CH6)/SA!CH6","v":1.0828729281767955E-2},{"$f":"(SA!CU6-SA!CI6)/SA!CI6","v":9.0427878253198056E-3},{"$f":"(SA!CV6-SA!CJ6)/SA!CJ6","v":8.5907814306955231E-3},{"$f":"(SA!CW6-SA!CK6)/SA!CK6","v":8.9668830454395429E-3},{"$f":"(SA!CX6-SA!CL6)/SA!CL6","v":7.5167343355645785E-3},{"$f":"(SA!CY6-SA!CM6)/SA!CM6","v":6.8530701754385961E-3},{"$f":"(SA!CZ6-SA!CN6)/SA!CN6","v":5.1478641840087625E-3},{"$f":"(SA!DA6-SA!CO6)/SA!CO6","v":5.3683922213092301E-3},{"$f":"(SA!DB6-SA!CP6)/SA!CP6","v":3.8272279934390375E-3},{"$f":"(SA!DC6-SA!CQ6)/SA!CQ6","v":5.9997818261154137E-4},{"$f":"(SA!DD6-SA!CR6)/SA!CR6","v":1.6926016926016925E-3},{"$f":"(SA!DE6-SA!CS6)/SA!CS6","v":1.8569087930092845E-3},{"$f":"(SA!DF6-SA!CT6)/SA!CT6","v":0},{"$f":"(SA!DG6-SA!CU6)/SA!CU6","v":-1.4207650273224044E-3},{"$f":"(SA!DH6-SA!CV6)/SA!CV6","v":-5.8968058968058967E-3},{"$f":"(SA!DI6-SA!CW6)/SA!CW6","v":-9.4869418243280091E-3},{"$f":"(SA!DJ6-SA!CX6)/SA!CX6","v":-1.7099602461471436E-2},{"$f":"(SA!DK6-SA!CY6)/SA!CY6","v":-2.0691532806969778E-2},{"$f":"(SA!DL6-SA!CZ6)/SA!CZ6","v":-2.5335076822491011E-2},{"$f":"(SA!DM6-SA!DA6)/SA!DA6","v":-3.0512722715632323E-2},{"$f":"(SA!DN6-SA!DB6)/SA!DB6","v":-2.8594771241830064E-2},{"$f":"(SA!DO6-SA!DC6)/SA!DC6","v":-2.9435813573180702E-2},{"$f":"(SA!DP6-SA!DD6)/SA!DD6","v":-3.3031723536465718E-2},{"$f":"(SA!DQ6-SA!DE6)/SA!DE6","v":-3.4398168338421284E-2},{"$f":"(SA!DR6-SA!DF6)/SA!DF6","v":-3.3777874945343248E-2},{"$f":"(SA!DS6-SA!DG6)/SA!DG6","v":-3.2614643756156289E-2},{"$f":"(SA!DT6-SA!DH6)/SA!DH6","v":-2.9109683088921843E-2},{"$f":"(SA!DU6-SA!DI6)/SA!DI6","v":-2.812792425827049E-2},{"$f":"(SA!DV6-SA!DJ6)/SA!DJ6","v":-2.0499750678707962E-2},{"$f":"(SA!DW6-SA!DK6)/SA!DK6","v":-1.6235752015568528E-2},{"$f":"(SA!DX6-SA!DL6)/SA!DL6","v":-1.1012353960534406E-2},{"$f":"(SA!DY6-SA!DM6)/SA!DM6","v":-3.4283145057044905E-3},{"$f":"(SA!DZ6-SA!DN6)/SA!DN6","v":-6.0555088309503782E-3},{"$f":"(SA!EA6-SA!DO6)/SA!DO6","v":-4.1561359168772816E-3},{"$f":"(SA!EB6-SA!DP6)/SA!DP6","v":2.6493799323562572E-3},{"$f":"(SA!EC6-SA!DQ6)/SA!DQ6","v":6.153672443967707E-3},{"$f":"(SA!ED6-SA!DR6)/SA!DR6","v":6.3921258060866612E-3},{"$f":"(SA!EE6-SA!DS6)/SA!DS6","v":1.1030659576875212E-2},{"$f":"(SA!EF6-SA!DT6)/SA!DT6","v":1.1257566329128246E-2},{"$f":"(SA!EG6-SA!DU6)/SA!DU6","v":1.3479836882646127E-2},{"$f":"(SA!EH6-SA!DV6)/SA!DV6","v":1.2670399909497143E-2},{"$f":"(SA!EI6-SA!DW6)/SA!DW6","v":1.1134346916859775E-2},{"$f":"(SA!EJ6-SA!DX6)/SA!DX6","v":1.181324892606828E-2},{"$f":"(SA!EK6-SA!DY6)/SA!DY6","v":1.1561019625535754E-2},{"$f":"(SA!EL6-SA!DZ6)/SA!DZ6","v":1.0492469114909459E-2},{"$f":"(SA!EM6-SA!EA6)/SA!EA6","v":1.0320906886244431E-2},{"$f":"(SA!EN6-SA!EB6)/SA!EB6","v":1.0906842075673244E-2},{"$f":"(SA!EO6-SA!EC6)/SA!EC6","v":9.2582201773089446E-3},{"$f":"(SA!EP6-SA!ED6)/SA!ED6","v":1.3433758642010005E-2},{"$f":"(SA!EQ6-SA!EE6)/SA!EE6","v":8.6722989984893417E-3},{"$f":"(SA!ER6-SA!EF6)/SA!EF6","v":9.2302528529872446E-3},{"$f":"(SA!ES6-SA!EG6)/SA!EG6","v":8.3826981110986919E-3},{"$f":"(SA!ET6-SA!EH6)/SA!EH6","v":9.9424677428363965E-3},{"$f":"(SA!EU6-SA!EI6)/SA!EI6","v":1.1570709893795416E-2},{"$f":"(SA!EV6-SA!EJ6)/SA!EJ6","v":1.4412602647896766E-2},{"$f":"(SA!EW6-SA!EK6)/SA!EK6","v":1.3212911858170263E-2},{"$f":"(SA!EX6-SA!EL6)/SA!EL6","v":1.2839836989895607E-2},{"$f":"(SA!EY6-SA!EM6)/SA!EM6","v":1.4960366194038182E-2},{"$f":"(SA!EZ6-SA!EN6)/SA!EN6","v":7.5635392914743345E-3},{"$f":"(SA!FA6-SA!EO6)/SA!EO6","v":8.4505476177239112E-3},{"$f":"(SA!FB6-SA!EP6)/SA!EP6","v":9.4841930116472545E-3},{"$f":"(SA!FC6-SA!EQ6)/SA!EQ6","v":1.0761038384734857E-2},{"$f":"(SA!FD6-SA!ER6)/SA!ER6","v":1.219444598414722E-2},{"$f":"(SA!FE6-SA!ES6)/SA!ES6","v":1.1471957437375304E-2},{"$f":"(SA!FF6-SA!ET6)/SA!ET6","v":1.0121121619379459E-2},{"$f":"(SA!FG6-SA!EU6)/SA!EU6","v":1.2046195502016908E-2},{"$f":"(SA!FH6-SA!EV6)/SA!EV6","v":1.0518200341428493E-2},{"$f":"(SA!FI6-SA!EW6)/SA!EW6","v":7.5932651039947174E-3},{"$f":"(SA!FJ6-SA!EX6)/SA!EX6","v":1.2511712506200739E-2},{"$f":"(SA!FK6-SA!EY6)/SA!EY6","v":1.1824881751182488E-2},{"$f":"(SA!FL6-SA!EZ6)/SA!EZ6","v":1.5013523210244522E-2},{"$f":"(SA!FM6-SA!FA6)/SA!FA6","v":1.7200507194442913E-2},{"$f":"(SA!FN6-SA!FB6)/SA!FB6","v":1.4999175869457723E-2},{"$f":"(SA!FO6-SA!FC6)/SA!FC6","v":1.3445285918120952E-2},{"$f":"(SA!FP6-SA!FD6)/SA!FD6","v":1.330704780680138E-2},{"$f":"(SA!FQ6-SA!FE6)/SA!FE6","v":1.5396416634704948E-2},{"$f":"(SA!FR6-SA!FF6)/SA!FF6","v":1.5604467805519055E-2},{"$f":"(SA!FS6-SA!FG6)/SA!FG6","v":1.4359814359814359E-2},{"$f":"(SA!FT6-SA!FH6)/SA!FH6","v":1.3188010899182562E-2},{"$f":"(SA!FU6-SA!FI6)/SA!FI6","v":1.77479248580166E-2},{"$f":"(SA!FV6-SA!FJ6)/SA!FJ6","v":1.5024496461622211E-2},{"$f":"(SA!FW6-SA!FK6)/SA!FK6","v":1.6035223134206664E-2},{"$f":"(SA!FX6-SA!FL6)/SA!FL6","v":1.4900212083310676E-2},{"$f":"(SA!FY6-SA!FM6)/SA!FM6","v":1.4470760392390656E-2},{"$f":"(SA!FZ6-SA!FN6)/SA!FN6","v":1.3749052722745481E-2},{"$f":"(SA!GA6-SA!FO6)/SA!FO6","v":1.5216331835165429E-2},{"$f":"(SA!GB6-SA!FP6)/SA!FP6","v":1.6807176826632079E-2},{"$f":"(SA!GC6-SA!FQ6)/SA!FQ6","v":1.4461472048348802E-2},{"$f":"(SA!GD6-SA!FR6)/SA!FR6","v":1.6281201142918755E-2},{"$f":"(SA!GE6-SA!FS6)/SA!FS6","v":1.5125417160081818E-2},{"$f":"(SA!GF6-SA!FT6)/SA!FT6","v":1.7050344234079175E-2},{"$f":"(SA!GG6-SA!FU6)/SA!FU6","v":1.4916563824649891E-2},{"$f":"(SA!GH6-SA!FV6)/SA!FV6","v":1.7590904215381314E-2},{"$f":"(SA!GI6-SA!FW6)/SA!FW6","v":1.6477637491975176E-2},{"$f":"(SA!GJ6-SA!FX6)/SA!FX6","v":2.0200396506456626E-2},{"$f":"(SA!GK6-SA!FY6)/SA!FY6","v":1.9339673041991665E-2},{"$f":"(SA!GL6-SA!FZ6)/SA!FZ6","v":1.8902178556172575E-2},{"$f":"(SA!GM6-SA!GA6)/SA!GA6","v":2.0482184766375078E-2},{"$f":"(SA!GN6-SA!GB6)/SA!GB6","v":1.8389582779697052E-2},{"$f":"(SA!GO6-SA!GC6)/SA!GC6","v":1.9840425531914892E-2},{"$f":"(SA!GP6-SA!GD6)/SA!GD6","v":2.1961699644581188E-2},{"$f":"(SA!GQ6-SA!GE6)/SA!GE6","v":2.3702211145871996E-2},{"$f":"(SA!GR6-SA!GF6)/SA!GF6","v":2.0836638637685759E-2},{"$f":"(SA!GS6-SA!GG6)/SA!GG6","v":2.1464446206714248E-2},{"$f":"(SA!GT6-SA!GH6)/SA!GH6","v":1.6654369136713396E-2},{"$f":"(SA!GU6-SA!GI6)/SA!GI6","v":1.4631578947368421E-2},{"$f":"(SA!GV6-SA!GJ6)/SA!GJ6","v":1.6911764705882352E-2},{"$f":"(SA!GW6-SA!GK6)/SA!GK6","v":1.4308176100628931E-2},{"$f":"(SA!GX6-SA!GL6)/SA!GL6","v":1.4254271040771408E-2},{"$f":"(SA!GY6-SA!GM6)/SA!GM6","v":1.0349153251097637E-2},{"$f":"(SA!GZ6-SA!GN6)/SA!GN6","v":8.4546735556599341E-3},{"$f":"(SA!HA6-SA!GO6)/SA!GO6","v":7.2497783341156832E-3},{"$f":"(SA!HB6-SA!GP6)/SA!GP6","v":6.9556189981832342E-3},{"$f":"(SA!HC6-SA!GQ6)/SA!GQ6","v":8.9609447840049723E-3},{"$f":"(SA!HD6-SA!GR6)/SA!GR6","v":1.0050251256281407E-2},{"$f":"(SA!HE6-SA!GS6)/SA!GS6","v":9.3162879768127951E-3},{"$f":"(SA!HF6-SA!GT6)/SA!GT6","v":1.0005184033177811E-2},{"$f":"(SA!HG6-SA!GU6)/SA!GU6","v":1.2397551613237887E-2},{"$f":"(SA!HH6-SA!GV6)/SA!GV6","v":6.5075921908893707E-3},{"$f":"(SA!HI6-SA!GW6)/SA!GW6","v":5.7355448767632926E-3},{"$f":"(SA!HJ6-SA!GX6)/SA!GX6","v":7.4919913196238508E-3},{"$f":"(SA!HK6-SA!GY6)/SA!GY6","v":-1},{"$f":"(SA!HL6-SA!GZ6)/SA!GZ6","v":-1},{"$f":"(SA!HM6-SA!HA6)/SA!HA6","v":-1}," n/a ","n/a",null,"Private Service Providing",-3.4398168338421284E-2,-3.5519125683060098E-4,9.1365203391535251E-3,1.1588895930095867E-2,1.2922665174923013E-2,1.4517490287938448E-2,1.65497695365962E-2,2.3702211145871996E-2,1.3020136727019101E-2]
["Mining and Logging",{"$f":"(SA!BN7-SA!BB7)/SA!BB7","v":2.6315789473684209E-2},{"$f":"(SA!BO7-SA!BC7)/SA!BC7","v":2.6315789473684209E-2},{"$f":"(SA!BP7-SA!BD7)/SA!BD7","v":5.2631578947368418E-2},{"$f":"(SA!BQ7-SA!BE7)/SA!BE7","v":2.6315789473684209E-2},{"$f":"(SA!BR7-SA!BF7)/SA!BF7","v":2.6315789473684209E-2},{"$f":"(SA!BS7-SA!BG7)/SA!BG7","v":5.2631578947368418E-2},{"$f":"(SA!BT7-SA!BH7)/SA!BH7","v":5.2631578947368418E-2},{"$f":"(SA!BU7-SA!BI7)/SA!BI7","v":5.2631578947368418E-2},{"$f":"(SA!BV7-SA!BJ7)/SA!BJ7","v":5.2631578947368418E-2},{"$f":"(SA!BW7-SA!BK7)/SA!BK7","v":0},{"$f":"(SA!BX7-SA!BL7)/SA!BL7","v":0},{"$f":"(SA!BY7-SA!BM7)/SA!BM7","v":-2.5000000000000001E-2},{"$f":"(SA!BZ7-SA!BN7)/SA!BN7","v":2.564102564102564E-2},{"$f":"(SA!CA7-SA!BO7)/SA!BO7","v":2.564102564102564E-2},{"$f":"(SA!CB7-SA!BP7)/SA!BP7","v":0},{"$f":"(SA!CC7-SA!BQ7)/SA!BQ7","v":2.564102564102564E-2},{"$f":"(SA!CD7-SA!BR7)/SA!BR7","v":2.564102564102564E-2},{"$f":"(SA!CE7-SA!BS7)/SA!BS7","v":0},{"$f":"(SA!CF7-SA!BT7)/SA!BT7","v":-2.5000000000000001E-2},{"$f":"(SA!CG7-SA!BU7)/SA!BU7","v":-2.5000000000000001E-2},{"$f":"(SA!CH7-SA!BV7)/SA!BV7","v":-2.5000000000000001E-2},{"$f":"(SA!CI7-SA!BW7)/SA!BW7","v":0},{"$f":"(SA!CJ7-SA!BX7)/SA!BX7","v":-0.05},{"$f":"(SA!CK7-SA!BY7)/SA!BY7","v":-2.564102564102564E-2},{"$f":"(SA!CL7-SA!BZ7)/SA!BZ7","v":-0.05},{"$f":"(SA!CM7-SA!CA7)/SA!CA7","v":-0.05},{"$f":"(SA!CN7-SA!CB7)/SA!CB7","v":-0.05},{"$f":"(SA!CO7-SA!CC7)/SA!CC7","v":-0.05},{"$f":"(SA!CP7-SA!CD7)/SA!CD7","v":-7.4999999999999997E-2},{"$f":"(SA!CQ7-SA!CE7)/SA!CE7","v":-0.1},{"$f":"(SA!CR7-SA!CF7)/SA!CF7","v":-5.128205128205128E-2},{"$f":"(SA!CS7-SA!CG7)/SA!CG7","v":-7.6923076923076927E-2},{"$f":"(SA!CT7-SA!CH7)/SA!CH7","v":-7.6923076923076927E-2},{"$f":"(SA!CU7-SA!CI7)/SA!CI7","v":-7.6923076923076927E-2},{"$f":"(SA!CV7-SA!CJ7)/SA!CJ7","v":-5.2631578947368418E-2},{"$f":"(SA!CW7-SA!CK7)/SA!CK7","v":-0.10526315789473684},{"$f":"(SA!CX7-SA!CL7)/SA!CL7","v":-7.8947368421052627E-2},{"$f":"(SA!CY7-SA!CM7)/SA!CM7","v":-7.8947368421052627E-2},{"$f":"(SA!CZ7-SA!CN7)/SA!CN7","v":-0.10526315789473684},{"$f":"(SA!DA7-SA!CO7)/SA!CO7","v":-0.10526315789473684},{"$f":"(SA!DB7-SA!CP7)/SA!CP7","v":-0.10810810810810811},{"$f":"(SA!DC7-SA!CQ7)/SA!CQ7","v":-5.5555555555555552E-2},{"$f":"(SA!DD7-SA!CR7)/SA!CR7","v":-8.1081081081081086E-2},{"$f":"(SA!DE7-SA!CS7)/SA!CS7","v":-5.5555555555555552E-2},{"$f":"(SA!DF7-SA!CT7)/SA!CT7","v":-5.5555555555555552E-2},{"$f":"(SA!DG7-SA!CU7)/SA!CU7","v":-8.3333333333333329E-2},{"$f":"(SA!DH7-SA!CV7)/SA!CV7","v":-8.3333333333333329E-2},{"$f":"(SA!DI7-SA!CW7)/SA!CW7","v":-5.8823529411764705E-2},{"$f":"(SA!DJ7-SA!CX7)/SA!CX7","v":-8.5714285714285715E-2},{"$f":"(SA!DK7-SA!CY7)/SA!CY7","v":-0.11428571428571428},{"$f":"(SA!DL7-SA!CZ7)/SA!CZ7","v":-0.11764705882352941},{"$f":"(SA!DM7-SA!DA7)/SA!DA7","v":-0.14705882352941177},{"$f":"(SA!DN7-SA!DB7)/SA!DB7","v":-9.0909090909090912E-2},{"$f":"(SA!DO7-SA!DC7)/SA!DC7","v":-0.14705882352941177},{"$f":"(SA!DP7-SA!DD7)/SA!DD7","v":-0.11764705882352941},{"$f":"(SA!DQ7-SA!DE7)/SA!DE7","v":-0.11764705882352941},{"$f":"(SA!DR7-SA!DF7)/SA!DF7","v":-0.11764705882352941},{"$f":"(SA!DS7-SA!DG7)/SA!DG7","v":-9.0909090909090912E-2},{"$f":"(SA!DT7-SA!DH7)/SA!DH7","v":-0.12121212121212122},{"$f":"(SA!DU7-SA!DI7)/SA!DI7","v":-6.25E-2},{"$f":"(SA!DV7-SA!DJ7)/SA!DJ7","v":-9.375E-2},{"$f":"(SA!DW7-SA!DK7)/SA!DK7","v":-6.4516129032258063E-2},{"$f":"(SA!DX7-SA!DL7)/SA!DL7","v":-3.3333333333333333E-2},{"$f":"(SA!DY7-SA!DM7)/SA!DM7","v":3.4482758620689655E-2},{"$f":"(SA!DZ7-SA!DN7)/SA!DN7","v":0},{"$f":"(SA!EA7-SA!DO7)/SA!DO7","v":0},{"$f":"(SA!EB7-SA!DP7)/SA!DP7","v":0},{"$f":"(SA!EC7-SA!DQ7)/SA!DQ7","v":0},{"$f":"(SA!ED7-SA!DR7)/SA!DR7","v":-3.3333333333333333E-2},{"$f":"(SA!EE7-SA!DS7)/SA!DS7","v":0},{"$f":"(SA!EF7-SA!DT7)/SA!DT7","v":0},{"$f":"(SA!EG7-SA!DU7)/SA!DU7","v":-3.3333333333333333E-2},{"$f":"(SA!EH7-SA!DV7)/SA!DV7","v":3.4482758620689655E-2},{"$f":"(SA!EI7-SA!DW7)/SA!DW7","v":3.4482758620689655E-2},{"$f":"(SA!EJ7-SA!DX7)/SA!DX7","v":3.4482758620689655E-2},{"$f":"(SA!EK7-SA!DY7)/SA!DY7","v":-3.3333333333333333E-2},{"$f":"(SA!EL7-SA!DZ7)/SA!DZ7","v":-3.3333333333333333E-2},{"$f":"(SA!EM7-SA!EA7)/SA!EA7","v":6.8965517241379309E-2},{"$f":"(SA!EN7-SA!EB7)/SA!EB7","v":0},{"$f":"(SA!EO7-SA!EC7)/SA!EC7","v":0},{"$f":"(SA!EP7-SA!ED7)/SA!ED7","v":6.8965517241379309E-2},{"$f":"(SA!EQ7-SA!EE7)/SA!EE7","v":6.6666666666666666E-2},{"$f":"(SA!ER7-SA!EF7)/SA!EF7","v":0.13793103448275862},{"$f":"(SA!ES7-SA!EG7)/SA!EG7","v":0.13793103448275862},{"$f":"(SA!ET7-SA!EH7)/SA!EH7","v":0.1},{"$f":"(SA!EU7-SA!EI7)/SA!EI7","v":0.13333333333333333},{"$f":"(SA!EV7-SA!EJ7)/SA!EJ7","v":0.16666666666666666},{"$f":"(SA!EW7-SA!EK7)/SA!EK7","v":0.2413793103448276},{"$f":"(SA!EX7-SA!EL7)/SA!EL7","v":0.20689655172413793},{"$f":"(SA!EY7-SA!EM7)/SA!EM7","v":0.12903225806451613},{"$f":"(SA!EZ7-SA!EN7)/SA!EN7","v":0.16666666666666666},{"$f":"(SA!FA7-SA!EO7)/SA!EO7","v":0.16666666666666666},{"$f":"(SA!FB7-SA!EP7)/SA!EP7","v":0.12903225806451613},{"$f":"(SA!FC7-SA!EQ7)/SA!EQ7","v":9.375E-2},{"$f":"(SA!FD7-SA!ER7)/SA!ER7","v":6.0606060606060608E-2},{"$f":"(SA!FE7-SA!ES7)/SA!ES7","v":9.0909090909090912E-2},{"$f":"(SA!FF7-SA!ET7)/SA!ET7","v":9.0909090909090912E-2},{"$f":"(SA!FG7-SA!EU7)/SA!EU7","v":5.8823529411764705E-2},{"$f":"(SA!FH7-SA!EV7)/SA!EV7","v":0},{"$f":"(SA!FI7-SA!EW7)/SA!EW7","v":0},{"$f":"(SA!FJ7-SA!EX7)/SA!EX7","v":5.7142857142857141E-2},{"$f":"(SA!FK7-SA!EY7)/SA!EY7","v":5.7142857142857141E-2},{"$f":"(SA!FL7-SA!EZ7)/SA!EZ7","v":5.7142857142857141E-2},{"$f":"(SA!FM7-SA!FA7)/SA!FA7","v":8.5714285714285715E-2},{"$f":"(SA!FN7-SA!FB7)/SA!FB7","v":8.5714285714285715E-2},{"$f":"(SA!FO7-SA!FC7)/SA!FC7","v":8.5714285714285715E-2},{"$f":"(SA!FP7-SA!FD7)/SA!FD7","v":8.5714285714285715E-2},{"$f":"(SA!FQ7-SA!FE7)/SA!FE7","v":5.5555555555555552E-2},{"$f":"(SA!FR7-SA!FF7)/SA!FF7","v":5.5555555555555552E-2},{"$f":"(SA!FS7-SA!FG7)/SA!FG7","v":8.3333333333333329E-2},{"$f":"(SA!FT7-SA!FH7)/SA!FH7","v":8.5714285714285715E-2},{"$f":"(SA!FU7-SA!FI7)/SA!FI7","v":0.1111111111111111},{"$f":"(SA!FV7-SA!FJ7)/SA!FJ7","v":8.1081081081081086E-2},{"$f":"(SA!FW7-SA!FK7)/SA!FK7","v":8.1081081081081086E-2},{"$f":"(SA!FX7-SA!FL7)/SA!FL7","v":0.10810810810810811},{"$f":"(SA!FY7-SA!FM7)/SA!FM7","v":0.10526315789473684},{"$f":"(SA!FZ7-SA!FN7)/SA!FN7","v":0.10526315789473684},{"$f":"(SA!GA7-SA!FO7)/SA!FO7","v":0.13157894736842105},{"$f":"(SA!GB7-SA!FP7)/SA!FP7","v":0.13157894736842105},{"$f":"(SA!GC7-SA!FQ7)/SA!FQ7","v":0.15789473684210525},{"$f":"(SA!GD7-SA!FR7)/SA!FR7","v":0.13157894736842105},{"$f":"(SA!GE7-SA!FS7)/SA!FS7","v":0.12820512820512819},{"$f":"(SA!GF7-SA!FT7)/SA!FT7","v":0.13157894736842105},{"$f":"(SA!GG7-SA!FU7)/SA!FU7","v":7.4999999999999997E-2},{"$f":"(SA!GH7-SA!FV7)/SA!FV7","v":7.4999999999999997E-2},{"$f":"(SA!GI7-SA!FW7)/SA!FW7","v":0.05},{"$f":"(SA!GJ7-SA!FX7)/SA!FX7","v":0},{"$f":"(SA!GK7-SA!FY7)/SA!FY7","v":-2.3809523809523808E-2},{"$f":"(SA!GL7-SA!FZ7)/SA!FZ7","v":-4.7619047619047616E-2},{"$f":"(SA!GM7-SA!GA7)/SA!GA7","v":-6.9767441860465115E-2},{"$f":"(SA!GN7-SA!GB7)/SA!GB7","v":-6.9767441860465115E-2},{"$f":"(SA!GO7-SA!GC7)/SA!GC7","v":-9.0909090909090912E-2},{"$f":"(SA!GP7-SA!GD7)/SA!GD7","v":-9.3023255813953487E-2},{"$f":"(SA!GQ7-SA!GE7)/SA!GE7","v":-0.11363636363636363},{"$f":"(SA!GR7-SA!GF7)/SA!GF7","v":-9.3023255813953487E-2},{"$f":"(SA!GS7-SA!GG7)/SA!GG7","v":-0.11627906976744186},{"$f":"(SA!GT7-SA!GH7)/SA!GH7","v":-0.11627906976744186},{"$f":"(SA!GU7-SA!GI7)/SA!GI7","v":-0.11904761904761904},{"$f":"(SA!GV7-SA!GJ7)/SA!GJ7","v":-9.7560975609756101E-2},{"$f":"(SA!GW7-SA!GK7)/SA!GK7","v":-9.7560975609756101E-2},{"$f":"(SA!GX7-SA!GL7)/SA!GL7","v":-0.1},{"$f":"(SA!GY7-SA!GM7)/SA!GM7","v":-7.4999999999999997E-2},{"$f":"(SA!GZ7-SA!GN7)/SA!GN7","v":-0.05},{"$f":"(SA!HA7-SA!GO7)/SA!GO7","v":-7.4999999999999997E-2},{"$f":"(SA!HB7-SA!GP7)/SA!GP7","v":0},{"$f":"(SA!HC7-SA!GQ7)/SA!GQ7","v":2.564102564102564E-2},{"$f":"(SA!HD7-SA!GR7)/SA!GR7","v":0},{"$f":"(SA!HE7-SA!GS7)/SA!GS7","v":2.6315789473684209E-2},{"$f":"(SA!HF7-SA!GT7)/SA!GT7","v":5.2631578947368418E-2},{"$f":"(SA!HG7-SA!GU7)/SA!GU7","v":8.1081081081081086E-2},{"$f":"(SA!HH7-SA!GV7)/SA!GV7","v":8.1081081081081086E-2},{"$f":"(SA!HI7-SA!GW7)/SA!GW7","v":5.4054054054054057E-2},{"$f":"(SA!HJ7-SA!GX7)/SA!GX7","v":8.3333333333333329E-2},{"$f":"(SA!HK7-SA!GY7)/SA!GY7","v":-1},{"$f":"(SA!HL7-SA!GZ7)/SA!GZ7","v":-1},{"$f":"(SA!HM7-SA!HA7)/SA!HA7","v":-1}," n/a ","n/a",null,"Mining and Logging",-0.14705882352941177,-9.3204941860465115E-2,-5.7189542483660129E-2,-2.4702380952380955E-2,0,5.5555555555555552E-2,9.5312499999999994E-2,0.2413793103448276,8.5370356794983365E-2]
["Construction",{"$f":"(SA!BN9-SA!BB9)/SA!BB9","v":8.737092930897538E-3},{"$f":"(SA!BO9-SA!BC9)/SA!BC9","v":1.3524264120922832E-2},{"$f":"(SA!BP9-SA!BD9)/SA!BD9","v":6.3341250989707044E-3},{"$f":"(SA!BQ9-SA!BE9)/SA!BE9","v":8.6819258089976328E-3},{"$f":"(SA!BR9-SA!BF9)/SA!BF9","v":7.1202531645569618E-3},{"$f":"(SA!BS9-SA!BG9)/SA!BG9","v":4.7468354430379748E-3},{"$f":"(SA!BT9-SA!BH9)/SA!BH9","v":4.7169811320754715E-3},{"$f":"(SA!BU9-SA!BI9)/SA!BI9","v":3.1446540880503146E-3},{"$f":"(SA!BV9-SA!BJ9)/SA!BJ9","v":3.9339103068450039E-3},{"$f":"(SA!BW9-SA!BK9)/SA!BK9","v":4.7281323877068557E-3},{"$f":"(SA!BX9-SA!BL9)/SA!BL9","v":4.7132757266300082E-3},{"$f":"(SA!BY9-SA!BM9)/SA!BM9","v":-1.5686274509803921E-3},{"$f":"(SA!BZ9-SA!BN9)/SA!BN9","v":1.7322834645669177E-2},{"$f":"(SA!CA9-SA!BO9)/SA!BO9","v":1.8053375196232225E-2},{"$f":"(SA!CB9-SA!BP9)/SA!BP9","v":1.1014948859166011E-2},{"$f":"(SA!CC9-SA!BQ9)/SA!BQ9","v":1.7996870109546165E-2},{"$f":"(SA!CD9-SA!BR9)/SA!BR9","v":3.927729772191673E-3},{"$f":"(SA!CE9-SA!BS9)/SA!BS9","v":1.1811023622047244E-2},{"$f":"(SA!CF9-SA!BT9)/SA!BT9","v":-4.6948356807511738E-3},{"$f":"(SA!CG9-SA!BU9)/SA!BU9","v":-4.7021943573667714E-3},{"$f":"(SA!CH9-SA!BV9)/SA!BV9","v":-1.018808777429467E-2},{"$f":"(SA!CI9-SA!BW9)/SA!BW9","v":-1.411764705882353E-2},{"$f":"(SA!CJ9-SA!BX9)/SA!BX9","v":-2.5019546520719312E-2},{"$f":"(SA!CK9-SA!BY9)/SA!BY9","v":-8.6410054988216804E-3},{"$f":"(SA!CL9-SA!BZ9)/SA!BZ9","v":-1.4705882352941065E-2},{"$f":"(SA!CM9-SA!CA9)/SA!CA9","v":-3.392444101773312E-2},{"$f":"(SA!CN9-SA!CB9)/SA!CB9","v":-4.6692607003891049E-3},{"$f":"(SA!CO9-SA!CC9)/SA!CC9","v":-2.7671022290545733E-2},{"$f":"(SA!CP9-SA!CD9)/SA!CD9","v":-5.4773082942097028E-3},{"$f":"(SA!CQ9-SA!CE9)/SA!CE9","v":-1.4785992217898832E-2},{"$f":"(SA!CR9-SA!CF9)/SA!CF9","v":-8.6477987421383646E-3},{"$f":"(SA!CS9-SA!CG9)/SA!CG9","v":-8.6614173228346455E-3},{"$f":"(SA!CT9-SA!CH9)/SA!CH9","v":-7.91765637371338E-3},{"$f":"(SA!CU9-SA!CI9)/SA!CI9","v":-2.3866348448687352E-3},{"$f":"(SA!CV9-SA!CJ9)/SA!CJ9","v":2.4057738572574178E-3},{"$f":"(SA!CW9-SA!CK9)/SA!CK9","v":-1.8225039619651346E-2},{"$f":"(SA!CX9-SA!CL9)/SA!CL9","v":-3.6135113904163393E-2},{"$f":"(SA!CY9-SA!CM9)/SA!CM9","v":-2.6336791699920193E-2},{"$f":"(SA!CZ9-SA!CN9)/SA!CN9","v":-5.08209538702111E-2},{"$f":"(SA!DA9-SA!CO9)/SA!CO9","v":-5.533596837944664E-2},{"$f":"(SA!DB9-SA!CP9)/SA!CP9","v":-5.9008654602675056E-2},{"$f":"(SA!DC9-SA!CQ9)/SA!CQ9","v":-5.6082148499210109E-2},{"$f":"(SA!DD9-SA!CR9)/SA!CR9","v":-5.7097541633624106E-2},{"$f":"(SA!DE9-SA!CS9)/SA!CS9","v":-6.1159650516282763E-2},{"$f":"(SA!DF9-SA!CT9)/SA!CT9","v":-6.5442936951316838E-2},{"$f":"(SA!DG9-SA!CU9)/SA!CU9","v":-7.575757575757576E-2},{"$f":"(SA!DH9-SA!CV9)/SA!CV9","v":-9.0399999999999994E-2},{"$f":"(SA!DI9-SA!CW9)/SA!CW9","v":-9.8466505246166264E-2},{"$f":"(SA!DJ9-SA!CX9)/SA!CX9","v":-0.11572942135289324},{"$f":"(SA!DK9-SA!CY9)/SA!CY9","v":-0.11721311475409836},{"$f":"(SA!DL9-SA!CZ9)/SA!CZ9","v":-0.13426688632619441},{"$f":"(SA!DM9-SA!DA9)/SA!DA9","v":-0.1397489539748954},{"$f":"(SA!DN9-SA!DB9)/SA!DB9","v":-0.14130434782608695},{"$f":"(SA!DO9-SA!DC9)/SA!DC9","v":-0.15062761506276151},{"$f":"(SA!DP9-SA!DD9)/SA!DD9","v":-0.15559293523969722},{"$f":"(SA!DQ9-SA!DE9)/SA!DE9","v":-0.16074450084602368},{"$f":"(SA!DR9-SA!DF9)/SA!DF9","v":-0.15542271562766866},{"$f":"(SA!DS9-SA!DG9)/SA!DG9","v":-0.15271786022433131},{"$f":"(SA!DT9-SA!DH9)/SA!DH9","v":-0.14072119613016712},{"$f":"(SA!DU9-SA!DI9)/SA!DI9","v":-0.13249776186213072},{"$f":"(SA!DV9-SA!DJ9)/SA!DJ9","v":-0.11059907834101383},{"$f":"(SA!DW9-SA!DK9)/SA!DK9","v":-0.10956360259981431},{"$f":"(SA!DX9-SA!DL9)/SA!DL9","v":-9.3244529019980968E-2},{"$f":"(SA!DY9-SA!DM9)/SA!DM9","v":-5.7392996108949414E-2},{"$f":"(SA!DZ9-SA!DN9)/SA!DN9","v":-8.2765335929892894E-2},{"$f":"(SA!EA9-SA!DO9)/SA!DO9","v":-7.4876847290640397E-2},{"$f":"(SA!EB9-SA!DP9)/SA!DP9","v":-6.7729083665338641E-2},{"$f":"(SA!EC9-SA!DQ9)/SA!DQ9","v":-5.4435483870967742E-2},{"$f":"(SA!ED9-SA!DR9)/SA!DR9","v":-5.1567239635995958E-2},{"$f":"(SA!EE9-SA!DS9)/SA!DS9","v":-3.5641547861507125E-2},{"$f":"(SA!EF9-SA!DT9)/SA!DT9","v":-4.1965199590583417E-2},{"$f":"(SA!EG9-SA!DU9)/SA!DU9","v":-3.9215686274509803E-2},{"$f":"(SA!EH9-SA!DV9)/SA!DV9","v":-3.6269430051813469E-2},{"$f":"(SA!EI9-SA!DW9)/SA!DW9","v":-3.4410844629822732E-2},{"$f":"(SA!EJ9-SA!DX9)/SA!DX9","v":-2.9380902413431269E-2},{"$f":"(SA!EK9-SA!DY9)/SA!DY9","v":-4.6439628482972138E-2},{"$f":"(SA!EL9-SA!DZ9)/SA!DZ9","v":-1.6985138004246284E-2},{"$f":"(SA!EM9-SA!EA9)/SA!EA9","v":-1.4909478168264111E-2},{"$f":"(SA!EN9-SA!EB9)/SA!EB9","v":-5.341880341880342E-3},{"$f":"(SA!EO9-SA!EC9)/SA!EC9","v":-7.462686567164179E-3},{"$f":"(SA!EP9-SA!ED9)/SA!ED9","v":-7.462686567164179E-3},{"$f":"(SA!EQ9-SA!EE9)/SA!EE9","v":-2.1119324181626188E-2},{"$f":"(SA!ER9-SA!EF9)/SA!EF9","v":-6.41025641025641E-3},{"$f":"(SA!ES9-SA!EG9)/SA!EG9","v":-1.0741138560687433E-3},{"$f":"(SA!ET9-SA!EH9)/SA!EH9","v":1.0752688172043011E-3},{"$f":"(SA!EU9-SA!EI9)/SA!EI9","v":1.079913606911447E-2},{"$f":"(SA!EV9-SA!EJ9)/SA!EJ9","v":2.0540540540540539E-2},{"$f":"(SA!EW9-SA!EK9)/SA!EK9","v":4.4372294372294376E-2},{"$f":"(SA!EX9-SA!EL9)/SA!EL9","v":1.0799136069114472E-3},{"$f":"(SA!EY9-SA!EM9)/SA!EM9","v":0},{"$f":"(SA!EZ9-SA!EN9)/SA!EN9","v":-1.0741138560687433E-2},{"$f":"(SA!FA9-SA!EO9)/SA!EO9","v":-1.288936627282492E-2},{"$f":"(SA!FB9-SA!EP9)/SA!EP9","v":-4.296455424274973E-3},{"$f":"(SA!FC9-SA!EQ9)/SA!EQ9","v":1.2944983818770227E-2},{"$f":"(SA!FD9-SA!ER9)/SA!ER9","v":9.6774193548387101E-3},{"$f":"(SA!FE9-SA!ES9)/SA!ES9","v":3.2258064516129031E-2},{"$f":"(SA!FF9-SA!ET9)/SA!ET9","v":3.9742212674543503E-2},{"$f":"(SA!FG9-SA!EU9)/SA!EU9","v":4.9145299145299144E-2},{"$f":"(SA!FH9-SA!EV9)/SA!EV9","v":3.6016949152542374E-2},{"$f":"(SA!FI9-SA!EW9)/SA!EW9","v":-1.3471502590673576E-2},{"$f":"(SA!FJ9-SA!EX9)/SA!EX9","v":6.0409924487594392E-2},{"$f":"(SA!FK9-SA!EY9)/SA!EY9","v":6.3783783783783785E-2},{"$f":"(SA!FL9-SA!EZ9)/SA!EZ9","v":7.38327904451683E-2},{"$f":"(SA!FM9-SA!FA9)/SA!FA9","v":8.5963003264417845E-2},{"$f":"(SA!FN9-SA!FB9)/SA!FB9","v":7.8748651564185548E-2},{"$f":"(SA!FO9-SA!FC9)/SA!FC9","v":6.7092651757188496E-2},{"$f":"(SA!FP9-SA!FD9)/SA!FD9","v":6.9222577209797659E-2},{"$f":"(SA!FQ9-SA!FE9)/SA!FE9","v":3.3333333333333333E-2},{"$f":"(SA!FR9-SA!FF9)/SA!FF9","v":3.71900826446281E-2},{"$f":"(SA!FS9-SA!FG9)/SA!FG9","v":2.7494908350305498E-2},{"$f":"(SA!FT9-SA!FH9)/SA!FH9","v":3.8854805725971372E-2},{"$f":"(SA!FU9-SA!FI9)/SA!FI9","v":6.7226890756302518E-2},{"$f":"(SA!FV9-SA!FJ9)/SA!FJ9","v":4.0691759918616482E-2},{"$f":"(SA!FW9-SA!FK9)/SA!FK9","v":5.386178861788618E-2},{"$f":"(SA!FX9-SA!FL9)/SA!FL9","v":5.2578361981799798E-2},{"$f":"(SA!FY9-SA!FM9)/SA!FM9","v":5.0100200400801605E-2},{"$f":"(SA!FZ9-SA!FN9)/SA!FN9","v":5.7000000000000002E-2},{"$f":"(SA!GA9-SA!FO9)/SA!FO9","v":5.6886227544910177E-2},{"$f":"(SA!GB9-SA!FP9)/SA!FP9","v":5.8764940239043828E-2},{"$f":"(SA!GC9-SA!FQ9)/SA!FQ9","v":7.1572580645161296E-2},{"$f":"(SA!GD9-SA!FR9)/SA!FR9","v":7.1713147410358571E-2},{"$f":"(SA!GE9-SA!FS9)/SA!FS9","v":6.6402378592666012E-2},{"$f":"(SA!GF9-SA!FT9)/SA!FT9","v":6.2992125984251968E-2},{"$f":"(SA!GG9-SA!FU9)/SA!FU9","v":7.2834645669291334E-2},{"$f":"(SA!GH9-SA!FV9)/SA!FV9","v":7.2336265884652987E-2},{"$f":"(SA!GI9-SA!FW9)/SA!FW9","v":5.8823529411764705E-2},{"$f":"(SA!GJ9-SA!FX9)/SA!FX9","v":5.5715658021133527E-2},{"$f":"(SA!GK9-SA!FY9)/SA!FY9","v":4.6755725190839696E-2},{"$f":"(SA!GL9-SA!FZ9)/SA!FZ9","v":3.5950804162724691E-2},{"$f":"(SA!GM9-SA!GA9)/SA!GA9","v":3.6827195467422094E-2},{"$f":"(SA!GN9-SA!GB9)/SA!GB9","v":3.8570084666039513E-2},{"$f":"(SA!GO9-SA!GC9)/SA!GC9","v":4.7036688617121354E-2},{"$f":"(SA!GP9-SA!GD9)/SA!GD9","v":3.62453531598513E-2},{"$f":"(SA!GQ9-SA!GE9)/SA!GE9","v":4.2750929368029739E-2},{"$f":"(SA!GR9-SA!GF9)/SA!GF9","v":0.05},{"$f":"(SA!GS9-SA!GG9)/SA!GG9","v":3.1192660550458717E-2},{"$f":"(SA!GT9-SA!GH9)/SA!GH9","v":1.7319963536918871E-2},{"$f":"(SA!GU9-SA!GI9)/SA!GI9","v":1.3661202185792349E-2},{"$f":"(SA!GV9-SA!GJ9)/SA!GJ9","v":1.5468607825295723E-2},{"$f":"(SA!GW9-SA!GK9)/SA!GK9","v":2.0054694621695533E-2},{"$f":"(SA!GX9-SA!GL9)/SA!GL9","v":2.3744292237442923E-2},{"$f":"(SA!GY9-SA!GM9)/SA!GM9","v":8.1967213114754103E-3},{"$f":"(SA!GZ9-SA!GN9)/SA!GN9","v":5.434782608695652E-3},{"$f":"(SA!HA9-SA!GO9)/SA!GO9","v":1.3477088948787063E-2},{"$f":"(SA!HB9-SA!GP9)/SA!GP9","v":2.780269058295964E-2},{"$f":"(SA!HC9-SA!GQ9)/SA!GQ9","v":1.4260249554367201E-2},{"$f":"(SA!HD9-SA!GR9)/SA!GR9","v":6.1728395061728392E-3},{"$f":"(SA!HE9-SA!GS9)/SA!GS9","v":2.7580071174377226E-2},{"$f":"(SA!HF9-SA!GT9)/SA!GT9","v":2.6881720430107527E-2},{"$f":"(SA!HG9-SA!GU9)/SA!GU9","v":8.0862533692722376E-3},{"$f":"(SA!HH9-SA!GV9)/SA!GV9","v":9.8566308243727592E-3},{"$f":"(SA!HI9-SA!GW9)/SA!GW9","v":3.5746201966041107E-3},{"$f":"(SA!HJ9-SA!GX9)/SA!GX9","v":1.2488849241748439E-2},{"$f":"(SA!HK9-SA!GY9)/SA!GY9","v":-1},{"$f":"(SA!HL9-SA!GZ9)/SA!GZ9","v":-1},{"$f":"(SA!HM9-SA!HA9)/SA!HA9","v":-1}," n/a ","n/a",null,"Construction",-0.16074450084602368,-6.6014473629822296E-2,-2.306943535117275E-2,-4.6884419356606564E-3,4.7253445737990094E-3,2.0297617581118036E-2,5.0719740796051155E-2,8.5963003264417845E-2,5.7991263914302156E-2]
["Manufacturing",{"$f":"(SA!BN10-SA!BB10)/SA!BB10","v":5.0130338881090837E-3},{"$f":"(SA!BO10-SA!BC10)/SA!BC10","v":1.1404561824729893E-2},{"$f":"(SA!BP10-SA!BD10)/SA!BD10","v":1.0391686650679457E-2},{"$f":"(SA!BQ10-SA!BE10)/SA!BE10","v":7.9760717846460612E-3},{"$f":"(SA!BR10-SA!BF10)/SA!BF10","v":4.1741204531902205E-3},{"$f":"(SA!BS10-SA!BG10)/SA!BG10","v":7.5818036711891457E-3},{"$f":"(SA!BT10-SA!BH10)/SA!BH10","v":4.7656870532168391E-3},{"$f":"(SA!BU10-SA!BI10)/SA!BI10","v":1.5841584158415843E-3},{"$f":"(SA!BV10-SA!BJ10)/SA!BJ10","v":1.9809825673534074E-4},{"$f":"(SA!BW10-SA!BK10)/SA!BK10","v":0},{"$f":"(SA!BX10-SA!BL10)/SA!BL10","v":-7.9239302694136295E-4},{"$f":"(SA!BY10-SA!BM10)/SA!BM10","v":-1.9786307874950534E-3},{"$f":"(SA!BZ10-SA!BN10)/SA!BN10","v":8.3798882681564244E-3},{"$f":"(SA!CA10-SA!BO10)/SA!BO10","v":-3.956478733926805E-4},{"$f":"(SA!CB10-SA!BP10)/SA!BP10","v":1.384493670886076E-3},{"$f":"(SA!CC10-SA!BQ10)/SA!BQ10","v":2.373887240356083E-3},{"$f":"(SA!CD10-SA!BR10)/SA!BR10","v":2.7711797307996833E-3},{"$f":"(SA!CE10-SA!BS10)/SA!BS10","v":5.1485148514851488E-3},{"$f":"(SA!CF10-SA!BT10)/SA!BT10","v":2.7667984189723321E-3},{"$f":"(SA!CG10-SA!BU10)/SA!BU10","v":1.9770660340055358E-3},{"$f":"(SA!CH10-SA!BV10)/SA!BV10","v":1.9805902158843334E-3},{"$f":"(SA!CI10-SA!BW10)/SA!BW10","v":1.9813750743015652E-4},{"$f":"(SA!CJ10-SA!BX10)/SA!BX10","v":-1.7842981760507533E-3},{"$f":"(SA!CK10-SA!BY10)/SA!BY10","v":-2.5773195876288659E-3},{"$f":"(SA!CL10-SA!BZ10)/SA!BZ10","v":-5.5401662049861496E-3},{"$f":"(SA!CM10-SA!CA10)/SA!CA10","v":-4.9475559073817532E-3},{"$f":"(SA!CN10-SA!CB10)/SA!CB10","v":-8.6904997037329651E-3},{"$f":"(SA!CO10-SA!CC10)/SA!CC10","v":-8.683639234260904E-3},{"$f":"(SA!CP10-SA!CD10)/SA!CD10","v":-7.1061981839715752E-3},{"$f":"(SA!CQ10-SA!CE10)/SA!CE10","v":-8.2742316784869974E-3},{"$f":"(SA!CR10-SA!CF10)/SA!CF10","v":-9.0658257784785173E-3},{"$f":"(SA!CS10-SA!CG10)/SA!CG10","v":-1.0852407261247041E-2},{"$f":"(SA!CT10-SA!CH10)/SA!CH10","v":-1.3046056532911642E-2},{"$f":"(SA!CU10-SA!CI10)/SA!CI10","v":-1.2678288431061807E-2},{"$f":"(SA!CV10-SA!CJ10)/SA!CJ10","v":-9.9304865938430985E-3},{"$f":"(SA!CW10-SA!CK10)/SA!CK10","v":-8.9445438282647581E-3},{"$f":"(SA!CX10-SA!CL10)/SA!CL10","v":-5.9689614007162753E-3},{"$f":"(SA!CY10-SA!CM10)/SA!CM10","v":-4.9721559268098648E-3},{"$f":"(SA!CZ10-SA!CN10)/SA!CN10","v":-3.7856146642757521E-3},{"$f":"(SA!DA10-SA!CO10)/SA!CO10","v":-6.9679474417678675E-3},{"$f":"(SA!DB10-SA!CP10)/SA!CP10","v":-9.9403578528827041E-3},{"$f":"(SA!DC10-SA!CQ10)/SA!CQ10","v":-1.1521652761223678E-2},{"$f":"(SA!DD10-SA!CR10)/SA!CR10","v":-1.8695306284805091E-2},{"$f":"(SA!DE10-SA!CS10)/SA!CS10","v":-2.0546578894873331E-2},{"$f":"(SA!DF10-SA!CT10)/SA!CT10","v":-2.2631684358101343E-2},{"$f":"(SA!DG10-SA!CU10)/SA!CU10","v":-2.4077046548956663E-2},{"$f":"(SA!DH10-SA!CV10)/SA!CV10","v":-3.1093279839518557E-2},{"$f":"(SA!DI10-SA!CW10)/SA!CW10","v":-4.0914560770156441E-2},{"$f":"(SA!DJ10-SA!CX10)/SA!CX10","v":-6.0248198558847076E-2},{"$f":"(SA!DK10-SA!CY10)/SA!CY10","v":-8.1750949430341793E-2},{"$f":"(SA!DL10-SA!CZ10)/SA!CZ10","v":-9.8400000000000001E-2},{"$f":"(SA!DM10-SA!DA10)/SA!DA10","v":-0.11647955092221331},{"$f":"(SA!DN10-SA!DB10)/SA!DB10","v":-0.12630522088353413},{"$f":"(SA!DO10-SA!DC10)/SA!DC10","v":-0.13665594855305466},{"$f":"(SA!DP10-SA!DD10)/SA!DD10","v":-0.13862991487636805},{"$f":"(SA!DQ10-SA!DE10)/SA!DE10","v":-0.1360488798370672},{"$f":"(SA!DR10-SA!DF10)/SA!DF10","v":-0.12315573770491803},{"$f":"(SA!DS10-SA!DG10)/SA!DG10","v":-0.12458881578947369},{"$f":"(SA!DT10-SA!DH10)/SA!DH10","v":-0.11987577639751552},{"$f":"(SA!DU10-SA!DI10)/SA!DI10","v":-0.11208699289000418},{"$f":"(SA!DV10-SA!DJ10)/SA!DJ10","v":-9.7763578274760385E-2},{"$f":"(SA!DW10-SA!DK10)/SA!DK10","v":-7.575097953852851E-2},{"$f":"(SA!DX10-SA!DL10)/SA!DL10","v":-5.3904170363797695E-2},{"$f":"(SA!DY10-SA!DM10)/SA!DM10","v":-2.9498525073746312E-2},{"$f":"(SA!DZ10-SA!DN10)/SA!DN10","v":-1.2640772236267524E-2},{"$f":"(SA!EA10-SA!DO10)/SA!DO10","v":2.5605214152700185E-3},{"$f":"(SA!EB10-SA!DP10)/SA!DP10","v":1.7647058823529412E-2},{"$f":"(SA!EC10-SA!DQ10)/SA!DQ10","v":2.1687883074021686E-2},{"$f":"(SA!ED10-SA!DR10)/SA!DR10","v":1.4255667211965412E-2},{"$f":"(SA!EE10-SA!DS10)/SA!DS10","v":1.8788163457022077E-2},{"$f":"(SA!EF10-SA!DT10)/SA!DT10","v":2.3288637967537051E-2},{"$f":"(SA!EG10-SA!DU10)/SA!DU10","v":2.7319830428638718E-2},{"$f":"(SA!EH10-SA!DV10)/SA!DV10","v":3.2341831916902736E-2},{"$f":"(SA!EI10-SA!DW10)/SA!DW10","v":3.4856335374470089E-2},{"$f":"(SA!EJ10-SA!DX10)/SA!DX10","v":3.3528722157092614E-2},{"$f":"(SA!EK10-SA!DY10)/SA!DY10","v":3.8110825344867899E-2},{"$f":"(SA!EL10-SA!DZ10)/SA!DZ10","v":3.5847299813780258E-2},{"$f":"(SA!EM10-SA!EA10)/SA!EA10","v":3.2969584397492452E-2},{"$f":"(SA!EN10-SA!EB10)/SA!EB10","v":3.3294797687861269E-2},{"$f":"(SA!EO10-SA!EC10)/SA!EC10","v":3.3225657591139823E-2},{"$f":"(SA!EP10-SA!ED10)/SA!ED10","v":3.2027649769585255E-2},{"$f":"(SA!EQ10-SA!EE10)/SA!EE10","v":3.1350852927616413E-2},{"$f":"(SA!ER10-SA!EF10)/SA!EF10","v":3.1264367816091952E-2},{"$f":"(SA!ES10-SA!EG10)/SA!EG10","v":3.1407611187528654E-2},{"$f":"(SA!ET10-SA!EH10)/SA!EH10","v":3.2014635261833985E-2},{"$f":"(SA!EU10-SA!EI10)/SA!EI10","v":2.9585798816568046E-2},{"$f":"(SA!EV10-SA!EJ10)/SA!EJ10","v":2.926497277676951E-2},{"$f":"(SA!EW10-SA!EK10)/SA!EK10","v":2.4099099099099099E-2},{"$f":"(SA!EX10-SA!EL10)/SA!EL10","v":2.2921348314606741E-2},{"$f":"(SA!EY10-SA!EM10)/SA!EM10","v":2.6972353337828724E-2},{"$f":"(SA!EZ10-SA!EN10)/SA!EN10","v":2.282389796375028E-2},{"$f":"(SA!FA10-SA!EO10)/SA!EO10","v":2.0321572130415366E-2},{"$f":"(SA!FB10-SA!EP10)/SA!EP10","v":2.0540299173922749E-2},{"$f":"(SA!FC10-SA!EQ10)/SA!EQ10","v":2.2574877067501116E-2},{"$f":"(SA!FD10-SA!ER10)/SA!ER10","v":1.8947837717342843E-2},{"$f":"(SA!FE10-SA!ES10)/SA!ES10","v":1.6892642809513227E-2},{"$f":"(SA!FF10-SA!ET10)/SA!ET10","v":1.3294925769997783E-2},{"$f":"(SA!FG10-SA!EU10)/SA!EU10","v":1.1494252873563218E-2},{"$f":"(SA!FH10-SA!EV10)/SA!EV10","v":8.5959885386819486E-3},{"$f":"(SA!FI10-SA!EW10)/SA!EW10","v":3.7387288321970532E-3},{"$f":"(SA!FJ10-SA!EX10)/SA!EX10","v":3.5149384885764497E-3},{"$f":"(SA!FK10-SA!EY10)/SA!EY10","v":6.5659881812212733E-4},{"$f":"(SA!FL10-SA!EZ10)/SA!EZ10","v":-2.6252461168234523E-3},{"$f":"(SA!FM10-SA!FA10)/SA!FA10","v":-8.7546509082950317E-4},{"$f":"(SA!FN10-SA!FB10)/SA!FB10","v":2.1877050973528769E-4},{"$f":"(SA!FO10-SA!FC10)/SA!FC10","v":1.9672131147540984E-3},{"$f":"(SA!FP10-SA!FD10)/SA!FD10","v":4.5941807044410417E-3},{"$f":"(SA!FQ10-SA!FE10)/SA!FE10","v":4.1530054644808743E-3},{"$f":"(SA!FR10-SA!FF10)/SA!FF10","v":6.9975945768642033E-3},{"$f":"(SA!FS10-SA!FG10)/SA!FG10","v":7.6486013986013989E-3},{"$f":"(SA!FT10-SA!FH10)/SA!FH10","v":8.304195804195804E-3},{"$f":"(SA!FU10-SA!FI10)/SA!FI10","v":1.4460999123575811E-2},{"$f":"(SA!FV10-SA!FJ10)/SA!FJ10","v":1.6637478108581436E-2},{"$f":"(SA!FW10-SA!FK10)/SA!FK10","v":1.552930883639545E-2},{"$f":"(SA!FX10-SA!FL10)/SA!FL10","v":2.1715288440447466E-2},{"$f":"(SA!FY10-SA!FM10)/SA!FM10","v":2.1248630887185104E-2},{"$f":"(SA!FZ10-SA!FN10)/SA!FN10","v":2.0341207349081365E-2},{"$f":"(SA!GA10-SA!FO10)/SA!FO10","v":1.832460732984293E-2},{"$f":"(SA!GB10-SA!FP10)/SA!FP10","v":1.7639372822299652E-2},{"$f":"(SA!GC10-SA!FQ10)/SA!FQ10","v":1.8937744884632127E-2},{"$f":"(SA!GD10-SA!FR10)/SA!FR10","v":1.6286644951140065E-2},{"$f":"(SA!GE10-SA!FS10)/SA!FS10","v":1.7132942962481024E-2},{"$f":"(SA!GF10-SA!FT10)/SA!FT10","v":1.5387949718248807E-2},{"$f":"(SA!GG10-SA!FU10)/SA!FU10","v":1.0367170626349892E-2},{"$f":"(SA!GH10-SA!FV10)/SA!FV10","v":6.4599483204134363E-3},{"$f":"(SA!GI10-SA!FW10)/SA!FW10","v":6.4613396510876586E-3},{"$f":"(SA!GJ10-SA!FX10)/SA!FX10","v":3.0055817947617003E-3},{"$f":"(SA!GK10-SA!FY10)/SA!FY10","v":1.0725010725010724E-3},{"$f":"(SA!GL10-SA!FZ10)/SA!FZ10","v":4.2872454448017146E-4},{"$f":"(SA!GM10-SA!GA10)/SA!GA10","v":-1.0711225364181663E-3},{"$f":"(SA!GN10-SA!GB10)/SA!GB10","v":-2.1399529210357373E-3},{"$f":"(SA!GO10-SA!GC10)/SA!GC10","v":-3.8453321939756462E-3},{"$f":"(SA!GP10-SA!GD10)/SA!GD10","v":-3.4188034188034188E-3},{"$f":"(SA!GQ10-SA!GE10)/SA!GE10","v":-6.609808102345416E-3},{"$f":"(SA!GR10-SA!GF10)/SA!GF10","v":-6.1899679829242266E-3},{"$f":"(SA!GS10-SA!GG10)/SA!GG10","v":-4.9166310389055154E-3},{"$f":"(SA!GT10-SA!GH10)/SA!GH10","v":-5.5626872058194268E-3},{"$f":"(SA!GU10-SA!GI10)/SA!GI10","v":-6.8478493473143592E-3},{"$f":"(SA!GV10-SA!GJ10)/SA!GJ10","v":-7.0633561643835613E-3},{"$f":"(SA!GW10-SA!GK10)/SA!GK10","v":-6.6423826869509324E-3},{"$f":"(SA!GX10-SA!GL10)/SA!GL10","v":-7.2851939147203773E-3},{"$f":"(SA!GY10-SA!GM10)/SA!GM10","v":1.7156337122024449E-3},{"$f":"(SA!GZ10-SA!GN10)/SA!GN10","v":-2.1445421402530561E-4},{"$f":"(SA!HA10-SA!GO10)/SA!GO10","v":4.5035384945314172E-3},{"$f":"(SA!HB10-SA!GP10)/SA!GP10","v":3.6449399656946829E-3},{"$f":"(SA!HC10-SA!GQ10)/SA!GQ10","v":6.8684267010088E-3},{"$f":"(SA!HD10-SA!GR10)/SA!GR10","v":4.9398625429553263E-3},{"$f":"(SA!HE10-SA!GS10)/SA!GS10","v":1.4178302900107411E-2},{"$f":"(SA!HF10-SA!GT10)/SA!GT10","v":1.5705679862306369E-2},{"$f":"(SA!HG10-SA!GU10)/SA!GU10","v":1.7884076707606118E-2},{"$f":"(SA!HH10-SA!GV10)/SA!GV10","v":2.2418624703599913E-2},{"$f":"(SA!HI10-SA!GW10)/SA!GW10","v":2.3943054357204487E-2},{"$f":"(SA!HJ10-SA!GX10)/SA!GX10","v":2.7196201165551478E-2},{"$f":"(SA!HK10-SA!GY10)/SA!GY10","v":-1},{"$f":"(SA!HL10-SA!GZ10)/SA!GZ10","v":-1},{"$f":"(SA!HM10-SA!HA10)/SA!HA10","v":-1}," n/a ","n/a",null,"Manufacturing",-0.13862991487636805,-1.9158124437322149E-2,-5.7658243032678511E-3,2.7125901842150861E-4,3.3875993151227623E-3,1.2394589321780501E-2,2.2637132291563406E-2,3.8110825344867899E-2,3.8450768619282254E-2]
["  Durable Goods",{"$f":"(SA!BN11-SA!BB11)/SA!BB11","v":1.495448634590377E-2},{"$f":"(SA!BO11-SA!BC11)/SA!BC11","v":2.6239067055393587E-2},{"$f":"(SA!BP11-SA!BD11)/SA!BD11","v":2.5218234723569349E-2},{"$f":"(SA!BQ11-SA!BE11)/SA!BE11","v":2.4516129032258065E-2},{"$f":"(SA!BR11-SA!BF11)/SA!BF11","v":1.8292682926829267E-2},{"$f":"(SA!BS11-SA!BG11)/SA!BG11","v":2.2222222222222223E-2},{"$f":"(SA!BT11-SA!BH11)/SA!BH11","v":1.4691791759821143E-2},{"$f":"(SA!BU11-SA!BI11)/SA!BI11","v":1.112523839796567E-2},{"$f":"(SA!BV11-SA!BJ11)/SA!BJ11","v":9.538950715421303E-3},{"$f":"(SA!BW11-SA!BK11)/SA!BK11","v":9.8569157392686801E-3},{"$f":"(SA!BX11-SA!BL11)/SA!BL11","v":6.3451776649746192E-3},{"$f":"(SA!BY11-SA!BM11)/SA!BM11","v":3.7974683544303796E-3},{"$f":"(SA!BZ11-SA!BN11)/SA!BN11","v":1.9859064702114029E-2},{"$f":"(SA!CA11-SA!BO11)/SA!BO11","v":5.366161616161616E-3},{"$f":"(SA!CB11-SA!BP11)/SA!BP11","v":8.1993062125512457E-3},{"$f":"(SA!CC11-SA!BQ11)/SA!BQ11","v":7.2418136020151137E-3},{"$f":"(SA!CD11-SA!BR11)/SA!BR11","v":9.4547746612039085E-3},{"$f":"(SA!CE11-SA!BS11)/SA!BS11","v":1.2287334593572778E-2},{"$f":"(SA!CF11-SA!BT11)/SA!BT11","v":1.0701920050361977E-2},{"$f":"(SA!CG11-SA!BU11)/SA!BU11","v":9.1166299905690029E-3},{"$f":"(SA!CH11-SA!BV11)/SA!BV11","v":8.8188976377952758E-3},{"$f":"(SA!CI11-SA!BW11)/SA!BW11","v":5.3526448362720405E-3},{"$f":"(SA!CJ11-SA!BX11)/SA!BX11","v":3.1525851197982345E-3},{"$f":"(SA!CK11-SA!BY11)/SA!BY11","v":2.2068095838587644E-3},{"$f":"(SA!CL11-SA!BZ11)/SA!BZ11","v":-4.0829145728643219E-3},{"$f":"(SA!CM11-SA!CA11)/SA!CA11","v":-4.0816326530612249E-3},{"$f":"(SA!CN11-SA!CB11)/SA!CB11","v":-1.0634970284641852E-2},{"$f":"(SA!CO11-SA!CC11)/SA!CC11","v":-8.1275398562050648E-3},{"$f":"(SA!CP11-SA!CD11)/SA!CD11","v":-8.7418045582266617E-3},{"$f":"(SA!CQ11-SA!CE11)/SA!CE11","v":-1.3383131030189854E-2},{"$f":"(SA!CR11-SA!CF11)/SA!CF11","v":-1.3702896293989412E-2},{"$f":"(SA!CS11-SA!CG11)/SA!CG11","v":-1.6510903426791276E-2},{"$f":"(SA!CT11-SA!CH11)/SA!CH11","v":-1.966906025600999E-2},{"$f":"(SA!CU11-SA!CI11)/SA!CI11","v":-1.8791105543376135E-2},{"$f":"(SA!CV11-SA!CJ11)/SA!CJ11","v":-1.6027655562539284E-2},{"$f":"(SA!CW11-SA!CK11)/SA!CK11","v":-1.5413652091852784E-2},{"$f":"(SA!CX11-SA!CL11)/SA!CL11","v":-1.0091453800063072E-2},{"$f":"(SA!CY11-SA!CM11)/SA!CM11","v":-8.8272383354350576E-3},{"$f":"(SA!CZ11-SA!CN11)/SA!CN11","v":-6.3231109705975336E-3},{"$f":"(SA!DA11-SA!CO11)/SA!CO11","v":-1.2606366214938543E-2},{"$f":"(SA!DB11-SA!CP11)/SA!CP11","v":-1.4488188976377953E-2},{"$f":"(SA!DC11-SA!CQ11)/SA!CQ11","v":-1.4826498422712935E-2},{"$f":"(SA!DD11-SA!CR11)/SA!CR11","v":-2.0524155352068203E-2},{"$f":"(SA!DE11-SA!CS11)/SA!CS11","v":-2.4707000316756416E-2},{"$f":"(SA!DF11-SA!CT11)/SA!CT11","v":-2.6751592356687899E-2},{"$f":"(SA!DG11-SA!CU11)/SA!CU11","v":-3.032237472071497E-2},{"$f":"(SA!DH11-SA!CV11)/SA!CV11","v":-3.7048866176940275E-2},{"$f":"(SA!DI11-SA!CW11)/SA!CW11","v":-4.8881789137380192E-2},{"$f":"(SA!DJ11-SA!CX11)/SA!CX11","v":-7.4227460974832751E-2},{"$f":"(SA!DK11-SA!CY11)/SA!CY11","v":-0.10241730279898219},{"$f":"(SA!DL11-SA!CZ11)/SA!CZ11","v":-0.12535793827553293},{"$f":"(SA!DM11-SA!DA11)/SA!DA11","v":-0.14969677625279285},{"$f":"(SA!DN11-SA!DB11)/SA!DB11","v":-0.16299137104506242},{"$f":"(SA!DO11-SA!DC11)/SA!DC11","v":-0.17579250720461104},{"$f":"(SA!DP11-SA!DD11)/SA!DD11","v":-0.17891682785299806},{"$f":"(SA!DQ11-SA!DE11)/SA!DE11","v":-0.17765508281909712},{"$f":"(SA!DR11-SA!DF11)/SA!DF11","v":-0.16295811518324607},{"$f":"(SA!DS11-SA!DG11)/SA!DG11","v":-0.16030283080974325},{"$f":"(SA!DT11-SA!DH11)/SA!DH11","v":-0.15688225538971809},{"$f":"(SA!DU11-SA!DI11)/SA!DI11","v":-0.1477997984548203},{"$f":"(SA!DV11-SA!DJ11)/SA!DJ11","v":-0.13007570543702685},{"$f":"(SA!DW11-SA!DK11)/SA!DK11","v":-0.10099220411055988},{"$f":"(SA!DX11-SA!DL11)/SA!DL11","v":-7.1298654056020372E-2},{"$f":"(SA!DY11-SA!DM11)/SA!DM11","v":-3.7912912912912912E-2},{"$f":"(SA!DZ11-SA!DN11)/SA!DN11","v":-1.6418480336005889E-2},{"$f":"(SA!EA11-SA!DO11)/SA!DO11","v":2.7195027195029459E-3},{"$f":"(SA!EB11-SA!DP11)/SA!DP11","v":1.6489988221436869E-2},{"$f":"(SA!EC11-SA!DQ11)/SA!DQ11","v":2.8041074249605055E-2},{"$f":"(SA!ED11-SA!DR11)/SA!DR11","v":2.0328381548084442E-2},{"$f":"(SA!EE11-SA!DS11)/SA!DS11","v":2.2736181889455E-2},{"$f":"(SA!EF11-SA!DT11)/SA!DT11","v":2.9504327301337528E-2},{"$f":"(SA!EG11-SA!DU11)/SA!DU11","v":3.705163579030351E-2},{"$f":"(SA!EH11-SA!DV11)/SA!DV11","v":4.3908227848101264E-2},{"$f":"(SA!EI11-SA!DW11)/SA!DW11","v":4.8088293259755617E-2},{"$f":"(SA!EJ11-SA!DX11)/SA!DX11","v":4.5828437132784956E-2},{"$f":"(SA!EK11-SA!DY11)/SA!DY11","v":5.0331642606320719E-2},{"$f":"(SA!EL11-SA!DZ11)/SA!DZ11","v":4.7748447204968826E-2},{"$f":"(SA!EM11-SA!EA11)/SA!EA11","v":4.8043394033320301E-2},{"$f":"(SA!EN11-SA!EB11)/SA!EB11","v":5.0598686751641676E-2},{"$f":"(SA!EO11-SA!EC11)/SA!EC11","v":4.6100653092585479E-2},{"$f":"(SA!EP11-SA!ED11)/SA!ED11","v":4.3295019157088124E-2},{"$f":"(SA!EQ11-SA!EE11)/SA!EE11","v":4.254503641241867E-2},{"$f":"(SA!ER11-SA!EF11)/SA!EF11","v":4.3943446694688575E-2},{"$f":"(SA!ES11-SA!EG11)/SA!EG11","v":4.2189281641961229E-2},{"$f":"(SA!ET11-SA!EH11)/SA!EH11","v":4.4334975369458129E-2},{"$f":"(SA!EU11-SA!EI11)/SA!EI11","v":4.0240691989469723E-2},{"$f":"(SA!EV11-SA!EJ11)/SA!EJ11","v":4.0823970037453181E-2},{"$f":"(SA!EW11-SA!EK11)/SA!EK11","v":3.3803863298662702E-2},{"$f":"(SA!EX11-SA!EL11)/SA!EL11","v":3.3345683586513526E-2},{"$f":"(SA!EY11-SA!EM11)/SA!EM11","v":3.6229205175600743E-2},{"$f":"(SA!EZ11-SA!EN11)/SA!EN11","v":3.0882352941176472E-2},{"$f":"(SA!FA11-SA!EO11)/SA!EO11","v":2.8644876973925818E-2},{"$f":"(SA!FB11-SA!EP11)/SA!EP11","v":2.8277634961439587E-2},{"$f":"(SA!FC11-SA!EQ11)/SA!EQ11","v":3.0147058823529412E-2},{"$f":"(SA!FD11-SA!ER11)/SA!ER11","v":2.4158125915080528E-2},{"$f":"(SA!FE11-SA!ES11)/SA!ES11","v":2.1152443471918306E-2},{"$f":"(SA!FF11-SA!ET11)/SA!ET11","v":1.5602322206095792E-2},{"$f":"(SA!FG11-SA!EU11)/SA!EU11","v":1.2292118582791034E-2},{"$f":"(SA!FH11-SA!EV11)/SA!EV11","v":7.556675062972292E-3},{"$f":"(SA!FI11-SA!EW11)/SA!EW11","v":2.8745957599712541E-3},{"$f":"(SA!FJ11-SA!EX11)/SA!EX11","v":1.7927572606669057E-3},{"$f":"(SA!FK11-SA!EY11)/SA!EY11","v":-2.1405636817695326E-3},{"$f":"(SA!FL11-SA!EZ11)/SA!EZ11","v":-7.8459343794579171E-3},{"$f":"(SA!FM11-SA!FA11)/SA!FA11","v":-5.7122456265619424E-3},{"$f":"(SA!FN11-SA!FB11)/SA!FB11","v":-3.9285714285714288E-3},{"$f":"(SA!FO11-SA!FC11)/SA!FC11","v":-1.7844396859386152E-3},{"$f":"(SA!FP11-SA!FD11)/SA!FD11","v":1.0721944245889921E-3},{"$f":"(SA!FQ11-SA!FE11)/SA!FE11","v":3.5714285714285714E-4},{"$f":"(SA!FR11-SA!FF11)/SA!FF11","v":2.5008931761343338E-3},{"$f":"(SA!FS11-SA!FG11)/SA!FG11","v":1.7857142857142857E-3},{"$f":"(SA!FT11-SA!FH11)/SA!FH11","v":2.8571428571428571E-3},{"$f":"(SA!FU11-SA!FI11)/SA!FI11","v":1.146542457900394E-2},{"$f":"(SA!FV11-SA!FJ11)/SA!FJ11","v":1.467430207587688E-2},{"$f":"(SA!FW11-SA!FK11)/SA!FK11","v":1.3943510904540579E-2},{"$f":"(SA!FX11-SA!FL11)/SA!FL11","v":2.1926671459381739E-2},{"$f":"(SA!FY11-SA!FM11)/SA!FM11","v":2.118491921005386E-2},{"$f":"(SA!FZ11-SA!FN11)/SA!FN11","v":2.0437432771602725E-2},{"$f":"(SA!GA11-SA!FO11)/SA!FO11","v":1.8948873793350019E-2},{"$f":"(SA!GB11-SA!FP11)/SA!FP11","v":1.8921813637986434E-2},{"$f":"(SA!GC11-SA!FQ11)/SA!FQ11","v":2.1777936451267403E-2},{"$f":"(SA!GD11-SA!FR11)/SA!FR11","v":1.8888096935138987E-2},{"$f":"(SA!GE11-SA!FS11)/SA!FS11","v":2.0677361853832441E-2},{"$f":"(SA!GF11-SA!FT11)/SA!FT11","v":1.9230769230769232E-2},{"$f":"(SA!GG11-SA!FU11)/SA!FU11","v":1.0981225646475381E-2},{"$f":"(SA!GH11-SA!FV11)/SA!FV11","v":4.2328042328042331E-3},{"$f":"(SA!GI11-SA!FW11)/SA!FW11","v":3.8787023977433005E-3},{"$f":"(SA!GJ11-SA!FX11)/SA!FX11","v":3.5174111853675694E-4},{"$f":"(SA!GK11-SA!FY11)/SA!FY11","v":-1.0548523206751054E-3},{"$f":"(SA!GL11-SA!FZ11)/SA!FZ11","v":-3.1623330990864372E-3},{"$f":"(SA!GM11-SA!GA11)/SA!GA11","v":-7.3684210526315788E-3},{"$f":"(SA!GN11-SA!GB11)/SA!GB11","v":-9.8107918710581641E-3},{"$f":"(SA!GO11-SA!GC11)/SA!GC11","v":-1.3976240391334731E-2},{"$f":"(SA!GP11-SA!GD11)/SA!GD11","v":-1.2941587967820916E-2},{"$f":"(SA!GQ11-SA!GE11)/SA!GE11","v":-1.6067062521830249E-2},{"$f":"(SA!GR11-SA!GF11)/SA!GF11","v":-1.7470300489168415E-2},{"$f":"(SA!GS11-SA!GG11)/SA!GG11","v":-1.5767344078486335E-2},{"$f":"(SA!GT11-SA!GH11)/SA!GH11","v":-1.510361784334387E-2},{"$f":"(SA!GU11-SA!GI11)/SA!GI11","v":-1.7211099402880226E-2},{"$f":"(SA!GV11-SA!GJ11)/SA!GJ11","v":-1.6877637130801686E-2},{"$f":"(SA!GW11-SA!GK11)/SA!GK11","v":-1.6543470608940514E-2},{"$f":"(SA!GX11-SA!GL11)/SA!GL11","v":-1.5861825872400422E-2},{"$f":"(SA!GY11-SA!GM11)/SA!GM11","v":-9.5440084835630972E-3},{"$f":"(SA!GZ11-SA!GN11)/SA!GN11","v":-9.5541401273885346E-3},{"$f":"(SA!HA11-SA!GO11)/SA!GO11","v":0},{"$f":"(SA!HB11-SA!GP11)/SA!GP11","v":-7.0871722182849046E-4},{"$f":"(SA!HC11-SA!GQ11)/SA!GQ11","v":2.1299254526091589E-3},{"$f":"(SA!HD11-SA!GR11)/SA!GR11","v":2.1337126600284497E-3},{"$f":"(SA!HE11-SA!GS11)/SA!GS11","v":9.6119615521537919E-3},{"$f":"(SA!HF11-SA!GT11)/SA!GT11","v":9.6291012838801704E-3},{"$f":"(SA!HG11-SA!GU11)/SA!GU11","v":1.5010721944245889E-2},{"$f":"(SA!HH11-SA!GV11)/SA!GV11","v":1.9313304721030045E-2},{"$f":"(SA!HI11-SA!GW11)/SA!GW11","v":2.3264137437365783E-2},{"$f":"(SA!HJ11-SA!GX11)/SA!GX11","v":2.5787965616045846E-2},{"$f":"(SA!HK11-SA!GY11)/SA!GY11","v":-1},{"$f":"(SA!HL11-SA!GZ11)/SA!GZ11","v":-1},{"$f":"(SA!HM11-SA!HA11)/SA!HA11","v":-1}," n/a ","n/a",null,"  Durable Goods",-0.17891682785299806,-2.1569866593240256E-2,-1.1620668249790198E-2,5.3590574900439089E-4,6.1004236527713689E-3,1.8590389930984129E-2,2.9665010181885498E-2,5.0598686751641676E-2,5.0329809864694264E-2]
["  Non-Durable Goods",{"$f":"(SA!BN12-SA!BB12)/SA!BB12","v":-1.098901098901099E-2},{"$f":"(SA!BO12-SA!BC12)/SA!BC12","v":-1.2558869701726845E-2},{"$f":"(SA!BP12-SA!BD12)/SA!BD12","v":-1.3605442176870748E-2},{"$f":"(SA!BQ12-SA!BE12)/SA!BE12","v":-1.8798955613577025E-2},{"$f":"(SA!BR12-SA!BF12)/SA!BF12","v":-1.8798955613577025E-2},{"$f":"(SA!BS12-SA!BG12)/SA!BG12","v":-1.6255899318300997E-2},{"$f":"(SA!BT12-SA!BH12)/SA!BH12","v":-1.1548556430446194E-2},{"$f":"(SA!BU12-SA!BI12)/SA!BI12","v":-1.4180672268907563E-2},{"$f":"(SA!BV12-SA!BJ12)/SA!BJ12","v":-1.5239096163951655E-2},{"$f":"(SA!BW12-SA!BK12)/SA!BK12","v":-1.6298633017875919E-2},{"$f":"(SA!BX12-SA!BL12)/SA!BL12","v":-1.2658227848101266E-2},{"$f":"(SA!BY12-SA!BM12)/SA!BM12","v":-1.1615628299894404E-2},{"$f":"(SA!BZ12-SA!BN12)/SA!BN12","v":-1.0582010582010581E-2},{"$f":"(SA!CA12-SA!BO12)/SA!BO12","v":-1.0068892421833599E-2},{"$f":"(SA!CB12-SA!BP12)/SA!BP12","v":-1.0079575596816976E-2},{"$f":"(SA!CC12-SA!BQ12)/SA!BQ12","v":-5.854177754124534E-3},{"$f":"(SA!CD12-SA!BR12)/SA!BR12","v":-8.5151676423629585E-3},{"$f":"(SA!CE12-SA!BS12)/SA!BS12","v":-6.9296375266524523E-3},{"$f":"(SA!CF12-SA!BT12)/SA!BT12","v":-1.0621348911311737E-2},{"$f":"(SA!CG12-SA!BU12)/SA!BU12","v":-1.0122535961640916E-2},{"$f":"(SA!CH12-SA!BV12)/SA!BV12","v":-9.6051227321237997E-3},{"$f":"(SA!CI12-SA!BW12)/SA!BW12","v":-8.5515766969535001E-3},{"$f":"(SA!CJ12-SA!BX12)/SA!BX12","v":-1.014957264957265E-2},{"$f":"(SA!CK12-SA!BY12)/SA!BY12","v":-1.0683760683760684E-2},{"$f":"(SA!CL12-SA!BZ12)/SA!BZ12","v":-8.0213903743315516E-3},{"$f":"(SA!CM12-SA!CA12)/SA!CA12","v":-6.4239828693790149E-3},{"$f":"(SA!CN12-SA!CB12)/SA!CB12","v":-5.3590568060021436E-3},{"$f":"(SA!CO12-SA!CC12)/SA!CC12","v":-9.6359743040685224E-3},{"$f":"(SA!CP12-SA!CD12)/SA!CD12","v":-4.2941492216854536E-3},{"$f":"(SA!CQ12-SA!CE12)/SA!CE12","v":5.3676865271068169E-4},{"$f":"(SA!CR12-SA!CF12)/SA!CF12","v":-1.0735373054213634E-3},{"$f":"(SA!CS12-SA!CG12)/SA!CG12","v":-1.076426264800861E-3},{"$f":"(SA!CT12-SA!CH12)/SA!CH12","v":-1.6163793103448276E-3},{"$f":"(SA!CU12-SA!CI12)/SA!CI12","v":-2.1563342318059301E-3},{"$f":"(SA!CV12-SA!CJ12)/SA!CJ12","v":5.3966540744738263E-4},{"$f":"(SA!CW12-SA!CK12)/SA!CK12","v":2.1598272138228943E-3},{"$f":"(SA!CX12-SA!CL12)/SA!CL12","v":1.0781671159029651E-3},{"$f":"(SA!CY12-SA!CM12)/SA!CM12","v":1.6163793103448276E-3},{"$f":"(SA!CZ12-SA!CN12)/SA!CN12","v":5.3879310344827585E-4},{"$f":"(SA!DA12-SA!CO12)/SA!CO12","v":2.7027027027027029E-3},{"$f":"(SA!DB12-SA!CP12)/SA!CP12","v":-2.1563342318059301E-3},{"$f":"(SA!DC12-SA!CQ12)/SA!CQ12","v":-5.9012875536480691E-3},{"$f":"(SA!DD12-SA!CR12)/SA!CR12","v":-1.5583019881783988E-2},{"$f":"(SA!DE12-SA!CS12)/SA!CS12","v":-1.3469827586206896E-2},{"$f":"(SA!DF12-SA!CT12)/SA!CT12","v":-1.5650296815974095E-2},{"$f":"(SA!DG12-SA!CU12)/SA!CU12","v":-1.350621285791464E-2},{"$f":"(SA!DH12-SA!CV12)/SA!CV12","v":-2.1035598705501618E-2},{"$f":"(SA!DI12-SA!CW12)/SA!CW12","v":-2.7478448275862068E-2},{"$f":"(SA!DJ12-SA!CX12)/SA!CX12","v":-3.66182014001077E-2},{"$f":"(SA!DK12-SA!CY12)/SA!CY12","v":-4.6799354491662185E-2},{"$f":"(SA!DL12-SA!CZ12)/SA!CZ12","v":-5.2773290253096392E-2},{"$f":"(SA!DM12-SA!DA12)/SA!DA12","v":-6.0377358490566038E-2},{"$f":"(SA!DN12-SA!DB12)/SA!DB12","v":-6.4289573203673692E-2},{"$f":"(SA!DO12-SA!DC12)/SA!DC12","v":-7.0696168375607119E-2},{"$f":"(SA!DP12-SA!DD12)/SA!DD12","v":-7.041484716157205E-2},{"$f":"(SA!DQ12-SA!DE12)/SA!DE12","v":-6.6084107045330423E-2},{"$f":"(SA!DR12-SA!DF12)/SA!DF12","v":-5.6469298245614037E-2},{"$f":"(SA!DS12-SA!DG12)/SA!DG12","v":-6.5169769989047097E-2},{"$f":"(SA!DT12-SA!DH12)/SA!DH12","v":-5.840220385674931E-2},{"$f":"(SA!DU12-SA!DI12)/SA!DI12","v":-5.3185595567867033E-2},{"$f":"(SA!DV12-SA!DJ12)/SA!DJ12","v":-4.5276690888764674E-2},{"$f":"(SA!DW12-SA!DK12)/SA!DK12","v":-3.5553047404063204E-2},{"$f":"(SA!DX12-SA!DL12)/SA!DL12","v":-2.6719727117680499E-2},{"$f":"(SA!DY12-SA!DM12)/SA!DM12","v":-1.663798049340218E-2},{"$f":"(SA!DZ12-SA!DN12)/SA!DN12","v":-6.9284064665127024E-3},{"$f":"(SA!EA12-SA!DO12)/SA!DO12","v":2.3228803716608595E-3},{"$f":"(SA!EB12-SA!DP12)/SA!DP12","v":1.9377568995889608E-2},{"$f":"(SA!EC12-SA!DQ12)/SA!DQ12","v":1.2280701754385965E-2},{"$f":"(SA!ED12-SA!DR12)/SA!DR12","v":5.2295177222545031E-3},{"$f":"(SA!EE12-SA!DS12)/SA!DS12","v":1.2888107791446984E-2},{"$f":"(SA!EF12-SA!DT12)/SA!DT12","v":1.4043300175541252E-2},{"$f":"(SA!EG12-SA!DU12)/SA!DU12","v":1.2873025160912814E-2},{"$f":"(SA!EH12-SA!DV12)/SA!DV12","v":1.5222482435597189E-2},{"$f":"(SA!EI12-SA!DW12)/SA!DW12","v":1.5213575190169689E-2},{"$f":"(SA!EJ12-SA!DX12)/SA!DX12","v":1.5186915887850467E-2},{"$f":"(SA!EK12-SA!DY12)/SA!DY12","v":1.9836639439906652E-2},{"$f":"(SA!EL12-SA!DZ12)/SA!DZ12","v":1.802325581395349E-2},{"$f":"(SA!EM12-SA!EA12)/SA!EA12","v":1.0428736964078795E-2},{"$f":"(SA!EN12-SA!EB12)/SA!EB12","v":7.4884792626728107E-3},{"$f":"(SA!EO12-SA!EC12)/SA!EC12","v":1.3864818024263431E-2},{"$f":"(SA!EP12-SA!ED12)/SA!ED12","v":1.5028901734104046E-2},{"$f":"(SA!EQ12-SA!EE12)/SA!EE12","v":1.4459224985540775E-2},{"$f":"(SA!ER12-SA!EF12)/SA!EF12","v":1.2117714945181766E-2},{"$f":"(SA!ES12-SA!EG12)/SA!EG12","v":1.5020219526285385E-2},{"$f":"(SA!ET12-SA!EH12)/SA!EH12","v":1.3264129181084199E-2},{"$f":"(SA!EU12-SA!EI12)/SA!EI12","v":1.3256484149855908E-2},{"$f":"(SA!EV12-SA!EJ12)/SA!EJ12","v":1.1507479861910242E-2},{"$f":"(SA!EW12-SA!EK12)/SA!EK12","v":9.1533180778032037E-3},{"$f":"(SA!EX12-SA!EL12)/SA!EL12","v":6.8532267275842372E-3},{"$f":"(SA!EY12-SA!EM12)/SA!EM12","v":1.261467889908257E-2},{"$f":"(SA!EZ12-SA!EN12)/SA!EN12","v":1.0291595197255575E-2},{"$f":"(SA!FA12-SA!EO12)/SA!EO12","v":7.4074074074074077E-3},{"$f":"(SA!FB12-SA!EP12)/SA!EP12","v":8.5421412300683373E-3},{"$f":"(SA!FC12-SA!EQ12)/SA!EQ12","v":1.0832383124287344E-2},{"$f":"(SA!FD12-SA!ER12)/SA!ER12","v":1.0832383124287344E-2},{"$f":"(SA!FE12-SA!ES12)/SA!ES12","v":1.0244735344336939E-2},{"$f":"(SA!FF12-SA!ET12)/SA!ET12","v":9.6755833807626642E-3},{"$f":"(SA!FG12-SA!EU12)/SA!EU12","v":1.0238907849829351E-2},{"$f":"(SA!FH12-SA!EV12)/SA!EV12","v":1.0238907849829351E-2},{"$f":"(SA!FI12-SA!EW12)/SA!EW12","v":5.1020408163265302E-3},{"$f":"(SA!FJ12-SA!EX12)/SA!EX12","v":6.239364719228588E-3},{"$f":"(SA!FK12-SA!EY12)/SA!EY12","v":5.0962627406568517E-3},{"$f":"(SA!FL12-SA!EZ12)/SA!EZ12","v":5.6593095642331632E-3},{"$f":"(SA!FM12-SA!FA12)/SA!FA12","v":6.7873303167420816E-3},{"$f":"(SA!FN12-SA!FB12)/SA!FB12","v":6.7758328627893849E-3},{"$f":"(SA!FO12-SA!FC12)/SA!FC12","v":7.8962210941906381E-3},{"$f":"(SA!FP12-SA!FD12)/SA!FD12","v":1.015228426395939E-2},{"$f":"(SA!FQ12-SA!FE12)/SA!FE12","v":1.0140845070422535E-2},{"$f":"(SA!FR12-SA!FF12)/SA!FF12","v":1.4092446448703494E-2},{"$f":"(SA!FS12-SA!FG12)/SA!FG12","v":1.6891891891891893E-2},{"$f":"(SA!FT12-SA!FH12)/SA!FH12","v":1.6891891891891893E-2},{"$f":"(SA!FU12-SA!FI12)/SA!FI12","v":1.9176536943034405E-2},{"$f":"(SA!FV12-SA!FJ12)/SA!FJ12","v":1.9729425028184894E-2},{"$f":"(SA!FW12-SA!FK12)/SA!FK12","v":1.8028169014084508E-2},{"$f":"(SA!FX12-SA!FL12)/SA!FL12","v":2.1384355655599326E-2},{"$f":"(SA!FY12-SA!FM12)/SA!FM12","v":2.1348314606741574E-2},{"$f":"(SA!FZ12-SA!FN12)/SA!FN12","v":2.0190689848569827E-2},{"$f":"(SA!GA12-SA!FO12)/SA!FO12","v":1.7347509792949075E-2},{"$f":"(SA!GB12-SA!FP12)/SA!FP12","v":1.5633724176437745E-2},{"$f":"(SA!GC12-SA!FQ12)/SA!FQ12","v":1.4500836586726157E-2},{"$f":"(SA!GD12-SA!FR12)/SA!FR12","v":1.2229016120066704E-2},{"$f":"(SA!GE12-SA!FS12)/SA!FS12","v":1.1627906976744186E-2},{"$f":"(SA!GF12-SA!FT12)/SA!FT12","v":9.4130675526024367E-3},{"$f":"(SA!GG12-SA!FU12)/SA!FU12","v":9.4078583287216383E-3},{"$f":"(SA!GH12-SA!FV12)/SA!FV12","v":9.9502487562189053E-3},{"$f":"(SA!GI12-SA!FW12)/SA!FW12","v":1.0514665190924184E-2},{"$f":"(SA!GJ12-SA!FX12)/SA!FX12","v":7.1625344352617077E-3},{"$f":"(SA!GK12-SA!FY12)/SA!FY12","v":4.4004400440044002E-3},{"$f":"(SA!GL12-SA!FZ12)/SA!FZ12","v":6.0472787245739413E-3},{"$f":"(SA!GM12-SA!GA12)/SA!GA12","v":8.8008800880088004E-3},{"$f":"(SA!GN12-SA!GB12)/SA!GB12","v":9.8955470038482683E-3},{"$f":"(SA!GO12-SA!GC12)/SA!GC12","v":1.2094557449147883E-2},{"$f":"(SA!GP12-SA!GD12)/SA!GD12","v":1.1532125205930808E-2},{"$f":"(SA!GQ12-SA!GE12)/SA!GE12","v":8.2101806239737278E-3},{"$f":"(SA!GR12-SA!GF12)/SA!GF12","v":1.151947339550192E-2},{"$f":"(SA!GS12-SA!GG12)/SA!GG12","v":1.2061403508771929E-2},{"$f":"(SA!GT12-SA!GH12)/SA!GH12","v":9.3048713738368913E-3},{"$f":"(SA!GU12-SA!GI12)/SA!GI12","v":9.3099671412924419E-3},{"$f":"(SA!GV12-SA!GJ12)/SA!GJ12","v":8.2056892778993428E-3},{"$f":"(SA!GW12-SA!GK12)/SA!GK12","v":8.7623220153340634E-3},{"$f":"(SA!GX12-SA!GL12)/SA!GL12","v":6.0109289617486343E-3},{"$f":"(SA!GY12-SA!GM12)/SA!GM12","v":1.9083969465648856E-2},{"$f":"(SA!GZ12-SA!GN12)/SA!GN12","v":1.4153511159499184E-2},{"$f":"(SA!HA12-SA!GO12)/SA!GO12","v":1.1406844106463879E-2},{"$f":"(SA!HB12-SA!GP12)/SA!GP12","v":1.0314875135722041E-2},{"$f":"(SA!HC12-SA!GQ12)/SA!GQ12","v":1.4115092290988056E-2},{"$f":"(SA!HD12-SA!GR12)/SA!GR12","v":9.2190889370932748E-3},{"$f":"(SA!HE12-SA!GS12)/SA!GS12","v":2.1126760563380281E-2},{"$f":"(SA!HF12-SA!GT12)/SA!GT12","v":2.4945770065075923E-2},{"$f":"(SA!HG12-SA!GU12)/SA!GU12","v":2.2246337493217579E-2},{"$f":"(SA!HH12-SA!GV12)/SA!GV12","v":2.7129679869777535E-2},{"$f":"(SA!HI12-SA!GW12)/SA!GW12","v":2.4972855591748101E-2},{"$f":"(SA!HJ12-SA!GX12)/SA!GX12","v":2.9331884845192831E-2},{"$f":"(SA!HK12-SA!GY12)/SA!GY12","v":-1},{"$f":"(SA!HL12-SA!GZ12)/SA!GZ12","v":-1},{"$f":"(SA!HM12-SA!HA12)/SA!HA12","v":-1}," n/a ","n/a",null,"  Non-Durable Goods",-7.0696168375607119E-2,-1.626658274319473E-2,-9.0783497145386499E-3,2.4178359544213203E-3,7.4682112988564602E-3,1.047170107750149E-2,1.4229939616009581E-2,2.1384355655599326E-2,2.1082800279399534E-2]
["Trade, Transportation, and Utilities",{"$f":"(SA!BN13-SA!BB13)/SA!BB13","v":4.8426150121065378E-3},{"$f":"(SA!BO13-SA!BC13)/SA!BC13","v":7.2666294019005035E-3},{"$f":"(SA!BP13-SA!BD13)/SA!BD13","v":8.0104321907600601E-3},{"$f":"(SA!BQ13-SA!BE13)/SA!BE13","v":1.1545623836126629E-2},{"$f":"(SA!BR13-SA!BF13)/SA!BF13","v":7.612328258447828E-3},{"$f":"(SA!BS13-SA!BG13)/SA!BG13","v":2.223869532987398E-3},{"$f":"(SA!BT13-SA!BH13)/SA!BH13","v":3.5113657364627612E-3},{"$f":"(SA!BU13-SA!BI13)/SA!BI13","v":5.728011825572801E-3},{"$f":"(SA!BV13-SA!BJ13)/SA!BJ13","v":7.7792183737729207E-3},{"$f":"(SA!BW13-SA!BK13)/SA!BK13","v":1.1845271145659819E-2},{"$f":"(SA!BX13-SA!BL13)/SA!BL13","v":1.1281671906787498E-2},{"$f":"(SA!BY13-SA!BM13)/SA!BM13","v":1.4256619144602852E-2},{"$f":"(SA!BZ13-SA!BN13)/SA!BN13","v":7.0435588507877667E-3},{"$f":"(SA!CA13-SA!BO13)/SA!BO13","v":7.029226785053644E-3},{"$f":"(SA!CB13-SA!BP13)/SA!BP13","v":6.6531140269820736E-3},{"$f":"(SA!CC13-SA!BQ13)/SA!BQ13","v":3.3136966126656848E-3},{"$f":"(SA!CD13-SA!BR13)/SA!BR13","v":2.5796941219826792E-3},{"$f":"(SA!CE13-SA!BS13)/SA!BS13","v":7.3964497041420114E-3},{"$f":"(SA!CF13-SA!BT13)/SA!BT13","v":1.1049723756906078E-3},{"$f":"(SA!CG13-SA!BU13)/SA!BU13","v":0},{"$f":"(SA!CH13-SA!BV13)/SA!BV13","v":5.5136923359676532E-4},{"$f":"(SA!CI13-SA!BW13)/SA!BW13","v":-3.8412291933418692E-3},{"$f":"(SA!CJ13-SA!BX13)/SA!BX13","v":-1.0972933430870519E-3},{"$f":"(SA!CK13-SA!BY13)/SA!BY13","v":-7.3019350127783865E-4},{"$f":"(SA!CL13-SA!BZ13)/SA!BZ13","v":9.3870789618995028E-3},{"$f":"(SA!CM13-SA!CA13)/SA!CA13","v":7.3475385745775165E-3},{"$f":"(SA!CN13-SA!CB13)/SA!CB13","v":6.9763172388470716E-3},{"$f":"(SA!CO13-SA!CC13)/SA!CC13","v":2.5688073394495412E-3},{"$f":"(SA!CP13-SA!CD13)/SA!CD13","v":8.2705385039514787E-3},{"$f":"(SA!CQ13-SA!CE13)/SA!CE13","v":7.5256975036710723E-3},{"$f":"(SA!CR13-SA!CF13)/SA!CF13","v":7.9102281089036049E-3},{"$f":"(SA!CS13-SA!CG13)/SA!CG13","v":3.8581664523240859E-3},{"$f":"(SA!CT13-SA!CH13)/SA!CH13","v":2.7553269654665689E-3},{"$f":"(SA!CU13-SA!CI13)/SA!CI13","v":1.2853470437017994E-3},{"$f":"(SA!CV13-SA!CJ13)/SA!CJ13","v":-1.2815818381545221E-3},{"$f":"(SA!CW13-SA!CK13)/SA!CK13","v":-3.8363171355498722E-3},{"$f":"(SA!CX13-SA!CL13)/SA!CL13","v":-2.552881108679796E-3},{"$f":"(SA!CY13-SA!CM13)/SA!CM13","v":-4.7410649161196208E-3},{"$f":"(SA!CZ13-SA!CN13)/SA!CN13","v":-5.8340929808568826E-3},{"$f":"(SA!DA13-SA!CO13)/SA!CO13","v":-2.9282576866764276E-3},{"$f":"(SA!DB13-SA!CP13)/SA!CP13","v":-9.6609551585854908E-3},{"$f":"(SA!DC13-SA!CQ13)/SA!CQ13","v":-1.311714337766442E-2},{"$f":"(SA!DD13-SA!CR13)/SA!CR13","v":-1.1498448622011315E-2},{"$f":"(SA!DE13-SA!CS13)/SA!CS13","v":-1.0248901903367497E-2},{"$f":"(SA!DF13-SA!CT13)/SA!CT13","v":-1.4471514929474263E-2},{"$f":"(SA!DG13-SA!CU13)/SA!CU13","v":-1.7788373372455528E-2},{"$f":"(SA!DH13-SA!CV13)/SA!CV13","v":-2.3098075160403301E-2},{"$f":"(SA!DI13-SA!CW13)/SA!CW13","v":-2.6590867412433522E-2},{"$f":"(SA!DJ13-SA!CX13)/SA!CX13","v":-3.5648994515539302E-2},{"$f":"(SA!DK13-SA!CY13)/SA!CY13","v":-3.737632832539392E-2},{"$f":"(SA!DL13-SA!CZ13)/SA!CZ13","v":-4.2728773152393179E-2},{"$f":"(SA!DM13-SA!DA13)/SA!DA13","v":-4.8091042584434654E-2},{"$f":"(SA!DN13-SA!DB13)/SA!DB13","v":-4.3622308117062393E-2},{"$f":"(SA!DO13-SA!DC13)/SA!DC13","v":-4.245892560457807E-2},{"$f":"(SA!DP13-SA!DD13)/SA!DD13","v":-4.7267355982274745E-2},{"$f":"(SA!DQ13-SA!DE13)/SA!DE13","v":-4.7892011834319528E-2},{"$f":"(SA!DR13-SA!DF13)/SA!DF13","v":-4.628252788104089E-2},{"$f":"(SA!DS13-SA!DG13)/SA!DG13","v":-4.3876026885735622E-2},{"$f":"(SA!DT13-SA!DH13)/SA!DH13","v":-4.2409457684368553E-2},{"$f":"(SA!DU13-SA!DI13)/SA!DI13","v":-4.20120572720422E-2},{"$f":"(SA!DV13-SA!DJ13)/SA!DJ13","v":-3.6208530805687207E-2},{"$f":"(SA!DW13-SA!DK13)/SA!DK13","v":-3.3307955843167113E-2},{"$f":"(SA!DX13-SA!DL13)/SA!DL13","v":-2.6436781609195402E-2},{"$f":"(SA!DY13-SA!DM13)/SA!DM13","v":-2.0632472040107982E-2},{"$f":"(SA!DZ13-SA!DN13)/SA!DN13","v":-2.2324865280985373E-2},{"$f":"(SA!EA13-SA!DO13)/SA!DO13","v":-2.1399652978600456E-2},{"$f":"(SA!EB13-SA!DP13)/SA!DP13","v":-1.4922480620155039E-2},{"$f":"(SA!EC13-SA!DQ13)/SA!DQ13","v":-1.3400660322392698E-2},{"$f":"(SA!ED13-SA!DR13)/SA!DR13","v":-1.1498733190411226E-2},{"$f":"(SA!EE13-SA!DS13)/SA!DS13","v":-3.9054872095293887E-3},{"$f":"(SA!EF13-SA!DT13)/SA!DT13","v":-3.1354105428179502E-3},{"$f":"(SA!EG13-SA!DU13)/SA!DU13","v":7.866273352999017E-4},{"$f":"(SA!EH13-SA!DV13)/SA!DV13","v":1.1801730920535012E-3},{"$f":"(SA!EI13-SA!DW13)/SA!DW13","v":2.1657806654853317E-3},{"$f":"(SA!EJ13-SA!DX13)/SA!DX13","v":2.3612750885478157E-3},{"$f":"(SA!EK13-SA!DY13)/SA!DY13","v":6.1035636936404803E-3},{"$f":"(SA!EL13-SA!DZ13)/SA!DZ13","v":1.968503937007874E-3},{"$f":"(SA!EM13-SA!EA13)/SA!EA13","v":1.7730496453900709E-3},{"$f":"(SA!EN13-SA!EB13)/SA!EB13","v":5.3118237261459769E-3},{"$f":"(SA!EO13-SA!EC13)/SA!EC13","v":6.889763779527559E-3},{"$f":"(SA!EP13-SA!ED13)/SA!ED13","v":1.025236593059937E-2},{"$f":"(SA!EQ13-SA!EE13)/SA!EE13","v":4.1168398353265204E-3},{"$f":"(SA!ER13-SA!EF13)/SA!EF13","v":7.4700216237468054E-3},{"$f":"(SA!ES13-SA!EG13)/SA!EG13","v":6.6810768323834584E-3},{"$f":"(SA!ET13-SA!EH13)/SA!EH13","v":7.2691552062869513E-3},{"$f":"(SA!EU13-SA!EI13)/SA!EI13","v":6.2868369351671083E-3},{"$f":"(SA!EV13-SA!EJ13)/SA!EJ13","v":5.6929721240674162E-3},{"$f":"(SA!EW13-SA!EK13)/SA!EK13","v":7.8277886497064581E-4},{"$f":"(SA!EX13-SA!EL13)/SA!EL13","v":4.5186640471512772E-3},{"$f":"(SA!EY13-SA!EM13)/SA!EM13","v":5.8997050147492625E-3},{"$f":"(SA!EZ13-SA!EN13)/SA!EN13","v":-9.7847358121330719E-4},{"$f":"(SA!FA13-SA!EO13)/SA!EO13","v":-9.7751710654936461E-4},{"$f":"(SA!FB13-SA!EP13)/SA!EP13","v":-9.7580015612802498E-4},{"$f":"(SA!FC13-SA!EQ13)/SA!EQ13","v":1.5618898867628694E-3},{"$f":"(SA!FD13-SA!ER13)/SA!ER13","v":3.3170731707318209E-3},{"$f":"(SA!FE13-SA!ES13)/SA!ES13","v":3.5135662697639244E-3},{"$f":"(SA!FF13-SA!ET13)/SA!ET13","v":4.0959625511993039E-3},{"$f":"(SA!FG13-SA!EU13)/SA!EU13","v":7.4189769621240556E-3},{"$f":"(SA!FH13-SA!EV13)/SA!EV13","v":6.8319344134296321E-3},{"$f":"(SA!FI13-SA!EW13)/SA!EW13","v":9.9726241689479852E-3},{"$f":"(SA!FJ13-SA!EX13)/SA!EX13","v":1.1539213768824679E-2},{"$f":"(SA!FK13-SA!EY13)/SA!EY13","v":1.1534701857282503E-2},{"$f":"(SA!FL13-SA!EZ13)/SA!EZ13","v":1.3907933398628796E-2},{"$f":"(SA!FM13-SA!FA13)/SA!FA13","v":1.4677103718199608E-2},{"$f":"(SA!FN13-SA!FB13)/SA!FB13","v":1.2307091228755731E-2},{"$f":"(SA!FO13-SA!FC13)/SA!FC13","v":1.1306042884990141E-2},{"$f":"(SA!FP13-SA!FD13)/SA!FD13","v":8.5569817191753043E-3},{"$f":"(SA!FQ13-SA!FE13)/SA!FE13","v":1.2448939894962069E-2},{"$f":"(SA!FR13-SA!FF13)/SA!FF13","v":1.2237762237762352E-2},{"$f":"(SA!FS13-SA!FG13)/SA!FG13","v":1.1821705426356589E-2},{"$f":"(SA!FT13-SA!FH13)/SA!FH13","v":1.4540519581233037E-2},{"$f":"(SA!FU13-SA!FI13)/SA!FI13","v":1.7037754114230398E-2},{"$f":"(SA!FV13-SA!FJ13)/SA!FJ13","v":1.4114462490332446E-2},{"$f":"(SA!FW13-SA!FK13)/SA!FK13","v":1.4109006571318129E-2},{"$f":"(SA!FX13-SA!FL13)/SA!FL13","v":1.4296754250386399E-2},{"$f":"(SA!FY13-SA!FM13)/SA!FM13","v":1.253616200578592E-2},{"$f":"(SA!FZ13-SA!FN13)/SA!FN13","v":1.2736395214202896E-2},{"$f":"(SA!GA13-SA!FO13)/SA!FO13","v":1.1372397841172048E-2},{"$f":"(SA!GB13-SA!FP13)/SA!FP13","v":1.5811801002699577E-2},{"$f":"(SA!GC13-SA!FQ13)/SA!FQ13","v":1.1143131604226706E-2},{"$f":"(SA!GD13-SA!FR13)/SA!FR13","v":1.1514104778353483E-2},{"$f":"(SA!GE13-SA!FS13)/SA!FS13","v":9.3851752537827994E-3},{"$f":"(SA!GF13-SA!FT13)/SA!FT13","v":1.0128033632715572E-2},{"$f":"(SA!GG13-SA!FU13)/SA!FU13","v":4.7591852274890536E-3},{"$f":"(SA!GH13-SA!FV13)/SA!FV13","v":9.5328884652049577E-3},{"$f":"(SA!GI13-SA!FW13)/SA!FW13","v":1.0863350485991996E-2},{"$f":"(SA!GJ13-SA!FX13)/SA!FX13","v":1.6E-2},{"$f":"(SA!GK13-SA!FY13)/SA!FY13","v":1.8285714285714287E-2},{"$f":"(SA!GL13-SA!FZ13)/SA!FZ13","v":2.0007621951219513E-2},{"$f":"(SA!GM13-SA!GA13)/SA!GA13","v":2.1154945683247571E-2},{"$f":"(SA!GN13-SA!GB13)/SA!GB13","v":1.6324981017463932E-2},{"$f":"(SA!GO13-SA!GC13)/SA!GC13","v":1.444043321299639E-2},{"$f":"(SA!GP13-SA!GD13)/SA!GD13","v":2.105862265224815E-2},{"$f":"(SA!GQ13-SA!GE13)/SA!GE13","v":2.4098671726755217E-2},{"$f":"(SA!GR13-SA!GF13)/SA!GF13","v":2.1188043889519486E-2},{"$f":"(SA!GS13-SA!GG13)/SA!GG13","v":2.5009473285335353E-2},{"$f":"(SA!GT13-SA!GH13)/SA!GH13","v":1.9641170915958451E-2},{"$f":"(SA!GU13-SA!GI13)/SA!GI13","v":1.7722473604826545E-2},{"$f":"(SA!GV13-SA!GJ13)/SA!GJ13","v":1.5373078365204349E-2},{"$f":"(SA!GW13-SA!GK13)/SA!GK13","v":1.2906846240179574E-2},{"$f":"(SA!GX13-SA!GL13)/SA!GL13","v":1.1395479170558566E-2},{"$f":"(SA!GY13-SA!GM13)/SA!GM13","v":4.4792833146696529E-3},{"$f":"(SA!GZ13-SA!GN13)/SA!GN13","v":4.6694060515502425E-3},{"$f":"(SA!HA13-SA!GO13)/SA!GO13","v":3.5587188612099642E-3},{"$f":"(SA!HB13-SA!GP13)/SA!GP13","v":6.688963210702341E-3},{"$f":"(SA!HC13-SA!GQ13)/SA!GQ13","v":8.337965536409116E-3},{"$f":"(SA!HD13-SA!GR13)/SA!GR13","v":7.224898110411263E-3},{"$f":"(SA!HE13-SA!GS13)/SA!GS13","v":4.0665434380776338E-3},{"$f":"(SA!HF13-SA!GT13)/SA!GT13","v":7.4087794035932577E-3},{"$f":"(SA!HG13-SA!GU13)/SA!GU13","v":7.9659133012226751E-3},{"$f":"(SA!HH13-SA!GV13)/SA!GV13","v":0},{"$f":"(SA!HI13-SA!GW13)/SA!GW13","v":-9.2336103416435823E-4},{"$f":"(SA!HJ13-SA!GX13)/SA!GX13","v":8.6811968969338748E-3},{"$f":"(SA!HK13-SA!GY13)/SA!GY13","v":-1},{"$f":"(SA!HL13-SA!GZ13)/SA!GZ13","v":-1},{"$f":"(SA!HM13-SA!HA13)/SA!HA13","v":-1}," n/a ","n/a",null,"Trade, Transportation, and Utilities",-4.8091042584434654E-2,-1.563895380823016E-2,-3.6509675063891932E-4,3.9176154770428906E-3,6.6740861310331124E-3,9.7527563170764706E-3,1.3958201691801128E-2,2.5009473285335353E-2,1.7011519396983806E-2]
["  Wholesale Trade",{"$f":"(SA!BN14-SA!BB14)/SA!BB14","v":2.464788732394366E-2},{"$f":"(SA!BO14-SA!BC14)/SA!BC14","v":2.5505716798592787E-2},{"$f":"(SA!BP14-SA!BD14)/SA!BD14","v":2.1949078138718173E-2},{"$f":"(SA!BQ14-SA!BE14)/SA!BE14","v":3.5242290748898682E-2},{"$f":"(SA!BR14-SA!BF14)/SA!BF14","v":3.6971830985915492E-2},{"$f":"(SA!BS14-SA!BG14)/SA!BG14","v":3.518029903254178E-2},{"$f":"(SA!BT14-SA!BH14)/SA!BH14","v":2.8770706190061029E-2},{"$f":"(SA!BU14-SA!BI14)/SA!BI14","v":2.2491349480968859E-2},{"$f":"(SA!BV14-SA!BJ14)/SA!BJ14","v":3.0434782608695653E-2},{"$f":"(SA!BW14-SA!BK14)/SA!BK14","v":2.768166089965398E-2},{"$f":"(SA!BX14-SA!BL14)/SA!BL14","v":2.6724137931034484E-2},{"$f":"(SA!BY14-SA!BM14)/SA!BM14","v":2.8399311531841654E-2},{"$f":"(SA!BZ14-SA!BN14)/SA!BN14","v":3.006872852233677E-2},{"$f":"(SA!CA14-SA!BO14)/SA!BO14","v":3.0874785591766724E-2},{"$f":"(SA!CB14-SA!BP14)/SA!BP14","v":3.4364261168384883E-2},{"$f":"(SA!CC14-SA!BQ14)/SA!BQ14","v":2.553191489361702E-2},{"$f":"(SA!CD14-SA!BR14)/SA!BR14","v":2.2920203735144314E-2},{"$f":"(SA!CE14-SA!BS14)/SA!BS14","v":2.7187765505522515E-2},{"$f":"(SA!CF14-SA!BT14)/SA!BT14","v":2.5423728813559324E-2},{"$f":"(SA!CG14-SA!BU14)/SA!BU14","v":2.4534686971235193E-2},{"$f":"(SA!CH14-SA!BV14)/SA!BV14","v":2.3628691983122362E-2},{"$f":"(SA!CI14-SA!BW14)/SA!BW14","v":2.1043771043771045E-2},{"$f":"(SA!CJ14-SA!BX14)/SA!BX14","v":1.8471872376154493E-2},{"$f":"(SA!CK14-SA!BY14)/SA!BY14","v":1.6736401673640166E-2},{"$f":"(SA!CL14-SA!BZ14)/SA!BZ14","v":1.3344453711426188E-2},{"$f":"(SA!CM14-SA!CA14)/SA!CA14","v":1.3311148086522463E-2},{"$f":"(SA!CN14-SA!CB14)/SA!CB14","v":1.079734219269103E-2},{"$f":"(SA!CO14-SA!CC14)/SA!CC14","v":1.0788381742738589E-2},{"$f":"(SA!CP14-SA!CD14)/SA!CD14","v":1.2448132780082987E-2},{"$f":"(SA!CQ14-SA!CE14)/SA!CE14","v":1.1579818031430935E-2},{"$f":"(SA!CR14-SA!CF14)/SA!CF14","v":1.1570247933884297E-2},{"$f":"(SA!CS14-SA!CG14)/SA!CG14","v":9.0834021469859624E-3},{"$f":"(SA!CT14-SA!CH14)/SA!CH14","v":7.4196207749381701E-3},{"$f":"(SA!CU14-SA!CI14)/SA!CI14","v":7.4196207749381701E-3},{"$f":"(SA!CV14-SA!CJ14)/SA!CJ14","v":9.0684253915910961E-3},{"$f":"(SA!CW14-SA!CK14)/SA!CK14","v":8.23045267489712E-3},{"$f":"(SA!CX14-SA!CL14)/SA!CL14","v":9.0534979423868307E-3},{"$f":"(SA!CY14-SA!CM14)/SA!CM14","v":5.7471264367816091E-3},{"$f":"(SA!CZ14-SA!CN14)/SA!CN14","v":7.3952341824157766E-3},{"$f":"(SA!DA14-SA!CO14)/SA!CO14","v":6.5681444991789817E-3},{"$f":"(SA!DB14-SA!CP14)/SA!CP14","v":5.7377049180327867E-3},{"$f":"(SA!DC14-SA!CQ14)/SA!CQ14","v":1.6353229762878169E-3},{"$f":"(SA!DD14-SA!CR14)/SA!CR14","v":-8.1699346405228761E-4},{"$f":"(SA!DE14-SA!CS14)/SA!CS14","v":8.1833060556464816E-4},{"$f":"(SA!DF14-SA!CT14)/SA!CT14","v":-5.7283142389525366E-3},{"$f":"(SA!DG14-SA!CU14)/SA!CU14","v":-1.2274959083469721E-2},{"$f":"(SA!DH14-SA!CV14)/SA!CV14","v":-1.5522875816993464E-2},{"$f":"(SA!DI14-SA!CW14)/SA!CW14","v":-2.2857142857142857E-2},{"$f":"(SA!DJ14-SA!CX14)/SA!CX14","v":-2.6916802610114192E-2},{"$f":"(SA!DK14-SA!CY14)/SA!CY14","v":-3.1836734693877551E-2},{"$f":"(SA!DL14-SA!CZ14)/SA!CZ14","v":-3.9151712887438822E-2},{"$f":"(SA!DM14-SA!DA14)/SA!DA14","v":-5.4649265905383361E-2},{"$f":"(SA!DN14-SA!DB14)/SA!DB14","v":-5.5419722901385492E-2},{"$f":"(SA!DO14-SA!DC14)/SA!DC14","v":-5.9591836734693877E-2},{"$f":"(SA!DP14-SA!DD14)/SA!DD14","v":-6.4595257563368771E-2},{"$f":"(SA!DQ14-SA!DE14)/SA!DE14","v":-6.8683565004088301E-2},{"$f":"(SA!DR14-SA!DF14)/SA!DF14","v":-6.584362139917696E-2},{"$f":"(SA!DS14-SA!DG14)/SA!DG14","v":-5.8823529411764705E-2},{"$f":"(SA!DT14-SA!DH14)/SA!DH14","v":-6.1410788381742736E-2},{"$f":"(SA!DU14-SA!DI14)/SA!DI14","v":-5.764411027568922E-2},{"$f":"(SA!DV14-SA!DJ14)/SA!DJ14","v":-5.7837384744341996E-2},{"$f":"(SA!DW14-SA!DK14)/SA!DK14","v":-5.3962900505902189E-2},{"$f":"(SA!DX14-SA!DL14)/SA!DL14","v":-4.7538200339558571E-2},{"$f":"(SA!DY14-SA!DM14)/SA!DM14","v":-3.0198446937014668E-2},{"$f":"(SA!DZ14-SA!DN14)/SA!DN14","v":-3.1061259706643658E-2},{"$f":"(SA!EA14-SA!DO14)/SA!DO14","v":-2.7777777777777776E-2},{"$f":"(SA!EB14-SA!DP14)/SA!DP14","v":-1.486013986013986E-2},{"$f":"(SA!EC14-SA!DQ14)/SA!DQ14","v":-7.9016681299385431E-3},{"$f":"(SA!ED14-SA!DR14)/SA!DR14","v":-9.6916299559471359E-3},{"$f":"(SA!EE14-SA!DS14)/SA!DS14","v":-2.6408450704225352E-3},{"$f":"(SA!EF14-SA!DT14)/SA!DT14","v":1.7683465959328027E-3},{"$f":"(SA!EG14-SA!DU14)/SA!DU14","v":5.3191489361702126E-3},{"$f":"(SA!EH14-SA!DV14)/SA!DV14","v":9.7864768683274019E-3},{"$f":"(SA!EI14-SA!DW14)/SA!DW14","v":1.3368983957219251E-2},{"$f":"(SA!EJ14-SA!DX14)/SA!DX14","v":1.4260249554367201E-2},{"$f":"(SA!EK14-SA!DY14)/SA!DY14","v":1.601423487544484E-2},{"$f":"(SA!EL14-SA!DZ14)/SA!DZ14","v":1.7809439002671415E-2},{"$f":"(SA!EM14-SA!EA14)/SA!EA14","v":1.9642857142857142E-2},{"$f":"(SA!EN14-SA!EB14)/SA!EB14","v":2.3070097604259095E-2},{"$f":"(SA!EO14-SA!EC14)/SA!EC14","v":2.1238938053097345E-2},{"$f":"(SA!EP14-SA!ED14)/SA!ED14","v":2.8469750889679714E-2},{"$f":"(SA!EQ14-SA!EE14)/SA!EE14","v":2.2065313327449251E-2},{"$f":"(SA!ER14-SA!EF14)/SA!EF14","v":2.2947925860547221E-2},{"$f":"(SA!ES14-SA!EG14)/SA!EG14","v":2.3809523809523808E-2},{"$f":"(SA!ET14-SA!EH14)/SA!EH14","v":2.5550660792951541E-2},{"$f":"(SA!EU14-SA!EI14)/SA!EI14","v":2.4626209322779244E-2},{"$f":"(SA!EV14-SA!EJ14)/SA!EJ14","v":2.8119507908611598E-2},{"$f":"(SA!EW14-SA!EK14)/SA!EK14","v":2.4518388791593695E-2},{"$f":"(SA!EX14-SA!EL14)/SA!EL14","v":2.0997375328083989E-2},{"$f":"(SA!EY14-SA!EM14)/SA!EM14","v":2.276707530647986E-2},{"$f":"(SA!EZ14-SA!EN14)/SA!EN14","v":1.0407632263660017E-2},{"$f":"(SA!FA14-SA!EO14)/SA!EO14","v":9.5320623916811086E-3},{"$f":"(SA!FB14-SA!EP14)/SA!EP14","v":9.5155709342560554E-3},{"$f":"(SA!FC14-SA!EQ14)/SA!EQ14","v":8.6355785837651123E-3},{"$f":"(SA!FD14-SA!ER14)/SA!ER14","v":9.4909404659188953E-3},{"$f":"(SA!FE14-SA!ES14)/SA!ES14","v":9.4745908699397068E-3},{"$f":"(SA!FF14-SA!ET14)/SA!ET14","v":1.8900343642611683E-2},{"$f":"(SA!FG14-SA!EU14)/SA!EU14","v":1.8884120171673818E-2},{"$f":"(SA!FH14-SA!EV14)/SA!EV14","v":1.3675213675213675E-2},{"$f":"(SA!FI14-SA!EW14)/SA!EW14","v":1.3675213675213675E-2},{"$f":"(SA!FJ14-SA!EX14)/SA!EX14","v":1.7994858611825194E-2},{"$f":"(SA!FK14-SA!EY14)/SA!EY14","v":1.6267123287671232E-2},{"$f":"(SA!FL14-SA!EZ14)/SA!EZ14","v":1.8884120171673818E-2},{"$f":"(SA!FM14-SA!FA14)/SA!FA14","v":2.0600858369098713E-2},{"$f":"(SA!FN14-SA!FB14)/SA!FB14","v":1.8851756640959727E-2},{"$f":"(SA!FO14-SA!FC14)/SA!FC14","v":1.797945205479452E-2},{"$f":"(SA!FP14-SA!FD14)/SA!FD14","v":1.7094017094017096E-2},{"$f":"(SA!FQ14-SA!FE14)/SA!FE14","v":1.6211604095563138E-2},{"$f":"(SA!FR14-SA!FF14)/SA!FF14","v":4.2158516020236085E-3},{"$f":"(SA!FS14-SA!FG14)/SA!FG14","v":5.054759898904802E-3},{"$f":"(SA!FT14-SA!FH14)/SA!FH14","v":1.0118043844856661E-2},{"$f":"(SA!FU14-SA!FI14)/SA!FI14","v":1.0118043844856661E-2},{"$f":"(SA!FV14-SA!FJ14)/SA!FJ14","v":8.4175084175084174E-3},{"$f":"(SA!FW14-SA!FK14)/SA!FK14","v":1.0951979780960405E-2},{"$f":"(SA!FX14-SA!FL14)/SA!FL14","v":1.1794439764111205E-2},{"$f":"(SA!FY14-SA!FM14)/SA!FM14","v":1.345668629100084E-2},{"$f":"(SA!FZ14-SA!FN14)/SA!FN14","v":1.1774600504625737E-2},{"$f":"(SA!GA14-SA!FO14)/SA!FO14","v":1.0092514718250631E-2},{"$f":"(SA!GB14-SA!FP14)/SA!FP14","v":1.0924369747899159E-2},{"$f":"(SA!GC14-SA!FQ14)/SA!FQ14","v":1.1754827875734676E-2},{"$f":"(SA!GD14-SA!FR14)/SA!FR14","v":1.6792611251049538E-2},{"$f":"(SA!GE14-SA!FS14)/SA!FS14","v":1.4249790444258172E-2},{"$f":"(SA!GF14-SA!FT14)/SA!FT14","v":1.1686143572621035E-2},{"$f":"(SA!GG14-SA!FU14)/SA!FU14","v":1.4190317195325543E-2},{"$f":"(SA!GH14-SA!FV14)/SA!FV14","v":1.9198664440734557E-2},{"$f":"(SA!GI14-SA!FW14)/SA!FW14","v":1.8333333333333333E-2},{"$f":"(SA!GJ14-SA!FX14)/SA!FX14","v":1.9983347210657785E-2},{"$f":"(SA!GK14-SA!FY14)/SA!FY14","v":1.8257261410788383E-2},{"$f":"(SA!GL14-SA!FZ14)/SA!FZ14","v":1.828761429758936E-2},{"$f":"(SA!GM14-SA!GA14)/SA!GA14","v":2.497918401332223E-2},{"$f":"(SA!GN14-SA!GB14)/SA!GB14","v":2.4937655860349128E-2},{"$f":"(SA!GO14-SA!GC14)/SA!GC14","v":2.4066390041493777E-2},{"$f":"(SA!GP14-SA!GD14)/SA!GD14","v":2.0644095788604461E-2},{"$f":"(SA!GQ14-SA!GE14)/SA!GE14","v":2.2314049586776859E-2},{"$f":"(SA!GR14-SA!GF14)/SA!GF14","v":2.1452145214521452E-2},{"$f":"(SA!GS14-SA!GG14)/SA!GG14","v":1.8930041152263374E-2},{"$f":"(SA!GT14-SA!GH14)/SA!GH14","v":1.3104013104013105E-2},{"$f":"(SA!GU14-SA!GI14)/SA!GI14","v":1.0638297872340425E-2},{"$f":"(SA!GV14-SA!GJ14)/SA!GJ14","v":1.3061224489795919E-2},{"$f":"(SA!GW14-SA!GK14)/SA!GK14","v":1.2224938875305624E-2},{"$f":"(SA!GX14-SA!GL14)/SA!GL14","v":1.5510204081632653E-2},{"$f":"(SA!GY14-SA!GM14)/SA!GM14","v":8.9358245329000819E-3},{"$f":"(SA!GZ14-SA!GN14)/SA!GN14","v":5.6772100567721003E-3},{"$f":"(SA!HA14-SA!GO14)/SA!GO14","v":0},{"$f":"(SA!HB14-SA!GP14)/SA!GP14","v":1.2944983818770227E-2},{"$f":"(SA!HC14-SA!GQ14)/SA!GQ14","v":1.4551333872271624E-2},{"$f":"(SA!HD14-SA!GR14)/SA!GR14","v":2.827140549273021E-2},{"$f":"(SA!HE14-SA!GS14)/SA!GS14","v":3.9579967689822297E-2},{"$f":"(SA!HF14-SA!GT14)/SA!GT14","v":3.5569927243330642E-2},{"$f":"(SA!HG14-SA!GU14)/SA!GU14","v":3.724696356275304E-2},{"$f":"(SA!HH14-SA!GV14)/SA!GV14","v":1.4504431909750202E-2},{"$f":"(SA!HI14-SA!GW14)/SA!GW14","v":2.2544283413848631E-2},{"$f":"(SA!HJ14-SA!GX14)/SA!GX14","v":3.6173633440514469E-2},{"$f":"(SA!HK14-SA!GY14)/SA!GY14","v":-1},{"$f":"(SA!HL14-SA!GZ14)/SA!GZ14","v":-1},{"$f":"(SA!HM14-SA!HA14)/SA!HA14","v":-1}," n/a ","n/a",null,"  Wholesale Trade",-6.8683565004088301E-2,-1.2921254277637255E-2,8.5265435006367657E-3,1.1703314648399445E-2,1.4234922132025015E-2,1.942076079179585E-2,2.4631628823070347E-2,3.6971830985915492E-2,2.4024821079013502E-2]
["  Retail Trade",{"$f":"(SA!BN15-SA!BB15)/SA!BB15","v":-8.1838212149826887E-3},{"$f":"(SA!BO15-SA!BC15)/SA!BC15","v":-4.0970690198550265E-3},{"$f":"(SA!BP15-SA!BD15)/SA!BD15","v":-2.2082018927444794E-3},{"$f":"(SA!BQ15-SA!BE15)/SA!BE15","v":-9.4517958412098301E-4},{"$f":"(SA!BR15-SA!BF15)/SA!BF15","v":-5.6550424128180964E-3},{"$f":"(SA!BS15-SA!BG15)/SA!BG15","v":-1.2856694888679836E-2},{"$f":"(SA!BT15-SA!BH15)/SA!BH15","v":-8.1530260269677014E-3},{"$f":"(SA!BU15-SA!BI15)/SA!BI15","v":-3.1426775612822125E-3},{"$f":"(SA!BV15-SA!BJ15)/SA!BJ15","v":-3.1476235442241107E-3},{"$f":"(SA!BW15-SA!BK15)/SA!BK15","v":1.0110584518167456E-2},{"$f":"(SA!BX15-SA!BL15)/SA!BL15","v":7.9013906447534758E-3},{"$f":"(SA!BY15-SA!BM15)/SA!BM15","v":1.0446343779677113E-2},{"$f":"(SA!BZ15-SA!BN15)/SA!BN15","v":-4.443033957473818E-3},{"$f":"(SA!CA15-SA!BO15)/SA!BO15","v":-5.379746835443038E-3},{"$f":"(SA!CB15-SA!BP15)/SA!BP15","v":-6.3231109705975336E-3},{"$f":"(SA!CC15-SA!BQ15)/SA!BQ15","v":-7.8839482812992755E-3},{"$f":"(SA!CD15-SA!BR15)/SA!BR15","v":-8.846761453396525E-3},{"$f":"(SA!CE15-SA!BS15)/SA!BS15","v":-3.4942820838627701E-3},{"$f":"(SA!CF15-SA!BT15)/SA!BT15","v":-1.1065444198545684E-2},{"$f":"(SA!CG15-SA!BU15)/SA!BU15","v":-1.2610340479192938E-2},{"$f":"(SA!CH15-SA!BV15)/SA!BV15","v":-1.2314493211240922E-2},{"$f":"(SA!CI15-SA!BW15)/SA!BW15","v":-2.0018767594619957E-2},{"$f":"(SA!CJ15-SA!BX15)/SA!BX15","v":-1.2229539040451553E-2},{"$f":"(SA!CK15-SA!BY15)/SA!BY15","v":-1.1904761904761904E-2},{"$f":"(SA!CL15-SA!BZ15)/SA!BZ15","v":9.2445011157156511E-3},{"$f":"(SA!CM15-SA!CA15)/SA!CA15","v":6.0451797645561566E-3},{"$f":"(SA!CN15-SA!CB15)/SA!CB15","v":6.9996818326439709E-3},{"$f":"(SA!CO15-SA!CC15)/SA!CC15","v":0},{"$f":"(SA!CP15-SA!CD15)/SA!CD15","v":7.6506216130060563E-3},{"$f":"(SA!CQ15-SA!CE15)/SA!CE15","v":5.4191903092126233E-3},{"$f":"(SA!CR15-SA!CF15)/SA!CF15","v":9.2710997442455242E-3},{"$f":"(SA!CS15-SA!CG15)/SA!CG15","v":1.9157088122605363E-3},{"$f":"(SA!CT15-SA!CH15)/SA!CH15","v":1.9181585677749361E-3},{"$f":"(SA!CU15-SA!CI15)/SA!CI15","v":-1.915097350781998E-3},{"$f":"(SA!CV15-SA!CJ15)/SA!CJ15","v":-8.2539682539682548E-3},{"$f":"(SA!CW15-SA!CK15)/SA!CK15","v":-1.0145846544071021E-2},{"$f":"(SA!CX15-SA!CL15)/SA!CL15","v":-9.4756790903348081E-3},{"$f":"(SA!CY15-SA!CM15)/SA!CM15","v":-1.0752688172043012E-2},{"$f":"(SA!CZ15-SA!CN15)/SA!CN15","v":-1.2322274881516588E-2},{"$f":"(SA!DA15-SA!CO15)/SA!CO15","v":-6.3572790845518121E-3},{"$f":"(SA!DB15-SA!CP15)/SA!CP15","v":-1.4868712432774439E-2},{"$f":"(SA!DC15-SA!CQ15)/SA!CQ15","v":-1.5218769816106531E-2},{"$f":"(SA!DD15-SA!CR15)/SA!CR15","v":-1.5204307887234716E-2},{"$f":"(SA!DE15-SA!CS15)/SA!CS15","v":-1.0834926704907584E-2},{"$f":"(SA!DF15-SA!CT15)/SA!CT15","v":-1.372048500319081E-2},{"$f":"(SA!DG15-SA!CU15)/SA!CU15","v":-1.5989766549408379E-2},{"$f":"(SA!DH15-SA!CV15)/SA!CV15","v":-2.2087067861715749E-2},{"$f":"(SA!DI15-SA!CW15)/SA!CW15","v":-2.4023062139654067E-2},{"$f":"(SA!DJ15-SA!CX15)/SA!CX15","v":-3.475765306122449E-2},{"$f":"(SA!DK15-SA!CY15)/SA!CY15","v":-3.5166240409207163E-2},{"$f":"(SA!DL15-SA!CZ15)/SA!CZ15","v":-4.0626999360204731E-2},{"$f":"(SA!DM15-SA!DA15)/SA!DA15","v":-4.5425463851567496E-2},{"$f":"(SA!DN15-SA!DB15)/SA!DB15","v":-4.046242774566474E-2},{"$f":"(SA!DO15-SA!DC15)/SA!DC15","v":-3.895685769478429E-2},{"$f":"(SA!DP15-SA!DD15)/SA!DD15","v":-4.277902862656803E-2},{"$f":"(SA!DQ15-SA!DE15)/SA!DE15","v":-4.3492268041237112E-2},{"$f":"(SA!DR15-SA!DF15)/SA!DF15","v":-4.2704626334519574E-2},{"$f":"(SA!DS15-SA!DG15)/SA!DG15","v":-3.997400064998375E-2},{"$f":"(SA!DT15-SA!DH15)/SA!DH15","v":-3.5679214402618661E-2},{"$f":"(SA!DU15-SA!DI15)/SA!DI15","v":-3.675746636035445E-2},{"$f":"(SA!DV15-SA!DJ15)/SA!DJ15","v":-2.9402048232573506E-2},{"$f":"(SA!DW15-SA!DK15)/SA!DK15","v":-2.8164347249834326E-2},{"$f":"(SA!DX15-SA!DL15)/SA!DL15","v":-2.0673557852617538E-2},{"$f":"(SA!DY15-SA!DM15)/SA!DM15","v":-1.8096514745308313E-2},{"$f":"(SA!DZ15-SA!DN15)/SA!DN15","v":-1.7737617135207495E-2},{"$f":"(SA!EA15-SA!DO15)/SA!DO15","v":-1.7755443886097153E-2},{"$f":"(SA!EB15-SA!DP15)/SA!DP15","v":-1.4784946236559141E-2},{"$f":"(SA!EC15-SA!DQ15)/SA!DQ15","v":-1.2462108454024925E-2},{"$f":"(SA!ED15-SA!DR15)/SA!DR15","v":-9.1247042919905368E-3},{"$f":"(SA!EE15-SA!DS15)/SA!DS15","v":-1.6926201760324984E-3},{"$f":"(SA!EF15-SA!DT15)/SA!DT15","v":-2.7155465037338763E-3},{"$f":"(SA!EG15-SA!DU15)/SA!DU15","v":1.362862010221465E-3},{"$f":"(SA!EH15-SA!DV15)/SA!DV15","v":6.8073519400953025E-4},{"$f":"(SA!EI15-SA!DW15)/SA!DW15","v":2.7275826798499828E-3},{"$f":"(SA!EJ15-SA!DX15)/SA!DX15","v":2.723867892407218E-3},{"$f":"(SA!EK15-SA!DY15)/SA!DY15","v":9.8976109215017059E-3},{"$f":"(SA!EL15-SA!DZ15)/SA!DZ15","v":1.7035775127768314E-3},{"$f":"(SA!EM15-SA!EA15)/SA!EA15","v":1.7053206002728514E-3},{"$f":"(SA!EN15-SA!EB15)/SA!EB15","v":5.7980900409276941E-3},{"$f":"(SA!EO15-SA!EC15)/SA!EC15","v":7.1623465211459753E-3},{"$f":"(SA!EP15-SA!ED15)/SA!ED15","v":9.2087312414733963E-3},{"$f":"(SA!EQ15-SA!EE15)/SA!EE15","v":2.7127839945744322E-3},{"$f":"(SA!ER15-SA!EF15)/SA!EF15","v":7.1477195371000678E-3},{"$f":"(SA!ES15-SA!EG15)/SA!EG15","v":5.7842803674719289E-3},{"$f":"(SA!ET15-SA!EH15)/SA!EH15","v":6.1224489795918364E-3},{"$f":"(SA!EU15-SA!EI15)/SA!EI15","v":4.0802448146888817E-3},{"$f":"(SA!EV15-SA!EJ15)/SA!EJ15","v":2.3769100169779285E-3},{"$f":"(SA!EW15-SA!EK15)/SA!EK15","v":-4.0554241297735723E-3},{"$f":"(SA!EX15-SA!EL15)/SA!EL15","v":6.8027210884353737E-4},{"$f":"(SA!EY15-SA!EM15)/SA!EM15","v":1.7024174327545114E-3},{"$f":"(SA!EZ15-SA!EN15)/SA!EN15","v":-5.0864699898270603E-3},{"$f":"(SA!FA15-SA!EO15)/SA!EO15","v":-3.7250253979004403E-3},{"$f":"(SA!FB15-SA!EP15)/SA!EP15","v":-4.3933761405880369E-3},{"$f":"(SA!FC15-SA!EQ15)/SA!EQ15","v":0},{"$f":"(SA!FD15-SA!ER15)/SA!ER15","v":3.3795201081446434E-3},{"$f":"(SA!FE15-SA!ES15)/SA!ES15","v":3.0446549391069011E-3},{"$f":"(SA!FF15-SA!ET15)/SA!ET15","v":3.3806626098715348E-4},{"$f":"(SA!FG15-SA!EU15)/SA!EU15","v":5.4182187605824588E-3},{"$f":"(SA!FH15-SA!EV15)/SA!EV15","v":4.7425474254742545E-3},{"$f":"(SA!FI15-SA!EW15)/SA!EW15","v":9.8405157787580591E-3},{"$f":"(SA!FJ15-SA!EX15)/SA!EX15","v":1.3596193065941536E-2},{"$f":"(SA!FK15-SA!EY15)/SA!EY15","v":1.6315431679129844E-2},{"$f":"(SA!FL15-SA!EZ15)/SA!EZ15","v":1.9086571233810499E-2},{"$f":"(SA!FM15-SA!FA15)/SA!FA15","v":1.7675050985723997E-2},{"$f":"(SA!FN15-SA!FB15)/SA!FB15","v":1.6293279022403257E-2},{"$f":"(SA!FO15-SA!FC15)/SA!FC15","v":1.3865404125803178E-2},{"$f":"(SA!FP15-SA!FD15)/SA!FD15","v":8.4203435500168414E-3},{"$f":"(SA!FQ15-SA!FE15)/SA!FE15","v":1.6188870151770656E-2},{"$f":"(SA!FR15-SA!FF15)/SA!FF15","v":1.8925312605610003E-2},{"$f":"(SA!FS15-SA!FG15)/SA!FG15","v":1.6840687100033683E-2},{"$f":"(SA!FT15-SA!FH15)/SA!FH15","v":2.0229265003371546E-2},{"$f":"(SA!FU15-SA!FI15)/SA!FI15","v":2.1505376344086023E-2},{"$f":"(SA!FV15-SA!FJ15)/SA!FJ15","v":1.7437961099932932E-2},{"$f":"(SA!FW15-SA!FK15)/SA!FK15","v":1.471571906354515E-2},{"$f":"(SA!FX15-SA!FL15)/SA!FL15","v":1.5384615384615385E-2},{"$f":"(SA!FY15-SA!FM15)/SA!FM15","v":1.2692050768203072E-2},{"$f":"(SA!FZ15-SA!FN15)/SA!FN15","v":1.2024048096192385E-2},{"$f":"(SA!GA15-SA!FO15)/SA!FO15","v":1.0340226817878585E-2},{"$f":"(SA!GB15-SA!FP15)/SA!FP15","v":1.503006012024048E-2},{"$f":"(SA!GC15-SA!FQ15)/SA!FQ15","v":5.6422170594092264E-3},{"$f":"(SA!GD15-SA!FR15)/SA!FR15","v":6.6334991708126038E-3},{"$f":"(SA!GE15-SA!FS15)/SA!FS15","v":5.2997681351440876E-3},{"$f":"(SA!GF15-SA!FT15)/SA!FT15","v":6.278916060806345E-3},{"$f":"(SA!GG15-SA!FU15)/SA!FU15","v":-1.3157894736842105E-3},{"$f":"(SA!GH15-SA!FV15)/SA!FV15","v":2.9663810151615028E-3},{"$f":"(SA!GI15-SA!FW15)/SA!FW15","v":3.6255767963085037E-3},{"$f":"(SA!GJ15-SA!FX15)/SA!FX15","v":5.5994729907773389E-3},{"$f":"(SA!GK15-SA!FY15)/SA!FY15","v":8.9050131926121379E-3},{"$f":"(SA!GL15-SA!FZ15)/SA!FZ15","v":1.1881188118811881E-2},{"$f":"(SA!GM15-SA!GA15)/SA!GA15","v":1.1554968636513702E-2},{"$f":"(SA!GN15-SA!GB15)/SA!GB15","v":5.9230009871668312E-3},{"$f":"(SA!GO15-SA!GC15)/SA!GC15","v":2.3102310231023103E-3},{"$f":"(SA!GP15-SA!GD15)/SA!GD15","v":1.5156507413509062E-2},{"$f":"(SA!GQ15-SA!GE15)/SA!GE15","v":1.9110378912685338E-2},{"$f":"(SA!GR15-SA!GF15)/SA!GF15","v":1.6420361247947456E-2},{"$f":"(SA!GS15-SA!GG15)/SA!GG15","v":2.30566534914361E-2},{"$f":"(SA!GT15-SA!GH15)/SA!GH15","v":1.7088399605652317E-2},{"$f":"(SA!GU15-SA!GI15)/SA!GI15","v":1.6091954022988506E-2},{"$f":"(SA!GV15-SA!GJ15)/SA!GJ15","v":1.6377333770062234E-2},{"$f":"(SA!GW15-SA!GK15)/SA!GK15","v":1.3729977116704805E-2},{"$f":"(SA!GX15-SA!GL15)/SA!GL15","v":1.0763209393346379E-2},{"$f":"(SA!GY15-SA!GM15)/SA!GM15","v":1.6318537859007832E-3},{"$f":"(SA!GZ15-SA!GN15)/SA!GN15","v":3.2711808963035655E-3},{"$f":"(SA!HA15-SA!GO15)/SA!GO15","v":3.9512676983865661E-3},{"$f":"(SA!HB15-SA!GP15)/SA!GP15","v":5.19311911716975E-3},{"$f":"(SA!HC15-SA!GQ15)/SA!GQ15","v":8.082767539605561E-3},{"$f":"(SA!HD15-SA!GR15)/SA!GR15","v":1.9386106623586429E-3},{"$f":"(SA!HE15-SA!GS15)/SA!GS15","v":-8.3708950418544745E-3},{"$f":"(SA!HF15-SA!GT15)/SA!GT15","v":-1.2924071082390954E-3},{"$f":"(SA!HG15-SA!GU15)/SA!GU15","v":9.6961861667744023E-4},{"$f":"(SA!HH15-SA!GV15)/SA!GV15","v":-6.1231066709635839E-3},{"$f":"(SA!HI15-SA!GW15)/SA!GW15","v":-9.0293453724604959E-3},{"$f":"(SA!HJ15-SA!GX15)/SA!GX15","v":-7.0990642142626653E-3},{"$f":"(SA!HK15-SA!GY15)/SA!GY15","v":-1},{"$f":"(SA!HL15-SA!GZ15)/SA!GZ15","v":-1},{"$f":"(SA!HM15-SA!HA15)/SA!HA15","v":-1}," n/a ","n/a",null,"  Retail Trade",-4.5425463851567496E-2,-1.6426729195858157E-2,-8.1684236209751959E-3,0,2.7210969179490216E-3,6.8165905017282874E-3,1.3763833868979398E-2,2.30566534914361E-2,1.5767667316971955E-2]
["  Transportation, Warehousing, and Utilities",{"$f":"(SA!BN16-SA!BB16)/SA!BB16","v":2.2727272727272728E-2},{"$f":"(SA!BO16-SA!BC16)/SA!BC16","v":2.1759697256385997E-2},{"$f":"(SA!BP16-SA!BD16)/SA!BD16","v":2.3607176581680833E-2},{"$f":"(SA!BQ16-SA!BE16)/SA!BE16","v":2.35626767200754E-2},{"$f":"(SA!BR16-SA!BF16)/SA!BF16","v":1.5932521087160263E-2},{"$f":"(SA!BS16-SA!BG16)/SA!BG16","v":1.2149532710280374E-2},{"$f":"(SA!BT16-SA!BH16)/SA!BH16","v":1.1162790697674419E-2},{"$f":"(SA!BU16-SA!BI16)/SA!BI16","v":1.3966480446927373E-2},{"$f":"(SA!BV16-SA!BJ16)/SA!BJ16","v":1.5858208955223881E-2},{"$f":"(SA!BW16-SA!BK16)/SA!BK16","v":0},{"$f":"(SA!BX16-SA!BL16)/SA!BL16","v":4.6168051708217915E-3},{"$f":"(SA!BY16-SA!BM16)/SA!BM16","v":1.0185185185185186E-2},{"$f":"(SA!BZ16-SA!BN16)/SA!BN16","v":1.5740740740740739E-2},{"$f":"(SA!CA16-SA!BO16)/SA!BO16","v":1.7592592592592594E-2},{"$f":"(SA!CB16-SA!BP16)/SA!BP16","v":1.4760147601476014E-2},{"$f":"(SA!CC16-SA!BQ16)/SA!BQ16","v":1.1970534069981584E-2},{"$f":"(SA!CD16-SA!BR16)/SA!BR16","v":1.3837638376383764E-2},{"$f":"(SA!CE16-SA!BS16)/SA!BS16","v":1.7543859649122806E-2},{"$f":"(SA!CF16-SA!BT16)/SA!BT16","v":1.0119595216191352E-2},{"$f":"(SA!CG16-SA!BU16)/SA!BU16","v":1.0101010101010102E-2},{"$f":"(SA!CH16-SA!BV16)/SA!BV16","v":1.2855831037649219E-2},{"$f":"(SA!CI16-SA!BW16)/SA!BW16","v":1.6635859519408502E-2},{"$f":"(SA!CJ16-SA!BX16)/SA!BX16","v":1.0110294117647059E-2},{"$f":"(SA!CK16-SA!BY16)/SA!BY16","v":1.2832263978001834E-2},{"$f":"(SA!CL16-SA!BZ16)/SA!BZ16","v":5.4694621695533276E-3},{"$f":"(SA!CM16-SA!CA16)/SA!CA16","v":4.549590536851683E-3},{"$f":"(SA!CN16-SA!CB16)/SA!CB16","v":2.7272727272727275E-3},{"$f":"(SA!CO16-SA!CC16)/SA!CC16","v":9.099181073703367E-4},{"$f":"(SA!CP16-SA!CD16)/SA!CD16","v":5.4595086442220204E-3},{"$f":"(SA!CQ16-SA!CE16)/SA!CE16","v":9.0744101633393835E-3},{"$f":"(SA!CR16-SA!CF16)/SA!CF16","v":0},{"$f":"(SA!CS16-SA!CG16)/SA!CG16","v":3.6363636363636364E-3},{"$f":"(SA!CT16-SA!CH16)/SA!CH16","v":0},{"$f":"(SA!CU16-SA!CI16)/SA!CI16","v":3.6363636363636364E-3},{"$f":"(SA!CV16-SA!CJ16)/SA!CJ16","v":7.2793448589626936E-3},{"$f":"(SA!CW16-SA!CK16)/SA!CK16","v":9.049773755656109E-4},{"$f":"(SA!CX16-SA!CL16)/SA!CL16","v":4.5330915684496827E-3},{"$f":"(SA!CY16-SA!CM16)/SA!CM16","v":9.0579710144927537E-4},{"$f":"(SA!CZ16-SA!CN16)/SA!CN16","v":-1.8132366273798731E-3},{"$f":"(SA!DA16-SA!CO16)/SA!CO16","v":-3.6363636363636364E-3},{"$f":"(SA!DB16-SA!CP16)/SA!CP16","v":-1.1764705882352941E-2},{"$f":"(SA!DC16-SA!CQ16)/SA!CQ16","v":-2.3381294964028777E-2},{"$f":"(SA!DD16-SA!CR16)/SA!CR16","v":-1.2750455373406194E-2},{"$f":"(SA!DE16-SA!CS16)/SA!CS16","v":-2.0833333333333332E-2},{"$f":"(SA!DF16-SA!CT16)/SA!CT16","v":-2.6291931097008159E-2},{"$f":"(SA!DG16-SA!CU16)/SA!CU16","v":-2.8985507246376812E-2},{"$f":"(SA!DH16-SA!CV16)/SA!CV16","v":-3.4327009936766031E-2},{"$f":"(SA!DI16-SA!CW16)/SA!CW16","v":-3.7974683544303799E-2},{"$f":"(SA!DJ16-SA!CX16)/SA!CX16","v":-4.7833935018050541E-2},{"$f":"(SA!DK16-SA!CY16)/SA!CY16","v":-4.9773755656108594E-2},{"$f":"(SA!DL16-SA!CZ16)/SA!CZ16","v":-5.267938237965486E-2},{"$f":"(SA!DM16-SA!DA16)/SA!DA16","v":-4.8357664233576646E-2},{"$f":"(SA!DN16-SA!DB16)/SA!DB16","v":-3.9377289377289376E-2},{"$f":"(SA!DO16-SA!DC16)/SA!DC16","v":-3.3149171270718231E-2},{"$f":"(SA!DP16-SA!DD16)/SA!DD16","v":-4.0590405904059039E-2},{"$f":"(SA!DQ16-SA!DE16)/SA!DE16","v":-3.7002775208140611E-2},{"$f":"(SA!DR16-SA!DF16)/SA!DF16","v":-3.4450651769087522E-2},{"$f":"(SA!DS16-SA!DG16)/SA!DG16","v":-3.8246268656716417E-2},{"$f":"(SA!DT16-SA!DH16)/SA!DH16","v":-4.0224508886810104E-2},{"$f":"(SA!DU16-SA!DI16)/SA!DI16","v":-3.9473684210526314E-2},{"$f":"(SA!DV16-SA!DJ16)/SA!DJ16","v":-3.1279620853080566E-2},{"$f":"(SA!DW16-SA!DK16)/SA!DK16","v":-2.4761904761904763E-2},{"$f":"(SA!DX16-SA!DL16)/SA!DL16","v":-1.9175455417066157E-2},{"$f":"(SA!DY16-SA!DM16)/SA!DM16","v":-1.725790987535954E-2},{"$f":"(SA!DZ16-SA!DN16)/SA!DN16","v":-2.5738798856053385E-2},{"$f":"(SA!EA16-SA!DO16)/SA!DO16","v":-2.4761904761904763E-2},{"$f":"(SA!EB16-SA!DP16)/SA!DP16","v":-1.5384615384615385E-2},{"$f":"(SA!EC16-SA!DQ16)/SA!DQ16","v":-2.2094140249759846E-2},{"$f":"(SA!ED16-SA!DR16)/SA!DR16","v":-2.0250723240115717E-2},{"$f":"(SA!EE16-SA!DS16)/SA!DS16","v":-1.1639185257032008E-2},{"$f":"(SA!EF16-SA!DT16)/SA!DT16","v":-9.7465886939571145E-3},{"$f":"(SA!EG16-SA!DU16)/SA!DU16","v":-5.8708414872798431E-3},{"$f":"(SA!EH16-SA!DV16)/SA!DV16","v":-6.8493150684931503E-3},{"$f":"(SA!EI16-SA!DW16)/SA!DW16","v":-1.171875E-2},{"$f":"(SA!EJ16-SA!DX16)/SA!DX16","v":-1.1730205278592375E-2},{"$f":"(SA!EK16-SA!DY16)/SA!DY16","v":-1.5609756097560976E-2},{"$f":"(SA!EL16-SA!DZ16)/SA!DZ16","v":-1.4677103718199608E-2},{"$f":"(SA!EM16-SA!EA16)/SA!EA16","v":-1.7578125E-2},{"$f":"(SA!EN16-SA!EB16)/SA!EB16","v":-1.5625E-2},{"$f":"(SA!EO16-SA!EC16)/SA!EC16","v":-9.823182711198428E-3},{"$f":"(SA!EP16-SA!ED16)/SA!ED16","v":-6.889763779527559E-3},{"$f":"(SA!EQ16-SA!EE16)/SA!EE16","v":-1.1776251226692836E-2},{"$f":"(SA!ER16-SA!EF16)/SA!EF16","v":-8.8582677165354329E-3},{"$f":"(SA!ES16-SA!EG16)/SA!EG16","v":-9.8425196850393699E-3},{"$f":"(SA!ET16-SA!EH16)/SA!EH16","v":-9.852216748768473E-3},{"$f":"(SA!EU16-SA!EI16)/SA!EI16","v":-7.9051383399209481E-3},{"$f":"(SA!EV16-SA!EJ16)/SA!EJ16","v":-9.8911968348170121E-3},{"$f":"(SA!EW16-SA!EK16)/SA!EK16","v":-1.1892963330029732E-2},{"$f":"(SA!EX16-SA!EL16)/SA!EL16","v":-2.9791459781529296E-3},{"$f":"(SA!EY16-SA!EM16)/SA!EM16","v":-9.9403578528827028E-4},{"$f":"(SA!EZ16-SA!EN16)/SA!EN16","v":-1.984126984126984E-3},{"$f":"(SA!FA16-SA!EO16)/SA!EO16","v":-4.96031746031746E-3},{"$f":"(SA!FB16-SA!EP16)/SA!EP16","v":-2.973240832507433E-3},{"$f":"(SA!FC16-SA!EQ16)/SA!EQ16","v":-1.9860973187686196E-3},{"$f":"(SA!FD16-SA!ER16)/SA!ER16","v":-3.9721946375372392E-3},{"$f":"(SA!FE16-SA!ES16)/SA!ES16","v":-1.9880715705765406E-3},{"$f":"(SA!FF16-SA!ET16)/SA!ET16","v":-1.990049751243781E-3},{"$f":"(SA!FG16-SA!EU16)/SA!EU16","v":0},{"$f":"(SA!FH16-SA!EV16)/SA!EV16","v":4.995004995004995E-3},{"$f":"(SA!FI16-SA!EW16)/SA!EW16","v":6.018054162487462E-3},{"$f":"(SA!FJ16-SA!EX16)/SA!EX16","v":-1.9920318725099601E-3},{"$f":"(SA!FK16-SA!EY16)/SA!EY16","v":-7.9601990049751239E-3},{"$f":"(SA!FL16-SA!EZ16)/SA!EZ16","v":-6.958250497017893E-3},{"$f":"(SA!FM16-SA!FA16)/SA!FA16","v":-9.9700897308075765E-4},{"$f":"(SA!FN16-SA!FB16)/SA!FB16","v":-6.958250497017893E-3},{"$f":"(SA!FO16-SA!FC16)/SA!FC16","v":-3.9800995024875619E-3},{"$f":"(SA!FP16-SA!FD16)/SA!FD16","v":-9.9700897308075765E-4},{"$f":"(SA!FQ16-SA!FE16)/SA!FE16","v":-2.9880478087649402E-3},{"$f":"(SA!FR16-SA!FF16)/SA!FF16","v":1.9940179461615153E-3},{"$f":"(SA!FS16-SA!FG16)/SA!FG16","v":4.9800796812749003E-3},{"$f":"(SA!FT16-SA!FH16)/SA!FH16","v":2.982107355864811E-3},{"$f":"(SA!FU16-SA!FI16)/SA!FI16","v":1.1964107676969093E-2},{"$f":"(SA!FV16-SA!FJ16)/SA!FJ16","v":1.0978043912175649E-2},{"$f":"(SA!FW16-SA!FK16)/SA!FK16","v":1.60481444332999E-2},{"$f":"(SA!FX16-SA!FL16)/SA!FL16","v":1.4014014014014014E-2},{"$f":"(SA!FY16-SA!FM16)/SA!FM16","v":1.0978043912175649E-2},{"$f":"(SA!FZ16-SA!FN16)/SA!FN16","v":1.6016016016016016E-2},{"$f":"(SA!GA16-SA!FO16)/SA!FO16","v":1.5984015984015984E-2},{"$f":"(SA!GB16-SA!FP16)/SA!FP16","v":2.3952095808383235E-2},{"$f":"(SA!GC16-SA!FQ16)/SA!FQ16","v":2.6973026973026972E-2},{"$f":"(SA!GD16-SA!FR16)/SA!FR16","v":1.9900497512437811E-2},{"$f":"(SA!GE16-SA!FS16)/SA!FS16","v":1.5857284440039643E-2},{"$f":"(SA!GF16-SA!FT16)/SA!FT16","v":1.9821605550049554E-2},{"$f":"(SA!GG16-SA!FU16)/SA!FU16","v":1.1822660098522168E-2},{"$f":"(SA!GH16-SA!FV16)/SA!FV16","v":1.7769002961500493E-2},{"$f":"(SA!GI16-SA!FW16)/SA!FW16","v":2.3692003948667325E-2},{"$f":"(SA!GJ16-SA!FX16)/SA!FX16","v":4.244817374136229E-2},{"$f":"(SA!GK16-SA!FY16)/SA!FY16","v":4.6396841066140178E-2},{"$f":"(SA!GL16-SA!FZ16)/SA!FZ16","v":4.6305418719211823E-2},{"$f":"(SA!GM16-SA!GA16)/SA!GA16","v":4.5231071779744343E-2},{"$f":"(SA!GN16-SA!GB16)/SA!GB16","v":3.7037037037037035E-2},{"$f":"(SA!GO16-SA!GC16)/SA!GC16","v":3.8910505836575876E-2},{"$f":"(SA!GP16-SA!GD16)/SA!GD16","v":3.9024390243902439E-2},{"$f":"(SA!GQ16-SA!GE16)/SA!GE16","v":4.0975609756097563E-2},{"$f":"(SA!GR16-SA!GF16)/SA!GF16","v":3.4985422740524783E-2},{"$f":"(SA!GS16-SA!GG16)/SA!GG16","v":3.7974683544303799E-2},{"$f":"(SA!GT16-SA!GH16)/SA!GH16","v":3.4917555771096023E-2},{"$f":"(SA!GU16-SA!GI16)/SA!GI16","v":3.0858244937319191E-2},{"$f":"(SA!GV16-SA!GJ16)/SA!GJ16","v":1.5151515151515152E-2},{"$f":"(SA!GW16-SA!GK16)/SA!GK16","v":1.1320754716981131E-2},{"$f":"(SA!GX16-SA!GL16)/SA!GL16","v":8.4745762711864406E-3},{"$f":"(SA!GY16-SA!GM16)/SA!GM16","v":7.525870178739417E-3},{"$f":"(SA!GZ16-SA!GN16)/SA!GN16","v":7.5187969924812026E-3},{"$f":"(SA!HA16-SA!GO16)/SA!GO16","v":6.5543071161048693E-3},{"$f":"(SA!HB16-SA!GP16)/SA!GP16","v":3.7558685446009389E-3},{"$f":"(SA!HC16-SA!GQ16)/SA!GQ16","v":1.8744142455482662E-3},{"$f":"(SA!HD16-SA!GR16)/SA!GR16","v":-1.8779342723004694E-3},{"$f":"(SA!HE16-SA!GS16)/SA!GS16","v":-9.3808630393996248E-4},{"$f":"(SA!HF16-SA!GT16)/SA!GT16","v":0},{"$f":"(SA!HG16-SA!GU16)/SA!GU16","v":-5.6127221702525721E-3},{"$f":"(SA!HH16-SA!GV16)/SA!GV16","v":9.3283582089552237E-4},{"$f":"(SA!HI16-SA!GW16)/SA!GW16","v":-4.6641791044776115E-3},{"$f":"(SA!HJ16-SA!GX16)/SA!GX16","v":2.2408963585434174E-2},{"$f":"(SA!HK16-SA!GY16)/SA!GY16","v":-1},{"$f":"(SA!HL16-SA!GZ16)/SA!GZ16","v":-1},{"$f":"(SA!HM16-SA!HA16)/SA!HA16","v":-1}," n/a ","n/a",null,"  Transportation, Warehousing, and Utilities",-5.267938237965486E-2,-2.241592892832708E-2,-9.3024282052462728E-3,-9.9700897308075765E-4,4.3089095854281709E-3,1.1571707407751649E-2,1.8282153608637757E-2,4.6396841066140178E-2,2.1159334766579822E-2]
["Information",{"$f":"(SA!BN17-SA!BB17)/SA!BB17","v":-1.3916500994035786E-2},{"$f":"(SA!BO17-SA!BC17)/SA!BC17","v":-7.9840319361277438E-3},{"$f":"(SA!BP17-SA!BD17)/SA!BD17","v":-1.1952191235059761E-2},{"$f":"(SA!BQ17-SA!BE17)/SA!BE17","v":0},{"$f":"(SA!BR17-SA!BF17)/SA!BF17","v":2.008032128514056E-3},{"$f":"(SA!BS17-SA!BG17)/SA!BG17","v":6.0362173038229373E-3},{"$f":"(SA!BT17-SA!BH17)/SA!BH17","v":-7.9840319361277438E-3},{"$f":"(SA!BU17-SA!BI17)/SA!BI17","v":-6.0000000000000001E-3},{"$f":"(SA!BV17-SA!BJ17)/SA!BJ17","v":-2.004008016032064E-3},{"$f":"(SA!BW17-SA!BK17)/SA!BK17","v":-2.012072434607646E-3},{"$f":"(SA!BX17-SA!BL17)/SA!BL17","v":0},{"$f":"(SA!BY17-SA!BM17)/SA!BM17","v":2.0202020202020202E-3},{"$f":"(SA!BZ17-SA!BN17)/SA!BN17","v":0},{"$f":"(SA!CA17-SA!BO17)/SA!BO17","v":-2.012072434607646E-3},{"$f":"(SA!CB17-SA!BP17)/SA!BP17","v":-2.0161290322580645E-3},{"$f":"(SA!CC17-SA!BQ17)/SA!BQ17","v":-1.6E-2},{"$f":"(SA!CD17-SA!BR17)/SA!BR17","v":-1.6032064128256512E-2},{"$f":"(SA!CE17-SA!BS17)/SA!BS17","v":-0.02},{"$f":"(SA!CF17-SA!BT17)/SA!BT17","v":-1.2072434607645875E-2},{"$f":"(SA!CG17-SA!BU17)/SA!BU17","v":-1.2072434607645875E-2},{"$f":"(SA!CH17-SA!BV17)/SA!BV17","v":-1.4056224899598393E-2},{"$f":"(SA!CI17-SA!BW17)/SA!BW17","v":-6.0483870967741934E-3},{"$f":"(SA!CJ17-SA!BX17)/SA!BX17","v":-4.0322580645161289E-3},{"$f":"(SA!CK17-SA!BY17)/SA!BY17","v":-2.0161290322580645E-3},{"$f":"(SA!CL17-SA!BZ17)/SA!BZ17","v":4.0322580645161289E-3},{"$f":"(SA!CM17-SA!CA17)/SA!CA17","v":4.0322580645161289E-3},{"$f":"(SA!CN17-SA!CB17)/SA!CB17","v":6.0606060606060606E-3},{"$f":"(SA!CO17-SA!CC17)/SA!CC17","v":1.6260162601626018E-2},{"$f":"(SA!CP17-SA!CD17)/SA!CD17","v":2.0366598778004074E-2},{"$f":"(SA!CQ17-SA!CE17)/SA!CE17","v":2.6530612244897958E-2},{"$f":"(SA!CR17-SA!CF17)/SA!CF17","v":2.8513238289205704E-2},{"$f":"(SA!CS17-SA!CG17)/SA!CG17","v":2.8513238289205704E-2},{"$f":"(SA!CT17-SA!CH17)/SA!CH17","v":2.8513238289205704E-2},{"$f":"(SA!CU17-SA!CI17)/SA!CI17","v":2.434077079107505E-2},{"$f":"(SA!CV17-SA!CJ17)/SA!CJ17","v":2.0242914979757085E-2},{"$f":"(SA!CW17-SA!CK17)/SA!CK17","v":1.8181818181818181E-2},{"$f":"(SA!CX17-SA!CL17)/SA!CL17","v":1.0040160642570281E-2},{"$f":"(SA!CY17-SA!CM17)/SA!CM17","v":1.0040160642570281E-2},{"$f":"(SA!CZ17-SA!CN17)/SA!CN17","v":1.0040160642570281E-2},{"$f":"(SA!DA17-SA!CO17)/SA!CO17","v":0.01},{"$f":"(SA!DB17-SA!CP17)/SA!CP17","v":2.1956087824351298E-2},{"$f":"(SA!DC17-SA!CQ17)/SA!CQ17","v":7.9522862823061622E-3},{"$f":"(SA!DD17-SA!CR17)/SA!CR17","v":-3.9603960396039604E-3},{"$f":"(SA!DE17-SA!CS17)/SA!CS17","v":-7.9207920792079209E-3},{"$f":"(SA!DF17-SA!CT17)/SA!CT17","v":-1.1881188118811881E-2},{"$f":"(SA!DG17-SA!CU17)/SA!CU17","v":-1.5841584158415842E-2},{"$f":"(SA!DH17-SA!CV17)/SA!CV17","v":-1.984126984126984E-2},{"$f":"(SA!DI17-SA!CW17)/SA!CW17","v":-2.1825396825396824E-2},{"$f":"(SA!DJ17-SA!CX17)/SA!CX17","v":-2.186878727634195E-2},{"$f":"(SA!DK17-SA!CY17)/SA!CY17","v":-1.9880715705765408E-2},{"$f":"(SA!DL17-SA!CZ17)/SA!CZ17","v":-2.982107355864811E-2},{"$f":"(SA!DM17-SA!DA17)/SA!DA17","v":-4.3564356435643561E-2},{"$f":"(SA!DN17-SA!DB17)/SA!DB17","v":-5.46875E-2},{"$f":"(SA!DO17-SA!DC17)/SA!DC17","v":-4.9309664694280081E-2},{"$f":"(SA!DP17-SA!DD17)/SA!DD17","v":-4.9701789264413522E-2},{"$f":"(SA!DQ17-SA!DE17)/SA!DE17","v":-4.9900199600798403E-2},{"$f":"(SA!DR17-SA!DF17)/SA!DF17","v":-4.8096192384769539E-2},{"$f":"(SA!DS17-SA!DG17)/SA!DG17","v":-5.6338028169014086E-2},{"$f":"(SA!DT17-SA!DH17)/SA!DH17","v":-4.8582995951417005E-2},{"$f":"(SA!DU17-SA!DI17)/SA!DI17","v":-4.4624746450304259E-2},{"$f":"(SA!DV17-SA!DJ17)/SA!DJ17","v":-4.878048780487805E-2},{"$f":"(SA!DW17-SA!DK17)/SA!DK17","v":-5.6795131845841784E-2},{"$f":"(SA!DX17-SA!DL17)/SA!DL17","v":-4.5081967213114756E-2},{"$f":"(SA!DY17-SA!DM17)/SA!DM17","v":-3.9337474120082816E-2},{"$f":"(SA!DZ17-SA!DN17)/SA!DN17","v":-3.9256198347107439E-2},{"$f":"(SA!EA17-SA!DO17)/SA!DO17","v":-3.1120331950207469E-2},{"$f":"(SA!EB17-SA!DP17)/SA!DP17","v":-2.3012552301255231E-2},{"$f":"(SA!EC17-SA!DQ17)/SA!DQ17","v":-1.680672268907563E-2},{"$f":"(SA!ED17-SA!DR17)/SA!DR17","v":-1.4736842105263158E-2},{"$f":"(SA!EE17-SA!DS17)/SA!DS17","v":-8.5287846481876331E-3},{"$f":"(SA!EF17-SA!DT17)/SA!DT17","v":-2.1276595744680851E-3},{"$f":"(SA!EG17-SA!DU17)/SA!DU17","v":-4.246284501061571E-3},{"$f":"(SA!EH17-SA!DV17)/SA!DV17","v":2.136752136752137E-3},{"$f":"(SA!EI17-SA!DW17)/SA!DW17","v":1.0752688172043012E-2},{"$f":"(SA!EJ17-SA!DX17)/SA!DX17","v":6.4377682403433476E-3},{"$f":"(SA!EK17-SA!DY17)/SA!DY17","v":1.5086206896551725E-2},{"$f":"(SA!EL17-SA!DZ17)/SA!DZ17","v":8.6021505376344086E-3},{"$f":"(SA!EM17-SA!EA17)/SA!EA17","v":-4.2826552462526769E-3},{"$f":"(SA!EN17-SA!EB17)/SA!EB17","v":2.1413276231263384E-3},{"$f":"(SA!EO17-SA!EC17)/SA!EC17","v":-2.136752136752137E-3},{"$f":"(SA!EP17-SA!ED17)/SA!ED17","v":0},{"$f":"(SA!EQ17-SA!EE17)/SA!EE17","v":4.3010752688172043E-3},{"$f":"(SA!ER17-SA!EF17)/SA!EF17","v":-4.2643923240938165E-3},{"$f":"(SA!ES17-SA!EG17)/SA!EG17","v":-6.3965884861407248E-3},{"$f":"(SA!ET17-SA!EH17)/SA!EH17","v":-1.0660980810234541E-2},{"$f":"(SA!EU17-SA!EI17)/SA!EI17","v":-1.276595744680851E-2},{"$f":"(SA!EV17-SA!EJ17)/SA!EJ17","v":-1.279317697228145E-2},{"$f":"(SA!EW17-SA!EK17)/SA!EK17","v":-1.4861995753715499E-2},{"$f":"(SA!EX17-SA!EL17)/SA!EL17","v":-1.279317697228145E-2},{"$f":"(SA!EY17-SA!EM17)/SA!EM17","v":2.1505376344086021E-3},{"$f":"(SA!EZ17-SA!EN17)/SA!EN17","v":-8.5470085470085479E-3},{"$f":"(SA!FA17-SA!EO17)/SA!EO17","v":-4.2826552462526769E-3},{"$f":"(SA!FB17-SA!EP17)/SA!EP17","v":-4.2735042735042739E-3},{"$f":"(SA!FC17-SA!EQ17)/SA!EQ17","v":-2.1413276231263384E-3},{"$f":"(SA!FD17-SA!ER17)/SA!ER17","v":0},{"$f":"(SA!FE17-SA!ES17)/SA!ES17","v":-2.1459227467811159E-3},{"$f":"(SA!FF17-SA!ET17)/SA!ET17","v":1.0775862068965518E-2},{"$f":"(SA!FG17-SA!EU17)/SA!EU17","v":1.5086206896551725E-2},{"$f":"(SA!FH17-SA!EV17)/SA!EV17","v":1.7278617710583154E-2},{"$f":"(SA!FI17-SA!EW17)/SA!EW17","v":1.7241379310344827E-2},{"$f":"(SA!FJ17-SA!EX17)/SA!EX17","v":1.9438444924406047E-2},{"$f":"(SA!FK17-SA!EY17)/SA!EY17","v":1.5021459227467811E-2},{"$f":"(SA!FL17-SA!EZ17)/SA!EZ17","v":1.9396551724137932E-2},{"$f":"(SA!FM17-SA!FA17)/SA!FA17","v":1.7204301075268817E-2},{"$f":"(SA!FN17-SA!FB17)/SA!FB17","v":1.5021459227467811E-2},{"$f":"(SA!FO17-SA!FC17)/SA!FC17","v":1.5021459227467811E-2},{"$f":"(SA!FP17-SA!FD17)/SA!FD17","v":1.4989293361884369E-2},{"$f":"(SA!FQ17-SA!FE17)/SA!FE17","v":2.1505376344086023E-2},{"$f":"(SA!FR17-SA!FF17)/SA!FF17","v":1.279317697228145E-2},{"$f":"(SA!FS17-SA!FG17)/SA!FG17","v":1.0615711252653927E-2},{"$f":"(SA!FT17-SA!FH17)/SA!FH17","v":1.2738853503184714E-2},{"$f":"(SA!FU17-SA!FI17)/SA!FI17","v":8.4745762711864406E-3},{"$f":"(SA!FV17-SA!FJ17)/SA!FJ17","v":8.4745762711864406E-3},{"$f":"(SA!FW17-SA!FK17)/SA!FK17","v":1.0570824524312896E-2},{"$f":"(SA!FX17-SA!FL17)/SA!FL17","v":1.4799154334038054E-2},{"$f":"(SA!FY17-SA!FM17)/SA!FM17","v":1.6913319238900635E-2},{"$f":"(SA!FZ17-SA!FN17)/SA!FN17","v":1.2684989429175475E-2},{"$f":"(SA!GA17-SA!FO17)/SA!FO17","v":2.1141649048625793E-2},{"$f":"(SA!GB17-SA!FP17)/SA!FP17","v":1.8987341772151899E-2},{"$f":"(SA!GC17-SA!FQ17)/SA!FQ17","v":1.8947368421052633E-2},{"$f":"(SA!GD17-SA!FR17)/SA!FR17","v":2.3157894736842106E-2},{"$f":"(SA!GE17-SA!FS17)/SA!FS17","v":1.680672268907563E-2},{"$f":"(SA!GF17-SA!FT17)/SA!FT17","v":1.4675052410901468E-2},{"$f":"(SA!GG17-SA!FU17)/SA!FU17","v":2.100840336134454E-2},{"$f":"(SA!GH17-SA!FV17)/SA!FV17","v":2.3109243697478993E-2},{"$f":"(SA!GI17-SA!FW17)/SA!FW17","v":1.6736401673640166E-2},{"$f":"(SA!GJ17-SA!FX17)/SA!FX17","v":2.0833333333333332E-2},{"$f":"(SA!GK17-SA!FY17)/SA!FY17","v":2.286902286902287E-2},{"$f":"(SA!GL17-SA!FZ17)/SA!FZ17","v":2.9227557411273485E-2},{"$f":"(SA!GM17-SA!GA17)/SA!GA17","v":2.2774327122153208E-2},{"$f":"(SA!GN17-SA!GB17)/SA!GB17","v":2.2774327122153208E-2},{"$f":"(SA!GO17-SA!GC17)/SA!GC17","v":1.859504132231405E-2},{"$f":"(SA!GP17-SA!GD17)/SA!GD17","v":1.4403292181069959E-2},{"$f":"(SA!GQ17-SA!GE17)/SA!GE17","v":2.0661157024793389E-2},{"$f":"(SA!GR17-SA!GF17)/SA!GF17","v":2.2727272727272728E-2},{"$f":"(SA!GS17-SA!GG17)/SA!GG17","v":2.0576131687242798E-2},{"$f":"(SA!GT17-SA!GH17)/SA!GH17","v":1.2320328542094456E-2},{"$f":"(SA!GU17-SA!GI17)/SA!GI17","v":1.2345679012345678E-2},{"$f":"(SA!GV17-SA!GJ17)/SA!GJ17","v":2.0408163265306124E-3},{"$f":"(SA!GW17-SA!GK17)/SA!GK17","v":-6.0975609756097563E-3},{"$f":"(SA!GX17-SA!GL17)/SA!GL17","v":-1.0141987829614604E-2},{"$f":"(SA!GY17-SA!GM17)/SA!GM17","v":-2.6315789473684209E-2},{"$f":"(SA!GZ17-SA!GN17)/SA!GN17","v":-3.4412955465587043E-2},{"$f":"(SA!HA17-SA!GO17)/SA!GO17","v":-3.2454361054766734E-2},{"$f":"(SA!HB17-SA!GP17)/SA!GP17","v":-3.0425963488843813E-2},{"$f":"(SA!HC17-SA!GQ17)/SA!GQ17","v":-2.4291497975708502E-2},{"$f":"(SA!HD17-SA!GR17)/SA!GR17","v":-3.2323232323232323E-2},{"$f":"(SA!HE17-SA!GS17)/SA!GS17","v":-3.4274193548387094E-2},{"$f":"(SA!HF17-SA!GT17)/SA!GT17","v":-4.665314401622718E-2},{"$f":"(SA!HG17-SA!GU17)/SA!GU17","v":-4.878048780487805E-2},{"$f":"(SA!HH17-SA!GV17)/SA!GV17","v":-5.4989816700610997E-2},{"$f":"(SA!HI17-SA!GW17)/SA!GW17","v":-5.9304703476482618E-2},{"$f":"(SA!HJ17-SA!GX17)/SA!GX17","v":-5.5327868852459015E-2},{"$f":"(SA!HK17-SA!GY17)/SA!GY17","v":-1},{"$f":"(SA!HL17-SA!GZ17)/SA!GZ17","v":-1},{"$f":"(SA!HM17-SA!HA17)/SA!HA17","v":-1}," n/a ","n/a",null,"Information",-5.6795131845841784E-2,-2.1836244438133104E-2,-8.5378965975980905E-3,-2.012072434607646E-3,4.0322580645161289E-3,1.3598234576675704E-2,1.9639562438243809E-2,2.9227557411273485E-2,2.1038744846987825E-2]
["Financial Activities",{"$f":"(SA!BN18-SA!BB18)/SA!BB18","v":8.5078534031413616E-3},{"$f":"(SA!BO18-SA!BC18)/SA!BC18","v":7.2083879423328967E-3},{"$f":"(SA!BP18-SA!BD18)/SA!BD18","v":8.502289077828646E-3},{"$f":"(SA!BQ18-SA!BE18)/SA!BE18","v":5.8785107772697581E-3},{"$f":"(SA!BR18-SA!BF18)/SA!BF18","v":5.8746736292428197E-3},{"$f":"(SA!BS18-SA!BG18)/SA!BG18","v":5.2117263843648211E-3},{"$f":"(SA!BT18-SA!BH18)/SA!BH18","v":4.5513654096228867E-3},{"$f":"(SA!BU18-SA!BI18)/SA!BI18","v":3.8935756002595719E-3},{"$f":"(SA!BV18-SA!BJ18)/SA!BJ18","v":9.120521172638436E-3},{"$f":"(SA!BW18-SA!BK18)/SA!BK18","v":4.5395590142671858E-3},{"$f":"(SA!BX18-SA!BL18)/SA!BL18","v":4.5366169799092677E-3},{"$f":"(SA!BY18-SA!BM18)/SA!BM18","v":3.2362459546925568E-3},{"$f":"(SA!BZ18-SA!BN18)/SA!BN18","v":6.4892926670992862E-3},{"$f":"(SA!CA18-SA!BO18)/SA!BO18","v":8.4580351333767081E-3},{"$f":"(SA!CB18-SA!BP18)/SA!BP18","v":6.4850843060959796E-3},{"$f":"(SA!CC18-SA!BQ18)/SA!BQ18","v":1.1688311688311689E-2},{"$f":"(SA!CD18-SA!BR18)/SA!BR18","v":1.36275146009085E-2},{"$f":"(SA!CE18-SA!BS18)/SA!BS18","v":1.2313674659753726E-2},{"$f":"(SA!CF18-SA!BT18)/SA!BT18","v":1.423948220064725E-2},{"$f":"(SA!CG18-SA!BU18)/SA!BU18","v":1.2281835811247576E-2},{"$f":"(SA!CH18-SA!BV18)/SA!BV18","v":1.355713363460297E-2},{"$f":"(SA!CI18-SA!BW18)/SA!BW18","v":1.355713363460297E-2},{"$f":"(SA!CJ18-SA!BX18)/SA!BX18","v":1.2903225806451613E-2},{"$f":"(SA!CK18-SA!BY18)/SA!BY18","v":1.4838709677419355E-2},{"$f":"(SA!CL18-SA!BZ18)/SA!BZ18","v":1.4829142488716958E-2},{"$f":"(SA!CM18-SA!CA18)/SA!CA18","v":1.5483870967741935E-2},{"$f":"(SA!CN18-SA!CB18)/SA!CB18","v":1.2886597938144329E-2},{"$f":"(SA!CO18-SA!CC18)/SA!CC18","v":8.9858793324775355E-3},{"$f":"(SA!CP18-SA!CD18)/SA!CD18","v":4.4814340588988479E-3},{"$f":"(SA!CQ18-SA!CE18)/SA!CE18","v":7.6824583866837385E-3},{"$f":"(SA!CR18-SA!CF18)/SA!CF18","v":1.2763241863433313E-3},{"$f":"(SA!CS18-SA!CG18)/SA!CG18","v":0},{"$f":"(SA!CT18-SA!CH18)/SA!CH18","v":-6.3694267515923564E-4},{"$f":"(SA!CU18-SA!CI18)/SA!CI18","v":7.0063694267515925E-3},{"$f":"(SA!CV18-SA!CJ18)/SA!CJ18","v":6.369426751592357E-3},{"$f":"(SA!CW18-SA!CK18)/SA!CK18","v":6.3572790845518121E-3},{"$f":"(SA!CX18-SA!CL18)/SA!CL18","v":6.3532401524777635E-3},{"$f":"(SA!CY18-SA!CM18)/SA!CM18","v":9.5298602287166457E-3},{"$f":"(SA!CZ18-SA!CN18)/SA!CN18","v":9.5419847328244278E-3},{"$f":"(SA!DA18-SA!CO18)/SA!CO18","v":9.5419847328244278E-3},{"$f":"(SA!DB18-SA!CP18)/SA!CP18","v":1.4659018483110261E-2},{"$f":"(SA!DC18-SA!CQ18)/SA!CQ18","v":8.8945362134688691E-3},{"$f":"(SA!DD18-SA!CR18)/SA!CR18","v":1.2746972594008922E-2},{"$f":"(SA!DE18-SA!CS18)/SA!CS18","v":1.3409961685823755E-2},{"$f":"(SA!DF18-SA!CT18)/SA!CT18","v":7.6481835564053535E-3},{"$f":"(SA!DG18-SA!CU18)/SA!CU18","v":-2.5300442757748261E-3},{"$f":"(SA!DH18-SA!CV18)/SA!CV18","v":-3.1645569620253164E-3},{"$f":"(SA!DI18-SA!CW18)/SA!CW18","v":-6.3171193935565384E-3},{"$f":"(SA!DJ18-SA!CX18)/SA!CX18","v":-5.681818181818182E-3},{"$f":"(SA!DK18-SA!CY18)/SA!CY18","v":-1.3215859030837005E-2},{"$f":"(SA!DL18-SA!CZ18)/SA!CZ18","v":-1.4492753623188406E-2},{"$f":"(SA!DM18-SA!DA18)/SA!DA18","v":-1.5122873345935728E-2},{"$f":"(SA!DN18-SA!DB18)/SA!DB18","v":-1.9472361809045227E-2},{"$f":"(SA!DO18-SA!DC18)/SA!DC18","v":-1.8891687657430732E-2},{"$f":"(SA!DP18-SA!DD18)/SA!DD18","v":-2.3914411579609818E-2},{"$f":"(SA!DQ18-SA!DE18)/SA!DE18","v":-2.2684310018903593E-2},{"$f":"(SA!DR18-SA!DF18)/SA!DF18","v":-2.3402909550917141E-2},{"$f":"(SA!DS18-SA!DG18)/SA!DG18","v":-2.2194039315155359E-2},{"$f":"(SA!DT18-SA!DH18)/SA!DH18","v":-2.2857142857142857E-2},{"$f":"(SA!DU18-SA!DI18)/SA!DI18","v":-2.4157660521296885E-2},{"$f":"(SA!DV18-SA!DJ18)/SA!DJ18","v":-2.6666666666666668E-2},{"$f":"(SA!DW18-SA!DK18)/SA!DK18","v":-2.4872448979591837E-2},{"$f":"(SA!DX18-SA!DL18)/SA!DL18","v":-2.1099744245524295E-2},{"$f":"(SA!DY18-SA!DM18)/SA!DM18","v":-2.4312220089571339E-2},{"$f":"(SA!DZ18-SA!DN18)/SA!DN18","v":-2.4983984625240232E-2},{"$f":"(SA!EA18-SA!DO18)/SA!DO18","v":-2.3748395378690629E-2},{"$f":"(SA!EB18-SA!DP18)/SA!DP18","v":-2.0631850419084462E-2},{"$f":"(SA!EC18-SA!DQ18)/SA!DQ18","v":-2.321083172147002E-2},{"$f":"(SA!ED18-SA!DR18)/SA!DR18","v":-1.878238341968912E-2},{"$f":"(SA!EE18-SA!DS18)/SA!DS18","v":-1.621271076523995E-2},{"$f":"(SA!EF18-SA!DT18)/SA!DT18","v":-1.4294996751137101E-2},{"$f":"(SA!EG18-SA!DU18)/SA!DU18","v":-1.4332247557003257E-2},{"$f":"(SA!EH18-SA!DV18)/SA!DV18","v":-1.3698630136986301E-2},{"$f":"(SA!EI18-SA!DW18)/SA!DW18","v":-1.1772400261608895E-2},{"$f":"(SA!EJ18-SA!DX18)/SA!DX18","v":-1.3063357282821686E-2},{"$f":"(SA!EK18-SA!DY18)/SA!DY18","v":-1.0491803278688525E-2},{"$f":"(SA!EL18-SA!DZ18)/SA!DZ18","v":-9.8554533508541393E-3},{"$f":"(SA!EM18-SA!EA18)/SA!EA18","v":-1.0519395134779751E-2},{"$f":"(SA!EN18-SA!EB18)/SA!EB18","v":-7.8999341672152737E-3},{"$f":"(SA!EO18-SA!EC18)/SA!EC18","v":-7.9207920792079209E-3},{"$f":"(SA!EP18-SA!ED18)/SA!ED18","v":-5.9405940594059407E-3},{"$f":"(SA!EQ18-SA!EE18)/SA!EE18","v":-7.2511535926170073E-3},{"$f":"(SA!ER18-SA!EF18)/SA!EF18","v":-6.5919578114700065E-3},{"$f":"(SA!ES18-SA!EG18)/SA!EG18","v":-3.9656311962987445E-3},{"$f":"(SA!ET18-SA!EH18)/SA!EH18","v":0},{"$f":"(SA!EU18-SA!EI18)/SA!EI18","v":-6.6181336863004633E-4},{"$f":"(SA!EV18-SA!EJ18)/SA!EJ18","v":0},{"$f":"(SA!EW18-SA!EK18)/SA!EK18","v":0},{"$f":"(SA!EX18-SA!EL18)/SA!EL18","v":1.9907100199071004E-3},{"$f":"(SA!EY18-SA!EM18)/SA!EM18","v":2.6578073089700998E-3},{"$f":"(SA!EZ18-SA!EN18)/SA!EN18","v":6.6357000663570006E-4},{"$f":"(SA!FA18-SA!EO18)/SA!EO18","v":3.3266799733865601E-3},{"$f":"(SA!FB18-SA!EP18)/SA!EP18","v":1.3280212483399733E-3},{"$f":"(SA!FC18-SA!EQ18)/SA!EQ18","v":6.6401062416998667E-4},{"$f":"(SA!FD18-SA!ER18)/SA!ER18","v":0},{"$f":"(SA!FE18-SA!ES18)/SA!ES18","v":-6.6357000663570006E-4},{"$f":"(SA!FF18-SA!ET18)/SA!ET18","v":-3.968253968253968E-3},{"$f":"(SA!FG18-SA!EU18)/SA!EU18","v":-3.3112582781456954E-3},{"$f":"(SA!FH18-SA!EV18)/SA!EV18","v":-2.6472534745201853E-3},{"$f":"(SA!FI18-SA!EW18)/SA!EW18","v":-3.9761431411530811E-3},{"$f":"(SA!FJ18-SA!EX18)/SA!EX18","v":-3.9735099337748344E-3},{"$f":"(SA!FK18-SA!EY18)/SA!EY18","v":-2.6507620941020544E-3},{"$f":"(SA!FL18-SA!EZ18)/SA!EZ18","v":-6.6312997347480103E-4},{"$f":"(SA!FM18-SA!FA18)/SA!FA18","v":-1.3262599469496021E-3},{"$f":"(SA!FN18-SA!FB18)/SA!FB18","v":-1.3262599469496021E-3},{"$f":"(SA!FO18-SA!FC18)/SA!FC18","v":-2.6542800265428003E-3},{"$f":"(SA!FP18-SA!FD18)/SA!FD18","v":-2.6542800265428003E-3},{"$f":"(SA!FQ18-SA!FE18)/SA!FE18","v":-2.6560424966799467E-3},{"$f":"(SA!FR18-SA!FF18)/SA!FF18","v":-1.0624169986719787E-2},{"$f":"(SA!FS18-SA!FG18)/SA!FG18","v":-7.9734219269102981E-3},{"$f":"(SA!FT18-SA!FH18)/SA!FH18","v":-7.9628400796284016E-3},{"$f":"(SA!FU18-SA!FI18)/SA!FI18","v":-3.3266799733865601E-3},{"$f":"(SA!FV18-SA!FJ18)/SA!FJ18","v":-3.324468085106383E-3},{"$f":"(SA!FW18-SA!FK18)/SA!FK18","v":-2.6578073089700998E-3},{"$f":"(SA!FX18-SA!FL18)/SA!FL18","v":-4.6449900464499002E-3},{"$f":"(SA!FY18-SA!FM18)/SA!FM18","v":-1.3280212483399733E-3},{"$f":"(SA!FZ18-SA!FN18)/SA!FN18","v":1.3280212483399733E-3},{"$f":"(SA!GA18-SA!FO18)/SA!FO18","v":1.3306719893546241E-3},{"$f":"(SA!GB18-SA!FP18)/SA!FP18","v":1.3306719893546241E-3},{"$f":"(SA!GC18-SA!FQ18)/SA!FQ18","v":3.3288948069241011E-3},{"$f":"(SA!GD18-SA!FR18)/SA!FR18","v":1.2080536912751677E-2},{"$f":"(SA!GE18-SA!FS18)/SA!FS18","v":1.1386470194239785E-2},{"$f":"(SA!GF18-SA!FT18)/SA!FT18","v":1.0702341137123745E-2},{"$f":"(SA!GG18-SA!FU18)/SA!FU18","v":7.3431241655540717E-3},{"$f":"(SA!GH18-SA!FV18)/SA!FV18","v":9.3395597064709814E-3},{"$f":"(SA!GI18-SA!FW18)/SA!FW18","v":7.9946702198534312E-3},{"$f":"(SA!GJ18-SA!FX18)/SA!FX18","v":9.3333333333333341E-3},{"$f":"(SA!GK18-SA!FY18)/SA!FY18","v":3.9893617021276593E-3},{"$f":"(SA!GL18-SA!FZ18)/SA!FZ18","v":2.6525198938992041E-3},{"$f":"(SA!GM18-SA!GA18)/SA!GA18","v":6.6445182724252493E-3},{"$f":"(SA!GN18-SA!GB18)/SA!GB18","v":6.6445182724252493E-3},{"$f":"(SA!GO18-SA!GC18)/SA!GC18","v":4.6449900464499002E-3},{"$f":"(SA!GP18-SA!GD18)/SA!GD18","v":2.6525198938992041E-3},{"$f":"(SA!GQ18-SA!GE18)/SA!GE18","v":2.6490066225165563E-3},{"$f":"(SA!GR18-SA!GF18)/SA!GF18","v":1.9854401058901389E-3},{"$f":"(SA!GS18-SA!GG18)/SA!GG18","v":3.3134526176275677E-3},{"$f":"(SA!GT18-SA!GH18)/SA!GH18","v":1.3218770654329147E-3},{"$f":"(SA!GU18-SA!GI18)/SA!GI18","v":6.6093853271645734E-4},{"$f":"(SA!GV18-SA!GJ18)/SA!GJ18","v":3.9630118890356669E-3},{"$f":"(SA!GW18-SA!GK18)/SA!GK18","v":5.9602649006622521E-3},{"$f":"(SA!GX18-SA!GL18)/SA!GL18","v":3.968253968253968E-3},{"$f":"(SA!GY18-SA!GM18)/SA!GM18","v":1.9801980198019802E-3},{"$f":"(SA!GZ18-SA!GN18)/SA!GN18","v":6.6006600660066007E-4},{"$f":"(SA!HA18-SA!GO18)/SA!GO18","v":5.2840158520475562E-3},{"$f":"(SA!HB18-SA!GP18)/SA!GP18","v":1.8518518518518517E-2},{"$f":"(SA!HC18-SA!GQ18)/SA!GQ18","v":1.1889035667107001E-2},{"$f":"(SA!HD18-SA!GR18)/SA!GR18","v":1.5191545574636724E-2},{"$f":"(SA!HE18-SA!GS18)/SA!GS18","v":1.5191545574636724E-2},{"$f":"(SA!HF18-SA!GT18)/SA!GT18","v":8.580858085808581E-3},{"$f":"(SA!HG18-SA!GU18)/SA!GU18","v":5.2840158520475562E-3},{"$f":"(SA!HH18-SA!GV18)/SA!GV18","v":-1.9736842105263159E-3},{"$f":"(SA!HI18-SA!GW18)/SA!GW18","v":5.9249506254114553E-3},{"$f":"(SA!HJ18-SA!GX18)/SA!GX18","v":9.881422924901186E-3},{"$f":"(SA!HK18-SA!GY18)/SA!GY18","v":-1},{"$f":"(SA!HL18-SA!GZ18)/SA!GZ18","v":-1},{"$f":"(SA!HM18-SA!HA18)/SA!HA18","v":-1}," n/a ","n/a",null,"Financial Activities",-2.6666666666666668E-2,-1.430430945260364E-2,-3.9669425822763567E-3,0,1.98939254140286E-3,5.9193878389660051E-3,9.3871348370323966E-3,1.5483870967741935E-2,1.0758387411283474E-2]
["Real Estate and Rental and Leasing",{"$f":"(SA!BN19-SA!BB19)/SA!BB19","v":2.564102564102564E-2},{"$f":"(SA!BO19-SA!BC19)/SA!BC19","v":1.8315018315018316E-2},{"$f":"(SA!BP19-SA!BD19)/SA!BD19","v":2.1897810218978103E-2},{"$f":"(SA!BQ19-SA!BE19)/SA!BE19","v":2.181818181818182E-2},{"$f":"(SA!BR19-SA!BF19)/SA!BF19","v":1.4492753623188406E-2},{"$f":"(SA!BS19-SA!BG19)/SA!BG19","v":1.4545454545454545E-2},{"$f":"(SA!BT19-SA!BH19)/SA!BH19","v":1.0752688172043012E-2},{"$f":"(SA!BU19-SA!BI19)/SA!BI19","v":3.5842293906810036E-3},{"$f":"(SA!BV19-SA!BJ19)/SA!BJ19","v":1.0752688172043012E-2},{"$f":"(SA!BW19-SA!BK19)/SA!BK19","v":3.5842293906810036E-3},{"$f":"(SA!BX19-SA!BL19)/SA!BL19","v":7.1684587813620072E-3},{"$f":"(SA!BY19-SA!BM19)/SA!BM19","v":1.4388489208633094E-2},{"$f":"(SA!BZ19-SA!BN19)/SA!BN19","v":7.1428571428571426E-3},{"$f":"(SA!CA19-SA!BO19)/SA!BO19","v":1.0791366906474821E-2},{"$f":"(SA!CB19-SA!BP19)/SA!BP19","v":3.5714285714285713E-3},{"$f":"(SA!CC19-SA!BQ19)/SA!BQ19","v":3.5587188612099642E-3},{"$f":"(SA!CD19-SA!BR19)/SA!BR19","v":7.1428571428571426E-3},{"$f":"(SA!CE19-SA!BS19)/SA!BS19","v":1.4336917562724014E-2},{"$f":"(SA!CF19-SA!BT19)/SA!BT19","v":1.0638297872340425E-2},{"$f":"(SA!CG19-SA!BU19)/SA!BU19","v":1.0714285714285714E-2},{"$f":"(SA!CH19-SA!BV19)/SA!BV19","v":3.5460992907801418E-3},{"$f":"(SA!CI19-SA!BW19)/SA!BW19","v":7.1428571428571426E-3},{"$f":"(SA!CJ19-SA!BX19)/SA!BX19","v":3.5587188612099642E-3},{"$f":"(SA!CK19-SA!BY19)/SA!BY19","v":0},{"$f":"(SA!CL19-SA!BZ19)/SA!BZ19","v":0},{"$f":"(SA!CM19-SA!CA19)/SA!CA19","v":3.5587188612099642E-3},{"$f":"(SA!CN19-SA!CB19)/SA!CB19","v":3.5587188612099642E-3},{"$f":"(SA!CO19-SA!CC19)/SA!CC19","v":0},{"$f":"(SA!CP19-SA!CD19)/SA!CD19","v":0},{"$f":"(SA!CQ19-SA!CE19)/SA!CE19","v":-3.5335689045936395E-3},{"$f":"(SA!CR19-SA!CF19)/SA!CF19","v":-1.4035087719298246E-2},{"$f":"(SA!CS19-SA!CG19)/SA!CG19","v":-1.0600706713780919E-2},{"$f":"(SA!CT19-SA!CH19)/SA!CH19","v":-1.0600706713780919E-2},{"$f":"(SA!CU19-SA!CI19)/SA!CI19","v":-3.5460992907801418E-3},{"$f":"(SA!CV19-SA!CJ19)/SA!CJ19","v":-1.0638297872340425E-2},{"$f":"(SA!CW19-SA!CK19)/SA!CK19","v":-1.0638297872340425E-2},{"$f":"(SA!CX19-SA!CL19)/SA!CL19","v":-1.7730496453900711E-2},{"$f":"(SA!CY19-SA!CM19)/SA!CM19","v":-1.4184397163120567E-2},{"$f":"(SA!CZ19-SA!CN19)/SA!CN19","v":-1.7730496453900711E-2},{"$f":"(SA!DA19-SA!CO19)/SA!CO19","v":-2.1276595744680851E-2},{"$f":"(SA!DB19-SA!CP19)/SA!CP19","v":-2.4822695035460994E-2},{"$f":"(SA!DC19-SA!CQ19)/SA!CQ19","v":-2.8368794326241134E-2},{"$f":"(SA!DD19-SA!CR19)/SA!CR19","v":-2.8469750889679714E-2},{"$f":"(SA!DE19-SA!CS19)/SA!CS19","v":-3.214285714285714E-2},{"$f":"(SA!DF19-SA!CT19)/SA!CT19","v":-3.9285714285714285E-2},{"$f":"(SA!DG19-SA!CU19)/SA!CU19","v":-3.9145907473309607E-2},{"$f":"(SA!DH19-SA!CV19)/SA!CV19","v":-3.5842293906810034E-2},{"$f":"(SA!DI19-SA!CW19)/SA!CW19","v":-3.9426523297491037E-2},{"$f":"(SA!DJ19-SA!CX19)/SA!CX19","v":-5.0541516245487361E-2},{"$f":"(SA!DK19-SA!CY19)/SA!CY19","v":-6.1151079136690649E-2},{"$f":"(SA!DL19-SA!CZ19)/SA!CZ19","v":-6.4981949458483748E-2},{"$f":"(SA!DM19-SA!DA19)/SA!DA19","v":-7.2463768115942032E-2},{"$f":"(SA!DN19-SA!DB19)/SA!DB19","v":-6.545454545454546E-2},{"$f":"(SA!DO19-SA!DC19)/SA!DC19","v":-6.2043795620437957E-2},{"$f":"(SA!DP19-SA!DD19)/SA!DD19","v":-6.5934065934065936E-2},{"$f":"(SA!DQ19-SA!DE19)/SA!DE19","v":-5.9040590405904057E-2},{"$f":"(SA!DR19-SA!DF19)/SA!DF19","v":-5.5762081784386616E-2},{"$f":"(SA!DS19-SA!DG19)/SA!DG19","v":-6.2962962962962957E-2},{"$f":"(SA!DT19-SA!DH19)/SA!DH19","v":-6.6914498141263934E-2},{"$f":"(SA!DU19-SA!DI19)/SA!DI19","v":-6.3432835820895525E-2},{"$f":"(SA!DV19-SA!DJ19)/SA!DJ19","v":-3.8022813688212927E-2},{"$f":"(SA!DW19-SA!DK19)/SA!DK19","v":-3.4482758620689655E-2},{"$f":"(SA!DX19-SA!DL19)/SA!DL19","v":-3.0888030888030889E-2},{"$f":"(SA!DY19-SA!DM19)/SA!DM19","v":-2.734375E-2},{"$f":"(SA!DZ19-SA!DN19)/SA!DN19","v":-3.5019455252918288E-2},{"$f":"(SA!EA19-SA!DO19)/SA!DO19","v":-4.2801556420233464E-2},{"$f":"(SA!EB19-SA!DP19)/SA!DP19","v":-3.5294117647058823E-2},{"$f":"(SA!EC19-SA!DQ19)/SA!DQ19","v":-3.9215686274509803E-2},{"$f":"(SA!ED19-SA!DR19)/SA!DR19","v":-3.937007874015748E-2},{"$f":"(SA!EE19-SA!DS19)/SA!DS19","v":-2.766798418972332E-2},{"$f":"(SA!EF19-SA!DT19)/SA!DT19","v":-2.3904382470119521E-2},{"$f":"(SA!EG19-SA!DU19)/SA!DU19","v":-2.3904382470119521E-2},{"$f":"(SA!EH19-SA!DV19)/SA!DV19","v":-3.5573122529644272E-2},{"$f":"(SA!EI19-SA!DW19)/SA!DW19","v":-3.1746031746031744E-2},{"$f":"(SA!EJ19-SA!DX19)/SA!DX19","v":-2.3904382470119521E-2},{"$f":"(SA!EK19-SA!DY19)/SA!DY19","v":-1.6064257028112448E-2},{"$f":"(SA!EL19-SA!DZ19)/SA!DZ19","v":-2.4193548387096774E-2},{"$f":"(SA!EM19-SA!EA19)/SA!EA19","v":-1.2195121951219513E-2},{"$f":"(SA!EN19-SA!EB19)/SA!EB19","v":-1.6260162601626018E-2},{"$f":"(SA!EO19-SA!EC19)/SA!EC19","v":-1.6326530612244899E-2},{"$f":"(SA!EP19-SA!ED19)/SA!ED19","v":-8.1967213114754103E-3},{"$f":"(SA!EQ19-SA!EE19)/SA!EE19","v":-2.032520325203252E-2},{"$f":"(SA!ER19-SA!EF19)/SA!EF19","v":-1.6326530612244899E-2},{"$f":"(SA!ES19-SA!EG19)/SA!EG19","v":-1.6326530612244899E-2},{"$f":"(SA!ET19-SA!EH19)/SA!EH19","v":-8.1967213114754103E-3},{"$f":"(SA!EU19-SA!EI19)/SA!EI19","v":-1.2295081967213115E-2},{"$f":"(SA!EV19-SA!EJ19)/SA!EJ19","v":-1.6326530612244899E-2},{"$f":"(SA!EW19-SA!EK19)/SA!EK19","v":-1.6326530612244899E-2},{"$f":"(SA!EX19-SA!EL19)/SA!EL19","v":0},{"$f":"(SA!EY19-SA!EM19)/SA!EM19","v":-4.11522633744856E-3},{"$f":"(SA!EZ19-SA!EN19)/SA!EN19","v":4.1322314049586778E-3},{"$f":"(SA!FA19-SA!EO19)/SA!EO19","v":4.1493775933609959E-3},{"$f":"(SA!FB19-SA!EP19)/SA!EP19","v":-4.1322314049586778E-3},{"$f":"(SA!FC19-SA!EQ19)/SA!EQ19","v":4.1493775933609959E-3},{"$f":"(SA!FD19-SA!ER19)/SA!ER19","v":0},{"$f":"(SA!FE19-SA!ES19)/SA!ES19","v":4.1493775933609959E-3},{"$f":"(SA!FF19-SA!ET19)/SA!ET19","v":4.1322314049586778E-3},{"$f":"(SA!FG19-SA!EU19)/SA!EU19","v":8.2987551867219917E-3},{"$f":"(SA!FH19-SA!EV19)/SA!EV19","v":1.2448132780082987E-2},{"$f":"(SA!FI19-SA!EW19)/SA!EW19","v":8.2987551867219917E-3},{"$f":"(SA!FJ19-SA!EX19)/SA!EX19","v":1.2396694214876033E-2},{"$f":"(SA!FK19-SA!EY19)/SA!EY19","v":8.2644628099173556E-3},{"$f":"(SA!FL19-SA!EZ19)/SA!EZ19","v":8.23045267489712E-3},{"$f":"(SA!FM19-SA!FA19)/SA!FA19","v":8.2644628099173556E-3},{"$f":"(SA!FN19-SA!FB19)/SA!FB19","v":1.6597510373443983E-2},{"$f":"(SA!FO19-SA!FC19)/SA!FC19","v":4.1322314049586778E-3},{"$f":"(SA!FP19-SA!FD19)/SA!FD19","v":1.2448132780082987E-2},{"$f":"(SA!FQ19-SA!FE19)/SA!FE19","v":4.1322314049586778E-3},{"$f":"(SA!FR19-SA!FF19)/SA!FF19","v":-4.11522633744856E-3},{"$f":"(SA!FS19-SA!FG19)/SA!FG19","v":0},{"$f":"(SA!FT19-SA!FH19)/SA!FH19","v":0},{"$f":"(SA!FU19-SA!FI19)/SA!FI19","v":4.11522633744856E-3},{"$f":"(SA!FV19-SA!FJ19)/SA!FJ19","v":-4.0816326530612249E-3},{"$f":"(SA!FW19-SA!FK19)/SA!FK19","v":4.0983606557377051E-3},{"$f":"(SA!FX19-SA!FL19)/SA!FL19","v":-4.0816326530612249E-3},{"$f":"(SA!FY19-SA!FM19)/SA!FM19","v":0},{"$f":"(SA!FZ19-SA!FN19)/SA!FN19","v":0},{"$f":"(SA!GA19-SA!FO19)/SA!FO19","v":4.11522633744856E-3},{"$f":"(SA!GB19-SA!FP19)/SA!FP19","v":0},{"$f":"(SA!GC19-SA!FQ19)/SA!FQ19","v":4.11522633744856E-3},{"$f":"(SA!GD19-SA!FR19)/SA!FR19","v":8.2644628099173556E-3},{"$f":"(SA!GE19-SA!FS19)/SA!FS19","v":8.23045267489712E-3},{"$f":"(SA!GF19-SA!FT19)/SA!FT19","v":8.1967213114754103E-3},{"$f":"(SA!GG19-SA!FU19)/SA!FU19","v":4.0983606557377051E-3},{"$f":"(SA!GH19-SA!FV19)/SA!FV19","v":1.6393442622950821E-2},{"$f":"(SA!GI19-SA!FW19)/SA!FW19","v":1.6326530612244899E-2},{"$f":"(SA!GJ19-SA!FX19)/SA!FX19","v":2.8688524590163935E-2},{"$f":"(SA!GK19-SA!FY19)/SA!FY19","v":2.8688524590163935E-2},{"$f":"(SA!GL19-SA!FZ19)/SA!FZ19","v":2.8571428571428571E-2},{"$f":"(SA!GM19-SA!GA19)/SA!GA19","v":3.6885245901639344E-2},{"$f":"(SA!GN19-SA!GB19)/SA!GB19","v":4.0983606557377046E-2},{"$f":"(SA!GO19-SA!GC19)/SA!GC19","v":4.0983606557377046E-2},{"$f":"(SA!GP19-SA!GD19)/SA!GD19","v":2.8688524590163935E-2},{"$f":"(SA!GQ19-SA!GE19)/SA!GE19","v":3.6734693877551024E-2},{"$f":"(SA!GR19-SA!GF19)/SA!GF19","v":2.8455284552845527E-2},{"$f":"(SA!GS19-SA!GG19)/SA!GG19","v":3.6734693877551024E-2},{"$f":"(SA!GT19-SA!GH19)/SA!GH19","v":2.4193548387096774E-2},{"$f":"(SA!GU19-SA!GI19)/SA!GI19","v":2.0080321285140562E-2},{"$f":"(SA!GV19-SA!GJ19)/SA!GJ19","v":7.9681274900398405E-3},{"$f":"(SA!GW19-SA!GK19)/SA!GK19","v":1.1952191235059761E-2},{"$f":"(SA!GX19-SA!GL19)/SA!GL19","v":7.9365079365079361E-3},{"$f":"(SA!GY19-SA!GM19)/SA!GM19","v":3.952569169960474E-3},{"$f":"(SA!GZ19-SA!GN19)/SA!GN19","v":0},{"$f":"(SA!HA19-SA!GO19)/SA!GO19","v":-7.874015748031496E-3},{"$f":"(SA!HB19-SA!GP19)/SA!GP19","v":2.7888446215139442E-2},{"$f":"(SA!HC19-SA!GQ19)/SA!GQ19","v":1.5748031496062992E-2},{"$f":"(SA!HD19-SA!GR19)/SA!GR19","v":2.3715415019762844E-2},{"$f":"(SA!HE19-SA!GS19)/SA!GS19","v":2.3622047244094488E-2},{"$f":"(SA!HF19-SA!GT19)/SA!GT19","v":1.968503937007874E-2},{"$f":"(SA!HG19-SA!GU19)/SA!GU19","v":1.5748031496062992E-2},{"$f":"(SA!HH19-SA!GV19)/SA!GV19","v":1.9762845849802372E-2},{"$f":"(SA!HI19-SA!GW19)/SA!GW19","v":1.968503937007874E-2},{"$f":"(SA!HJ19-SA!GX19)/SA!GX19","v":2.7559055118110236E-2},{"$f":"(SA!HK19-SA!GY19)/SA!GY19","v":-1},{"$f":"(SA!HL19-SA!GZ19)/SA!GZ19","v":-1},{"$f":"(SA!HM19-SA!HA19)/SA!HA19","v":-1}," n/a ","n/a",null,"Real Estate and Rental and Leasing",-7.2463768115942032E-2,-3.5363868867705185E-2,-1.6326530612244899E-2,-2.6501766784452294E-3,3.5587188612099642E-3,7.1556579621095753E-3,1.4414555312271923E-2,4.0983606557377046E-2,2.4985491716483732E-2]
["Professional and Business Services",{"$f":"(SA!BN20-SA!BB20)/SA!BB20","v":3.888888888888889E-2},{"$f":"(SA!BO20-SA!BC20)/SA!BC20","v":4.1253470844902815E-2},{"$f":"(SA!BP20-SA!BD20)/SA!BD20","v":4.5958795562599047E-2},{"$f":"(SA!BQ20-SA!BE20)/SA!BE20","v":5.1840126632370399E-2},{"$f":"(SA!BR20-SA!BF20)/SA!BF20","v":4.2142575817250887E-2},{"$f":"(SA!BS20-SA!BG20)/SA!BG20","v":3.3593749999999999E-2},{"$f":"(SA!BT20-SA!BH20)/SA!BH20","v":4.2951971885981918E-2},{"$f":"(SA!BU20-SA!BI20)/SA!BI20","v":3.3179012345679014E-2},{"$f":"(SA!BV20-SA!BJ20)/SA!BJ20","v":4.518893650175302E-2},{"$f":"(SA!BW20-SA!BK20)/SA!BK20","v":2.7734976887519146E-2},{"$f":"(SA!BX20-SA!BL20)/SA!BL20","v":3.4655371582595303E-2},{"$f":"(SA!BY20-SA!BM20)/SA!BM20","v":3.7677816224528912E-2},{"$f":"(SA!BZ20-SA!BN20)/SA!BN20","v":2.9029793735676088E-2},{"$f":"(SA!CA20-SA!BO20)/SA!BO20","v":3.2000000000000001E-2},{"$f":"(SA!CB20-SA!BP20)/SA!BP20","v":2.7651515151515153E-2},{"$f":"(SA!CC20-SA!BQ20)/SA!BQ20","v":3.4612490594431902E-2},{"$f":"(SA!CD20-SA!BR20)/SA!BR20","v":3.5903250188964474E-2},{"$f":"(SA!CE20-SA!BS20)/SA!BS20","v":3.8170823885109596E-2},{"$f":"(SA!CF20-SA!BT20)/SA!BT20","v":2.6581804567577687E-2},{"$f":"(SA!CG20-SA!BU20)/SA!BU20","v":2.3151605675877519E-2},{"$f":"(SA!CH20-SA!BV20)/SA!BV20","v":2.4599329109206113E-2},{"$f":"(SA!CI20-SA!BW20)/SA!BW20","v":3.4482758620689655E-2},{"$f":"(SA!CJ20-SA!BX20)/SA!BX20","v":2.8656494231484926E-2},{"$f":"(SA!CK20-SA!BY20)/SA!BY20","v":2.0748425342719527E-2},{"$f":"(SA!CL20-SA!BZ20)/SA!BZ20","v":3.0438010393466965E-2},{"$f":"(SA!CM20-SA!CA20)/SA!CA20","v":2.6208933185677373E-2},{"$f":"(SA!CN20-SA!CB20)/SA!CB20","v":2.9856247696277184E-2},{"$f":"(SA!CO20-SA!CC20)/SA!CC20","v":2.3272727272727271E-2},{"$f":"(SA!CP20-SA!CD20)/SA!CD20","v":2.8821597956950017E-2},{"$f":"(SA!CQ20-SA!CE20)/SA!CE20","v":3.2763014197306151E-2},{"$f":"(SA!CR20-SA!CF20)/SA!CF20","v":3.2822757111597371E-2},{"$f":"(SA!CS20-SA!CG20)/SA!CG20","v":3.4671532846715328E-2},{"$f":"(SA!CT20-SA!CH20)/SA!CH20","v":3.019279738086577E-2},{"$f":"(SA!CU20-SA!CI20)/SA!CI20","v":2.5000000000000001E-2},{"$f":"(SA!CV20-SA!CJ20)/SA!CJ20","v":2.7496382054992764E-2},{"$f":"(SA!CW20-SA!CK20)/SA!CK20","v":3.6660617059891105E-2},{"$f":"(SA!CX20-SA!CL20)/SA!CL20","v":3.0979827089337175E-2},{"$f":"(SA!CY20-SA!CM20)/SA!CM20","v":3.3453237410071945E-2},{"$f":"(SA!CZ20-SA!CN20)/SA!CN20","v":2.4695776664280602E-2},{"$f":"(SA!DA20-SA!CO20)/SA!CO20","v":1.4570007107320541E-2},{"$f":"(SA!DB20-SA!CP20)/SA!CP20","v":1.3829787234042552E-2},{"$f":"(SA!DC20-SA!CQ20)/SA!CQ20","v":9.5170955234402544E-3},{"$f":"(SA!DD20-SA!CR20)/SA!CR20","v":9.887005649717515E-3},{"$f":"(SA!DE20-SA!CS20)/SA!CS20","v":1.0934744268077601E-2},{"$f":"(SA!DF20-SA!CT20)/SA!CT20","v":6.3559322033898309E-3},{"$f":"(SA!DG20-SA!CU20)/SA!CU20","v":-4.5952633439377876E-3},{"$f":"(SA!DH20-SA!CV20)/SA!CV20","v":-1.9014084507042252E-2},{"$f":"(SA!DI20-SA!CW20)/SA!CW20","v":-3.1162464985994398E-2},{"$f":"(SA!DJ20-SA!CX20)/SA!CX20","v":-5.1712089447938502E-2},{"$f":"(SA!DK20-SA!CY20)/SA!CY20","v":-7.1702053602506088E-2},{"$f":"(SA!DL20-SA!CZ20)/SA!CZ20","v":-8.4526720223541643E-2},{"$f":"(SA!DM20-SA!DA20)/SA!DA20","v":-9.0367775831873901E-2},{"$f":"(SA!DN20-SA!DB20)/SA!DB20","v":-9.1290661070304299E-2},{"$f":"(SA!DO20-SA!DC20)/SA!DC20","v":-9.8812849162011065E-2},{"$f":"(SA!DP20-SA!DD20)/SA!DD20","v":-9.8601398601398604E-2},{"$f":"(SA!DQ20-SA!DE20)/SA!DE20","v":-0.10293091416608503},{"$f":"(SA!DR20-SA!DF20)/SA!DF20","v":-9.6491228070175433E-2},{"$f":"(SA!DS20-SA!DG20)/SA!DG20","v":-7.7059659090909199E-2},{"$f":"(SA!DT20-SA!DH20)/SA!DH20","v":-5.8147882268485281E-2},{"$f":"(SA!DU20-SA!DI20)/SA!DI20","v":-4.7705095771593785E-2},{"$f":"(SA!DV20-SA!DJ20)/SA!DJ20","v":-2.6897568165070006E-2},{"$f":"(SA!DW20-SA!DK20)/SA!DK20","v":1.8747656542932134E-3},{"$f":"(SA!DX20-SA!DL20)/SA!DL20","v":1.4879816863792333E-2},{"$f":"(SA!DY20-SA!DM20)/SA!DM20","v":4.5437042741624953E-2},{"$f":"(SA!DZ20-SA!DN20)/SA!DN20","v":4.8498845265588918E-2},{"$f":"(SA!EA20-SA!DO20)/SA!DO20","v":5.6954668733049087E-2},{"$f":"(SA!EB20-SA!DP20)/SA!DP20","v":6.7106283941039568E-2},{"$f":"(SA!EC20-SA!DQ20)/SA!DQ20","v":7.9735511474134449E-2},{"$f":"(SA!ED20-SA!DR20)/SA!DR20","v":7.8446601941747574E-2},{"$f":"(SA!EE20-SA!DS20)/SA!DS20","v":8.1185071181223672E-2},{"$f":"(SA!EF20-SA!DT20)/SA!DT20","v":7.660060975609756E-2},{"$f":"(SA!EG20-SA!DU20)/SA!DU20","v":7.9696394686907021E-2},{"$f":"(SA!EH20-SA!DV20)/SA!DV20","v":8.1408557364634607E-2},{"$f":"(SA!EI20-SA!DW20)/SA!DW20","v":6.8113772455089816E-2},{"$f":"(SA!EJ20-SA!DX20)/SA!DX20","v":8.0827067669172928E-2},{"$f":"(SA!EK20-SA!DY20)/SA!DY20","v":5.3775322283609574E-2},{"$f":"(SA!EL20-SA!DZ20)/SA!DZ20","v":4.9559471365638763E-2},{"$f":"(SA!EM20-SA!EA20)/SA!EA20","v":5.0953079178885634E-2},{"$f":"(SA!EN20-SA!EB20)/SA!EB20","v":4.6892039258451472E-2},{"$f":"(SA!EO20-SA!EC20)/SA!EC20","v":3.7824207492795386E-2},{"$f":"(SA!EP20-SA!ED20)/SA!ED20","v":4.3932301044292403E-2},{"$f":"(SA!EQ20-SA!EE20)/SA!EE20","v":2.9537366548042704E-2},{"$f":"(SA!ER20-SA!EF20)/SA!EF20","v":2.6902654867256636E-2},{"$f":"(SA!ES20-SA!EG20)/SA!EG20","v":1.8980667838312829E-2},{"$f":"(SA!ET20-SA!EH20)/SA!EH20","v":1.9607843137254902E-2},{"$f":"(SA!EU20-SA!EI20)/SA!EI20","v":2.2424667133847231E-2},{"$f":"(SA!EV20-SA!EJ20)/SA!EJ20","v":2.6434782608695653E-2},{"$f":"(SA!EW20-SA!EK20)/SA!EK20","v":3.2855644879412796E-2},{"$f":"(SA!EX20-SA!EL20)/SA!EL20","v":2.8681357117873382E-2},{"$f":"(SA!EY20-SA!EM20)/SA!EM20","v":2.8252528775723752E-2},{"$f":"(SA!EZ20-SA!EN20)/SA!EN20","v":1.9444444444444445E-2},{"$f":"(SA!FA20-SA!EO20)/SA!EO20","v":1.8049288441513364E-2},{"$f":"(SA!FB20-SA!EP20)/SA!EP20","v":1.7247326664367024E-2},{"$f":"(SA!FC20-SA!EQ20)/SA!EQ20","v":2.1431040442447286E-2},{"$f":"(SA!FD20-SA!ER20)/SA!ER20","v":2.5508445363667701E-2},{"$f":"(SA!FE20-SA!ES20)/SA!ES20","v":1.8627112797516384E-2},{"$f":"(SA!FF20-SA!ET20)/SA!ET20","v":1.6826923076923076E-2},{"$f":"(SA!FG20-SA!EU20)/SA!EU20","v":2.3303632625085675E-2},{"$f":"(SA!FH20-SA!EV20)/SA!EV20","v":2.2365299898339547E-2},{"$f":"(SA!FI20-SA!EW20)/SA!EW20","v":1.0490693739424704E-2},{"$f":"(SA!FJ20-SA!EX20)/SA!EX20","v":2.2101326079564772E-2},{"$f":"(SA!FK20-SA!EY20)/SA!EY20","v":2.6119402985074626E-2},{"$f":"(SA!FL20-SA!EZ20)/SA!EZ20","v":3.1675749318801093E-2},{"$f":"(SA!FM20-SA!FA20)/SA!FA20","v":3.511762700306853E-2},{"$f":"(SA!FN20-SA!FB20)/SA!FB20","v":3.0179721939640556E-2},{"$f":"(SA!FO20-SA!FC20)/SA!FC20","v":2.5042301184433163E-2},{"$f":"(SA!FP20-SA!FD20)/SA!FD20","v":2.5210084033613446E-2},{"$f":"(SA!FQ20-SA!FE20)/SA!FE20","v":3.4541144598713172E-2},{"$f":"(SA!FR20-SA!FF20)/SA!FF20","v":3.3772374197906116E-2},{"$f":"(SA!FS20-SA!FG20)/SA!FG20","v":2.5452109845947757E-2},{"$f":"(SA!FT20-SA!FH20)/SA!FH20","v":1.3921113689095127E-2},{"$f":"(SA!FU20-SA!FI20)/SA!FI20","v":2.5452109845947757E-2},{"$f":"(SA!FV20-SA!FJ20)/SA!FJ20","v":2.1956087824351298E-2},{"$f":"(SA!FW20-SA!FK20)/SA!FK20","v":1.71900826446281E-2},{"$f":"(SA!FX20-SA!FL20)/SA!FL20","v":1.4196104324859689E-2},{"$f":"(SA!FY20-SA!FM20)/SA!FM20","v":1.5810276679841896E-2},{"$f":"(SA!FZ20-SA!FN20)/SA!FN20","v":1.5141540487162607E-2},{"$f":"(SA!GA20-SA!FO20)/SA!FO20","v":2.3109937273027403E-2},{"$f":"(SA!GB20-SA!FP20)/SA!FP20","v":2.1639344262295083E-2},{"$f":"(SA!GC20-SA!FQ20)/SA!FQ20","v":1.276595744680851E-2},{"$f":"(SA!GD20-SA!FR20)/SA!FR20","v":1.5354459327017315E-2},{"$f":"(SA!GE20-SA!FS20)/SA!FS20","v":1.3716525146962769E-2},{"$f":"(SA!GF20-SA!FT20)/SA!FT20","v":1.7325923504413206E-2},{"$f":"(SA!GG20-SA!FU20)/SA!FU20","v":2.0248203788373612E-2},{"$f":"(SA!GH20-SA!FV20)/SA!FV20","v":2.1158854166666668E-2},{"$f":"(SA!GI20-SA!FW20)/SA!FW20","v":2.1774455638609035E-2},{"$f":"(SA!GJ20-SA!FX20)/SA!FX20","v":2.7994791666666668E-2},{"$f":"(SA!GK20-SA!FY20)/SA!FY20","v":2.9182879377431907E-2},{"$f":"(SA!GL20-SA!FZ20)/SA!FZ20","v":2.5616083009079117E-2},{"$f":"(SA!GM20-SA!GA20)/SA!GA20","v":2.3233301064859633E-2},{"$f":"(SA!GN20-SA!GB20)/SA!GB20","v":2.0218228498074454E-2},{"$f":"(SA!GO20-SA!GC20)/SA!GC20","v":3.2643826761473822E-2},{"$f":"(SA!GP20-SA!GD20)/SA!GD20","v":3.7966537966537969E-2},{"$f":"(SA!GQ20-SA!GE20)/SA!GE20","v":3.994845360824742E-2},{"$f":"(SA!GR20-SA!GF20)/SA!GF20","v":3.6632390745501286E-2},{"$f":"(SA!GS20-SA!GG20)/SA!GG20","v":3.3610755441741358E-2},{"$f":"(SA!GT20-SA!GH20)/SA!GH20","v":2.5820847943895442E-2},{"$f":"(SA!GU20-SA!GI20)/SA!GI20","v":2.0356234096692113E-2},{"$f":"(SA!GV20-SA!GJ20)/SA!GJ20","v":2.1532615579480684E-2},{"$f":"(SA!GW20-SA!GK20)/SA!GK20","v":1.4177693761814745E-2},{"$f":"(SA!GX20-SA!GL20)/SA!GL20","v":1.8969332911792602E-2},{"$f":"(SA!GY20-SA!GM20)/SA!GM20","v":1.2614317250078839E-2},{"$f":"(SA!GZ20-SA!GN20)/SA!GN20","v":8.8078011953444477E-3},{"$f":"(SA!HA20-SA!GO20)/SA!GO20","v":2.5039123630672924E-3},{"$f":"(SA!HB20-SA!GP20)/SA!GP20","v":-2.4798512089274642E-3},{"$f":"(SA!HC20-SA!GQ20)/SA!GQ20","v":9.2936802973977691E-4},{"$f":"(SA!HD20-SA!GR20)/SA!GR20","v":1.1469311841289522E-2},{"$f":"(SA!HE20-SA!GS20)/SA!GS20","v":5.2647878600185815E-3},{"$f":"(SA!HF20-SA!GT20)/SA!GT20","v":1.6159105034182723E-2},{"$f":"(SA!HG20-SA!GU20)/SA!GU20","v":4.6758104738154616E-3},{"$f":"(SA!HH20-SA!GV20)/SA!GV20","v":6.8195908245505272E-3},{"$f":"(SA!HI20-SA!GW20)/SA!GW20","v":-2.1745883814849334E-3},{"$f":"(SA!HJ20-SA!GX20)/SA!GX20","v":1.8616196090598821E-3},{"$f":"(SA!HK20-SA!GY20)/SA!GY20","v":-1},{"$f":"(SA!HL20-SA!GZ20)/SA!GZ20","v":-1},{"$f":"(SA!HM20-SA!HA20)/SA!HA20","v":-1}," n/a ","n/a",null,"Professional and Business Services",-0.10293091416608503,9.7945281181481998E-3,1.8975000375052717E-2,2.4623440997974734E-2,2.734795025805873E-2,3.3017328612545901E-2,4.2344924834433646E-2,8.1408557364634607E-2,3.564951521934593E-2]
["  Professional, Scientific, and Technical Services",{"$f":"(SA!BN21-SA!BB21)/SA!BB21","v":3.5187287173666287E-2},{"$f":"(SA!BO21-SA!BC21)/SA!BC21","v":3.5107587768969425E-2},{"$f":"(SA!BP21-SA!BD21)/SA!BD21","v":3.6199095022624438E-2},{"$f":"(SA!BQ21-SA!BE21)/SA!BE21","v":3.1531531531531529E-2},{"$f":"(SA!BR21-SA!BF21)/SA!BF21","v":2.7995520716685332E-2},{"$f":"(SA!BS21-SA!BG21)/SA!BG21","v":3.0201342281879196E-2},{"$f":"(SA!BT21-SA!BH21)/SA!BH21","v":3.3444816053511704E-2},{"$f":"(SA!BU21-SA!BI21)/SA!BI21","v":3.5595105672969966E-2},{"$f":"(SA!BV21-SA!BJ21)/SA!BJ21","v":4.0089086859688199E-2},{"$f":"(SA!BW21-SA!BK21)/SA!BK21","v":3.7735849056603772E-2},{"$f":"(SA!BX21-SA!BL21)/SA!BL21","v":3.6464088397790057E-2},{"$f":"(SA!BY21-SA!BM21)/SA!BM21","v":4.0838852097130243E-2},{"$f":"(SA!BZ21-SA!BN21)/SA!BN21","v":3.5087719298245612E-2},{"$f":"(SA!CA21-SA!BO21)/SA!BO21","v":3.5010940919037198E-2},{"$f":"(SA!CB21-SA!BP21)/SA!BP21","v":3.2751091703056769E-2},{"$f":"(SA!CC21-SA!BQ21)/SA!BQ21","v":4.2576419213973801E-2},{"$f":"(SA!CD21-SA!BR21)/SA!BR21","v":3.9215686274509803E-2},{"$f":"(SA!CE21-SA!BS21)/SA!BS21","v":3.9087947882736153E-2},{"$f":"(SA!CF21-SA!BT21)/SA!BT21","v":3.3441208198489752E-2},{"$f":"(SA!CG21-SA!BU21)/SA!BU21","v":2.9001074113856069E-2},{"$f":"(SA!CH21-SA!BV21)/SA!BV21","v":2.676659528907923E-2},{"$f":"(SA!CI21-SA!BW21)/SA!BW21","v":2.7807486631016044E-2},{"$f":"(SA!CJ21-SA!BX21)/SA!BX21","v":2.4520255863539446E-2},{"$f":"(SA!CK21-SA!BY21)/SA!BY21","v":1.8027571580063628E-2},{"$f":"(SA!CL21-SA!BZ21)/SA!BZ21","v":2.4364406779661018E-2},{"$f":"(SA!CM21-SA!CA21)/SA!CA21","v":2.3255813953488372E-2},{"$f":"(SA!CN21-SA!CB21)/SA!CB21","v":2.748414376321353E-2},{"$f":"(SA!CO21-SA!CC21)/SA!CC21","v":2.4083769633507852E-2},{"$f":"(SA!CP21-SA!CD21)/SA!CD21","v":2.9350104821802937E-2},{"$f":"(SA!CQ21-SA!CE21)/SA!CE21","v":2.9258098223615466E-2},{"$f":"(SA!CR21-SA!CF21)/SA!CF21","v":3.1315240083507306E-2},{"$f":"(SA!CS21-SA!CG21)/SA!CG21","v":3.3402922755741124E-2},{"$f":"(SA!CT21-SA!CH21)/SA!CH21","v":3.3368091762252347E-2},{"$f":"(SA!CU21-SA!CI21)/SA!CI21","v":3.1217481789802288E-2},{"$f":"(SA!CV21-SA!CJ21)/SA!CJ21","v":3.3298647242455778E-2},{"$f":"(SA!CW21-SA!CK21)/SA!CK21","v":3.5416666666666666E-2},{"$f":"(SA!CX21-SA!CL21)/SA!CL21","v":2.9989658738366079E-2},{"$f":"(SA!CY21-SA!CM21)/SA!CM21","v":3.2024793388429749E-2},{"$f":"(SA!CZ21-SA!CN21)/SA!CN21","v":2.7777777777777776E-2},{"$f":"(SA!DA21-SA!CO21)/SA!CO21","v":3.4764826175869123E-2},{"$f":"(SA!DB21-SA!CP21)/SA!CP21","v":2.7494908350305498E-2},{"$f":"(SA!DC21-SA!CQ21)/SA!CQ21","v":2.5380710659898477E-2},{"$f":"(SA!DD21-SA!CR21)/SA!CR21","v":2.1255060728744939E-2},{"$f":"(SA!DE21-SA!CS21)/SA!CS21","v":2.1212121212121213E-2},{"$f":"(SA!DF21-SA!CT21)/SA!CT21","v":2.119071644803229E-2},{"$f":"(SA!DG21-SA!CU21)/SA!CU21","v":1.7154389505549948E-2},{"$f":"(SA!DH21-SA!CV21)/SA!CV21","v":1.0070493454179255E-2},{"$f":"(SA!DI21-SA!CW21)/SA!CW21","v":6.0362173038229373E-3},{"$f":"(SA!DJ21-SA!CX21)/SA!CX21","v":-4.0160642570281121E-3},{"$f":"(SA!DK21-SA!CY21)/SA!CY21","v":-1.4014014014014014E-2},{"$f":"(SA!DL21-SA!CZ21)/SA!CZ21","v":-2.3023023023023025E-2},{"$f":"(SA!DM21-SA!DA21)/SA!DA21","v":-4.7430830039525688E-2},{"$f":"(SA!DN21-SA!DB21)/SA!DB21","v":-5.550049554013875E-2},{"$f":"(SA!DO21-SA!DC21)/SA!DC21","v":-6.0396039603960394E-2},{"$f":"(SA!DP21-SA!DD21)/SA!DD21","v":-6.8384539147670967E-2},{"$f":"(SA!DQ21-SA!DE21)/SA!DE21","v":-7.6162215628091001E-2},{"$f":"(SA!DR21-SA!DF21)/SA!DF21","v":-7.9051383399209488E-2},{"$f":"(SA!DS21-SA!DG21)/SA!DG21","v":-7.6388888888888895E-2},{"$f":"(SA!DT21-SA!DH21)/SA!DH21","v":-6.7796610169491525E-2},{"$f":"(SA!DU21-SA!DI21)/SA!DI21","v":-7.0000000000000007E-2},{"$f":"(SA!DV21-SA!DJ21)/SA!DJ21","v":-6.25E-2},{"$f":"(SA!DW21-SA!DK21)/SA!DK21","v":-5.685279187817259E-2},{"$f":"(SA!DX21-SA!DL21)/SA!DL21","v":-4.7131147540983603E-2},{"$f":"(SA!DY21-SA!DM21)/SA!DM21","v":-3.5269709543568464E-2},{"$f":"(SA!DZ21-SA!DN21)/SA!DN21","v":-2.3084994753410283E-2},{"$f":"(SA!EA21-SA!DO21)/SA!DO21","v":-1.8967334035827187E-2},{"$f":"(SA!EB21-SA!DP21)/SA!DP21","v":-4.2553191489361703E-3},{"$f":"(SA!EC21-SA!DQ21)/SA!DQ21","v":3.2119914346895075E-3},{"$f":"(SA!ED21-SA!DR21)/SA!DR21","v":3.2188841201716738E-3},{"$f":"(SA!EE21-SA!DS21)/SA!DS21","v":1.288936627282492E-2},{"$f":"(SA!EF21-SA!DT21)/SA!DT21","v":1.06951871657754E-2},{"$f":"(SA!EG21-SA!DU21)/SA!DU21","v":2.1505376344086023E-2},{"$f":"(SA!EH21-SA!DV21)/SA!DV21","v":2.4731182795698924E-2},{"$f":"(SA!EI21-SA!DW21)/SA!DW21","v":2.9063509149623249E-2},{"$f":"(SA!EJ21-SA!DX21)/SA!DX21","v":2.6881720430107527E-2},{"$f":"(SA!EK21-SA!DY21)/SA!DY21","v":3.5483870967741936E-2},{"$f":"(SA!EL21-SA!DZ21)/SA!DZ21","v":3.2223415682062301E-2},{"$f":"(SA!EM21-SA!EA21)/SA!EA21","v":2.9001074113856069E-2},{"$f":"(SA!EN21-SA!EB21)/SA!EB21","v":2.6709401709401708E-2},{"$f":"(SA!EO21-SA!EC21)/SA!EC21","v":2.7748132337246531E-2},{"$f":"(SA!EP21-SA!ED21)/SA!ED21","v":3.4224598930481284E-2},{"$f":"(SA!EQ21-SA!EE21)/SA!EE21","v":2.4390243902439025E-2},{"$f":"(SA!ER21-SA!EF21)/SA!EF21","v":2.9629629629629631E-2},{"$f":"(SA!ES21-SA!EG21)/SA!EG21","v":1.8947368421052633E-2},{"$f":"(SA!ET21-SA!EH21)/SA!EH21","v":1.888772298006296E-2},{"$f":"(SA!EU21-SA!EI21)/SA!EI21","v":1.7782426778242679E-2},{"$f":"(SA!EV21-SA!EJ21)/SA!EJ21","v":2.1989528795811519E-2},{"$f":"(SA!EW21-SA!EK21)/SA!EK21","v":1.6614745586708203E-2},{"$f":"(SA!EX21-SA!EL21)/SA!EL21","v":1.9771071800208116E-2},{"$f":"(SA!EY21-SA!EM21)/SA!EM21","v":2.8183716075156576E-2},{"$f":"(SA!EZ21-SA!EN21)/SA!EN21","v":1.9771071800208116E-2},{"$f":"(SA!FA21-SA!EO21)/SA!EO21","v":1.8691588785046728E-2},{"$f":"(SA!FB21-SA!EP21)/SA!EP21","v":1.5511892450879007E-2},{"$f":"(SA!FC21-SA!EQ21)/SA!EQ21","v":2.1739130434782608E-2},{"$f":"(SA!FD21-SA!ER21)/SA!ER21","v":2.9804727646454265E-2},{"$f":"(SA!FE21-SA!ES21)/SA!ES21","v":1.859504132231405E-2},{"$f":"(SA!FF21-SA!ET21)/SA!ET21","v":1.7507723995880537E-2},{"$f":"(SA!FG21-SA!EU21)/SA!EU21","v":1.9527235354573486E-2},{"$f":"(SA!FH21-SA!EV21)/SA!EV21","v":1.7418032786885244E-2},{"$f":"(SA!FI21-SA!EW21)/SA!EW21","v":1.4300306435137897E-2},{"$f":"(SA!FJ21-SA!EX21)/SA!EX21","v":1.6326530612244899E-2},{"$f":"(SA!FK21-SA!EY21)/SA!EY21","v":1.1167512690355329E-2},{"$f":"(SA!FL21-SA!EZ21)/SA!EZ21","v":2.3469387755102041E-2},{"$f":"(SA!FM21-SA!FA21)/SA!FA21","v":2.0387359836901122E-2},{"$f":"(SA!FN21-SA!FB21)/SA!FB21","v":2.1384928716904276E-2},{"$f":"(SA!FO21-SA!FC21)/SA!FC21","v":1.7223910840932118E-2},{"$f":"(SA!FP21-SA!FD21)/SA!FD21","v":4.9900199600798403E-3},{"$f":"(SA!FQ21-SA!FE21)/SA!FE21","v":2.332657200811359E-2},{"$f":"(SA!FR21-SA!FF21)/SA!FF21","v":1.7206477732793522E-2},{"$f":"(SA!FS21-SA!FG21)/SA!FG21","v":1.310483870967742E-2},{"$f":"(SA!FT21-SA!FH21)/SA!FH21","v":1.5105740181268883E-2},{"$f":"(SA!FU21-SA!FI21)/SA!FI21","v":1.5105740181268883E-2},{"$f":"(SA!FV21-SA!FJ21)/SA!FJ21","v":1.3052208835341365E-2},{"$f":"(SA!FW21-SA!FK21)/SA!FK21","v":2.0080321285140562E-2},{"$f":"(SA!FX21-SA!FL21)/SA!FL21","v":1.1964107676969093E-2},{"$f":"(SA!FY21-SA!FM21)/SA!FM21","v":1.5984015984015984E-2},{"$f":"(SA!FZ21-SA!FN21)/SA!FN21","v":1.0967098703888335E-2},{"$f":"(SA!GA21-SA!FO21)/SA!FO21","v":9.9601593625498006E-3},{"$f":"(SA!GB21-SA!FP21)/SA!FP21","v":8.9374379344587893E-3},{"$f":"(SA!GC21-SA!FQ21)/SA!FQ21","v":1.0901883052527254E-2},{"$f":"(SA!GD21-SA!FR21)/SA!FR21","v":2.5870646766169153E-2},{"$f":"(SA!GE21-SA!FS21)/SA!FS21","v":2.4875621890547265E-2},{"$f":"(SA!GF21-SA!FT21)/SA!FT21","v":2.6785714285714284E-2},{"$f":"(SA!GG21-SA!FU21)/SA!FU21","v":2.976190476190476E-2},{"$f":"(SA!GH21-SA!FV21)/SA!FV21","v":3.3696729435084241E-2},{"$f":"(SA!GI21-SA!FW21)/SA!FW21","v":3.1496062992125984E-2},{"$f":"(SA!GJ21-SA!FX21)/SA!FX21","v":3.4482758620689655E-2},{"$f":"(SA!GK21-SA!FY21)/SA!FY21","v":3.3431661750245818E-2},{"$f":"(SA!GL21-SA!FZ21)/SA!FZ21","v":3.8461538461538464E-2},{"$f":"(SA!GM21-SA!GA21)/SA!GA21","v":4.3392504930966469E-2},{"$f":"(SA!GN21-SA!GB21)/SA!GB21","v":4.3307086614173228E-2},{"$f":"(SA!GO21-SA!GC21)/SA!GC21","v":4.0196078431372552E-2},{"$f":"(SA!GP21-SA!GD21)/SA!GD21","v":3.2977691561590687E-2},{"$f":"(SA!GQ21-SA!GE21)/SA!GE21","v":3.5922330097087375E-2},{"$f":"(SA!GR21-SA!GF21)/SA!GF21","v":3.1884057971014491E-2},{"$f":"(SA!GS21-SA!GG21)/SA!GG21","v":3.1791907514450865E-2},{"$f":"(SA!GT21-SA!GH21)/SA!GH21","v":2.7804410354745925E-2},{"$f":"(SA!GU21-SA!GI21)/SA!GI21","v":2.1946564885496182E-2},{"$f":"(SA!GV21-SA!GJ21)/SA!GJ21","v":2.6666666666666668E-2},{"$f":"(SA!GW21-SA!GK21)/SA!GK21","v":2.6641294005708849E-2},{"$f":"(SA!GX21-SA!GL21)/SA!GL21","v":2.8490028490028491E-2},{"$f":"(SA!GY21-SA!GM21)/SA!GM21","v":7.5614366729678641E-3},{"$f":"(SA!GZ21-SA!GN21)/SA!GN21","v":4.7169811320754715E-3},{"$f":"(SA!HA21-SA!GO21)/SA!GO21","v":-4.7125353440150798E-3},{"$f":"(SA!HB21-SA!GP21)/SA!GP21","v":-5.6338028169014088E-3},{"$f":"(SA!HC21-SA!GQ21)/SA!GQ21","v":-3.7488284910965324E-3},{"$f":"(SA!HD21-SA!GR21)/SA!GR21","v":1.0299625468164793E-2},{"$f":"(SA!HE21-SA!GS21)/SA!GS21","v":4.6685340802987861E-3},{"$f":"(SA!HF21-SA!GT21)/SA!GT21","v":1.7723880597014924E-2},{"$f":"(SA!HG21-SA!GU21)/SA!GU21","v":-1.8674136321195146E-3},{"$f":"(SA!HH21-SA!GV21)/SA!GV21","v":-1.2987012987012988E-2},{"$f":"(SA!HI21-SA!GW21)/SA!GW21","v":-3.1510658016682111E-2},{"$f":"(SA!HJ21-SA!GX21)/SA!GX21","v":-3.4164358264081256E-2},{"$f":"(SA!HK21-SA!GY21)/SA!GY21","v":-1},{"$f":"(SA!HL21-SA!GZ21)/SA!GZ21","v":-1},{"$f":"(SA!HM21-SA!HA21)/SA!HA21","v":-1}," n/a ","n/a",null,"  Professional, Scientific, and Technical Services",-7.9051383399209488E-2,3.2171609488011324E-3,1.6470638099476551E-2,2.1563814866760171E-2,2.6448632195823926E-2,2.9783316204179511E-2,3.4553275509484518E-2,4.3392504930966469E-2,2.7454248800118174E-2]
["  Administrative and Support and Waste Management and Remediation Services",{"$f":"(SA!BN23-SA!BB23)/SA!BB23","v":4.9668874172185427E-2},{"$f":"(SA!BO23-SA!BC23)/SA!BC23","v":5.3024026512013253E-2},{"$f":"(SA!BP23-SA!BD23)/SA!BD23","v":6.0380479735318328E-2},{"$f":"(SA!BQ23-SA!BE23)/SA!BE23","v":7.4441687344913146E-2},{"$f":"(SA!BR23-SA!BF23)/SA!BF23","v":5.9308072487644151E-2},{"$f":"(SA!BS23-SA!BG23)/SA!BG23","v":4.0584415584415466E-2},{"$f":"(SA!BT23-SA!BH23)/SA!BH23","v":5.686433793663688E-2},{"$f":"(SA!BU23-SA!BI23)/SA!BI23","v":3.5771065182830006E-2},{"$f":"(SA!BV23-SA!BJ23)/SA!BJ23","v":5.6680161943319839E-2},{"$f":"(SA!BW23-SA!BK23)/SA!BK23","v":2.6211278792692496E-2},{"$f":"(SA!BX23-SA!BL23)/SA!BL23","v":4.1434262948207054E-2},{"$f":"(SA!BY23-SA!BM23)/SA!BM23","v":4.372019077901431E-2},{"$f":"(SA!BZ23-SA!BN23)/SA!BN23","v":3.3123028391167195E-2},{"$f":"(SA!CA23-SA!BO23)/SA!BO23","v":4.1699449252557044E-2},{"$f":"(SA!CB23-SA!BP23)/SA!BP23","v":3.5101404056162362E-2},{"$f":"(SA!CC23-SA!BQ23)/SA!BQ23","v":3.9260969976905313E-2},{"$f":"(SA!CD23-SA!BR23)/SA!BR23","v":4.3545878693623641E-2},{"$f":"(SA!CE23-SA!BS23)/SA!BS23","v":4.6801872074883115E-2},{"$f":"(SA!CF23-SA!BT23)/SA!BT23","v":2.6133743274404306E-2},{"$f":"(SA!CG23-SA!BU23)/SA!BU23","v":2.2256331542593901E-2},{"$f":"(SA!CH23-SA!BV23)/SA!BV23","v":2.528735632183908E-2},{"$f":"(SA!CI23-SA!BW23)/SA!BW23","v":4.0247678018575969E-2},{"$f":"(SA!CJ23-SA!BX23)/SA!BX23","v":3.0604437643458417E-2},{"$f":"(SA!CK23-SA!BY23)/SA!BY23","v":1.9040365575019039E-2},{"$f":"(SA!CL23-SA!BZ23)/SA!BZ23","v":2.748091603053435E-2},{"$f":"(SA!CM23-SA!CA23)/SA!CA23","v":1.7371601208459216E-2},{"$f":"(SA!CN23-SA!CB23)/SA!CB23","v":2.110022607385079E-2},{"$f":"(SA!CO23-SA!CC23)/SA!CC23","v":1.1851851851851851E-2},{"$f":"(SA!CP23-SA!CD23)/SA!CD23","v":1.9374068554396422E-2},{"$f":"(SA!CQ23-SA!CE23)/SA!CE23","v":2.9806259314456036E-2},{"$f":"(SA!CR23-SA!CF23)/SA!CF23","v":3.2209737827715357E-2},{"$f":"(SA!CS23-SA!CG23)/SA!CG23","v":3.6036036036036036E-2},{"$f":"(SA!CT23-SA!CH23)/SA!CH23","v":2.8400597907324365E-2},{"$f":"(SA!CU23-SA!CI23)/SA!CI23","v":2.0089285714285716E-2},{"$f":"(SA!CV23-SA!CJ23)/SA!CJ23","v":2.3756495916852263E-2},{"$f":"(SA!CW23-SA!CK23)/SA!CK23","v":4.1853512705530643E-2},{"$f":"(SA!CX23-SA!CL23)/SA!CL23","v":3.5661218424962851E-2},{"$f":"(SA!CY23-SA!CM23)/SA!CM23","v":3.9346696362286562E-2},{"$f":"(SA!CZ23-SA!CN23)/SA!CN23","v":2.5830258302583026E-2},{"$f":"(SA!DA23-SA!CO23)/SA!CO23","v":7.320644216691069E-4},{"$f":"(SA!DB23-SA!CP23)/SA!CP23","v":1.4619883040935672E-3},{"$f":"(SA!DC23-SA!CQ23)/SA!CQ23","v":-6.5123010130246021E-3},{"$f":"(SA!DD23-SA!CR23)/SA!CR23","v":-9.433962264150943E-3},{"$f":"(SA!DE23-SA!CS23)/SA!CS23","v":-8.6956521739130436E-3},{"$f":"(SA!DF23-SA!CT23)/SA!CT23","v":-1.9622093023255814E-2},{"$f":"(SA!DG23-SA!CU23)/SA!CU23","v":-3.7199124726477024E-2},{"$f":"(SA!DH23-SA!CV23)/SA!CV23","v":-6.2364031907179013E-2},{"$f":"(SA!DI23-SA!CW23)/SA!CW23","v":-8.4648493543758974E-2},{"$f":"(SA!DJ23-SA!CX23)/SA!CX23","v":-0.11477761836441894},{"$f":"(SA!DK23-SA!CY23)/SA!CY23","v":-0.14714285714285713},{"$f":"(SA!DL23-SA!CZ23)/SA!CZ23","v":-0.16618705035971224},{"$f":"(SA!DM23-SA!DA23)/SA!DA23","v":-0.15947329919531822},{"$f":"(SA!DN23-SA!DB23)/SA!DB23","v":-0.15328467153284672},{"$f":"(SA!DO23-SA!DC23)/SA!DC23","v":-0.16533139111434814},{"$f":"(SA!DP23-SA!DD23)/SA!DD23","v":-0.1575091575091575},{"$f":"(SA!DQ23-SA!DE23)/SA!DE23","v":-0.16008771929824561},{"$f":"(SA!DR23-SA!DF23)/SA!DF23","v":-0.14529280948851001},{"$f":"(SA!DS23-SA!DG23)/SA!DG23","v":-0.10757575757575757},{"$f":"(SA!DT23-SA!DH23)/SA!DH23","v":-7.3472544470224388E-2},{"$f":"(SA!DU23-SA!DI23)/SA!DI23","v":-5.0940438871473356E-2},{"$f":"(SA!DV23-SA!DJ23)/SA!DJ23","v":-8.9141004862236632E-3},{"$f":"(SA!DW23-SA!DK23)/SA!DK23","v":4.6063651591289785E-2},{"$f":"(SA!DX23-SA!DL23)/SA!DL23","v":6.3848144952545302E-2},{"$f":"(SA!DY23-SA!DM23)/SA!DM23","v":0.11662315056570943},{"$f":"(SA!DZ23-SA!DN23)/SA!DN23","v":0.11206896551724138},{"$f":"(SA!EA23-SA!DO23)/SA!DO23","v":0.12652705061082026},{"$f":"(SA!EB23-SA!DP23)/SA!DP23","v":0.1391304347826087},{"$f":"(SA!EC23-SA!DQ23)/SA!DQ23","v":0.15404699738903394},{"$f":"(SA!ED23-SA!DR23)/SA!DR23","v":0.15177797051170858},{"$f":"(SA!EE23-SA!DS23)/SA!DS23","v":0.14516129032258066},{"$f":"(SA!EF23-SA!DT23)/SA!DT23","v":0.13355592654424039},{"$f":"(SA!EG23-SA!DU23)/SA!DU23","v":0.13047068538398018},{"$f":"(SA!EH23-SA!DV23)/SA!DV23","v":0.12510220768601799},{"$f":"(SA!EI23-SA!DW23)/SA!DW23","v":9.5276220976781428E-2},{"$f":"(SA!EJ23-SA!DX23)/SA!DX23","v":0.12570965125709652},{"$f":"(SA!EK23-SA!DY23)/SA!DY23","v":6.2353858144972601E-2},{"$f":"(SA!EL23-SA!DZ23)/SA!DZ23","v":5.503875968992248E-2},{"$f":"(SA!EM23-SA!EA23)/SA!EA23","v":6.1192873741285826E-2},{"$f":"(SA!EN23-SA!EB23)/SA!EB23","v":5.1908396946564885E-2},{"$f":"(SA!EO23-SA!EC23)/SA!EC23","v":3.6199095022624438E-2},{"$f":"(SA!EP23-SA!ED23)/SA!ED23","v":4.2168674698795178E-2},{"$f":"(SA!EQ23-SA!EE23)/SA!EE23","v":2.0756115641215715E-2},{"$f":"(SA!ER23-SA!EF23)/SA!EF23","v":1.3991163475699559E-2},{"$f":"(SA!ES23-SA!EG23)/SA!EG23","v":6.5741417092768442E-3},{"$f":"(SA!ET23-SA!EH23)/SA!EH23","v":6.540697674418605E-3},{"$f":"(SA!EU23-SA!EI23)/SA!EI23","v":1.4619883040935672E-2},{"$f":"(SA!EV23-SA!EJ23)/SA!EJ23","v":1.9452449567723344E-2},{"$f":"(SA!EW23-SA!EK23)/SA!EK23","v":3.7417461482024947E-2},{"$f":"(SA!EX23-SA!EL23)/SA!EL23","v":2.718589272593681E-2},{"$f":"(SA!EY23-SA!EM23)/SA!EM23","v":1.9708029197080291E-2},{"$f":"(SA!EZ23-SA!EN23)/SA!EN23","v":8.708272859216255E-3},{"$f":"(SA!FA23-SA!EO23)/SA!EO23","v":8.7336244541484712E-3},{"$f":"(SA!FB23-SA!EP23)/SA!EP23","v":1.2283236994219654E-2},{"$f":"(SA!FC23-SA!EQ23)/SA!EQ23","v":1.6702977487291212E-2},{"$f":"(SA!FD23-SA!ER23)/SA!ER23","v":1.8155410312273058E-2},{"$f":"(SA!FE23-SA!ES23)/SA!ES23","v":1.0885341074020319E-2},{"$f":"(SA!FF23-SA!ET23)/SA!ET23","v":7.9422382671480145E-3},{"$f":"(SA!FG23-SA!EU23)/SA!EU23","v":1.8731988472622477E-2},{"$f":"(SA!FH23-SA!EV23)/SA!EV23","v":1.6961130742049468E-2},{"$f":"(SA!FI23-SA!EW23)/SA!EW23","v":-2.828854314002829E-3},{"$f":"(SA!FJ23-SA!EX23)/SA!EX23","v":2.0028612303290415E-2},{"$f":"(SA!FK23-SA!EY23)/SA!EY23","v":3.1496062992125984E-2},{"$f":"(SA!FL23-SA!EZ23)/SA!EZ23","v":3.5971223021582732E-2},{"$f":"(SA!FM23-SA!FA23)/SA!FA23","v":4.4733044733044736E-2},{"$f":"(SA!FN23-SA!FB23)/SA!FB23","v":3.2833690221270521E-2},{"$f":"(SA!FO23-SA!FC23)/SA!FC23","v":2.5000000000000001E-2},{"$f":"(SA!FP23-SA!FD23)/SA!FD23","v":3.566333808844508E-2},{"$f":"(SA!FQ23-SA!FE23)/SA!FE23","v":4.3072505384063174E-2},{"$f":"(SA!FR23-SA!FF23)/SA!FF23","v":4.8710601719197708E-2},{"$f":"(SA!FS23-SA!FG23)/SA!FG23","v":3.6067892503536071E-2},{"$f":"(SA!FT23-SA!FH23)/SA!FH23","v":1.320361362056984E-2},{"$f":"(SA!FU23-SA!FI23)/SA!FI23","v":3.6170212765957444E-2},{"$f":"(SA!FV23-SA!FJ23)/SA!FJ23","v":2.9453015427769985E-2},{"$f":"(SA!FW23-SA!FK23)/SA!FK23","v":1.5961138098542677E-2},{"$f":"(SA!FX23-SA!FL23)/SA!FL23","v":1.5972222222222221E-2},{"$f":"(SA!FY23-SA!FM23)/SA!FM23","v":1.4502762430939226E-2},{"$f":"(SA!FZ23-SA!FN23)/SA!FN23","v":1.7277125086385625E-2},{"$f":"(SA!GA23-SA!FO23)/SA!FO23","v":3.6933797909407665E-2},{"$f":"(SA!GB23-SA!FP23)/SA!FP23","v":3.4435261707988982E-2},{"$f":"(SA!GC23-SA!FQ23)/SA!FQ23","v":1.6517549896765314E-2},{"$f":"(SA!GD23-SA!FR23)/SA!FR23","v":-2.0491803278688526E-3},{"$f":"(SA!GE23-SA!FS23)/SA!FS23","v":-6.1433447098976105E-3},{"$f":"(SA!GF23-SA!FT23)/SA!FT23","v":-6.8587105624142656E-4},{"$f":"(SA!GG23-SA!FU23)/SA!FU23","v":1.3689253935660506E-3},{"$f":"(SA!GH23-SA!FV23)/SA!FV23","v":-2.0435967302452314E-3},{"$f":"(SA!GI23-SA!FW23)/SA!FW23","v":-1.366120218579235E-3},{"$f":"(SA!GJ23-SA!FX23)/SA!FX23","v":2.050580997949419E-3},{"$f":"(SA!GK23-SA!FY23)/SA!FY23","v":3.4036759700476512E-3},{"$f":"(SA!GL23-SA!FZ23)/SA!FZ23","v":-1.0190217391304348E-2},{"$f":"(SA!GM23-SA!GA23)/SA!GA23","v":-2.2849462365591398E-2},{"$f":"(SA!GN23-SA!GB23)/SA!GB23","v":-3.0625832223701729E-2},{"$f":"(SA!GO23-SA!GC23)/SA!GC23","v":-7.4475287745429924E-3},{"$f":"(SA!GP23-SA!GD23)/SA!GD23","v":1.2320328542094456E-2},{"$f":"(SA!GQ23-SA!GE23)/SA!GE23","v":1.510989010989011E-2},{"$f":"(SA!GR23-SA!GF23)/SA!GF23","v":8.9224433768016476E-3},{"$f":"(SA!GS23-SA!GG23)/SA!GG23","v":4.7846889952153108E-3},{"$f":"(SA!GT23-SA!GH23)/SA!GH23","v":-4.0955631399317407E-3},{"$f":"(SA!GU23-SA!GI23)/SA!GI23","v":-7.523939808481532E-3},{"$f":"(SA!GV23-SA!GJ23)/SA!GJ23","v":-4.0927694406548429E-3},{"$f":"(SA!GW23-SA!GK23)/SA!GK23","v":-1.4246947082767978E-2},{"$f":"(SA!GX23-SA!GL23)/SA!GL23","v":-2.7453671928620452E-3},{"$f":"(SA!GY23-SA!GM23)/SA!GM23","v":-6.8775790921595599E-4},{"$f":"(SA!GZ23-SA!GN23)/SA!GN23","v":-5.4945054945054949E-3},{"$f":"(SA!HA23-SA!GO23)/SA!GO23","v":-1.0231923601637109E-2},{"$f":"(SA!HB23-SA!GP23)/SA!GP23","v":-9.4658553076402974E-3},{"$f":"(SA!HC23-SA!GQ23)/SA!GQ23","v":-4.0595399188092015E-3},{"$f":"(SA!HD23-SA!GR23)/SA!GR23","v":9.5238095238095247E-3},{"$f":"(SA!HE23-SA!GS23)/SA!GS23","v":2.0408163265306124E-3},{"$f":"(SA!HF23-SA!GT23)/SA!GT23","v":1.5078821110349555E-2},{"$f":"(SA!HG23-SA!GU23)/SA!GU23","v":6.202618883528601E-3},{"$f":"(SA!HH23-SA!GV23)/SA!GV23","v":1.7123287671232876E-2},{"$f":"(SA!HI23-SA!GW23)/SA!GW23","v":8.2587749483826571E-3},{"$f":"(SA!HJ23-SA!GX23)/SA!GX23","v":1.7894012388162423E-2},{"$f":"(SA!HK23-SA!GY23)/SA!GY23","v":-1},{"$f":"(SA!HL23-SA!GZ23)/SA!GZ23","v":-1},{"$f":"(SA!HM23-SA!HA23)/SA!HA23","v":-1}," n/a ","n/a",null,"  Administrative and Support and Waste Management and Remediation Services",-0.16618705035971224,-9.6230260459392938E-3,4.0941824826314808E-3,1.7300744116904021E-2,2.5215517241379312E-2,3.6119052634746754E-2,5.3527709806490562E-2,0.15404699738903394,6.0006275065145144E-2]
["Education and Health Services",{"$f":"(SA!BN24-SA!BB24)/SA!BB24","v":2.0624151967435549E-2},{"$f":"(SA!BO24-SA!BC24)/SA!BC24","v":1.7847485127095726E-2},{"$f":"(SA!BP24-SA!BD24)/SA!BD24","v":1.9443694301917364E-2},{"$f":"(SA!BQ24-SA!BE24)/SA!BE24","v":1.8593371059013743E-2},{"$f":"(SA!BR24-SA!BF24)/SA!BF24","v":1.8563357546408393E-2},{"$f":"(SA!BS24-SA!BG24)/SA!BG24","v":2.0172135556750941E-2},{"$f":"(SA!BT24-SA!BH24)/SA!BH24","v":1.9602577873254565E-2},{"$f":"(SA!BU24-SA!BI24)/SA!BI24","v":1.8478843063738617E-2},{"$f":"(SA!BV24-SA!BJ24)/SA!BJ24","v":2.2514071294559099E-2},{"$f":"(SA!BW24-SA!BK24)/SA!BK24","v":2.0058839261834716E-2},{"$f":"(SA!BX24-SA!BL24)/SA!BL24","v":2.1100427350427352E-2},{"$f":"(SA!BY24-SA!BM24)/SA!BM24","v":1.9445924347362812E-2},{"$f":"(SA!BZ24-SA!BN24)/SA!BN24","v":2.0207391651156606E-2},{"$f":"(SA!CA24-SA!BO24)/SA!BO24","v":2.2316684378320937E-2},{"$f":"(SA!CB24-SA!BP24)/SA!BP24","v":1.8807947019867551E-2},{"$f":"(SA!CC24-SA!BQ24)/SA!BQ24","v":1.984126984126984E-2},{"$f":"(SA!CD24-SA!BR24)/SA!BR24","v":1.9545694664553619E-2},{"$f":"(SA!CE24-SA!BS24)/SA!BS24","v":1.9245979435802793E-2},{"$f":"(SA!CF24-SA!BT24)/SA!BT24","v":2.1069265209375822E-2},{"$f":"(SA!CG24-SA!BU24)/SA!BU24","v":1.9984222981856429E-2},{"$f":"(SA!CH24-SA!BV24)/SA!BV24","v":1.9134993446920052E-2},{"$f":"(SA!CI24-SA!BW24)/SA!BW24","v":2.2024121657052961E-2},{"$f":"(SA!CJ24-SA!BX24)/SA!BX24","v":2.0402825006539366E-2},{"$f":"(SA!CK24-SA!BY24)/SA!BY24","v":1.9336294747844266E-2},{"$f":"(SA!CL24-SA!BZ24)/SA!BZ24","v":1.6419077404222049E-2},{"$f":"(SA!CM24-SA!CA24)/SA!CA24","v":1.5072765072765074E-2},{"$f":"(SA!CN24-SA!CB24)/SA!CB24","v":1.6900676027041081E-2},{"$f":"(SA!CO24-SA!CC24)/SA!CC24","v":1.556420233463035E-2},{"$f":"(SA!CP24-SA!CD24)/SA!CD24","v":1.5544041450777202E-2},{"$f":"(SA!CQ24-SA!CE24)/SA!CE24","v":1.6554578375581996E-2},{"$f":"(SA!CR24-SA!CF24)/SA!CF24","v":1.57338148052618E-2},{"$f":"(SA!CS24-SA!CG24)/SA!CG24","v":1.7014694508894045E-2},{"$f":"(SA!CT24-SA!CH24)/SA!CH24","v":1.7489711934156379E-2},{"$f":"(SA!CU24-SA!CI24)/SA!CI24","v":8.9789635710620826E-3},{"$f":"(SA!CV24-SA!CJ24)/SA!CJ24","v":7.1776467572417331E-3},{"$f":"(SA!CW24-SA!CK24)/SA!CK24","v":1.0253781081773904E-2},{"$f":"(SA!CX24-SA!CL24)/SA!CL24","v":1.1794871794871795E-2},{"$f":"(SA!CY24-SA!CM24)/SA!CM24","v":1.1264720942140297E-2},{"$f":"(SA!CZ24-SA!CN24)/SA!CN24","v":1.1761697775504986E-2},{"$f":"(SA!DA24-SA!CO24)/SA!CO24","v":1.3793103448275862E-2},{"$f":"(SA!DB24-SA!CP24)/SA!CP24","v":1.3775510204081633E-2},{"$f":"(SA!DC24-SA!CQ24)/SA!CQ24","v":1.3994910941475827E-2},{"$f":"(SA!DD24-SA!CR24)/SA!CR24","v":1.4474352463179279E-2},{"$f":"(SA!DE24-SA!CS24)/SA!CS24","v":1.4702154626108998E-2},{"$f":"(SA!DF24-SA!CT24)/SA!CT24","v":1.4661274014155713E-2},{"$f":"(SA!DG24-SA!CU24)/SA!CU24","v":2.4663107042969742E-2},{"$f":"(SA!DH24-SA!CV24)/SA!CV24","v":2.9015016543649783E-2},{"$f":"(SA!DI24-SA!CW24)/SA!CW24","v":3.0449124587668106E-2},{"$f":"(SA!DJ24-SA!CX24)/SA!CX24","v":2.7116066903193108E-2},{"$f":"(SA!DK24-SA!CY24)/SA!CY24","v":2.8101265822784809E-2},{"$f":"(SA!DL24-SA!CZ24)/SA!CZ24","v":2.7040687389436442E-2},{"$f":"(SA!DM24-SA!DA24)/SA!DA24","v":2.1919879062736205E-2},{"$f":"(SA!DN24-SA!DB24)/SA!DB24","v":2.214393558127831E-2},{"$f":"(SA!DO24-SA!DC24)/SA!DC24","v":2.3086574654956084E-2},{"$f":"(SA!DP24-SA!DD24)/SA!DD24","v":1.9274092615769713E-2},{"$f":"(SA!DQ24-SA!DE24)/SA!DE24","v":1.8486135398451162E-2},{"$f":"(SA!DR24-SA!DF24)/SA!DF24","v":1.1709018435475834E-2},{"$f":"(SA!DS24-SA!DG24)/SA!DG24","v":9.6774193548387101E-3},{"$f":"(SA!DT24-SA!DH24)/SA!DH24","v":5.1941627504328465E-3},{"$f":"(SA!DU24-SA!DI24)/SA!DI24","v":-9.8497906919477966E-4},{"$f":"(SA!DV24-SA!DJ24)/SA!DJ24","v":5.6748087836170739E-3},{"$f":"(SA!DW24-SA!DK24)/SA!DK24","v":4.6786505786752036E-3},{"$f":"(SA!DX24-SA!DL24)/SA!DL24","v":5.4133858267716535E-3},{"$f":"(SA!DY24-SA!DM24)/SA!DM24","v":7.3964497041420117E-4},{"$f":"(SA!DZ24-SA!DN24)/SA!DN24","v":-1.7232890201870998E-3},{"$f":"(SA!EA24-SA!DO24)/SA!DO24","v":-2.4527839097375523E-3},{"$f":"(SA!EB24-SA!DP24)/SA!DP24","v":2.455795677799607E-3},{"$f":"(SA!EC24-SA!DQ24)/SA!DQ24","v":3.4338974736325728E-3},{"$f":"(SA!ED24-SA!DR24)/SA!DR24","v":2.954937207584339E-3},{"$f":"(SA!EE24-SA!DS24)/SA!DS24","v":2.2118456623248955E-3},{"$f":"(SA!EF24-SA!DT24)/SA!DT24","v":3.6909448818897637E-3},{"$f":"(SA!EG24-SA!DU24)/SA!DU24","v":5.9157012570865168E-3},{"$f":"(SA!EH24-SA!DV24)/SA!DV24","v":1.4720314033366045E-3},{"$f":"(SA!EI24-SA!DW24)/SA!DW24","v":0},{"$f":"(SA!EJ24-SA!DX24)/SA!DX24","v":-3.6710719530102789E-3},{"$f":"(SA!EK24-SA!DY24)/SA!DY24","v":9.1155457009115554E-3},{"$f":"(SA!EL24-SA!DZ24)/SA!DZ24","v":1.1344019728729964E-2},{"$f":"(SA!EM24-SA!EA24)/SA!EA24","v":9.097614949594296E-3},{"$f":"(SA!EN24-SA!EB24)/SA!EB24","v":7.839294463498285E-3},{"$f":"(SA!EO24-SA!EC24)/SA!EC24","v":5.622097286726962E-3},{"$f":"(SA!EP24-SA!ED24)/SA!ED24","v":1.3258040756199362E-2},{"$f":"(SA!EQ24-SA!EE24)/SA!EE24","v":1.2751348700343305E-2},{"$f":"(SA!ER24-SA!EF24)/SA!EF24","v":1.3728855111546949E-2},{"$f":"(SA!ES24-SA!EG24)/SA!EG24","v":1.5437392795883362E-2},{"$f":"(SA!ET24-SA!EH24)/SA!EH24","v":1.6168544830965213E-2},{"$f":"(SA!EU24-SA!EI24)/SA!EI24","v":1.8627450980392157E-2},{"$f":"(SA!EV24-SA!EJ24)/SA!EJ24","v":2.3335789732252518E-2},{"$f":"(SA!EW24-SA!EK24)/SA!EK24","v":1.85546875E-2},{"$f":"(SA!EX24-SA!EL24)/SA!EL24","v":1.755669348939283E-2},{"$f":"(SA!EY24-SA!EM24)/SA!EM24","v":1.8518518518518517E-2},{"$f":"(SA!EZ24-SA!EN24)/SA!EN24","v":9.2367525522605732E-3},{"$f":"(SA!FA24-SA!EO24)/SA!EO24","v":1.5070491006319884E-2},{"$f":"(SA!FB24-SA!EP24)/SA!EP24","v":1.7688393506178821E-2},{"$f":"(SA!FC24-SA!EQ24)/SA!EQ24","v":2.1307506053268765E-2},{"$f":"(SA!FD24-SA!ER24)/SA!ER24","v":2.0556227327690448E-2},{"$f":"(SA!FE24-SA!ES24)/SA!ES24","v":2.0028957528957531E-2},{"$f":"(SA!FF24-SA!ET24)/SA!ET24","v":1.7357762777242044E-2},{"$f":"(SA!FG24-SA!EU24)/SA!EU24","v":1.7564966313763235E-2},{"$f":"(SA!FH24-SA!EV24)/SA!EV24","v":1.5362457993278924E-2},{"$f":"(SA!FI24-SA!EW24)/SA!EW24","v":1.4381591562799617E-2},{"$f":"(SA!FJ24-SA!EX24)/SA!EX24","v":1.5336688233884496E-2},{"$f":"(SA!FK24-SA!EY24)/SA!EY24","v":1.3397129186602871E-2},{"$f":"(SA!FL24-SA!EZ24)/SA!EZ24","v":1.4932562620423893E-2},{"$f":"(SA!FM24-SA!FA24)/SA!FA24","v":1.6522988505747127E-2},{"$f":"(SA!FN24-SA!FB24)/SA!FB24","v":1.2857142857142857E-2},{"$f":"(SA!FO24-SA!FC24)/SA!FC24","v":9.9573257467994308E-3},{"$f":"(SA!FP24-SA!FD24)/SA!FD24","v":1.0900473933649289E-2},{"$f":"(SA!FQ24-SA!FE24)/SA!FE24","v":8.753252898036433E-3},{"$f":"(SA!FR24-SA!FF24)/SA!FF24","v":1.3981042654028436E-2},{"$f":"(SA!FS24-SA!FG24)/SA!FG24","v":1.3241901158666351E-2},{"$f":"(SA!FT24-SA!FH24)/SA!FH24","v":1.3711583924349883E-2},{"$f":"(SA!FU24-SA!FI24)/SA!FI24","v":1.4413988657844991E-2},{"$f":"(SA!FV24-SA!FJ24)/SA!FJ24","v":1.4160962945480292E-2},{"$f":"(SA!FW24-SA!FK24)/SA!FK24","v":1.7233238904627007E-2},{"$f":"(SA!FX24-SA!FL24)/SA!FL24","v":1.8747033697199812E-2},{"$f":"(SA!FY24-SA!FM24)/SA!FM24","v":1.6489988221436984E-2},{"$f":"(SA!FZ24-SA!FN24)/SA!FN24","v":1.5514809590973202E-2},{"$f":"(SA!GA24-SA!FO24)/SA!FO24","v":1.3380281690140845E-2},{"$f":"(SA!GB24-SA!FP24)/SA!FP24","v":1.5236755743084857E-2},{"$f":"(SA!GC24-SA!FQ24)/SA!FQ24","v":1.5947467166979361E-2},{"$f":"(SA!GD24-SA!FR24)/SA!FR24","v":1.121757419957934E-2},{"$f":"(SA!GE24-SA!FS24)/SA!FS24","v":1.2135355892648775E-2},{"$f":"(SA!GF24-SA!FT24)/SA!FT24","v":1.3526119402985074E-2},{"$f":"(SA!GG24-SA!FU24)/SA!FU24","v":1.1646866992778943E-2},{"$f":"(SA!GH24-SA!FV24)/SA!FV24","v":1.3730509657900861E-2},{"$f":"(SA!GI24-SA!FW24)/SA!FW24","v":1.206776514272453E-2},{"$f":"(SA!GJ24-SA!FX24)/SA!FX24","v":1.5140927090612625E-2},{"$f":"(SA!GK24-SA!FY24)/SA!FY24","v":1.2282734646581691E-2},{"$f":"(SA!GL24-SA!FZ24)/SA!FZ24","v":1.1111111111111112E-2},{"$f":"(SA!GM24-SA!GA24)/SA!GA24","v":1.4361825341672458E-2},{"$f":"(SA!GN24-SA!GB24)/SA!GB24","v":1.2930039251904871E-2},{"$f":"(SA!GO24-SA!GC24)/SA!GC24","v":1.569713758079409E-2},{"$f":"(SA!GP24-SA!GD24)/SA!GD24","v":1.9181881211000694E-2},{"$f":"(SA!GQ24-SA!GE24)/SA!GE24","v":1.9598801014526171E-2},{"$f":"(SA!GR24-SA!GF24)/SA!GF24","v":1.840773124712379E-2},{"$f":"(SA!GS24-SA!GG24)/SA!GG24","v":2.0953258116509325E-2},{"$f":"(SA!GT24-SA!GH24)/SA!GH24","v":1.6988062442607896E-2},{"$f":"(SA!GU24-SA!GI24)/SA!GI24","v":1.7427195597340059E-2},{"$f":"(SA!GV24-SA!GJ24)/SA!GJ24","v":2.4323083983478658E-2},{"$f":"(SA!GW24-SA!GK24)/SA!GK24","v":2.2435897435897436E-2},{"$f":"(SA!GX24-SA!GL24)/SA!GL24","v":2.3351648351648352E-2},{"$f":"(SA!GY24-SA!GM24)/SA!GM24","v":2.4891527746060745E-2},{"$f":"(SA!GZ24-SA!GN24)/SA!GN24","v":2.4846136311830407E-2},{"$f":"(SA!HA24-SA!GO24)/SA!GO24","v":2.0909090909090908E-2},{"$f":"(SA!HB24-SA!GP24)/SA!GP24","v":2.1768707482993196E-2},{"$f":"(SA!HC24-SA!GQ24)/SA!GQ24","v":1.4699231117141566E-2},{"$f":"(SA!HD24-SA!GR24)/SA!GR24","v":1.6945323090826931E-2},{"$f":"(SA!HE24-SA!GS24)/SA!GS24","v":1.5336039693279206E-2},{"$f":"(SA!HF24-SA!GT24)/SA!GT24","v":1.218961625282167E-2},{"$f":"(SA!HG24-SA!GU24)/SA!GU24","v":1.2395762902862295E-2},{"$f":"(SA!HH24-SA!GV24)/SA!GV24","v":7.6164874551971325E-3},{"$f":"(SA!HI24-SA!GW24)/SA!GW24","v":9.852216748768473E-3},{"$f":"(SA!HJ24-SA!GX24)/SA!GX24","v":9.6196868008948545E-3},{"$f":"(SA!HK24-SA!GY24)/SA!GY24","v":-1},{"$f":"(SA!HL24-SA!GZ24)/SA!GZ24","v":-1},{"$f":"(SA!HM24-SA!HA24)/SA!HA24","v":-1}," n/a ","n/a",null,"Education and Health Services",-3.6710719530102789E-3,8.9225359028056693E-3,1.308597020528561E-2,1.5089805577226962E-2,1.6514738434669593E-2,1.8777490358533683E-2,2.0982259889725949E-2,3.0449124587668106E-2,6.5842465879528359E-3]
["Educational Services",{"$f":"(SA!BN25-SA!BB25)/SA!BB25","v":3.4782608695652174E-2},{"$f":"(SA!BO25-SA!BC25)/SA!BC25","v":1.9271948608137045E-2},{"$f":"(SA!BP25-SA!BD25)/SA!BD25","v":2.575107296137339E-2},{"$f":"(SA!BQ25-SA!BE25)/SA!BE25","v":1.9189765458422176E-2},{"$f":"(SA!BR25-SA!BF25)/SA!BF25","v":2.3554603854389723E-2},{"$f":"(SA!BS25-SA!BG25)/SA!BG25","v":2.1276595744680851E-2},{"$f":"(SA!BT25-SA!BH25)/SA!BH25","v":1.7021276595744681E-2},{"$f":"(SA!BU25-SA!BI25)/SA!BI25","v":1.4767932489451477E-2},{"$f":"(SA!BV25-SA!BJ25)/SA!BJ25","v":2.3454157782515993E-2},{"$f":"(SA!BW25-SA!BK25)/SA!BK25","v":1.4861995753715499E-2},{"$f":"(SA!BX25-SA!BL25)/SA!BL25","v":2.1231422505307854E-2},{"$f":"(SA!BY25-SA!BM25)/SA!BM25","v":1.2658227848101266E-2},{"$f":"(SA!BZ25-SA!BN25)/SA!BN25","v":1.4705882352941176E-2},{"$f":"(SA!CA25-SA!BO25)/SA!BO25","v":1.8907563025210083E-2},{"$f":"(SA!CB25-SA!BP25)/SA!BP25","v":1.2552301255230125E-2},{"$f":"(SA!CC25-SA!BQ25)/SA!BQ25","v":2.0920502092050208E-2},{"$f":"(SA!CD25-SA!BR25)/SA!BR25","v":2.5104602510460251E-2},{"$f":"(SA!CE25-SA!BS25)/SA!BS25","v":1.6666666666666666E-2},{"$f":"(SA!CF25-SA!BT25)/SA!BT25","v":2.7196652719665274E-2},{"$f":"(SA!CG25-SA!BU25)/SA!BU25","v":1.4553014553014554E-2},{"$f":"(SA!CH25-SA!BV25)/SA!BV25","v":2.0833333333333332E-2},{"$f":"(SA!CI25-SA!BW25)/SA!BW25","v":2.7196652719665274E-2},{"$f":"(SA!CJ25-SA!BX25)/SA!BX25","v":2.9106029106029108E-2},{"$f":"(SA!CK25-SA!BY25)/SA!BY25","v":2.2916666666666665E-2},{"$f":"(SA!CL25-SA!BZ25)/SA!BZ25","v":1.6563146997929608E-2},{"$f":"(SA!CM25-SA!CA25)/SA!CA25","v":1.443298969072165E-2},{"$f":"(SA!CN25-SA!CB25)/SA!CB25","v":2.0661157024793389E-2},{"$f":"(SA!CO25-SA!CC25)/SA!CC25","v":6.1475409836065573E-3},{"$f":"(SA!CP25-SA!CD25)/SA!CD25","v":8.1632653061224497E-3},{"$f":"(SA!CQ25-SA!CE25)/SA!CE25","v":8.1967213114754103E-3},{"$f":"(SA!CR25-SA!CF25)/SA!CF25","v":8.1466395112016286E-3},{"$f":"(SA!CS25-SA!CG25)/SA!CG25","v":1.8442622950819672E-2},{"$f":"(SA!CT25-SA!CH25)/SA!CH25","v":1.6326530612244899E-2},{"$f":"(SA!CU25-SA!CI25)/SA!CI25","v":-3.4623217922606926E-2},{"$f":"(SA!CV25-SA!CJ25)/SA!CJ25","v":-5.8585858585858588E-2},{"$f":"(SA!CW25-SA!CK25)/SA!CK25","v":-4.2769857433808553E-2},{"$f":"(SA!CX25-SA!CL25)/SA!CL25","v":-4.0733197556008148E-2},{"$f":"(SA!CY25-SA!CM25)/SA!CM25","v":-4.2682926829268296E-2},{"$f":"(SA!CZ25-SA!CN25)/SA!CN25","v":-4.8582995951417005E-2},{"$f":"(SA!DA25-SA!CO25)/SA!CO25","v":-2.6476578411405296E-2},{"$f":"(SA!DB25-SA!CP25)/SA!CP25","v":-3.643724696356275E-2},{"$f":"(SA!DC25-SA!CQ25)/SA!CQ25","v":-2.2357723577235773E-2},{"$f":"(SA!DD25-SA!CR25)/SA!CR25","v":-1.8181818181818181E-2},{"$f":"(SA!DE25-SA!CS25)/SA!CS25","v":-2.0120724346076459E-2},{"$f":"(SA!DF25-SA!CT25)/SA!CT25","v":-1.0040160642570281E-2},{"$f":"(SA!DG25-SA!CU25)/SA!CU25","v":6.118143459915612E-2},{"$f":"(SA!DH25-SA!CV25)/SA!CV25","v":8.5836909871244635E-2},{"$f":"(SA!DI25-SA!CW25)/SA!CW25","v":9.3617021276595741E-2},{"$f":"(SA!DJ25-SA!CX25)/SA!CX25","v":8.2802547770700632E-2},{"$f":"(SA!DK25-SA!CY25)/SA!CY25","v":8.2802547770700632E-2},{"$f":"(SA!DL25-SA!CZ25)/SA!CZ25","v":8.5106382978723402E-2},{"$f":"(SA!DM25-SA!DA25)/SA!DA25","v":4.8117154811715482E-2},{"$f":"(SA!DN25-SA!DB25)/SA!DB25","v":5.2521008403361345E-2},{"$f":"(SA!DO25-SA!DC25)/SA!DC25","v":6.6528066528066532E-2},{"$f":"(SA!DP25-SA!DD25)/SA!DD25","v":5.3497942386831275E-2},{"$f":"(SA!DQ25-SA!DE25)/SA!DE25","v":5.3388090349075976E-2},{"$f":"(SA!DR25-SA!DF25)/SA!DF25","v":1.6227180527383367E-2},{"$f":"(SA!DS25-SA!DG25)/SA!DG25","v":-5.9642147117296221E-3},{"$f":"(SA!DT25-SA!DH25)/SA!DH25","v":-1.5810276679841896E-2},{"$f":"(SA!DU25-SA!DI25)/SA!DI25","v":-3.6964980544747082E-2},{"$f":"(SA!DV25-SA!DJ25)/SA!DJ25","v":-2.1568627450980392E-2},{"$f":"(SA!DW25-SA!DK25)/SA!DK25","v":-1.9607843137254902E-2},{"$f":"(SA!DX25-SA!DL25)/SA!DL25","v":-1.7647058823529412E-2},{"$f":"(SA!DY25-SA!DM25)/SA!DM25","v":-1.5968063872255488E-2},{"$f":"(SA!DZ25-SA!DN25)/SA!DN25","v":-2.9940119760479042E-2},{"$f":"(SA!EA25-SA!DO25)/SA!DO25","v":-2.9239766081871343E-2},{"$f":"(SA!EB25-SA!DP25)/SA!DP25","v":-7.8125E-3},{"$f":"(SA!EC25-SA!DQ25)/SA!DQ25","v":3.8986354775828458E-3},{"$f":"(SA!ED25-SA!DR25)/SA!DR25","v":5.9880239520958087E-3},{"$f":"(SA!EE25-SA!DS25)/SA!DS25","v":-6.0000000000000001E-3},{"$f":"(SA!EF25-SA!DT25)/SA!DT25","v":-8.0321285140562242E-3},{"$f":"(SA!EG25-SA!DU25)/SA!DU25","v":-2.0202020202020202E-3},{"$f":"(SA!EH25-SA!DV25)/SA!DV25","v":-6.0120240480961923E-3},{"$f":"(SA!EI25-SA!DW25)/SA!DW25","v":-1.6E-2},{"$f":"(SA!EJ25-SA!DX25)/SA!DX25","v":-3.5928143712574849E-2},{"$f":"(SA!EK25-SA!DY25)/SA!DY25","v":8.1135902636916835E-3},{"$f":"(SA!EL25-SA!DZ25)/SA!DZ25","v":3.0864197530864196E-2},{"$f":"(SA!EM25-SA!EA25)/SA!EA25","v":2.008032128514056E-3},{"$f":"(SA!EN25-SA!EB25)/SA!EB25","v":-7.874015748031496E-3},{"$f":"(SA!EO25-SA!EC25)/SA!EC25","v":-1.7475728155339806E-2},{"$f":"(SA!EP25-SA!ED25)/SA!ED25","v":3.968253968253968E-3},{"$f":"(SA!EQ25-SA!EE25)/SA!EE25","v":2.0120724346076459E-2},{"$f":"(SA!ER25-SA!EF25)/SA!EF25","v":3.0364372469635626E-2},{"$f":"(SA!ES25-SA!EG25)/SA!EG25","v":2.8340080971659919E-2},{"$f":"(SA!ET25-SA!EH25)/SA!EH25","v":2.0161290322580645E-3},{"$f":"(SA!EU25-SA!EI25)/SA!EI25","v":1.2195121951219513E-2},{"$f":"(SA!EV25-SA!EJ25)/SA!EJ25","v":3.9337474120082816E-2},{"$f":"(SA!EW25-SA!EK25)/SA!EK25","v":1.2072434607645875E-2},{"$f":"(SA!EX25-SA!EL25)/SA!EL25","v":7.9840319361277438E-3},{"$f":"(SA!EY25-SA!EM25)/SA!EM25","v":6.0120240480961923E-3},{"$f":"(SA!EZ25-SA!EN25)/SA!EN25","v":-8.3333333333333329E-2},{"$f":"(SA!FA25-SA!EO25)/SA!EO25","v":-4.9407114624505928E-2},{"$f":"(SA!FB25-SA!EP25)/SA!EP25","v":-2.3715415019762844E-2},{"$f":"(SA!FC25-SA!EQ25)/SA!EQ25","v":-1.1834319526627219E-2},{"$f":"(SA!FD25-SA!ER25)/SA!ER25","v":-1.5717092337917484E-2},{"$f":"(SA!FE25-SA!ES25)/SA!ES25","v":-9.8425196850393699E-3},{"$f":"(SA!FF25-SA!ET25)/SA!ET25","v":8.0482897384305842E-3},{"$f":"(SA!FG25-SA!EU25)/SA!EU25","v":1.2048192771084338E-2},{"$f":"(SA!FH25-SA!EV25)/SA!EV25","v":-1.9920318725099601E-3},{"$f":"(SA!FI25-SA!EW25)/SA!EW25","v":-3.9761431411530811E-3},{"$f":"(SA!FJ25-SA!EX25)/SA!EX25","v":-1.3861386138613862E-2},{"$f":"(SA!FK25-SA!EY25)/SA!EY25","v":-1.3944223107569721E-2},{"$f":"(SA!FL25-SA!EZ25)/SA!EZ25","v":1.7316017316017316E-2},{"$f":"(SA!FM25-SA!FA25)/SA!FA25","v":1.6632016632016633E-2},{"$f":"(SA!FN25-SA!FB25)/SA!FB25","v":2.0242914979757085E-3},{"$f":"(SA!FO25-SA!FC25)/SA!FC25","v":-3.9920159680638719E-3},{"$f":"(SA!FP25-SA!FD25)/SA!FD25","v":-1.996007984031936E-3},{"$f":"(SA!FQ25-SA!FE25)/SA!FE25","v":-5.9642147117296221E-3},{"$f":"(SA!FR25-SA!FF25)/SA!FF25","v":-1.996007984031936E-3},{"$f":"(SA!FS25-SA!FG25)/SA!FG25","v":-5.9523809523809521E-3},{"$f":"(SA!FT25-SA!FH25)/SA!FH25","v":-3.9920159680638719E-3},{"$f":"(SA!FU25-SA!FI25)/SA!FI25","v":-1.996007984031936E-3},{"$f":"(SA!FV25-SA!FJ25)/SA!FJ25","v":1.0040160642570281E-2},{"$f":"(SA!FW25-SA!FK25)/SA!FK25","v":1.0101010101010102E-2},{"$f":"(SA!FX25-SA!FL25)/SA!FL25","v":2.7659574468085105E-2},{"$f":"(SA!FY25-SA!FM25)/SA!FM25","v":1.8404907975460124E-2},{"$f":"(SA!FZ25-SA!FN25)/SA!FN25","v":1.0101010101010102E-2},{"$f":"(SA!GA25-SA!FO25)/SA!FO25","v":2.004008016032064E-3},{"$f":"(SA!GB25-SA!FP25)/SA!FP25","v":-2E-3},{"$f":"(SA!GC25-SA!FQ25)/SA!FQ25","v":4.0000000000000001E-3},{"$f":"(SA!GD25-SA!FR25)/SA!FR25","v":0},{"$f":"(SA!GE25-SA!FS25)/SA!FS25","v":5.9880239520958087E-3},{"$f":"(SA!GF25-SA!FT25)/SA!FT25","v":1.002004008016032E-2},{"$f":"(SA!GG25-SA!FU25)/SA!FU25","v":2E-3},{"$f":"(SA!GH25-SA!FV25)/SA!FV25","v":1.9880715705765406E-3},{"$f":"(SA!GI25-SA!FW25)/SA!FW25","v":4.0000000000000001E-3},{"$f":"(SA!GJ25-SA!FX25)/SA!FX25","v":2.2774327122153208E-2},{"$f":"(SA!GK25-SA!FY25)/SA!FY25","v":8.0321285140562242E-3},{"$f":"(SA!GL25-SA!FZ25)/SA!FZ25","v":0},{"$f":"(SA!GM25-SA!GA25)/SA!GA25","v":2E-3},{"$f":"(SA!GN25-SA!GB25)/SA!GB25","v":4.0080160320641279E-3},{"$f":"(SA!GO25-SA!GC25)/SA!GC25","v":1.9920318725099601E-3},{"$f":"(SA!GP25-SA!GD25)/SA!GD25","v":4.0000000000000001E-3},{"$f":"(SA!GQ25-SA!GE25)/SA!GE25","v":-1.984126984126984E-3},{"$f":"(SA!GR25-SA!GF25)/SA!GF25","v":0},{"$f":"(SA!GS25-SA!GG25)/SA!GG25","v":7.9840319361277438E-3},{"$f":"(SA!GT25-SA!GH25)/SA!GH25","v":-5.9523809523809521E-3},{"$f":"(SA!GU25-SA!GI25)/SA!GI25","v":1.1952191235059761E-2},{"$f":"(SA!GV25-SA!GJ25)/SA!GJ25","v":2.0242914979757085E-2},{"$f":"(SA!GW25-SA!GK25)/SA!GK25","v":1.9920318725099601E-2},{"$f":"(SA!GX25-SA!GL25)/SA!GL25","v":0.03},{"$f":"(SA!GY25-SA!GM25)/SA!GM25","v":4.3912175648702596E-2},{"$f":"(SA!GZ25-SA!GN25)/SA!GN25","v":4.790419161676647E-2},{"$f":"(SA!HA25-SA!GO25)/SA!GO25","v":4.37375745526839E-2},{"$f":"(SA!HB25-SA!GP25)/SA!GP25","v":2.9880478087649404E-2},{"$f":"(SA!HC25-SA!GQ25)/SA!GQ25","v":2.7833001988071572E-2},{"$f":"(SA!HD25-SA!GR25)/SA!GR25","v":1.984126984126984E-2},{"$f":"(SA!HE25-SA!GS25)/SA!GS25","v":9.9009900990099011E-3},{"$f":"(SA!HF25-SA!GT25)/SA!GT25","v":1.7964071856287425E-2},{"$f":"(SA!HG25-SA!GU25)/SA!GU25","v":-1.968503937007874E-2},{"$f":"(SA!HH25-SA!GV25)/SA!GV25","v":-2.5793650793650792E-2},{"$f":"(SA!HI25-SA!GW25)/SA!GW25","v":1.953125E-3},{"$f":"(SA!HJ25-SA!GX25)/SA!GX25","v":1.1650485436893204E-2},{"$f":"(SA!HK25-SA!GY25)/SA!GY25","v":-1},{"$f":"(SA!HL25-SA!GZ25)/SA!GZ25","v":-1},{"$f":"(SA!HM25-SA!HA25)/SA!HA25","v":-1}," n/a ","n/a",null,"Educational Services",-8.3333333333333329E-2,-1.7518560822387209E-2,-2.9981725806775507E-3,4.0000000000000001E-3,9.5642103879890923E-3,1.786046264573872E-2,2.7829701093978809E-2,9.3617021276595741E-2,2.7753128075078477E-2]
["Health Care and Social Assistance",{"$f":"(SA!BN26-SA!BB26)/SA!BB26","v":1.8604651162790697E-2},{"$f":"(SA!BO26-SA!BC26)/SA!BC26","v":1.7641597028783658E-2},{"$f":"(SA!BP26-SA!BD26)/SA!BD26","v":1.8535681186283594E-2},{"$f":"(SA!BQ26-SA!BE26)/SA!BE26","v":1.850709438618137E-2},{"$f":"(SA!BR26-SA!BF26)/SA!BF26","v":1.7846153846153845E-2},{"$f":"(SA!BS26-SA!BG26)/SA!BG26","v":2.001231527093596E-2},{"$f":"(SA!BT26-SA!BH26)/SA!BH26","v":1.9975414874001229E-2},{"$f":"(SA!BU26-SA!BI26)/SA!BI26","v":1.9018404907975461E-2},{"$f":"(SA!BV26-SA!BJ26)/SA!BJ26","v":2.2378908645003064E-2},{"$f":"(SA!BW26-SA!BK26)/SA!BK26","v":2.0807833537331701E-2},{"$f":"(SA!BX26-SA!BL26)/SA!BL26","v":2.1081576535288724E-2},{"$f":"(SA!BY26-SA!BM26)/SA!BM26","v":2.0426829268292684E-2},{"$f":"(SA!BZ26-SA!BN26)/SA!BN26","v":2.1004566210045664E-2},{"$f":"(SA!CA26-SA!BO26)/SA!BO26","v":2.281021897810219E-2},{"$f":"(SA!CB26-SA!BP26)/SA!BP26","v":1.9714892326357293E-2},{"$f":"(SA!CC26-SA!BQ26)/SA!BQ26","v":1.968503937007874E-2},{"$f":"(SA!CD26-SA!BR26)/SA!BR26","v":1.8742442563482467E-2},{"$f":"(SA!CE26-SA!BS26)/SA!BS26","v":1.9619680048294598E-2},{"$f":"(SA!CF26-SA!BT26)/SA!BT26","v":2.0186803253992167E-2},{"$f":"(SA!CG26-SA!BU26)/SA!BU26","v":2.0770620108368453E-2},{"$f":"(SA!CH26-SA!BV26)/SA!BV26","v":1.8890554722638682E-2},{"$f":"(SA!CI26-SA!BW26)/SA!BW26","v":2.1282973621103117E-2},{"$f":"(SA!CJ26-SA!BX26)/SA!BX26","v":1.9150209455415918E-2},{"$f":"(SA!CK26-SA!BY26)/SA!BY26","v":1.8822826411711981E-2},{"$f":"(SA!CL26-SA!BZ26)/SA!BZ26","v":1.6398330351818723E-2},{"$f":"(SA!CM26-SA!CA26)/SA!CA26","v":1.5165031222123104E-2},{"$f":"(SA!CN26-SA!CB26)/SA!CB26","v":1.6359309934562759E-2},{"$f":"(SA!CO26-SA!CC26)/SA!CC26","v":1.6929016929016927E-2},{"$f":"(SA!CP26-SA!CD26)/SA!CD26","v":1.661721068249258E-2},{"$f":"(SA!CQ26-SA!CE26)/SA!CE26","v":1.7761989342806393E-2},{"$f":"(SA!CR26-SA!CF26)/SA!CF26","v":1.6834022445363261E-2},{"$f":"(SA!CS26-SA!CG26)/SA!CG26","v":1.6809200825715128E-2},{"$f":"(SA!CT26-SA!CH26)/SA!CH26","v":1.7657445556209534E-2},{"$f":"(SA!CU26-SA!CI26)/SA!CI26","v":1.5262694452597593E-2},{"$f":"(SA!CV26-SA!CJ26)/SA!CJ26","v":1.6735173223722841E-2},{"$f":"(SA!CW26-SA!CK26)/SA!CK26","v":1.7888563049853371E-2},{"$f":"(SA!CX26-SA!CL26)/SA!CL26","v":1.9360516280434146E-2},{"$f":"(SA!CY26-SA!CM26)/SA!CM26","v":1.9039250146455772E-2},{"$f":"(SA!CZ26-SA!CN26)/SA!CN26","v":2.0485806262803628E-2},{"$f":"(SA!DA26-SA!CO26)/SA!CO26","v":1.9567757009345793E-2},{"$f":"(SA!DB26-SA!CP26)/SA!CP26","v":2.1015761821366025E-2},{"$f":"(SA!DC26-SA!CQ26)/SA!CQ26","v":1.9197207678883072E-2},{"$f":"(SA!DD26-SA!CR26)/SA!CR26","v":1.9169329073482427E-2},{"$f":"(SA!DE26-SA!CS26)/SA!CS26","v":1.9721577726218097E-2},{"$f":"(SA!DF26-SA!CT26)/SA!CT26","v":1.8218623481781375E-2},{"$f":"(SA!DG26-SA!CU26)/SA!CU26","v":1.9658860942468923E-2},{"$f":"(SA!DH26-SA!CV26)/SA!CV26","v":2.1368755414380596E-2},{"$f":"(SA!DI26-SA!CW26)/SA!CW26","v":2.1895707288965716E-2},{"$f":"(SA!DJ26-SA!CX26)/SA!CX26","v":1.9568345323741007E-2},{"$f":"(SA!DK26-SA!CY26)/SA!CY26","v":2.0695602184535786E-2},{"$f":"(SA!DL26-SA!CZ26)/SA!CZ26","v":1.9214224261542873E-2},{"$f":"(SA!DM26-SA!DA26)/SA!DA26","v":1.8332855915210541E-2},{"$f":"(SA!DN26-SA!DB26)/SA!DB26","v":1.8010291595197257E-2},{"$f":"(SA!DO26-SA!DC26)/SA!DC26","v":1.7123287671232876E-2},{"$f":"(SA!DP26-SA!DD26)/SA!DD26","v":1.4534055286406384E-2},{"$f":"(SA!DQ26-SA!DE26)/SA!DE26","v":1.3651877133105802E-2},{"$f":"(SA!DR26-SA!DF26)/SA!DF26","v":1.1076398750355012E-2},{"$f":"(SA!DS26-SA!DG26)/SA!DG26","v":1.1908137227105188E-2},{"$f":"(SA!DT26-SA!DH26)/SA!DH26","v":8.1990387333898788E-3},{"$f":"(SA!DU26-SA!DI26)/SA!DI26","v":4.22892585283338E-3},{"$f":"(SA!DV26-SA!DJ26)/SA!DJ26","v":9.5963872424499018E-3},{"$f":"(SA!DW26-SA!DK26)/SA!DK26","v":8.1667136018023084E-3},{"$f":"(SA!DX26-SA!DL26)/SA!DL26","v":8.7225661226786721E-3},{"$f":"(SA!DY26-SA!DM26)/SA!DM26","v":3.0942334739803095E-3},{"$f":"(SA!DZ26-SA!DN26)/SA!DN26","v":2.2465599550688009E-3},{"$f":"(SA!EA26-SA!DO26)/SA!DO26","v":1.4029180695847362E-3},{"$f":"(SA!EB26-SA!DP26)/SA!DP26","v":3.9325842696629216E-3},{"$f":"(SA!EC26-SA!DQ26)/SA!DQ26","v":3.3670033670033669E-3},{"$f":"(SA!ED26-SA!DR26)/SA!DR26","v":2.5280898876404493E-3},{"$f":"(SA!EE26-SA!DS26)/SA!DS26","v":3.3622863547212102E-3},{"$f":"(SA!EF26-SA!DT26)/SA!DT26","v":5.3280987100392599E-3},{"$f":"(SA!EG26-SA!DU26)/SA!DU26","v":7.0185289163391352E-3},{"$f":"(SA!EH26-SA!DV26)/SA!DV26","v":2.516074923119933E-3},{"$f":"(SA!EI26-SA!DW26)/SA!DW26","v":2.2346368715083797E-3},{"$f":"(SA!EJ26-SA!DX26)/SA!DX26","v":8.3682008368200832E-4},{"$f":"(SA!EK26-SA!DY26)/SA!DY26","v":9.2540661805945029E-3},{"$f":"(SA!EL26-SA!DZ26)/SA!DZ26","v":8.6859064163631265E-3},{"$f":"(SA!EM26-SA!EA26)/SA!EA26","v":1.0086859064163631E-2},{"$f":"(SA!EN26-SA!EB26)/SA!EB26","v":1.0072747621712367E-2},{"$f":"(SA!EO26-SA!EC26)/SA!EC26","v":8.948545861297539E-3},{"$f":"(SA!EP26-SA!ED26)/SA!ED26","v":1.4569907537125245E-2},{"$f":"(SA!EQ26-SA!EE26)/SA!EE26","v":1.1728567439262776E-2},{"$f":"(SA!ER26-SA!EF26)/SA!EF26","v":1.1436541143654114E-2},{"$f":"(SA!ES26-SA!EG26)/SA!EG26","v":1.366044047950934E-2},{"$f":"(SA!ET26-SA!EH26)/SA!EH26","v":1.8126045733407696E-2},{"$f":"(SA!EU26-SA!EI26)/SA!EI26","v":1.950947603121516E-2},{"$f":"(SA!EV26-SA!EJ26)/SA!EJ26","v":2.1181716833890748E-2},{"$f":"(SA!EW26-SA!EK26)/SA!EK26","v":1.9449847179772158E-2},{"$f":"(SA!EX26-SA!EL26)/SA!EL26","v":1.8888888888888889E-2},{"$f":"(SA!EY26-SA!EM26)/SA!EM26","v":2.0249653259361997E-2},{"$f":"(SA!EZ26-SA!EN26)/SA!EN26","v":2.2160664819944598E-2},{"$f":"(SA!FA26-SA!EO26)/SA!EO26","v":2.4113082039911308E-2},{"$f":"(SA!FB26-SA!EP26)/SA!EP26","v":2.3474178403755867E-2},{"$f":"(SA!FC26-SA!EQ26)/SA!EQ26","v":2.5945349158156224E-2},{"$f":"(SA!FD26-SA!ER26)/SA!ER26","v":2.5648097076668507E-2},{"$f":"(SA!FE26-SA!ES26)/SA!ES26","v":2.4202420242024202E-2},{"$f":"(SA!FF26-SA!ET26)/SA!ET26","v":1.862503423719529E-2},{"$f":"(SA!FG26-SA!EU26)/SA!EU26","v":1.8316019682886823E-2},{"$f":"(SA!FH26-SA!EV26)/SA!EV26","v":1.7740174672489083E-2},{"$f":"(SA!FI26-SA!EW26)/SA!EW26","v":1.6898337421640774E-2},{"$f":"(SA!FJ26-SA!EX26)/SA!EX26","v":1.9356597600872411E-2},{"$f":"(SA!FK26-SA!EY26)/SA!EY26","v":1.7128874388254486E-2},{"$f":"(SA!FL26-SA!EZ26)/SA!EZ26","v":1.4634146341463415E-2},{"$f":"(SA!FM26-SA!FA26)/SA!FA26","v":1.6508795669824088E-2},{"$f":"(SA!FN26-SA!FB26)/SA!FB26","v":1.4301133297355639E-2},{"$f":"(SA!FO26-SA!FC26)/SA!FC26","v":1.1837503362927092E-2},{"$f":"(SA!FP26-SA!FD26)/SA!FD26","v":1.2637805861790804E-2},{"$f":"(SA!FQ26-SA!FE26)/SA!FE26","v":1.0741138560687433E-2},{"$f":"(SA!FR26-SA!FF26)/SA!FF26","v":1.6133369185264857E-2},{"$f":"(SA!FS26-SA!FG26)/SA!FG26","v":1.5838926174496646E-2},{"$f":"(SA!FT26-SA!FH26)/SA!FH26","v":1.6090104585679808E-2},{"$f":"(SA!FU26-SA!FI26)/SA!FI26","v":1.6617528812650766E-2},{"$f":"(SA!FV26-SA!FJ26)/SA!FJ26","v":1.470981545867879E-2},{"$f":"(SA!FW26-SA!FK26)/SA!FK26","v":1.8176958032611601E-2},{"$f":"(SA!FX26-SA!FL26)/SA!FL26","v":1.7628205128205128E-2},{"$f":"(SA!FY26-SA!FM26)/SA!FM26","v":1.6240681576144837E-2},{"$f":"(SA!FZ26-SA!FN26)/SA!FN26","v":1.6227720138334664E-2},{"$f":"(SA!GA26-SA!FO26)/SA!FO26","v":1.4889657006115395E-2},{"$f":"(SA!GB26-SA!FP26)/SA!FP26","v":1.7525225703664365E-2},{"$f":"(SA!GC26-SA!FQ26)/SA!FQ26","v":1.7534537725823592E-2},{"$f":"(SA!GD26-SA!FR26)/SA!FR26","v":1.2701772955808415E-2},{"$f":"(SA!GE26-SA!FS26)/SA!FS26","v":1.2949260042283297E-2},{"$f":"(SA!GF26-SA!FT26)/SA!FT26","v":1.3987859593560307E-2},{"$f":"(SA!GG26-SA!FU26)/SA!FU26","v":1.2918534141840231E-2},{"$f":"(SA!GH26-SA!FV26)/SA!FV26","v":1.5287295730100159E-2},{"$f":"(SA!GI26-SA!FW26)/SA!FW26","v":1.3126804935678657E-2},{"$f":"(SA!GJ26-SA!FX26)/SA!FX26","v":1.4173228346456693E-2},{"$f":"(SA!GK26-SA!FY26)/SA!FY26","v":1.2837306785433586E-2},{"$f":"(SA!GL26-SA!FZ26)/SA!FZ26","v":1.2565445026178011E-2},{"$f":"(SA!GM26-SA!GA26)/SA!GA26","v":1.5981137018600995E-2},{"$f":"(SA!GN26-SA!GB26)/SA!GB26","v":1.4091858037578288E-2},{"$f":"(SA!GO26-SA!GC26)/SA!GC26","v":1.7493472584856395E-2},{"$f":"(SA!GP26-SA!GD26)/SA!GD26","v":2.1165403710478183E-2},{"$f":"(SA!GQ26-SA!GE26)/SA!GE26","v":2.2436733629011218E-2},{"$f":"(SA!GR26-SA!GF26)/SA!GF26","v":2.0822488287350338E-2},{"$f":"(SA!GS26-SA!GG26)/SA!GG26","v":2.2644456012493493E-2},{"$f":"(SA!GT26-SA!GH26)/SA!GH26","v":1.9989615784008308E-2},{"$f":"(SA!GU26-SA!GI26)/SA!GI26","v":1.8139414356050789E-2},{"$f":"(SA!GV26-SA!GJ26)/SA!GJ26","v":2.4844720496894408E-2},{"$f":"(SA!GW26-SA!GK26)/SA!GK26","v":2.2762545266425245E-2},{"$f":"(SA!GX26-SA!GL26)/SA!GL26","v":2.2492244053774559E-2},{"$f":"(SA!GY26-SA!GM26)/SA!GM26","v":2.2434244455905104E-2},{"$f":"(SA!GZ26-SA!GN26)/SA!GN26","v":2.1873391662377766E-2},{"$f":"(SA!HA26-SA!GO26)/SA!GO26","v":1.7962535283551451E-2},{"$f":"(SA!HB26-SA!GP26)/SA!GP26","v":2.0726714431934492E-2},{"$f":"(SA!HC26-SA!GQ26)/SA!GQ26","v":1.3013523858127074E-2},{"$f":"(SA!HD26-SA!GR26)/SA!GR26","v":1.6573176950535441E-2},{"$f":"(SA!HE26-SA!GS26)/SA!GS26","v":1.6034614405701197E-2},{"$f":"(SA!HF26-SA!GT26)/SA!GT26","v":1.1453296004072282E-2},{"$f":"(SA!HG26-SA!GU26)/SA!GU26","v":1.6543649783659964E-2},{"$f":"(SA!HH26-SA!GV26)/SA!GV26","v":1.1868686868686869E-2},{"$f":"(SA!HI26-SA!GW26)/SA!GW26","v":1.0875063227111785E-2},{"$f":"(SA!HJ26-SA!GX26)/SA!GX26","v":9.3552465233881169E-3},{"$f":"(SA!HK26-SA!GY26)/SA!GY26","v":-1},{"$f":"(SA!HL26-SA!GZ26)/SA!GZ26","v":-1},{"$f":"(SA!HM26-SA!HA26)/SA!HA26","v":-1}," n/a ","n/a",null,"Health Care and Social Assistance",8.3682008368200832E-4,1.0083331203550816E-2,1.460202693929433E-2,1.6977584614570915E-2,1.8097107198855086E-2,1.9405181730103152E-2,2.1032215499846699E-2,2.5945349158156224E-2,5.5348593683481372E-3]
["Leisure and Hospitality",{"$f":"(SA!BN27-SA!BB27)/SA!BB27","v":1.2429831595829992E-2},{"$f":"(SA!BO27-SA!BC27)/SA!BC27","v":1.8518518518518517E-2},{"$f":"(SA!BP27-SA!BD27)/SA!BD27","v":2.0908725371934056E-2},{"$f":"(SA!BQ27-SA!BE27)/SA!BE27","v":3.0861723446893786E-2},{"$f":"(SA!BR27-SA!BF27)/SA!BF27","v":2.0816653322658127E-2},{"$f":"(SA!BS27-SA!BG27)/SA!BG27","v":2.2498995580554439E-2},{"$f":"(SA!BT27-SA!BH27)/SA!BH27","v":1.1093502377179081E-2},{"$f":"(SA!BU27-SA!BI27)/SA!BI27","v":1.3074484944532488E-2},{"$f":"(SA!BV27-SA!BJ27)/SA!BJ27","v":1.665344964314025E-2},{"$f":"(SA!BW27-SA!BK27)/SA!BK27","v":8.2938388625592423E-3},{"$f":"(SA!BX27-SA!BL27)/SA!BL27","v":1.5829046299960427E-2},{"$f":"(SA!BY27-SA!BM27)/SA!BM27","v":1.2243285939968405E-2},{"$f":"(SA!BZ27-SA!BN27)/SA!BN27","v":2.1782178217821781E-2},{"$f":"(SA!CA27-SA!BO27)/SA!BO27","v":2.3715415019762844E-2},{"$f":"(SA!CB27-SA!BP27)/SA!BP27","v":2.3237495076801892E-2},{"$f":"(SA!CC27-SA!BQ27)/SA!BQ27","v":1.0497667185069871E-2},{"$f":"(SA!CD27-SA!BR27)/SA!BR27","v":1.0980392156862745E-2},{"$f":"(SA!CE27-SA!BS27)/SA!BS27","v":1.6110019646365537E-2},{"$f":"(SA!CF27-SA!BT27)/SA!BT27","v":1.6457680250783584E-2},{"$f":"(SA!CG27-SA!BU27)/SA!BU27","v":1.5643332029722332E-2},{"$f":"(SA!CH27-SA!BV27)/SA!BV27","v":1.2480499219969026E-2},{"$f":"(SA!CI27-SA!BW27)/SA!BW27","v":2.1151586368977675E-2},{"$f":"(SA!CJ27-SA!BX27)/SA!BX27","v":1.4803272302298403E-2},{"$f":"(SA!CK27-SA!BY27)/SA!BY27","v":1.9898556379242961E-2},{"$f":"(SA!CL27-SA!BZ27)/SA!BZ27","v":1.6666666666666666E-2},{"$f":"(SA!CM27-SA!CA27)/SA!CA27","v":1.3899613899613899E-2},{"$f":"(SA!CN27-SA!CB27)/SA!CB27","v":1.1162432640492687E-2},{"$f":"(SA!CO27-SA!CC27)/SA!CC27","v":6.1562139284341254E-3},{"$f":"(SA!CP27-SA!CD27)/SA!CD27","v":1.5128006206361521E-2},{"$f":"(SA!CQ27-SA!CE27)/SA!CE27","v":1.4694508894044743E-2},{"$f":"(SA!CR27-SA!CF27)/SA!CF27","v":7.7101002313030081E-3},{"$f":"(SA!CS27-SA!CG27)/SA!CG27","v":8.856372737774355E-3},{"$f":"(SA!CT27-SA!CH27)/SA!CH27","v":2.6964560862864822E-3},{"$f":"(SA!CU27-SA!CI27)/SA!CI27","v":4.9865746068277718E-3},{"$f":"(SA!CV27-SA!CJ27)/SA!CJ27","v":8.4452975047984644E-3},{"$f":"(SA!CW27-SA!CK27)/SA!CK27","v":3.4429992348891706E-3},{"$f":"(SA!CX27-SA!CL27)/SA!CL27","v":-1.9062142584826535E-3},{"$f":"(SA!CY27-SA!CM27)/SA!CM27","v":-5.7121096725056015E-3},{"$f":"(SA!CZ27-SA!CN27)/SA!CN27","v":-6.8519223448802024E-3},{"$f":"(SA!DA27-SA!CO27)/SA!CO27","v":-4.5889101338432124E-3},{"$f":"(SA!DB27-SA!CP27)/SA!CP27","v":-6.1138708444782993E-3},{"$f":"(SA!DC27-SA!CQ27)/SA!CQ27","v":-1.1051829268292682E-2},{"$f":"(SA!DD27-SA!CR27)/SA!CR27","v":-8.0336648814076945E-3},{"$f":"(SA!DE27-SA!CS27)/SA!CS27","v":-1.2595419847328244E-2},{"$f":"(SA!DF27-SA!CT27)/SA!CT27","v":-8.4517864003072259E-3},{"$f":"(SA!DG27-SA!CU27)/SA!CU27","v":-1.297709923664111E-2},{"$f":"(SA!DH27-SA!CV27)/SA!CV27","v":-1.8271792919680355E-2},{"$f":"(SA!DI27-SA!CW27)/SA!CW27","v":-2.0205871139916128E-2},{"$f":"(SA!DJ27-SA!CX27)/SA!CX27","v":-2.6737967914438502E-2},{"$f":"(SA!DK27-SA!CY27)/SA!CY27","v":-2.2596706242818954E-2},{"$f":"(SA!DL27-SA!CZ27)/SA!CZ27","v":-2.568033729398226E-2},{"$f":"(SA!DM27-SA!DA27)/SA!DA27","v":-2.9965424510180562E-2},{"$f":"(SA!DN27-SA!DB27)/SA!DB27","v":-1.9223375624759818E-2},{"$f":"(SA!DO27-SA!DC27)/SA!DC27","v":-2.1579961464354529E-2},{"$f":"(SA!DP27-SA!DD27)/SA!DD27","v":-2.699575780948708E-2},{"$f":"(SA!DQ27-SA!DE27)/SA!DE27","v":-2.8604561267877852E-2},{"$f":"(SA!DR27-SA!DF27)/SA!DF27","v":-2.5184037194885812E-2},{"$f":"(SA!DS27-SA!DG27)/SA!DG27","v":-3.2095901005413874E-2},{"$f":"(SA!DT27-SA!DH27)/SA!DH27","v":-2.9856533540131725E-2},{"$f":"(SA!DU27-SA!DI27)/SA!DI27","v":-2.7237354085603113E-2},{"$f":"(SA!DV27-SA!DJ27)/SA!DJ27","v":-1.5698587127158554E-2},{"$f":"(SA!DW27-SA!DK27)/SA!DK27","v":-2.0768025078369907E-2},{"$f":"(SA!DX27-SA!DL27)/SA!DL27","v":-1.7702596380802519E-2},{"$f":"(SA!DY27-SA!DM27)/SA!DM27","v":-2.7722772277227721E-3},{"$f":"(SA!DZ27-SA!DN27)/SA!DN27","v":-1.528812230497844E-2},{"$f":"(SA!EA27-SA!DO27)/SA!DO27","v":-1.3391098857818039E-2},{"$f":"(SA!EB27-SA!DP27)/SA!DP27","v":-2.7744748315497426E-3},{"$f":"(SA!EC27-SA!DQ27)/SA!DQ27","v":3.9793076004775172E-3},{"$f":"(SA!ED27-SA!DR27)/SA!DR27","v":7.9491255961844202E-4},{"$f":"(SA!EE27-SA!DS27)/SA!DS27","v":9.5884938074310821E-3},{"$f":"(SA!EF27-SA!DT27)/SA!DT27","v":1.0791366906474821E-2},{"$f":"(SA!EG27-SA!DU27)/SA!DU27","v":1.12E-2},{"$f":"(SA!EH27-SA!DV27)/SA!DV27","v":5.9808612440191387E-3},{"$f":"(SA!EI27-SA!DW27)/SA!DW27","v":6.4025610244097643E-3},{"$f":"(SA!EJ27-SA!DX27)/SA!DX27","v":5.2062474969963961E-3},{"$f":"(SA!EK27-SA!DY27)/SA!DY27","v":0},{"$f":"(SA!EL27-SA!DZ27)/SA!DZ27","v":1.1942675159235668E-3},{"$f":"(SA!EM27-SA!EA27)/SA!EA27","v":5.5888223552894214E-3},{"$f":"(SA!EN27-SA!EB27)/SA!EB27","v":4.3720190779014305E-3},{"$f":"(SA!EO27-SA!EC27)/SA!EC27","v":4.3598890210067376E-3},{"$f":"(SA!EP27-SA!ED27)/SA!ED27","v":6.354249404289118E-3},{"$f":"(SA!EQ27-SA!EE27)/SA!EE27","v":4.7487138899881282E-3},{"$f":"(SA!ER27-SA!EF27)/SA!EF27","v":1.9770660340055358E-3},{"$f":"(SA!ES27-SA!EG27)/SA!EG27","v":3.9556962025316455E-4},{"$f":"(SA!ET27-SA!EH27)/SA!EH27","v":7.5307173999207295E-3},{"$f":"(SA!EU27-SA!EI27)/SA!EI27","v":1.3121272365805169E-2},{"$f":"(SA!EV27-SA!EJ27)/SA!EJ27","v":2.3107569721115537E-2},{"$f":"(SA!EW27-SA!EK27)/SA!EK27","v":2.5416997617156472E-2},{"$f":"(SA!EX27-SA!EL27)/SA!EL27","v":2.027833001988083E-2},{"$f":"(SA!EY27-SA!EM27)/SA!EM27","v":2.2628026994839338E-2},{"$f":"(SA!EZ27-SA!EN27)/SA!EN27","v":1.8599129402453386E-2},{"$f":"(SA!FA27-SA!EO27)/SA!EO27","v":1.3812154696132482E-2},{"$f":"(SA!FB27-SA!EP27)/SA!EP27","v":1.8942383583267563E-2},{"$f":"(SA!FC27-SA!EQ27)/SA!EQ27","v":1.2209531311539977E-2},{"$f":"(SA!FD27-SA!ER27)/SA!ER27","v":1.5390686661404893E-2},{"$f":"(SA!FE27-SA!ES27)/SA!ES27","v":2.1352313167259787E-2},{"$f":"(SA!FF27-SA!ET27)/SA!ET27","v":1.7309205350118134E-2},{"$f":"(SA!FG27-SA!EU27)/SA!EU27","v":1.6875981161695561E-2},{"$f":"(SA!FH27-SA!EV27)/SA!EV27","v":9.3457943925233638E-3},{"$f":"(SA!FI27-SA!EW27)/SA!EW27","v":-3.8729666924853173E-4},{"$f":"(SA!FJ27-SA!EX27)/SA!EX27","v":1.4029618082618748E-2},{"$f":"(SA!FK27-SA!EY27)/SA!EY27","v":1.1257763975155165E-2},{"$f":"(SA!FL27-SA!EZ27)/SA!EZ27","v":1.5540015540015542E-2},{"$f":"(SA!FM27-SA!FA27)/SA!FA27","v":2.2576878162709341E-2},{"$f":"(SA!FN27-SA!FB27)/SA!FB27","v":1.9752130131680867E-2},{"$f":"(SA!FO27-SA!FC27)/SA!FC27","v":2.4513618677042801E-2},{"$f":"(SA!FP27-SA!FD27)/SA!FD27","v":2.2930431403031481E-2},{"$f":"(SA!FQ27-SA!FE27)/SA!FE27","v":1.9744483159117306E-2},{"$f":"(SA!FR27-SA!FF27)/SA!FF27","v":1.6627996906419067E-2},{"$f":"(SA!FS27-SA!FG27)/SA!FG27","v":1.505210343496708E-2},{"$f":"(SA!FT27-SA!FH27)/SA!FH27","v":1.3888888888888888E-2},{"$f":"(SA!FU27-SA!FI27)/SA!FI27","v":2.1697016660209106E-2},{"$f":"(SA!FV27-SA!FJ27)/SA!FJ27","v":1.191391237509608E-2},{"$f":"(SA!FW27-SA!FK27)/SA!FK27","v":1.6890595009596929E-2},{"$f":"(SA!FX27-SA!FL27)/SA!FL27","v":6.120887528691772E-3},{"$f":"(SA!FY27-SA!FM27)/SA!FM27","v":4.1872858774267222E-3},{"$f":"(SA!FZ27-SA!FN27)/SA!FN27","v":2.2787694644891758E-3},{"$f":"(SA!GA27-SA!FO27)/SA!FO27","v":4.5575389289783516E-3},{"$f":"(SA!GB27-SA!FP27)/SA!FP27","v":8.7386018237082062E-3},{"$f":"(SA!GC27-SA!FQ27)/SA!FQ27","v":9.8709187547456334E-3},{"$f":"(SA!GD27-SA!FR27)/SA!FR27","v":1.9018638265500189E-2},{"$f":"(SA!GE27-SA!FS27)/SA!FS27","v":1.8250950570342206E-2},{"$f":"(SA!GF27-SA!FT27)/SA!FT27","v":2.3972602739726026E-2},{"$f":"(SA!GG27-SA!FU27)/SA!FU27","v":2.1236253318164582E-2},{"$f":"(SA!GH27-SA!FV27)/SA!FV27","v":2.5826053930877325E-2},{"$f":"(SA!GI27-SA!FW27)/SA!FW27","v":2.2272555681389205E-2},{"$f":"(SA!GJ27-SA!FX27)/SA!FX27","v":2.7756653992395436E-2},{"$f":"(SA!GK27-SA!FY27)/SA!FY27","v":2.6914329037149357E-2},{"$f":"(SA!GL27-SA!FZ27)/SA!FZ27","v":2.6904130352406214E-2},{"$f":"(SA!GM27-SA!GA27)/SA!GA27","v":3.2514177693761817E-2},{"$f":"(SA!GN27-SA!GB27)/SA!GB27","v":3.5028248587570622E-2},{"$f":"(SA!GO27-SA!GC27)/SA!GC27","v":3.1954887218045111E-2},{"$f":"(SA!GP27-SA!GD27)/SA!GD27","v":2.7248973497573721E-2},{"$f":"(SA!GQ27-SA!GE27)/SA!GE27","v":3.1366691560866321E-2},{"$f":"(SA!GR27-SA!GF27)/SA!GF27","v":2.3782980304719436E-2},{"$f":"(SA!GS27-SA!GG27)/SA!GG27","v":2.116598588934274E-2},{"$f":"(SA!GT27-SA!GH27)/SA!GH27","v":1.7030729359496483E-2},{"$f":"(SA!GU27-SA!GI27)/SA!GI27","v":1.2186115214180207E-2},{"$f":"(SA!GV27-SA!GJ27)/SA!GJ27","v":1.849796522382538E-2},{"$f":"(SA!GW27-SA!GK27)/SA!GK27","v":1.5873015873015872E-2},{"$f":"(SA!GX27-SA!GL27)/SA!GL27","v":1.3284132841328414E-2},{"$f":"(SA!GY27-SA!GM27)/SA!GM27","v":5.4924935920908089E-3},{"$f":"(SA!GZ27-SA!GN27)/SA!GN27","v":-1.8195050946142649E-3},{"$f":"(SA!HA27-SA!GO27)/SA!GO27","v":-7.2859744990892532E-4},{"$f":"(SA!HB27-SA!GP27)/SA!GP27","v":-7.9941860465116282E-3},{"$f":"(SA!HC27-SA!GQ27)/SA!GQ27","v":6.8790731354091235E-3},{"$f":"(SA!HD27-SA!GR27)/SA!GR27","v":1.4519056261343012E-3},{"$f":"(SA!HE27-SA!GS27)/SA!GS27","v":9.4545454545454551E-3},{"$f":"(SA!HF27-SA!GT27)/SA!GT27","v":1.4925373134328358E-2},{"$f":"(SA!HG27-SA!GU27)/SA!GU27","v":3.9401678219627874E-2},{"$f":"(SA!HH27-SA!GV27)/SA!GV27","v":2.5426807119505995E-2},{"$f":"(SA!HI27-SA!GW27)/SA!GW27","v":2.5072674418604651E-2},{"$f":"(SA!HJ27-SA!GX27)/SA!GX27","v":1.3838310269482883E-2},{"$f":"(SA!HK27-SA!GY27)/SA!GY27","v":-1},{"$f":"(SA!HL27-SA!GZ27)/SA!GZ27","v":-1},{"$f":"(SA!HM27-SA!HA27)/SA!HA27","v":-1}," n/a ","n/a",null,"Leisure and Hospitality",-3.2095901005413874E-2,-1.1437726913051572E-2,4.0832967389521201E-3,9.6591000442597195E-3,1.2925988513391622E-2,1.6883288085646243E-2,2.2329165656180514E-2,3.5028248587570622E-2,1.5414655335356849E-2]
["Arts, Entertainment, and Recreation",{"$f":"(SA!BN28-SA!BB28)/SA!BB28","v":-1.7094017094017096E-2},{"$f":"(SA!BO28-SA!BC28)/SA!BC28","v":-2.2922636103151862E-2},{"$f":"(SA!BP28-SA!BD28)/SA!BD28","v":-5.7971014492753624E-3},{"$f":"(SA!BQ28-SA!BE28)/SA!BE28","v":2.0289855072463767E-2},{"$f":"(SA!BR28-SA!BF28)/SA!BF28","v":0},{"$f":"(SA!BS28-SA!BG28)/SA!BG28","v":8.7976539589442824E-3},{"$f":"(SA!BT28-SA!BH28)/SA!BH28","v":-2.8985507246376812E-3},{"$f":"(SA!BU28-SA!BI28)/SA!BI28","v":2.9069767441860465E-3},{"$f":"(SA!BV28-SA!BJ28)/SA!BJ28","v":1.1661807580174927E-2},{"$f":"(SA!BW28-SA!BK28)/SA!BK28","v":2.8901734104046241E-3},{"$f":"(SA!BX28-SA!BL28)/SA!BL28","v":2.881844380403458E-3},{"$f":"(SA!BY28-SA!BM28)/SA!BM28","v":-5.7471264367816091E-3},{"$f":"(SA!BZ28-SA!BN28)/SA!BN28","v":2.8985507246376812E-3},{"$f":"(SA!CA28-SA!BO28)/SA!BO28","v":2.6392961876832845E-2},{"$f":"(SA!CB28-SA!BP28)/SA!BP28","v":2.0408163265306121E-2},{"$f":"(SA!CC28-SA!BQ28)/SA!BQ28","v":1.7045454545454544E-2},{"$f":"(SA!CD28-SA!BR28)/SA!BR28","v":1.4577259475218658E-2},{"$f":"(SA!CE28-SA!BS28)/SA!BS28","v":1.4534883720930232E-2},{"$f":"(SA!CF28-SA!BT28)/SA!BT28","v":1.4534883720930232E-2},{"$f":"(SA!CG28-SA!BU28)/SA!BU28","v":1.7391304347826087E-2},{"$f":"(SA!CH28-SA!BV28)/SA!BV28","v":1.4409221902017291E-2},{"$f":"(SA!CI28-SA!BW28)/SA!BW28","v":1.1527377521613832E-2},{"$f":"(SA!CJ28-SA!BX28)/SA!BX28","v":2.8735632183908046E-3},{"$f":"(SA!CK28-SA!BY28)/SA!BY28","v":1.4450867052023121E-2},{"$f":"(SA!CL28-SA!BZ28)/SA!BZ28","v":2.6011560693641619E-2},{"$f":"(SA!CM28-SA!CA28)/SA!CA28","v":2.2857142857142857E-2},{"$f":"(SA!CN28-SA!CB28)/SA!CB28","v":2.8571428571428571E-2},{"$f":"(SA!CO28-SA!CC28)/SA!CC28","v":-1.11731843575419E-2},{"$f":"(SA!CP28-SA!CD28)/SA!CD28","v":3.7356321839080463E-2},{"$f":"(SA!CQ28-SA!CE28)/SA!CE28","v":4.0114613180515762E-2},{"$f":"(SA!CR28-SA!CF28)/SA!CF28","v":3.151862464183381E-2},{"$f":"(SA!CS28-SA!CG28)/SA!CG28","v":2.564102564102564E-2},{"$f":"(SA!CT28-SA!CH28)/SA!CH28","v":1.9886363636363636E-2},{"$f":"(SA!CU28-SA!CI28)/SA!CI28","v":2.8490028490028491E-2},{"$f":"(SA!CV28-SA!CJ28)/SA!CJ28","v":4.2979942693409739E-2},{"$f":"(SA!CW28-SA!CK28)/SA!CK28","v":3.7037037037037035E-2},{"$f":"(SA!CX28-SA!CL28)/SA!CL28","v":2.5352112676056339E-2},{"$f":"(SA!CY28-SA!CM28)/SA!CM28","v":1.11731843575419E-2},{"$f":"(SA!CZ28-SA!CN28)/SA!CN28","v":-2.7777777777777779E-3},{"$f":"(SA!DA28-SA!CO28)/SA!CO28","v":-2.8248587570621469E-3},{"$f":"(SA!DB28-SA!CP28)/SA!CP28","v":-8.3102493074792248E-3},{"$f":"(SA!DC28-SA!CQ28)/SA!CQ28","v":-1.3774104683195593E-2},{"$f":"(SA!DD28-SA!CR28)/SA!CR28","v":-8.3333333333333332E-3},{"$f":"(SA!DE28-SA!CS28)/SA!CS28","v":-2.7777777777777779E-3},{"$f":"(SA!DF28-SA!CT28)/SA!CT28","v":-2.2284122562674095E-2},{"$f":"(SA!DG28-SA!CU28)/SA!CU28","v":-5.5401662049861496E-3},{"$f":"(SA!DH28-SA!CV28)/SA!CV28","v":-3.5714285714285712E-2},{"$f":"(SA!DI28-SA!CW28)/SA!CW28","v":-2.7472527472527472E-2},{"$f":"(SA!DJ28-SA!CX28)/SA!CX28","v":-3.8461538461538464E-2},{"$f":"(SA!DK28-SA!CY28)/SA!CY28","v":-4.4198895027624308E-2},{"$f":"(SA!DL28-SA!CZ28)/SA!CZ28","v":-3.6211699164345405E-2},{"$f":"(SA!DM28-SA!DA28)/SA!DA28","v":-4.5325779036827198E-2},{"$f":"(SA!DN28-SA!DB28)/SA!DB28","v":-1.3966480446927373E-2},{"$f":"(SA!DO28-SA!DC28)/SA!DC28","v":-1.9553072625698324E-2},{"$f":"(SA!DP28-SA!DD28)/SA!DD28","v":-3.3613445378151259E-2},{"$f":"(SA!DQ28-SA!DE28)/SA!DE28","v":-4.1782729805013928E-2},{"$f":"(SA!DR28-SA!DF28)/SA!DF28","v":-8.5470085470085479E-3},{"$f":"(SA!DS28-SA!DG28)/SA!DG28","v":-5.2924791086350974E-2},{"$f":"(SA!DT28-SA!DH28)/SA!DH28","v":-2.2792022792022793E-2},{"$f":"(SA!DU28-SA!DI28)/SA!DI28","v":-3.954802259887006E-2},{"$f":"(SA!DV28-SA!DJ28)/SA!DJ28","v":-2.5714285714285714E-2},{"$f":"(SA!DW28-SA!DK28)/SA!DK28","v":-1.7341040462427744E-2},{"$f":"(SA!DX28-SA!DL28)/SA!DL28","v":-5.7803468208092483E-3},{"$f":"(SA!DY28-SA!DM28)/SA!DM28","v":5.0445103857566766E-2},{"$f":"(SA!DZ28-SA!DN28)/SA!DN28","v":-1.69971671388102E-2},{"$f":"(SA!EA28-SA!DO28)/SA!DO28","v":-3.7037037037037035E-2},{"$f":"(SA!EB28-SA!DP28)/SA!DP28","v":5.7971014492753624E-3},{"$f":"(SA!EC28-SA!DQ28)/SA!DQ28","v":1.4534883720930232E-2},{"$f":"(SA!ED28-SA!DR28)/SA!DR28","v":-5.7471264367816091E-3},{"$f":"(SA!EE28-SA!DS28)/SA!DS28","v":1.7647058823529412E-2},{"$f":"(SA!EF28-SA!DT28)/SA!DT28","v":8.7463556851311956E-3},{"$f":"(SA!EG28-SA!DU28)/SA!DU28","v":2.0588235294117647E-2},{"$f":"(SA!EH28-SA!DV28)/SA!DV28","v":1.1730205278592375E-2},{"$f":"(SA!EI28-SA!DW28)/SA!DW28","v":2.0588235294117647E-2},{"$f":"(SA!EJ28-SA!DX28)/SA!DX28","v":-2.9069767441860465E-3},{"$f":"(SA!EK28-SA!DY28)/SA!DY28","v":-1.977401129943503E-2},{"$f":"(SA!EL28-SA!DZ28)/SA!DZ28","v":-1.4409221902017291E-2},{"$f":"(SA!EM28-SA!EA28)/SA!EA28","v":2.3668639053254437E-2},{"$f":"(SA!EN28-SA!EB28)/SA!EB28","v":1.4409221902017291E-2},{"$f":"(SA!EO28-SA!EC28)/SA!EC28","v":8.5959885386819486E-3},{"$f":"(SA!EP28-SA!ED28)/SA!ED28","v":1.7341040462427744E-2},{"$f":"(SA!EQ28-SA!EE28)/SA!EE28","v":2.8901734104046242E-2},{"$f":"(SA!ER28-SA!EF28)/SA!EF28","v":2.6011560693641619E-2},{"$f":"(SA!ES28-SA!EG28)/SA!EG28","v":2.3054755043227664E-2},{"$f":"(SA!ET28-SA!EH28)/SA!EH28","v":2.8985507246376812E-2},{"$f":"(SA!EU28-SA!EI28)/SA!EI28","v":1.4409221902017291E-2},{"$f":"(SA!EV28-SA!EJ28)/SA!EJ28","v":6.1224489795918366E-2},{"$f":"(SA!EW28-SA!EK28)/SA!EK28","v":7.7809798270893377E-2},{"$f":"(SA!EX28-SA!EL28)/SA!EL28","v":4.0935672514619881E-2},{"$f":"(SA!EY28-SA!EM28)/SA!EM28","v":2.6011560693641619E-2},{"$f":"(SA!EZ28-SA!EN28)/SA!EN28","v":8.5227272727272721E-3},{"$f":"(SA!FA28-SA!EO28)/SA!EO28","v":2.840909090909091E-3},{"$f":"(SA!FB28-SA!EP28)/SA!EP28","v":2.2727272727272728E-2},{"$f":"(SA!FC28-SA!EQ28)/SA!EQ28","v":-2.8089887640449437E-3},{"$f":"(SA!FD28-SA!ER28)/SA!ER28","v":-5.6338028169014088E-3},{"$f":"(SA!FE28-SA!ES28)/SA!ES28","v":2.8169014084507044E-3},{"$f":"(SA!FF28-SA!ET28)/SA!ET28","v":5.6338028169014088E-3},{"$f":"(SA!FG28-SA!EU28)/SA!EU28","v":1.1363636363636364E-2},{"$f":"(SA!FH28-SA!EV28)/SA!EV28","v":-2.7472527472527472E-2},{"$f":"(SA!FI28-SA!EW28)/SA!EW28","v":-6.684491978609626E-2},{"$f":"(SA!FJ28-SA!EX28)/SA!EX28","v":1.1235955056179775E-2},{"$f":"(SA!FK28-SA!EY28)/SA!EY28","v":8.4507042253521118E-3},{"$f":"(SA!FL28-SA!EZ28)/SA!EZ28","v":5.6338028169014088E-3},{"$f":"(SA!FM28-SA!FA28)/SA!FA28","v":1.9830028328611898E-2},{"$f":"(SA!FN28-SA!FB28)/SA!FB28","v":1.1111111111111112E-2},{"$f":"(SA!FO28-SA!FC28)/SA!FC28","v":2.5352112676056339E-2},{"$f":"(SA!FP28-SA!FD28)/SA!FD28","v":3.6827195467422094E-2},{"$f":"(SA!FQ28-SA!FE28)/SA!FE28","v":3.3707865168539325E-2},{"$f":"(SA!FR28-SA!FF28)/SA!FF28","v":2.2408963585434174E-2},{"$f":"(SA!FS28-SA!FG28)/SA!FG28","v":2.8089887640449437E-2},{"$f":"(SA!FT28-SA!FH28)/SA!FH28","v":2.8248587570621469E-2},{"$f":"(SA!FU28-SA!FI28)/SA!FI28","v":4.8710601719197708E-2},{"$f":"(SA!FV28-SA!FJ28)/SA!FJ28","v":2.7777777777777779E-3},{"$f":"(SA!FW28-SA!FK28)/SA!FK28","v":2.23463687150838E-2},{"$f":"(SA!FX28-SA!FL28)/SA!FL28","v":3.081232492997199E-2},{"$f":"(SA!FY28-SA!FM28)/SA!FM28","v":1.9444444444444445E-2},{"$f":"(SA!FZ28-SA!FN28)/SA!FN28","v":8.241758241758242E-3},{"$f":"(SA!GA28-SA!FO28)/SA!FO28","v":0},{"$f":"(SA!GB28-SA!FP28)/SA!FP28","v":8.1967213114754103E-3},{"$f":"(SA!GC28-SA!FQ28)/SA!FQ28","v":8.152173913043478E-3},{"$f":"(SA!GD28-SA!FR28)/SA!FR28","v":2.7397260273972601E-2},{"$f":"(SA!GE28-SA!FS28)/SA!FS28","v":1.3661202185792349E-2},{"$f":"(SA!GF28-SA!FT28)/SA!FT28","v":3.2967032967032968E-2},{"$f":"(SA!GG28-SA!FU28)/SA!FU28","v":2.4590163934426229E-2},{"$f":"(SA!GH28-SA!FV28)/SA!FV28","v":4.7091412742382273E-2},{"$f":"(SA!GI28-SA!FW28)/SA!FW28","v":4.3715846994535519E-2},{"$f":"(SA!GJ28-SA!FX28)/SA!FX28","v":1.6304347826086956E-2},{"$f":"(SA!GK28-SA!FY28)/SA!FY28","v":2.7247956403269755E-2},{"$f":"(SA!GL28-SA!FZ28)/SA!FZ28","v":3.2697547683923703E-2},{"$f":"(SA!GM28-SA!GA28)/SA!GA28","v":6.3186813186813184E-2},{"$f":"(SA!GN28-SA!GB28)/SA!GB28","v":6.2330623306233061E-2},{"$f":"(SA!GO28-SA!GC28)/SA!GC28","v":3.5040431266846361E-2},{"$f":"(SA!GP28-SA!GD28)/SA!GD28","v":0.04},{"$f":"(SA!GQ28-SA!GE28)/SA!GE28","v":5.9299191374663072E-2},{"$f":"(SA!GR28-SA!GF28)/SA!GF28","v":4.7872340425531915E-2},{"$f":"(SA!GS28-SA!GG28)/SA!GG28","v":4.5333333333333337E-2},{"$f":"(SA!GT28-SA!GH28)/SA!GH28","v":3.968253968253968E-2},{"$f":"(SA!GU28-SA!GI28)/SA!GI28","v":3.1413612565445025E-2},{"$f":"(SA!GV28-SA!GJ28)/SA!GJ28","v":6.1497326203208559E-2},{"$f":"(SA!GW28-SA!GK28)/SA!GK28","v":5.5702917771883291E-2},{"$f":"(SA!GX28-SA!GL28)/SA!GL28","v":4.7493403693931395E-2},{"$f":"(SA!GY28-SA!GM28)/SA!GM28","v":1.2919896640826873E-2},{"$f":"(SA!GZ28-SA!GN28)/SA!GN28","v":-1.2755102040816327E-2},{"$f":"(SA!HA28-SA!GO28)/SA!GO28","v":-7.8125E-3},{"$f":"(SA!HB28-SA!GP28)/SA!GP28","v":-4.3589743589743588E-2},{"$f":"(SA!HC28-SA!GQ28)/SA!GQ28","v":-6.3613231552162849E-2},{"$f":"(SA!HD28-SA!GR28)/SA!GR28","v":-2.2842639593908629E-2},{"$f":"(SA!HE28-SA!GS28)/SA!GS28","v":1.7857142857142856E-2},{"$f":"(SA!HF28-SA!GT28)/SA!GT28","v":1.0178117048346057E-2},{"$f":"(SA!HG28-SA!GU28)/SA!GU28","v":7.8680203045685279E-2},{"$f":"(SA!HH28-SA!GV28)/SA!GV28","v":5.5415617128463476E-2},{"$f":"(SA!HI28-SA!GW28)/SA!GW28","v":5.7788944723618091E-2},{"$f":"(SA!HJ28-SA!GX28)/SA!GX28","v":5.0377833753148617E-2},{"$f":"(SA!HK28-SA!GY28)/SA!GY28","v":-1},{"$f":"(SA!HL28-SA!GZ28)/SA!GZ28","v":-1},{"$f":"(SA!HM28-SA!HA28)/SA!HA28","v":-1}," n/a ","n/a",null,"Arts, Entertainment, and Recreation",-6.684491978609626E-2,-1.7021379627611924E-2,-1.3888888888888889E-3,1.1126629422718809E-2,1.4534883720930232E-2,2.5352112676056339E-2,3.6879655859825833E-2,7.7809798270893377E-2,2.5955108926322898E-2]
["Accommodation and Food Services",{"$f":"(SA!BN29-SA!BB29)/SA!BB29","v":1.726551563229118E-2},{"$f":"(SA!BO29-SA!BC29)/SA!BC29","v":2.5292740046838409E-2},{"$f":"(SA!BP29-SA!BD29)/SA!BD29","v":2.5210084033613446E-2},{"$f":"(SA!BQ29-SA!BE29)/SA!BE29","v":3.255813953488372E-2},{"$f":"(SA!BR29-SA!BF29)/SA!BF29","v":2.4129930394431554E-2},{"$f":"(SA!BS29-SA!BG29)/SA!BG29","v":2.4674115456238363E-2},{"$f":"(SA!BT29-SA!BH29)/SA!BH29","v":1.330885727397889E-2},{"$f":"(SA!BU29-SA!BI29)/SA!BI29","v":1.4678899082568808E-2},{"$f":"(SA!BV29-SA!BJ29)/SA!BJ29","v":1.7439192290041303E-2},{"$f":"(SA!BW29-SA!BK29)/SA!BK29","v":9.1491308325709064E-3},{"$f":"(SA!BX29-SA!BL29)/SA!BL29","v":1.7889908256880735E-2},{"$f":"(SA!BY29-SA!BM29)/SA!BM29","v":1.510989010989011E-2},{"$f":"(SA!BZ29-SA!BN29)/SA!BN29","v":2.4770642201834864E-2},{"$f":"(SA!CA29-SA!BO29)/SA!BO29","v":2.3298309730470534E-2},{"$f":"(SA!CB29-SA!BP29)/SA!BP29","v":2.3679417122040074E-2},{"$f":"(SA!CC29-SA!BQ29)/SA!BQ29","v":9.45945945945946E-3},{"$f":"(SA!CD29-SA!BR29)/SA!BR29","v":1.042138649750793E-2},{"$f":"(SA!CE29-SA!BS29)/SA!BS29","v":1.6356201726487961E-2},{"$f":"(SA!CF29-SA!BT29)/SA!BT29","v":1.6757246376811596E-2},{"$f":"(SA!CG29-SA!BU29)/SA!BU29","v":1.5370705244122965E-2},{"$f":"(SA!CH29-SA!BV29)/SA!BV29","v":1.2178619756427604E-2},{"$f":"(SA!CI29-SA!BW29)/SA!BW29","v":2.2665457842248413E-2},{"$f":"(SA!CJ29-SA!BX29)/SA!BX29","v":1.6674177557458314E-2},{"$f":"(SA!CK29-SA!BY29)/SA!BY29","v":2.0748759585024808E-2},{"$f":"(SA!CL29-SA!BZ29)/SA!BZ29","v":1.521933751119069E-2},{"$f":"(SA!CM29-SA!CA29)/SA!CA29","v":1.2500000000000001E-2},{"$f":"(SA!CN29-SA!CB29)/SA!CB29","v":8.451957295373666E-3},{"$f":"(SA!CO29-SA!CC29)/SA!CC29","v":8.9245872378402504E-3},{"$f":"(SA!CP29-SA!CD29)/SA!CD29","v":1.1659192825112108E-2},{"$f":"(SA!CQ29-SA!CE29)/SA!CE29","v":1.0728654447921324E-2},{"$f":"(SA!CR29-SA!CF29)/SA!CF29","v":4.0089086859688193E-3},{"$f":"(SA!CS29-SA!CG29)/SA!CG29","v":6.2333036509349959E-3},{"$f":"(SA!CT29-SA!CH29)/SA!CH29","v":0},{"$f":"(SA!CU29-SA!CI29)/SA!CI29","v":1.3297872340425532E-3},{"$f":"(SA!CV29-SA!CJ29)/SA!CJ29","v":3.1028368794326243E-3},{"$f":"(SA!CW29-SA!CK29)/SA!CK29","v":-1.7675651789659744E-3},{"$f":"(SA!CX29-SA!CL29)/SA!CL29","v":-6.1728395061728392E-3},{"$f":"(SA!CY29-SA!CM29)/SA!CM29","v":-8.3774250440917103E-3},{"$f":"(SA!CZ29-SA!CN29)/SA!CN29","v":-7.4988972209969126E-3},{"$f":"(SA!DA29-SA!CO29)/SA!CO29","v":-4.8651039363113669E-3},{"$f":"(SA!DB29-SA!CP29)/SA!CP29","v":-5.7624113475177301E-3},{"$f":"(SA!DC29-SA!CQ29)/SA!CQ29","v":-1.0614772224679346E-2},{"$f":"(SA!DD29-SA!CR29)/SA!CR29","v":-7.9858030168589167E-3},{"$f":"(SA!DE29-SA!CS29)/SA!CS29","v":-1.415929203539823E-2},{"$f":"(SA!DF29-SA!CT29)/SA!CT29","v":-6.2388591800356507E-3},{"$f":"(SA!DG29-SA!CU29)/SA!CU29","v":-1.416555998229305E-2},{"$f":"(SA!DH29-SA!CV29)/SA!CV29","v":-1.5466195315952275E-2},{"$f":"(SA!DI29-SA!CW29)/SA!CW29","v":-1.9034971226206288E-2},{"$f":"(SA!DJ29-SA!CX29)/SA!CX29","v":-2.4844720496894408E-2},{"$f":"(SA!DK29-SA!CY29)/SA!CY29","v":-1.9119608714984436E-2},{"$f":"(SA!DL29-SA!CZ29)/SA!CZ29","v":-2.4E-2},{"$f":"(SA!DM29-SA!DA29)/SA!DA29","v":-2.7555555555555555E-2},{"$f":"(SA!DN29-SA!DB29)/SA!DB29","v":-2.0062416406598307E-2},{"$f":"(SA!DO29-SA!DC29)/SA!DC29","v":-2.1904336164506034E-2},{"$f":"(SA!DP29-SA!DD29)/SA!DD29","v":-2.59391771019678E-2},{"$f":"(SA!DQ29-SA!DE29)/SA!DE29","v":-2.6481149012567325E-2},{"$f":"(SA!DR29-SA!DF29)/SA!DF29","v":-2.780269058295964E-2},{"$f":"(SA!DS29-SA!DG29)/SA!DG29","v":-2.8738212842388863E-2},{"$f":"(SA!DT29-SA!DH29)/SA!DH29","v":-3.096947935368043E-2},{"$f":"(SA!DU29-SA!DI29)/SA!DI29","v":-2.5270758122743681E-2},{"$f":"(SA!DV29-SA!DJ29)/SA!DJ29","v":-1.4103730664240218E-2},{"$f":"(SA!DW29-SA!DK29)/SA!DK29","v":-2.130553037171351E-2},{"$f":"(SA!DX29-SA!DL29)/SA!DL29","v":-1.9581056466302368E-2},{"$f":"(SA!DY29-SA!DM29)/SA!DM29","v":-1.0968921389396709E-2},{"$f":"(SA!DZ29-SA!DN29)/SA!DN29","v":-1.5013648771610554E-2},{"$f":"(SA!EA29-SA!DO29)/SA!DO29","v":-9.5978062157221211E-3},{"$f":"(SA!EB29-SA!DP29)/SA!DP29","v":-4.1322314049586778E-3},{"$f":"(SA!EC29-SA!DQ29)/SA!DQ29","v":2.3052097740894422E-3},{"$f":"(SA!ED29-SA!DR29)/SA!DR29","v":1.8450184501845018E-3},{"$f":"(SA!EE29-SA!DS29)/SA!DS29","v":8.321775312066574E-3},{"$f":"(SA!EF29-SA!DT29)/SA!DT29","v":1.11162575266327E-2},{"$f":"(SA!EG29-SA!DU29)/SA!DU29","v":9.7222222222222224E-3},{"$f":"(SA!EH29-SA!DV29)/SA!DV29","v":5.076142131979695E-3},{"$f":"(SA!EI29-SA!DW29)/SA!DW29","v":4.1685965724872626E-3},{"$f":"(SA!EJ29-SA!DX29)/SA!DX29","v":6.5025545750116119E-3},{"$f":"(SA!EK29-SA!DY29)/SA!DY29","v":3.234750462107209E-3},{"$f":"(SA!EL29-SA!DZ29)/SA!DZ29","v":3.695150115473441E-3},{"$f":"(SA!EM29-SA!EA29)/SA!EA29","v":2.7688047992616522E-3},{"$f":"(SA!EN29-SA!EB29)/SA!EB29","v":2.7662517289073307E-3},{"$f":"(SA!EO29-SA!EC29)/SA!EC29","v":3.6798528058877645E-3},{"$f":"(SA!EP29-SA!ED29)/SA!ED29","v":4.6040515653775326E-3},{"$f":"(SA!EQ29-SA!EE29)/SA!EE29","v":9.1701054562127462E-4},{"$f":"(SA!ER29-SA!EF29)/SA!EF29","v":-1.8323408153916628E-3},{"$f":"(SA!ES29-SA!EG29)/SA!EG29","v":-3.2095369096744614E-3},{"$f":"(SA!ET29-SA!EH29)/SA!EH29","v":4.1322314049586778E-3},{"$f":"(SA!EU29-SA!EI29)/SA!EI29","v":1.2915129151291513E-2},{"$f":"(SA!EV29-SA!EJ29)/SA!EJ29","v":1.7074296262113521E-2},{"$f":"(SA!EW29-SA!EK29)/SA!EK29","v":1.704283740211884E-2},{"$f":"(SA!EX29-SA!EL29)/SA!EL29","v":1.7027151403589506E-2},{"$f":"(SA!EY29-SA!EM29)/SA!EM29","v":2.208927749654855E-2},{"$f":"(SA!EZ29-SA!EN29)/SA!EN29","v":2.0229885057471263E-2},{"$f":"(SA!FA29-SA!EO29)/SA!EO29","v":1.5582034830430797E-2},{"$f":"(SA!FB29-SA!EP29)/SA!EP29","v":1.8331805682859761E-2},{"$f":"(SA!FC29-SA!EQ29)/SA!EQ29","v":1.4658726523133303E-2},{"$f":"(SA!FD29-SA!ER29)/SA!ER29","v":1.8815970628728775E-2},{"$f":"(SA!FE29-SA!ES29)/SA!ES29","v":2.437902483900644E-2},{"$f":"(SA!FF29-SA!ET29)/SA!ET29","v":1.9204389574759947E-2},{"$f":"(SA!FG29-SA!EU29)/SA!EU29","v":1.7759562841530054E-2},{"$f":"(SA!FH29-SA!EV29)/SA!EV29","v":1.5426497277676952E-2},{"$f":"(SA!FI29-SA!EW29)/SA!EW29","v":1.0869565217391304E-2},{"$f":"(SA!FJ29-SA!EX29)/SA!EX29","v":1.4479638009049774E-2},{"$f":"(SA!FK29-SA!EY29)/SA!EY29","v":1.1706438541197659E-2},{"$f":"(SA!FL29-SA!EZ29)/SA!EZ29","v":1.7124831004957188E-2},{"$f":"(SA!FM29-SA!FA29)/SA!FA29","v":2.3014440433212997E-2},{"$f":"(SA!FN29-SA!FB29)/SA!FB29","v":2.115211521152115E-2},{"$f":"(SA!FO29-SA!FC29)/SA!FC29","v":2.437923250564334E-2},{"$f":"(SA!FP29-SA!FD29)/SA!FD29","v":2.0720720720720721E-2},{"$f":"(SA!FQ29-SA!FE29)/SA!FE29","v":1.7512348450830714E-2},{"$f":"(SA!FR29-SA!FF29)/SA!FF29","v":1.5702108568864961E-2},{"$f":"(SA!FS29-SA!FG29)/SA!FG29","v":1.2975391498881432E-2},{"$f":"(SA!FT29-SA!FH29)/SA!FH29","v":1.161751563896336E-2},{"$f":"(SA!FU29-SA!FI29)/SA!FI29","v":1.7473118279569891E-2},{"$f":"(SA!FV29-SA!FJ29)/SA!FJ29","v":1.3380909901873328E-2},{"$f":"(SA!FW29-SA!FK29)/SA!FK29","v":1.602136181575434E-2},{"$f":"(SA!FX29-SA!FL29)/SA!FL29","v":2.215330084182543E-3},{"$f":"(SA!FY29-SA!FM29)/SA!FM29","v":1.7644464049404499E-3},{"$f":"(SA!FZ29-SA!FN29)/SA!FN29","v":1.3221683561040105E-3},{"$f":"(SA!GA29-SA!FO29)/SA!FO29","v":5.2886734244160421E-3},{"$f":"(SA!GB29-SA!FP29)/SA!FP29","v":8.8261253309796991E-3},{"$f":"(SA!GC29-SA!FQ29)/SA!FQ29","v":1.0150044130626656E-2},{"$f":"(SA!GD29-SA!FR29)/SA!FR29","v":1.7667844522968199E-2},{"$f":"(SA!GE29-SA!FS29)/SA!FS29","v":1.8992932862190812E-2},{"$f":"(SA!GF29-SA!FT29)/SA!FT29","v":2.2526501766784453E-2},{"$f":"(SA!GG29-SA!FU29)/SA!FU29","v":2.0695728753852928E-2},{"$f":"(SA!GH29-SA!FV29)/SA!FV29","v":2.2447183098591551E-2},{"$f":"(SA!GI29-SA!FW29)/SA!FW29","v":1.8834866403854577E-2},{"$f":"(SA!GJ29-SA!FX29)/SA!FX29","v":2.9619805481874449E-2},{"$f":"(SA!GK29-SA!FY29)/SA!FY29","v":2.6860413914575079E-2},{"$f":"(SA!GL29-SA!FZ29)/SA!FZ29","v":2.596830985915493E-2},{"$f":"(SA!GM29-SA!GA29)/SA!GA29","v":2.7619465146865411E-2},{"$f":"(SA!GN29-SA!GB29)/SA!GB29","v":3.0621172353455819E-2},{"$f":"(SA!GO29-SA!GC29)/SA!GC29","v":3.1454783748361727E-2},{"$f":"(SA!GP29-SA!GD29)/SA!GD29","v":2.5173611111111112E-2},{"$f":"(SA!GQ29-SA!GE29)/SA!GE29","v":2.6874729085392284E-2},{"$f":"(SA!GR29-SA!GF29)/SA!GF29","v":1.9870410367170625E-2},{"$f":"(SA!GS29-SA!GG29)/SA!GG29","v":1.7256255392579811E-2},{"$f":"(SA!GT29-SA!GH29)/SA!GH29","v":1.334481274214378E-2},{"$f":"(SA!GU29-SA!GI29)/SA!GI29","v":9.0283748925193471E-3},{"$f":"(SA!GV29-SA!GJ29)/SA!GJ29","v":1.1592958351223702E-2},{"$f":"(SA!GW29-SA!GK29)/SA!GK29","v":9.433962264150943E-3},{"$f":"(SA!GX29-SA!GL29)/SA!GL29","v":7.7220077220077222E-3},{"$f":"(SA!GY29-SA!GM29)/SA!GM29","v":4.2662116040955633E-3},{"$f":"(SA!GZ29-SA!GN29)/SA!GN29","v":0},{"$f":"(SA!HA29-SA!GO29)/SA!GO29","v":4.2354934349851756E-4},{"$f":"(SA!HB29-SA!GP29)/SA!GP29","v":-2.1168501270110076E-3},{"$f":"(SA!HC29-SA!GQ29)/SA!GQ29","v":1.8573237653018153E-2},{"$f":"(SA!HD29-SA!GR29)/SA!GR29","v":5.5061414654807286E-3},{"$f":"(SA!HE29-SA!GS29)/SA!GS29","v":8.0576759966072935E-3},{"$f":"(SA!HF29-SA!GT29)/SA!GT29","v":1.5717926932880204E-2},{"$f":"(SA!HG29-SA!GU29)/SA!GU29","v":3.2807839795483594E-2},{"$f":"(SA!HH29-SA!GV29)/SA!GV29","v":2.037351443123939E-2},{"$f":"(SA!HI29-SA!GW29)/SA!GW29","v":1.9541206457094309E-2},{"$f":"(SA!HJ29-SA!GX29)/SA!GX29","v":7.6628352490421452E-3},{"$f":"(SA!HK29-SA!GY29)/SA!GY29","v":-1},{"$f":"(SA!HL29-SA!GZ29)/SA!GZ29","v":-1},{"$f":"(SA!HM29-SA!HA29)/SA!HA29","v":-1}," n/a ","n/a",null,"Accommodation and Food Services",-3.096947935368043E-2,-1.0703309515858687E-2,2.2602699291359926E-3,9.0585638775322365E-3,1.2419654939106902E-2,1.7099563633535354E-2,2.2467012765639775E-2,3.255813953488372E-2,1.51058568090574E-2]
["Other Services",{"$f":"(SA!BN30-SA!BB30)/SA!BB30","v":1.267710663683818E-2},{"$f":"(SA!BO30-SA!BC30)/SA!BC30","v":1.1904761904761904E-2},{"$f":"(SA!BP30-SA!BD30)/SA!BD30","v":1.0401188707280832E-2},{"$f":"(SA!BQ30-SA!BE30)/SA!BE30","v":1.1135857461024499E-2},{"$f":"(SA!BR30-SA!BF30)/SA!BF30","v":9.6367679762787255E-3},{"$f":"(SA!BS30-SA!BG30)/SA!BG30","v":4.4378698224852072E-3},{"$f":"(SA!BT30-SA!BH30)/SA!BH30","v":5.1736881005173688E-3},{"$f":"(SA!BU30-SA!BI30)/SA!BI30","v":3.687315634218289E-3},{"$f":"(SA!BV30-SA!BJ30)/SA!BJ30","v":3.687315634218289E-3},{"$f":"(SA!BW30-SA!BK30)/SA!BK30","v":-8.7463556851311956E-3},{"$f":"(SA!BX30-SA!BL30)/SA!BL30","v":0},{"$f":"(SA!BY30-SA!BM30)/SA!BM30","v":5.1736881005173688E-3},{"$f":"(SA!BZ30-SA!BN30)/SA!BN30","v":7.3637702503681884E-4},{"$f":"(SA!CA30-SA!BO30)/SA!BO30","v":-2.2058823529411764E-3},{"$f":"(SA!CB30-SA!BP30)/SA!BP30","v":-1.4705882352941176E-3},{"$f":"(SA!CC30-SA!BQ30)/SA!BQ30","v":-3.6710719530102789E-3},{"$f":"(SA!CD30-SA!BR30)/SA!BR30","v":-2.936857562408223E-3},{"$f":"(SA!CE30-SA!BS30)/SA!BS30","v":7.3637702503681884E-4},{"$f":"(SA!CF30-SA!BT30)/SA!BT30","v":0},{"$f":"(SA!CG30-SA!BU30)/SA!BU30","v":-7.347538574577516E-4},{"$f":"(SA!CH30-SA!BV30)/SA!BV30","v":7.347538574577516E-4},{"$f":"(SA!CI30-SA!BW30)/SA!BW30","v":1.4705882352941176E-3},{"$f":"(SA!CJ30-SA!BX30)/SA!BX30","v":2.9433406916850625E-3},{"$f":"(SA!CK30-SA!BY30)/SA!BY30","v":4.4117647058823529E-3},{"$f":"(SA!CL30-SA!BZ30)/SA!BZ30","v":8.8300220750551876E-3},{"$f":"(SA!CM30-SA!CA30)/SA!CA30","v":1.105379513633014E-2},{"$f":"(SA!CN30-SA!CB30)/SA!CB30","v":1.1045655375552283E-2},{"$f":"(SA!CO30-SA!CC30)/SA!CC30","v":1.3264554163596167E-2},{"$f":"(SA!CP30-SA!CD30)/SA!CD30","v":1.3991163475699559E-2},{"$f":"(SA!CQ30-SA!CE30)/SA!CE30","v":1.3245033112582781E-2},{"$f":"(SA!CR30-SA!CF30)/SA!CF30","v":1.3235294117647059E-2},{"$f":"(SA!CS30-SA!CG30)/SA!CG30","v":1.1029411764705883E-2},{"$f":"(SA!CT30-SA!CH30)/SA!CH30","v":7.3421439060205578E-3},{"$f":"(SA!CU30-SA!CI30)/SA!CI30","v":1.2481644640234948E-2},{"$f":"(SA!CV30-SA!CJ30)/SA!CJ30","v":1.2472487160674981E-2},{"$f":"(SA!CW30-SA!CK30)/SA!CK30","v":1.0980966325036604E-2},{"$f":"(SA!CX30-SA!CL30)/SA!CL30","v":6.5645514223194746E-3},{"$f":"(SA!CY30-SA!CM30)/SA!CM30","v":6.5597667638483967E-3},{"$f":"(SA!CZ30-SA!CN30)/SA!CN30","v":6.5549890750182084E-3},{"$f":"(SA!DA30-SA!CO30)/SA!CO30","v":8.0000000000000002E-3},{"$f":"(SA!DB30-SA!CP30)/SA!CP30","v":8.7145969498910684E-3},{"$f":"(SA!DC30-SA!CQ30)/SA!CQ30","v":8.7145969498910684E-3},{"$f":"(SA!DD30-SA!CR30)/SA!CR30","v":8.708272859216255E-3},{"$f":"(SA!DE30-SA!CS30)/SA!CS30","v":1.2363636363636363E-2},{"$f":"(SA!DF30-SA!CT30)/SA!CT30","v":1.3848396501457727E-2},{"$f":"(SA!DG30-SA!CU30)/SA!CU30","v":2.3930384336475707E-2},{"$f":"(SA!DH30-SA!CV30)/SA!CV30","v":1.5217391304347827E-2},{"$f":"(SA!DI30-SA!CW30)/SA!CW30","v":1.0137581462708182E-2},{"$f":"(SA!DJ30-SA!CX30)/SA!CX30","v":8.6956521739130436E-3},{"$f":"(SA!DK30-SA!CY30)/SA!CY30","v":6.5170166545981175E-3},{"$f":"(SA!DL30-SA!CZ30)/SA!CZ30","v":5.7887120115774236E-3},{"$f":"(SA!DM30-SA!DA30)/SA!DA30","v":-2.1645021645021645E-3},{"$f":"(SA!DN30-SA!DB30)/SA!DB30","v":-4.3196544276457886E-3},{"$f":"(SA!DO30-SA!DC30)/SA!DC30","v":-5.7595392368610509E-3},{"$f":"(SA!DP30-SA!DD30)/SA!DD30","v":-8.6330935251798559E-3},{"$f":"(SA!DQ30-SA!DE30)/SA!DE30","v":-1.1494252873563218E-2},{"$f":"(SA!DR30-SA!DF30)/SA!DF30","v":-1.0783608914450037E-2},{"$f":"(SA!DS30-SA!DG30)/SA!DG30","v":-2.6203966005665724E-2},{"$f":"(SA!DT30-SA!DH30)/SA!DH30","v":-1.8558172733761598E-2},{"$f":"(SA!DU30-SA!DI30)/SA!DI30","v":-1.5770609318996417E-2},{"$f":"(SA!DV30-SA!DJ30)/SA!DJ30","v":-1.6522988505747127E-2},{"$f":"(SA!DW30-SA!DK30)/SA!DK30","v":-1.5107913669064749E-2},{"$f":"(SA!DX30-SA!DL30)/SA!DL30","v":-1.4388489208633094E-2},{"$f":"(SA!DY30-SA!DM30)/SA!DM30","v":-7.9537237888647871E-3},{"$f":"(SA!DZ30-SA!DN30)/SA!DN30","v":-1.012292118582791E-2},{"$f":"(SA!EA30-SA!DO30)/SA!DO30","v":-1.0137581462708182E-2},{"$f":"(SA!EB30-SA!DP30)/SA!DP30","v":-6.5312046444121917E-3},{"$f":"(SA!EC30-SA!DQ30)/SA!DQ30","v":-5.0872093023255818E-3},{"$f":"(SA!ED30-SA!DR30)/SA!DR30","v":-5.8139534883720929E-3},{"$f":"(SA!EE30-SA!DS30)/SA!DS30","v":0},{"$f":"(SA!EF30-SA!DT30)/SA!DT30","v":-3.6363636363636364E-3},{"$f":"(SA!EG30-SA!DU30)/SA!DU30","v":-2.9133284777858705E-3},{"$f":"(SA!EH30-SA!DV30)/SA!DV30","v":1.4609203798392988E-3},{"$f":"(SA!EI30-SA!DW30)/SA!DW30","v":7.3046018991964939E-4},{"$f":"(SA!EJ30-SA!DX30)/SA!DX30","v":7.2992700729927003E-4},{"$f":"(SA!EK30-SA!DY30)/SA!DY30","v":0},{"$f":"(SA!EL30-SA!DZ30)/SA!DZ30","v":2.1913805697589481E-3},{"$f":"(SA!EM30-SA!EA30)/SA!EA30","v":1.463057790782736E-3},{"$f":"(SA!EN30-SA!EB30)/SA!EB30","v":4.3827611395178961E-3},{"$f":"(SA!EO30-SA!EC30)/SA!EC30","v":2.9218407596785976E-3},{"$f":"(SA!EP30-SA!ED30)/SA!ED30","v":2.9239766081871343E-3},{"$f":"(SA!EQ30-SA!EE30)/SA!EE30","v":-2.9090909090909089E-3},{"$f":"(SA!ER30-SA!EF30)/SA!EF30","v":1.4598540145985401E-3},{"$f":"(SA!ES30-SA!EG30)/SA!EG30","v":5.1132213294375461E-3},{"$f":"(SA!ET30-SA!EH30)/SA!EH30","v":3.6469730123997084E-3},{"$f":"(SA!EU30-SA!EI30)/SA!EI30","v":6.5693430656934308E-3},{"$f":"(SA!EV30-SA!EJ30)/SA!EJ30","v":4.3763676148796497E-3},{"$f":"(SA!EW30-SA!EK30)/SA!EK30","v":4.3731778425655978E-3},{"$f":"(SA!EX30-SA!EL30)/SA!EL30","v":3.6443148688046646E-3},{"$f":"(SA!EY30-SA!EM30)/SA!EM30","v":1.3878743608473338E-2},{"$f":"(SA!EZ30-SA!EN30)/SA!EN30","v":2.1818181818181819E-3},{"$f":"(SA!FA30-SA!EO30)/SA!EO30","v":3.6416605972323379E-3},{"$f":"(SA!FB30-SA!EP30)/SA!EP30","v":3.6443148688046646E-3},{"$f":"(SA!FC30-SA!EQ30)/SA!EQ30","v":3.6469730123997084E-3},{"$f":"(SA!FD30-SA!ER30)/SA!ER30","v":3.6443148688046646E-3},{"$f":"(SA!FE30-SA!ES30)/SA!ES30","v":0},{"$f":"(SA!FF30-SA!ET30)/SA!ET30","v":-1.4534883720930232E-3},{"$f":"(SA!FG30-SA!EU30)/SA!EU30","v":-4.3509789702683103E-3},{"$f":"(SA!FH30-SA!EV30)/SA!EV30","v":-1.4524328249818446E-3},{"$f":"(SA!FI30-SA!EW30)/SA!EW30","v":-3.6284470246734399E-3},{"$f":"(SA!FJ30-SA!EX30)/SA!EX30","v":0},{"$f":"(SA!FK30-SA!EY30)/SA!EY30","v":-6.4841498559077811E-3},{"$f":"(SA!FL30-SA!EZ30)/SA!EZ30","v":-1.4513788098693759E-3},{"$f":"(SA!FM30-SA!FA30)/SA!FA30","v":7.2568940493468795E-4},{"$f":"(SA!FN30-SA!FB30)/SA!FB30","v":7.988380537400145E-3},{"$f":"(SA!FO30-SA!FC30)/SA!FC30","v":3.6337209302325581E-3},{"$f":"(SA!FP30-SA!FD30)/SA!FD30","v":1.1619462599854757E-2},{"$f":"(SA!FQ30-SA!FE30)/SA!FE30","v":1.5261627906976744E-2},{"$f":"(SA!FR30-SA!FF30)/SA!FF30","v":2.1834061135371178E-2},{"$f":"(SA!FS30-SA!FG30)/SA!FG30","v":2.7676620538965767E-2},{"$f":"(SA!FT30-SA!FH30)/SA!FH30","v":2.690909090909091E-2},{"$f":"(SA!FU30-SA!FI30)/SA!FI30","v":3.2774945375091041E-2},{"$f":"(SA!FV30-SA!FJ30)/SA!FJ30","v":3.4132171387073348E-2},{"$f":"(SA!FW30-SA!FK30)/SA!FK30","v":3.7708484408992021E-2},{"$f":"(SA!FX30-SA!FL30)/SA!FL30","v":4.5058139534883718E-2},{"$f":"(SA!FY30-SA!FM30)/SA!FM30","v":4.8585931834662796E-2},{"$f":"(SA!FZ30-SA!FN30)/SA!FN30","v":4.4668587896253602E-2},{"$f":"(SA!GA30-SA!FO30)/SA!FO30","v":5.1412020275162923E-2},{"$f":"(SA!GB30-SA!FP30)/SA!FP30","v":4.594400574300072E-2},{"$f":"(SA!GC30-SA!FQ30)/SA!FQ30","v":4.5096635647816748E-2},{"$f":"(SA!GD30-SA!FR30)/SA!FR30","v":4.843304843304843E-2},{"$f":"(SA!GE30-SA!FS30)/SA!FS30","v":4.606661941885188E-2},{"$f":"(SA!GF30-SA!FT30)/SA!FT30","v":4.7450424929178468E-2},{"$f":"(SA!GG30-SA!FU30)/SA!FU30","v":4.5133991537376586E-2},{"$f":"(SA!GH30-SA!FV30)/SA!FV30","v":4.2837078651685394E-2},{"$f":"(SA!GI30-SA!FW30)/SA!FW30","v":3.7037037037037035E-2},{"$f":"(SA!GJ30-SA!FX30)/SA!FX30","v":3.129346314325452E-2},{"$f":"(SA!GK30-SA!FY30)/SA!FY30","v":2.4204702627939143E-2},{"$f":"(SA!GL30-SA!FZ30)/SA!FZ30","v":2.2758620689655173E-2},{"$f":"(SA!GM30-SA!GA30)/SA!GA30","v":2.2038567493112948E-2},{"$f":"(SA!GN30-SA!GB30)/SA!GB30","v":1.8531228551818806E-2},{"$f":"(SA!GO30-SA!GC30)/SA!GC30","v":1.8493150684931507E-2},{"$f":"(SA!GP30-SA!GD30)/SA!GD30","v":1.2228260869565218E-2},{"$f":"(SA!GQ30-SA!GE30)/SA!GE30","v":8.8075880758807581E-3},{"$f":"(SA!GR30-SA!GF30)/SA!GF30","v":6.7613252197430695E-3},{"$f":"(SA!GS30-SA!GG30)/SA!GG30","v":4.048582995951417E-3},{"$f":"(SA!GT30-SA!GH30)/SA!GH30","v":2.0202020202020202E-3},{"$f":"(SA!GU30-SA!GI30)/SA!GI30","v":2.6954177897574125E-3},{"$f":"(SA!GV30-SA!GJ30)/SA!GJ30","v":6.0687795010114631E-3},{"$f":"(SA!GW30-SA!GK30)/SA!GK30","v":8.1026333558406483E-3},{"$f":"(SA!GX30-SA!GL30)/SA!GL30","v":8.091706001348618E-3},{"$f":"(SA!GY30-SA!GM30)/SA!GM30","v":1.3477088948787063E-2},{"$f":"(SA!GZ30-SA!GN30)/SA!GN30","v":1.4150943396226415E-2},{"$f":"(SA!HA30-SA!GO30)/SA!GO30","v":2.0174848688634835E-2},{"$f":"(SA!HB30-SA!GP30)/SA!GP30","v":1.2751677852348993E-2},{"$f":"(SA!HC30-SA!GQ30)/SA!GQ30","v":2.3505708529214239E-2},{"$f":"(SA!HD30-SA!GR30)/SA!GR30","v":2.1490933512424447E-2},{"$f":"(SA!HE30-SA!GS30)/SA!GS30","v":2.7553763440860215E-2},{"$f":"(SA!HF30-SA!GT30)/SA!GT30","v":1.0752688172043012E-2},{"$f":"(SA!HG30-SA!GU30)/SA!GU30","v":2.2849462365591398E-2},{"$f":"(SA!HH30-SA!GV30)/SA!GV30","v":2.0107238605898123E-2},{"$f":"(SA!HI30-SA!GW30)/SA!GW30","v":2.0093770931011386E-2},{"$f":"(SA!HJ30-SA!GX30)/SA!GX30","v":1.5384615384615385E-2},{"$f":"(SA!HK30-SA!GY30)/SA!GY30","v":-1},{"$f":"(SA!HL30-SA!GZ30)/SA!GZ30","v":-1},{"$f":"(SA!HM30-SA!HA30)/SA!HA30","v":-1}," n/a ","n/a",null,"Other Services",-2.6203966005665724E-2,-3.645040715525297E-3,7.3556544124728522E-4,3.777632474651571E-3,6.5633552577017053E-3,1.1377660030439628E-2,2.2218580792248505E-2,5.1412020275162923E-2,1.5127386338152277E-2]
["Government",{"$f":"(SA!BN31-SA!BB31)/SA!BB31","v":2.0323212536728696E-2},{"$f":"(SA!BO31-SA!BC31)/SA!BC31","v":1.0930289045421423E-2},{"$f":"(SA!BP31-SA!BD31)/SA!BD31","v":5.0958505217180297E-3},{"$f":"(SA!BQ31-SA!BE31)/SA!BE31","v":1.1466211271041717E-2},{"$f":"(SA!BR31-SA!BF31)/SA!BF31","v":8.2765335929892887E-3},{"$f":"(SA!BS31-SA!BG31)/SA!BG31","v":-1.6928657799274486E-3},{"$f":"(SA!BT31-SA!BH31)/SA!BH31","v":3.1484620973601355E-3},{"$f":"(SA!BU31-SA!BI31)/SA!BI31","v":-2.4154589371980676E-4},{"$f":"(SA!BV31-SA!BJ31)/SA!BJ31","v":1.9493177387914229E-2},{"$f":"(SA!BW31-SA!BK31)/SA!BK31","v":6.0444874274661504E-3},{"$f":"(SA!BX31-SA!BL31)/SA!BL31","v":-1.6875602700096432E-3},{"$f":"(SA!BY31-SA!BM31)/SA!BM31","v":1.1896091284292304E-2},{"$f":"(SA!BZ31-SA!BN31)/SA!BN31","v":-2.3998080153587713E-3},{"$f":"(SA!CA31-SA!BO31)/SA!BO31","v":-3.8443056222969728E-3},{"$f":"(SA!CB31-SA!BP31)/SA!BP31","v":3.1385803959439883E-3},{"$f":"(SA!CC31-SA!BQ31)/SA!BQ31","v":1.9295706705258081E-3},{"$f":"(SA!CD31-SA!BR31)/SA!BR31","v":-9.6571704490584255E-4},{"$f":"(SA!CE31-SA!BS31)/SA!BS31","v":9.9321705426356592E-3},{"$f":"(SA!CF31-SA!BT31)/SA!BT31","v":3.8628681796233702E-3},{"$f":"(SA!CG31-SA!BU31)/SA!BU31","v":4.8320850446967869E-3},{"$f":"(SA!CH31-SA!BV31)/SA!BV31","v":-7.1701720841300194E-4},{"$f":"(SA!CI31-SA!BW31)/SA!BW31","v":-4.085556356645037E-3},{"$f":"(SA!CJ31-SA!BX31)/SA!BX31","v":2.1733880705143687E-3},{"$f":"(SA!CK31-SA!BY31)/SA!BY31","v":-5.5182341650671781E-3},{"$f":"(SA!CL31-SA!BZ31)/SA!BZ31","v":-3.6083714216983403E-3},{"$f":"(SA!CM31-SA!CA31)/SA!CA31","v":-3.8591413410516162E-3},{"$f":"(SA!CN31-SA!CB31)/SA!CB31","v":-4.0914560770156441E-3},{"$f":"(SA!CO31-SA!CC31)/SA!CC31","v":-9.6292729898892631E-4},{"$f":"(SA!CP31-SA!CD31)/SA!CD31","v":5.0749154180763653E-3},{"$f":"(SA!CQ31-SA!CE31)/SA!CE31","v":8.6351643079875268E-3},{"$f":"(SA!CR31-SA!CF31)/SA!CF31","v":3.1265031265031266E-3},{"$f":"(SA!CS31-SA!CG31)/SA!CG31","v":6.0110603510459245E-3},{"$f":"(SA!CT31-SA!CH31)/SA!CH31","v":7.4144941401578573E-3},{"$f":"(SA!CU31-SA!CI31)/SA!CI31","v":3.3783783783783786E-3},{"$f":"(SA!CV31-SA!CJ31)/SA!CJ31","v":-2.4096385542168677E-3},{"$f":"(SA!CW31-SA!CK31)/SA!CK31","v":7.4788902291917977E-3},{"$f":"(SA!CX31-SA!CL31)/SA!CL31","v":1.5692901979719943E-2},{"$f":"(SA!CY31-SA!CM31)/SA!CM31","v":1.5738498789346248E-2},{"$f":"(SA!CZ31-SA!CN31)/SA!CN31","v":1.1116481391976801E-2},{"$f":"(SA!DA31-SA!CO31)/SA!CO31","v":5.0602409638554214E-3},{"$f":"(SA!DB31-SA!CP31)/SA!CP31","v":9.8581389757153165E-3},{"$f":"(SA!DC31-SA!CQ31)/SA!CQ31","v":-2.3781212841854932E-3},{"$f":"(SA!DD31-SA!CR31)/SA!CR31","v":1.1747782306401342E-2},{"$f":"(SA!DE31-SA!CS31)/SA!CS31","v":5.4971319311663477E-3},{"$f":"(SA!DF31-SA!CT31)/SA!CT31","v":2.4928774928774929E-2},{"$f":"(SA!DG31-SA!CU31)/SA!CU31","v":2.2126022126022125E-2},{"$f":"(SA!DH31-SA!CV31)/SA!CV31","v":3.5024154589371984E-2},{"$f":"(SA!DI31-SA!CW31)/SA!CW31","v":1.7480842911877393E-2},{"$f":"(SA!DJ31-SA!CX31)/SA!CX31","v":4.9916805324459234E-3},{"$f":"(SA!DK31-SA!CY31)/SA!CY31","v":9.5351609058402856E-3},{"$f":"(SA!DL31-SA!CZ31)/SA!CZ31","v":1.0994263862332695E-2},{"$f":"(SA!DM31-SA!DA31)/SA!DA31","v":1.2467034284344283E-2},{"$f":"(SA!DN31-SA!DB31)/SA!DB31","v":8.8095238095238088E-3},{"$f":"(SA!DO31-SA!DC31)/SA!DC31","v":2.8605482717520858E-3},{"$f":"(SA!DP31-SA!DD31)/SA!DD31","v":-1.8957345971563982E-3},{"$f":"(SA!DQ31-SA!DE31)/SA!DE31","v":-4.7539814594723083E-3},{"$f":"(SA!DR31-SA!DF31)/SA!DF31","v":-3.428306694463748E-2},{"$f":"(SA!DS31-SA!DG31)/SA!DG31","v":-1.2E-2},{"$f":"(SA!DT31-SA!DH31)/SA!DH31","v":-2.3803967327887983E-2},{"$f":"(SA!DU31-SA!DI31)/SA!DI31","v":-1.0826076723935044E-2},{"$f":"(SA!DV31-SA!DJ31)/SA!DJ31","v":-8.2781456953642391E-3},{"$f":"(SA!DW31-SA!DK31)/SA!DK31","v":-1.4639905548996458E-2},{"$f":"(SA!DX31-SA!DL31)/SA!DL31","v":-1.1583924349881796E-2},{"$f":"(SA!DY31-SA!DM31)/SA!DM31","v":-1.4207909069381957E-3},{"$f":"(SA!DZ31-SA!DN31)/SA!DN31","v":4.7203209818267641E-3},{"$f":"(SA!EA31-SA!DO31)/SA!DO31","v":5.2293796054195384E-3},{"$f":"(SA!EB31-SA!DP31)/SA!DP31","v":-4.7483380816714148E-3},{"$f":"(SA!EC31-SA!DQ31)/SA!DQ31","v":-3.1048483401003107E-3},{"$f":"(SA!ED31-SA!DR31)/SA!DR31","v":3.1182537778843846E-3},{"$f":"(SA!EE31-SA!DS31)/SA!DS31","v":-2.6196713503215049E-3},{"$f":"(SA!EF31-SA!DT31)/SA!DT31","v":3.5859431030360986E-3},{"$f":"(SA!EG31-SA!DU31)/SA!DU31","v":-1.3085891030216512E-2},{"$f":"(SA!EH31-SA!DV31)/SA!DV31","v":-5.246839971380873E-3},{"$f":"(SA!EI31-SA!DW31)/SA!DW31","v":3.1152647975077881E-3},{"$f":"(SA!EJ31-SA!DX31)/SA!DX31","v":1.4350633819660368E-3},{"$f":"(SA!EK31-SA!DY31)/SA!DY31","v":-1.3753853450320134E-2},{"$f":"(SA!EL31-SA!DZ31)/SA!DZ31","v":-1.9262391355414611E-2},{"$f":"(SA!EM31-SA!EA31)/SA!EA31","v":-1.9626389217309057E-2},{"$f":"(SA!EN31-SA!EB31)/SA!EB31","v":-2.3854961832061068E-4},{"$f":"(SA!EO31-SA!EC31)/SA!EC31","v":-8.1456636320076659E-3},{"$f":"(SA!EP31-SA!ED31)/SA!ED31","v":-1.4347202295552367E-2},{"$f":"(SA!EQ31-SA!EE31)/SA!EE31","v":-2.3400191021967526E-2},{"$f":"(SA!ER31-SA!EF31)/SA!EF31","v":-3.1681753215817059E-2},{"$f":"(SA!ES31-SA!EG31)/SA!EG31","v":-9.4021215043394411E-3},{"$f":"(SA!ET31-SA!EH31)/SA!EH31","v":-3.764085351234716E-2},{"$f":"(SA!EU31-SA!EI31)/SA!EI31","v":-3.4400382226469184E-2},{"$f":"(SA!EV31-SA!EJ31)/SA!EJ31","v":-1.9345593503701936E-2},{"$f":"(SA!EW31-SA!EK31)/SA!EK31","v":-4.3279634527530657E-3},{"$f":"(SA!EX31-SA!EL31)/SA!EL31","v":1.6766467065868263E-3},{"$f":"(SA!EY31-SA!EM31)/SA!EM31","v":-4.8239266763145201E-3},{"$f":"(SA!EZ31-SA!EN31)/SA!EN31","v":-2.1951801479360534E-2},{"$f":"(SA!FA31-SA!EO31)/SA!EO31","v":-2.8985507246376812E-3},{"$f":"(SA!FB31-SA!EP31)/SA!EP31","v":-3.3964095099466279E-3},{"$f":"(SA!FC31-SA!EQ31)/SA!EQ31","v":6.6014669926650364E-3},{"$f":"(SA!FD31-SA!ER31)/SA!ER31","v":2.3124231242312422E-2},{"$f":"(SA!FE31-SA!ES31)/SA!ES31","v":9.7347286444390358E-4},{"$f":"(SA!FF31-SA!ET31)/SA!ET31","v":-1.9930244145490781E-3},{"$f":"(SA!FG31-SA!EU31)/SA!EU31","v":2.1523998020781792E-2},{"$f":"(SA!FH31-SA!EV31)/SA!EV31","v":2.4354603019970775E-4},{"$f":"(SA!FI31-SA!EW31)/SA!EW31","v":-1.1832890606133784E-2},{"$f":"(SA!FJ31-SA!EX31)/SA!EX31","v":-2.2955523672883789E-2},{"$f":"(SA!FK31-SA!EY31)/SA!EY31","v":-8.9675230247212804E-3},{"$f":"(SA!FL31-SA!EZ31)/SA!EZ31","v":-4.8792388387411563E-4},{"$f":"(SA!FM31-SA!FA31)/SA!FA31","v":-8.4786821705426351E-3},{"$f":"(SA!FN31-SA!FB31)/SA!FB31","v":2.6777020447906522E-3},{"$f":"(SA!FO31-SA!FC31)/SA!FC31","v":-4.8579062424095217E-4},{"$f":"(SA!FP31-SA!FD31)/SA!FD31","v":-1.514787208463573E-2},{"$f":"(SA!FQ31-SA!FE31)/SA!FE31","v":-1.4587892049598833E-3},{"$f":"(SA!FR31-SA!FF31)/SA!FF31","v":2.7958062905641536E-2},{"$f":"(SA!FS31-SA!FG31)/SA!FG31","v":-9.4453862920804068E-3},{"$f":"(SA!FT31-SA!FH31)/SA!FH31","v":-1.2174336498660824E-3},{"$f":"(SA!FU31-SA!FI31)/SA!FI31","v":3.9100684261974585E-3},{"$f":"(SA!FV31-SA!FJ31)/SA!FJ31","v":4.4052863436123352E-3},{"$f":"(SA!FW31-SA!FK31)/SA!FK31","v":5.1357300073367569E-3},{"$f":"(SA!FX31-SA!FL31)/SA!FL31","v":5.1257017329753478E-3},{"$f":"(SA!FY31-SA!FM31)/SA!FM31","v":1.97898851698021E-2},{"$f":"(SA!FZ31-SA!FN31)/SA!FN31","v":2.6705511046370479E-3},{"$f":"(SA!GA31-SA!FO31)/SA!FO31","v":7.2904009720534634E-4},{"$f":"(SA!GB31-SA!FP31)/SA!FP31","v":1.66015625E-2},{"$f":"(SA!GC31-SA!FQ31)/SA!FQ31","v":1.2174336498660824E-3},{"$f":"(SA!GD31-SA!FR31)/SA!FR31","v":-4.613890237979602E-3},{"$f":"(SA!GE31-SA!FS31)/SA!FS31","v":4.6454767726161368E-3},{"$f":"(SA!GF31-SA!FT31)/SA!FT31","v":4.8756704046806434E-4},{"$f":"(SA!GG31-SA!FU31)/SA!FU31","v":-1.2171372930866603E-3},{"$f":"(SA!GH31-SA!FV31)/SA!FV31","v":-2.6803118908382065E-3},{"$f":"(SA!GI31-SA!FW31)/SA!FW31","v":-3.6496350364963502E-3},{"$f":"(SA!GJ31-SA!FX31)/SA!FX31","v":-8.0135988343856233E-3},{"$f":"(SA!GK31-SA!FY31)/SA!FY31","v":-2.2280785816962148E-2},{"$f":"(SA!GL31-SA!FZ31)/SA!FZ31","v":-1.1622276029055689E-2},{"$f":"(SA!GM31-SA!GA31)/SA!GA31","v":-9.227780475959204E-3},{"$f":"(SA!GN31-SA!GB31)/SA!GB31","v":-2.7857829010566763E-2},{"$f":"(SA!GO31-SA!GC31)/SA!GC31","v":-5.350194552529183E-3},{"$f":"(SA!GP31-SA!GD31)/SA!GD31","v":4.8792388387411563E-4},{"$f":"(SA!GQ31-SA!GE31)/SA!GE31","v":-2.1903139449987834E-3},{"$f":"(SA!GR31-SA!GF31)/SA!GF31","v":-1.4619883040935672E-3},{"$f":"(SA!GS31-SA!GG31)/SA!GG31","v":4.874482086278333E-4},{"$f":"(SA!GT31-SA!GH31)/SA!GH31","v":-4.3977522599560224E-3},{"$f":"(SA!GU31-SA!GI31)/SA!GI31","v":9.768009768009768E-4},{"$f":"(SA!GV31-SA!GJ31)/SA!GJ31","v":1.0526315789473684E-2},{"$f":"(SA!GW31-SA!GK31)/SA!GK31","v":1.5927468757657437E-2},{"$f":"(SA!GX31-SA!GL31)/SA!GL31","v":2.9397354238118569E-3},{"$f":"(SA!GY31-SA!GM31)/SA!GM31","v":1.8627450980392157E-2},{"$f":"(SA!GZ31-SA!GN31)/SA!GN31","v":3.8784584980237152E-2},{"$f":"(SA!HA31-SA!GO31)/SA!GO31","v":2.2493887530562348E-2},{"$f":"(SA!HB31-SA!GP31)/SA!GP31","v":7.5591319190441352E-3},{"$f":"(SA!HC31-SA!GQ31)/SA!GQ31","v":1.4634146341463415E-2},{"$f":"(SA!HD31-SA!GR31)/SA!GR31","v":4.1483650561249391E-3},{"$f":"(SA!HE31-SA!GS31)/SA!GS31","v":1.9732034104750305E-2},{"$f":"(SA!HF31-SA!GT31)/SA!GT31","v":2.4539877300613498E-2},{"$f":"(SA!HG31-SA!GU31)/SA!GU31","v":2.1956574774335204E-3},{"$f":"(SA!HH31-SA!GV31)/SA!GV31","v":1.0416666666666666E-2},{"$f":"(SA!HI31-SA!GW31)/SA!GW31","v":-5.065123010130246E-3},{"$f":"(SA!HJ31-SA!GX31)/SA!GX31","v":1.4167073766487542E-2},{"$f":"(SA!HK31-SA!GY31)/SA!GY31","v":-1},{"$f":"(SA!HL31-SA!GZ31)/SA!GZ31","v":-1},{"$f":"(SA!HM31-SA!HA31)/SA!HA31","v":-1}," n/a ","n/a",null,"Government",-3.764085351234716E-2,-1.1593512269675268E-2,-3.8517234816742947E-3,-9.6501960842661346E-4,1.3806559489410483E-3,5.0259607481506728E-3,1.120391386174303E-2,3.8784584980237152E-2,1.2694785508281356E-2]
["Federal Government",{"$f":"(SA!BN32-SA!BB32)/SA!BB32","v":-6.7567567567567571E-3},{"$f":"(SA!BO32-SA!BC32)/SA!BC32","v":-6.7567567567567571E-3},{"$f":"(SA!BP32-SA!BD32)/SA!BD32","v":-6.7796610169491523E-3},{"$f":"(SA!BQ32-SA!BE32)/SA!BE32","v":-1.0101010101010102E-2},{"$f":"(SA!BR32-SA!BF32)/SA!BF32","v":-3.3898305084745762E-3},{"$f":"(SA!BS32-SA!BG32)/SA!BG32","v":-1.0169491525423728E-2},{"$f":"(SA!BT32-SA!BH32)/SA!BH32","v":-1.3513513513513514E-2},{"$f":"(SA!BU32-SA!BI32)/SA!BI32","v":-1.6835016835016835E-2},{"$f":"(SA!BV32-SA!BJ32)/SA!BJ32","v":-1.0169491525423728E-2},{"$f":"(SA!BW32-SA!BK32)/SA!BK32","v":-1.6891891891891893E-2},{"$f":"(SA!BX32-SA!BL32)/SA!BL32","v":-1.6891891891891893E-2},{"$f":"(SA!BY32-SA!BM32)/SA!BM32","v":-1.020408163265306E-2},{"$f":"(SA!BZ32-SA!BN32)/SA!BN32","v":-1.020408163265306E-2},{"$f":"(SA!CA32-SA!BO32)/SA!BO32","v":-1.020408163265306E-2},{"$f":"(SA!CB32-SA!BP32)/SA!BP32","v":0},{"$f":"(SA!CC32-SA!BQ32)/SA!BQ32","v":-3.4013605442176869E-3},{"$f":"(SA!CD32-SA!BR32)/SA!BR32","v":-6.8027210884353739E-3},{"$f":"(SA!CE32-SA!BS32)/SA!BS32","v":3.4246575342465752E-3},{"$f":"(SA!CF32-SA!BT32)/SA!BT32","v":3.4246575342465752E-3},{"$f":"(SA!CG32-SA!BU32)/SA!BU32","v":0},{"$f":"(SA!CH32-SA!BV32)/SA!BV32","v":3.4246575342465752E-3},{"$f":"(SA!CI32-SA!BW32)/SA!BW32","v":3.4364261168384879E-3},{"$f":"(SA!CJ32-SA!BX32)/SA!BX32","v":6.8728522336769758E-3},{"$f":"(SA!CK32-SA!BY32)/SA!BY32","v":6.8728522336769758E-3},{"$f":"(SA!CL32-SA!BZ32)/SA!BZ32","v":1.0309278350515464E-2},{"$f":"(SA!CM32-SA!CA32)/SA!CA32","v":3.4364261168384879E-3},{"$f":"(SA!CN32-SA!CB32)/SA!CB32","v":-3.4129692832764505E-3},{"$f":"(SA!CO32-SA!CC32)/SA!CC32","v":-3.4129692832764505E-3},{"$f":"(SA!CP32-SA!CD32)/SA!CD32","v":0},{"$f":"(SA!CQ32-SA!CE32)/SA!CE32","v":0},{"$f":"(SA!CR32-SA!CF32)/SA!CF32","v":-3.4129692832764505E-3},{"$f":"(SA!CS32-SA!CG32)/SA!CG32","v":3.4246575342465752E-3},{"$f":"(SA!CT32-SA!CH32)/SA!CH32","v":-3.4129692832764505E-3},{"$f":"(SA!CU32-SA!CI32)/SA!CI32","v":6.8493150684931503E-3},{"$f":"(SA!CV32-SA!CJ32)/SA!CJ32","v":0},{"$f":"(SA!CW32-SA!CK32)/SA!CK32","v":-6.8259385665529011E-3},{"$f":"(SA!CX32-SA!CL32)/SA!CL32","v":0},{"$f":"(SA!CY32-SA!CM32)/SA!CM32","v":1.0273972602739725E-2},{"$f":"(SA!CZ32-SA!CN32)/SA!CN32","v":1.0273972602739725E-2},{"$f":"(SA!DA32-SA!CO32)/SA!CO32","v":1.0273972602739725E-2},{"$f":"(SA!DB32-SA!CP32)/SA!CP32","v":1.3698630136986301E-2},{"$f":"(SA!DC32-SA!CQ32)/SA!CQ32","v":1.0238907849829351E-2},{"$f":"(SA!DD32-SA!CR32)/SA!CR32","v":2.0547945205479451E-2},{"$f":"(SA!DE32-SA!CS32)/SA!CS32","v":1.7064846416382253E-2},{"$f":"(SA!DF32-SA!CT32)/SA!CT32","v":2.0547945205479451E-2},{"$f":"(SA!DG32-SA!CU32)/SA!CU32","v":6.8027210884353739E-3},{"$f":"(SA!DH32-SA!CV32)/SA!CV32","v":1.3651877133105802E-2},{"$f":"(SA!DI32-SA!CW32)/SA!CW32","v":2.4054982817869417E-2},{"$f":"(SA!DJ32-SA!CX32)/SA!CX32","v":1.7006802721088437E-2},{"$f":"(SA!DK32-SA!CY32)/SA!CY32","v":1.3559322033898305E-2},{"$f":"(SA!DL32-SA!CZ32)/SA!CZ32","v":6.7796610169491523E-3},{"$f":"(SA!DM32-SA!DA32)/SA!DA32","v":8.1355932203389825E-2},{"$f":"(SA!DN32-SA!DB32)/SA!DB32","v":7.77027027027027E-2},{"$f":"(SA!DO32-SA!DC32)/SA!DC32","v":6.7567567567567571E-3},{"$f":"(SA!DP32-SA!DD32)/SA!DD32","v":-6.7114093959731542E-3},{"$f":"(SA!DQ32-SA!DE32)/SA!DE32","v":-3.3557046979865771E-3},{"$f":"(SA!DR32-SA!DF32)/SA!DF32","v":-6.7114093959731542E-3},{"$f":"(SA!DS32-SA!DG32)/SA!DG32","v":6.7567567567567571E-3},{"$f":"(SA!DT32-SA!DH32)/SA!DH32","v":0},{"$f":"(SA!DU32-SA!DI32)/SA!DI32","v":-3.3557046979865771E-3},{"$f":"(SA!DV32-SA!DJ32)/SA!DJ32","v":-1.0033444816053512E-2},{"$f":"(SA!DW32-SA!DK32)/SA!DK32","v":-1.0033444816053512E-2},{"$f":"(SA!DX32-SA!DL32)/SA!DL32","v":2.0202020202020204E-2},{"$f":"(SA!DY32-SA!DM32)/SA!DM32","v":5.0156739811912224E-2},{"$f":"(SA!DZ32-SA!DN32)/SA!DN32","v":0.18808777429467086},{"$f":"(SA!EA32-SA!DO32)/SA!DO32","v":0.15100671140939598},{"$f":"(SA!EB32-SA!DP32)/SA!DP32","v":9.45945945945946E-2},{"$f":"(SA!EC32-SA!DQ32)/SA!DQ32","v":2.6936026936026935E-2},{"$f":"(SA!ED32-SA!DR32)/SA!DR32","v":3.3783783783783786E-3},{"$f":"(SA!EE32-SA!DS32)/SA!DS32","v":-6.7114093959731542E-3},{"$f":"(SA!EF32-SA!DT32)/SA!DT32","v":-3.3670033670033669E-3},{"$f":"(SA!EG32-SA!DU32)/SA!DU32","v":-6.7340067340067337E-3},{"$f":"(SA!EH32-SA!DV32)/SA!DV32","v":-3.3783783783783786E-3},{"$f":"(SA!EI32-SA!DW32)/SA!DW32","v":-6.7567567567567571E-3},{"$f":"(SA!EJ32-SA!DX32)/SA!DX32","v":-2.6402640264026403E-2},{"$f":"(SA!EK32-SA!DY32)/SA!DY32","v":-0.11940298507462686},{"$f":"(SA!EL32-SA!DZ32)/SA!DZ32","v":-0.22427440633245382},{"$f":"(SA!EM32-SA!EA32)/SA!EA32","v":-0.14285714285714285},{"$f":"(SA!EN32-SA!EB32)/SA!EB32","v":-8.9506172839506168E-2},{"$f":"(SA!EO32-SA!EC32)/SA!EC32","v":-3.6065573770491806E-2},{"$f":"(SA!EP32-SA!ED32)/SA!ED32","v":-1.0101010101010102E-2},{"$f":"(SA!EQ32-SA!EE32)/SA!EE32","v":-6.7567567567567571E-3},{"$f":"(SA!ER32-SA!EF32)/SA!EF32","v":-1.6891891891891893E-2},{"$f":"(SA!ES32-SA!EG32)/SA!EG32","v":-1.3559322033898305E-2},{"$f":"(SA!ET32-SA!EH32)/SA!EH32","v":-1.6949152542372881E-2},{"$f":"(SA!EU32-SA!EI32)/SA!EI32","v":-1.3605442176870748E-2},{"$f":"(SA!EV32-SA!EJ32)/SA!EJ32","v":-1.3559322033898305E-2},{"$f":"(SA!EW32-SA!EK32)/SA!EK32","v":-1.6949152542372881E-2},{"$f":"(SA!EX32-SA!EL32)/SA!EL32","v":-1.3605442176870748E-2},{"$f":"(SA!EY32-SA!EM32)/SA!EM32","v":-1.3605442176870748E-2},{"$f":"(SA!EZ32-SA!EN32)/SA!EN32","v":-1.3559322033898305E-2},{"$f":"(SA!FA32-SA!EO32)/SA!EO32","v":-1.020408163265306E-2},{"$f":"(SA!FB32-SA!EP32)/SA!EP32","v":-1.3605442176870748E-2},{"$f":"(SA!FC32-SA!EQ32)/SA!EQ32","v":-1.020408163265306E-2},{"$f":"(SA!FD32-SA!ER32)/SA!ER32","v":-1.3745704467353952E-2},{"$f":"(SA!FE32-SA!ES32)/SA!ES32","v":-6.8728522336769758E-3},{"$f":"(SA!FF32-SA!ET32)/SA!ET32","v":-6.8965517241379309E-3},{"$f":"(SA!FG32-SA!EU32)/SA!EU32","v":-3.4482758620689655E-3},{"$f":"(SA!FH32-SA!EV32)/SA!EV32","v":-1.7182130584192441E-2},{"$f":"(SA!FI32-SA!EW32)/SA!EW32","v":-1.0344827586206896E-2},{"$f":"(SA!FJ32-SA!EX32)/SA!EX32","v":-1.0344827586206896E-2},{"$f":"(SA!FK32-SA!EY32)/SA!EY32","v":-1.0344827586206896E-2},{"$f":"(SA!FL32-SA!EZ32)/SA!EZ32","v":-1.7182130584192441E-2},{"$f":"(SA!FM32-SA!FA32)/SA!FA32","v":-2.4054982817869417E-2},{"$f":"(SA!FN32-SA!FB32)/SA!FB32","v":-1.7241379310344827E-2},{"$f":"(SA!FO32-SA!FC32)/SA!FC32","v":-2.0618556701030927E-2},{"$f":"(SA!FP32-SA!FD32)/SA!FD32","v":-3.4843205574912892E-3},{"$f":"(SA!FQ32-SA!FE32)/SA!FE32","v":-1.384083044982699E-2},{"$f":"(SA!FR32-SA!FF32)/SA!FF32","v":-6.9444444444444441E-3},{"$f":"(SA!FS32-SA!FG32)/SA!FG32","v":-1.0380622837370242E-2},{"$f":"(SA!FT32-SA!FH32)/SA!FH32","v":0},{"$f":"(SA!FU32-SA!FI32)/SA!FI32","v":-6.9686411149825784E-3},{"$f":"(SA!FV32-SA!FJ32)/SA!FJ32","v":-3.4843205574912892E-3},{"$f":"(SA!FW32-SA!FK32)/SA!FK32","v":-3.4843205574912892E-3},{"$f":"(SA!FX32-SA!FL32)/SA!FL32","v":0},{"$f":"(SA!FY32-SA!FM32)/SA!FM32","v":7.0422535211267607E-3},{"$f":"(SA!FZ32-SA!FN32)/SA!FN32","v":3.5087719298245615E-3},{"$f":"(SA!GA32-SA!FO32)/SA!FO32","v":3.5087719298245615E-3},{"$f":"(SA!GB32-SA!FP32)/SA!FP32","v":3.4965034965034965E-3},{"$f":"(SA!GC32-SA!FQ32)/SA!FQ32","v":1.4035087719298246E-2},{"$f":"(SA!GD32-SA!FR32)/SA!FR32","v":3.4965034965034965E-3},{"$f":"(SA!GE32-SA!FS32)/SA!FS32","v":3.4965034965034965E-3},{"$f":"(SA!GF32-SA!FT32)/SA!FT32","v":3.4965034965034965E-3},{"$f":"(SA!GG32-SA!FU32)/SA!FU32","v":1.0526315789473684E-2},{"$f":"(SA!GH32-SA!FV32)/SA!FV32","v":6.993006993006993E-3},{"$f":"(SA!GI32-SA!FW32)/SA!FW32","v":1.3986013986013986E-2},{"$f":"(SA!GJ32-SA!FX32)/SA!FX32","v":1.3986013986013986E-2},{"$f":"(SA!GK32-SA!FY32)/SA!FY32","v":6.993006993006993E-3},{"$f":"(SA!GL32-SA!FZ32)/SA!FZ32","v":3.4965034965034965E-3},{"$f":"(SA!GM32-SA!GA32)/SA!GA32","v":3.4965034965034965E-3},{"$f":"(SA!GN32-SA!GB32)/SA!GB32","v":3.4843205574912892E-3},{"$f":"(SA!GO32-SA!GC32)/SA!GC32","v":6.920415224913495E-3},{"$f":"(SA!GP32-SA!GD32)/SA!GD32","v":6.9686411149825784E-3},{"$f":"(SA!GQ32-SA!GE32)/SA!GE32","v":6.9686411149825784E-3},{"$f":"(SA!GR32-SA!GF32)/SA!GF32","v":1.0452961672473868E-2},{"$f":"(SA!GS32-SA!GG32)/SA!GG32","v":3.472222222222222E-3},{"$f":"(SA!GT32-SA!GH32)/SA!GH32","v":3.472222222222222E-3},{"$f":"(SA!GU32-SA!GI32)/SA!GI32","v":0},{"$f":"(SA!GV32-SA!GJ32)/SA!GJ32","v":0},{"$f":"(SA!GW32-SA!GK32)/SA!GK32","v":1.0416666666666666E-2},{"$f":"(SA!GX32-SA!GL32)/SA!GL32","v":1.7421602787456445E-2},{"$f":"(SA!GY32-SA!GM32)/SA!GM32","v":1.7421602787456445E-2},{"$f":"(SA!GZ32-SA!GN32)/SA!GN32","v":1.0416666666666666E-2},{"$f":"(SA!HA32-SA!GO32)/SA!GO32","v":3.4364261168384879E-3},{"$f":"(SA!HB32-SA!GP32)/SA!GP32","v":2.0761245674740483E-2},{"$f":"(SA!HC32-SA!GQ32)/SA!GQ32","v":1.0380622837370242E-2},{"$f":"(SA!HD32-SA!GR32)/SA!GR32","v":6.8965517241379309E-3},{"$f":"(SA!HE32-SA!GS32)/SA!GS32","v":3.4602076124567475E-3},{"$f":"(SA!HF32-SA!GT32)/SA!GT32","v":1.0380622837370242E-2},{"$f":"(SA!HG32-SA!GU32)/SA!GU32","v":6.8965517241379309E-3},{"$f":"(SA!HH32-SA!GV32)/SA!GV32","v":1.0344827586206896E-2},{"$f":"(SA!HI32-SA!GW32)/SA!GW32","v":0},{"$f":"(SA!HJ32-SA!GX32)/SA!GX32","v":0},{"$f":"(SA!HK32-SA!GY32)/SA!GY32","v":-1},{"$f":"(SA!HL32-SA!GZ32)/SA!GZ32","v":-1},{"$f":"(SA!HM32-SA!HA32)/SA!HA32","v":-1}," n/a ","n/a",null,"Federal Government",-0.22427440633245382,-1.3605442176870748E-2,-6.9565427797135112E-3,-3.4100670985117596E-3,0,5.1327643432906595E-3,1.1284567350579838E-2,0.18808777429467086,3.6491426728399307E-2]
["State Government",{"$f":"(SA!BN33-SA!BB33)/SA!BB33","v":5.2313883299798795E-2},{"$f":"(SA!BO33-SA!BC33)/SA!BC33","v":2.002002002002002E-2},{"$f":"(SA!BP33-SA!BD33)/SA!BD33","v":1.503006012024048E-2},{"$f":"(SA!BQ33-SA!BE33)/SA!BE33","v":1.1022044088176353E-2},{"$f":"(SA!BR33-SA!BF33)/SA!BF33","v":1.7119838872104734E-2},{"$f":"(SA!BS33-SA!BG33)/SA!BG33","v":-1.4705882352941176E-2},{"$f":"(SA!BT33-SA!BH33)/SA!BH33","v":-4.8971596474045058E-3},{"$f":"(SA!BU33-SA!BI33)/SA!BI33","v":-1.9474196689386564E-2},{"$f":"(SA!BV33-SA!BJ33)/SA!BJ33","v":2.881844380403458E-3},{"$f":"(SA!BW33-SA!BK33)/SA!BK33","v":-7.7745383867832843E-3},{"$f":"(SA!BX33-SA!BL33)/SA!BL33","v":-8.7548638132295721E-3},{"$f":"(SA!BY33-SA!BM33)/SA!BM33","v":5.8422590068159686E-3},{"$f":"(SA!BZ33-SA!BN33)/SA!BN33","v":-7.6481835564053535E-3},{"$f":"(SA!CA33-SA!BO33)/SA!BO33","v":6.8694798822374874E-3},{"$f":"(SA!CB33-SA!BP33)/SA!BP33","v":6.9101678183613032E-3},{"$f":"(SA!CC33-SA!BQ33)/SA!BQ33","v":1.0901883052527254E-2},{"$f":"(SA!CD33-SA!BR33)/SA!BR33","v":3.9603960396039604E-3},{"$f":"(SA!CE33-SA!BS33)/SA!BS33","v":3.5820895522388062E-2},{"$f":"(SA!CF33-SA!BT33)/SA!BT33","v":2.0669291338582679E-2},{"$f":"(SA!CG33-SA!BU33)/SA!BU33","v":3.1777557100297914E-2},{"$f":"(SA!CH33-SA!BV33)/SA!BV33","v":1.1494252873563218E-2},{"$f":"(SA!CI33-SA!BW33)/SA!BW33","v":1.3712047012732615E-2},{"$f":"(SA!CJ33-SA!BX33)/SA!BX33","v":5.8881256133464181E-3},{"$f":"(SA!CK33-SA!BY33)/SA!BY33","v":-9.6805421103581804E-4},{"$f":"(SA!CL33-SA!BZ33)/SA!BZ33","v":-9.6339113680154135E-3},{"$f":"(SA!CM33-SA!CA33)/SA!CA33","v":5.8479532163742687E-3},{"$f":"(SA!CN33-SA!CB33)/SA!CB33","v":1.7647058823529412E-2},{"$f":"(SA!CO33-SA!CC33)/SA!CC33","v":7.8431372549019607E-3},{"$f":"(SA!CP33-SA!CD33)/SA!CD33","v":2.2682445759368838E-2},{"$f":"(SA!CQ33-SA!CE33)/SA!CE33","v":2.881844380403458E-3},{"$f":"(SA!CR33-SA!CF33)/SA!CF33","v":-2.8929604628736743E-3},{"$f":"(SA!CS33-SA!CG33)/SA!CG33","v":9.6246390760346492E-4},{"$f":"(SA!CT33-SA!CH33)/SA!CH33","v":-1.231060606060606E-2},{"$f":"(SA!CU33-SA!CI33)/SA!CI33","v":-8.6956521739130436E-3},{"$f":"(SA!CV33-SA!CJ33)/SA!CJ33","v":0},{"$f":"(SA!CW33-SA!CK33)/SA!CK33","v":2.9069767441860465E-3},{"$f":"(SA!CX33-SA!CL33)/SA!CL33","v":2.0428015564202335E-2},{"$f":"(SA!CY33-SA!CM33)/SA!CM33","v":5.8139534883720929E-3},{"$f":"(SA!CZ33-SA!CN33)/SA!CN33","v":-3.8535645472061657E-3},{"$f":"(SA!DA33-SA!CO33)/SA!CO33","v":-1.9455252918287938E-3},{"$f":"(SA!DB33-SA!CP33)/SA!CP33","v":1.9286403085824494E-3},{"$f":"(SA!DC33-SA!CQ33)/SA!CQ33","v":-1.0536398467432951E-2},{"$f":"(SA!DD33-SA!CR33)/SA!CR33","v":7.7369439071566732E-3},{"$f":"(SA!DE33-SA!CS33)/SA!CS33","v":0},{"$f":"(SA!DF33-SA!CT33)/SA!CT33","v":-6.7114093959731542E-3},{"$f":"(SA!DG33-SA!CU33)/SA!CU33","v":2.3391812865497075E-2},{"$f":"(SA!DH33-SA!CV33)/SA!CV33","v":1.8536585365853658E-2},{"$f":"(SA!DI33-SA!CW33)/SA!CW33","v":7.7294685990338162E-3},{"$f":"(SA!DJ33-SA!CX33)/SA!CX33","v":-1.2392755004766444E-2},{"$f":"(SA!DK33-SA!CY33)/SA!CY33","v":-6.7437379576107898E-3},{"$f":"(SA!DL33-SA!CZ33)/SA!CZ33","v":-1.9342359767891683E-3},{"$f":"(SA!DM33-SA!DA33)/SA!DA33","v":-2.9239766081871343E-2},{"$f":"(SA!DN33-SA!DB33)/SA!DB33","v":-2.8873917228103944E-2},{"$f":"(SA!DO33-SA!DC33)/SA!DC33","v":-3.6786060019361085E-2},{"$f":"(SA!DP33-SA!DD33)/SA!DD33","v":-4.7984644913627639E-2},{"$f":"(SA!DQ33-SA!DE33)/SA!DE33","v":-4.7115384615384615E-2},{"$f":"(SA!DR33-SA!DF33)/SA!DF33","v":-6.0810810810810814E-2},{"$f":"(SA!DS33-SA!DG33)/SA!DG33","v":-7.2380952380952379E-2},{"$f":"(SA!DT33-SA!DH33)/SA!DH33","v":-5.938697318007663E-2},{"$f":"(SA!DU33-SA!DI33)/SA!DI33","v":-4.8897411313518699E-2},{"$f":"(SA!DV33-SA!DJ33)/SA!DJ33","v":-5.5984555984555984E-2},{"$f":"(SA!DW33-SA!DK33)/SA!DK33","v":-4.6556741028128033E-2},{"$f":"(SA!DX33-SA!DL33)/SA!DL33","v":-5.329457364341085E-2},{"$f":"(SA!DY33-SA!DM33)/SA!DM33","v":-2.008032128514056E-3},{"$f":"(SA!DZ33-SA!DN33)/SA!DN33","v":-1.4866204162537165E-2},{"$f":"(SA!EA33-SA!DO33)/SA!DO33","v":1.3065326633165829E-2},{"$f":"(SA!EB33-SA!DP33)/SA!DP33","v":1.5120967741935484E-2},{"$f":"(SA!EC33-SA!DQ33)/SA!DQ33","v":1.6145307769929364E-2},{"$f":"(SA!ED33-SA!DR33)/SA!DR33","v":2.9804727646454265E-2},{"$f":"(SA!EE33-SA!DS33)/SA!DS33","v":2.2587268993839837E-2},{"$f":"(SA!EF33-SA!DT33)/SA!DT33","v":8.1466395112016286E-3},{"$f":"(SA!EG33-SA!DU33)/SA!DU33","v":-1.9153225806451613E-2},{"$f":"(SA!EH33-SA!DV33)/SA!DV33","v":-5.1124744376278121E-3},{"$f":"(SA!EI33-SA!DW33)/SA!DW33","v":-8.1383519837232958E-3},{"$f":"(SA!EJ33-SA!DX33)/SA!DX33","v":4.0941658137154556E-3},{"$f":"(SA!EK33-SA!DY33)/SA!DY33","v":-2.6156941649899398E-2},{"$f":"(SA!EL33-SA!DZ33)/SA!DZ33","v":5.0301810865191147E-3},{"$f":"(SA!EM33-SA!EA33)/SA!EA33","v":-3.6706349206349208E-2},{"$f":"(SA!EN33-SA!EB33)/SA!EB33","v":-3.6742800397219465E-2},{"$f":"(SA!EO33-SA!EC33)/SA!EC33","v":-8.937437934458789E-2},{"$f":"(SA!EP33-SA!ED33)/SA!ED33","v":-5.7884231536926151E-2},{"$f":"(SA!EQ33-SA!EE33)/SA!EE33","v":-4.0160642570281124E-2},{"$f":"(SA!ER33-SA!EF33)/SA!EF33","v":-3.3333333333333333E-2},{"$f":"(SA!ES33-SA!EG33)/SA!EG33","v":-9.249743062692703E-3},{"$f":"(SA!ET33-SA!EH33)/SA!EH33","v":-0.10380267214799589},{"$f":"(SA!EU33-SA!EI33)/SA!EI33","v":-7.3846153846153853E-2},{"$f":"(SA!EV33-SA!EJ33)/SA!EJ33","v":-2.4464831804281346E-2},{"$f":"(SA!EW33-SA!EK33)/SA!EK33","v":-5.1652892561983473E-3},{"$f":"(SA!EX33-SA!EL33)/SA!EL33","v":-3.2032032032032032E-2},{"$f":"(SA!EY33-SA!EM33)/SA!EM33","v":-2.368692070030896E-2},{"$f":"(SA!EZ33-SA!EN33)/SA!EN33","v":-8.2474226804123713E-3},{"$f":"(SA!FA33-SA!EO33)/SA!EO33","v":4.4711014176663032E-2},{"$f":"(SA!FB33-SA!EP33)/SA!EP33","v":3.3898305084745763E-2},{"$f":"(SA!FC33-SA!EQ33)/SA!EQ33","v":1.4644351464435146E-2},{"$f":"(SA!FD33-SA!ER33)/SA!ER33","v":1.3584117032392894E-2},{"$f":"(SA!FE33-SA!ES33)/SA!ES33","v":1.037344398340249E-3},{"$f":"(SA!FF33-SA!ET33)/SA!ET33","v":-1.0321100917431193E-2},{"$f":"(SA!FG33-SA!EU33)/SA!EU33","v":6.8660022148394242E-2},{"$f":"(SA!FH33-SA!EV33)/SA!EV33","v":8.3594566353187051E-3},{"$f":"(SA!FI33-SA!EW33)/SA!EW33","v":3.1152647975077881E-3},{"$f":"(SA!FJ33-SA!EX33)/SA!EX33","v":-2.0682523267838676E-2},{"$f":"(SA!FK33-SA!EY33)/SA!EY33","v":1.2658227848101266E-2},{"$f":"(SA!FL33-SA!EZ33)/SA!EZ33","v":8.3160083160083165E-3},{"$f":"(SA!FM33-SA!FA33)/SA!FA33","v":1.7745302713987474E-2},{"$f":"(SA!FN33-SA!FB33)/SA!FB33","v":8.1967213114754103E-3},{"$f":"(SA!FO33-SA!FC33)/SA!FC33","v":1.2371134020618556E-2},{"$f":"(SA!FP33-SA!FD33)/SA!FD33","v":1.443298969072165E-2},{"$f":"(SA!FQ33-SA!FE33)/SA!FE33","v":1.3471502590673576E-2},{"$f":"(SA!FR33-SA!FF33)/SA!FF33","v":0.15411355735805329},{"$f":"(SA!FS33-SA!FG33)/SA!FG33","v":1.7616580310880828E-2},{"$f":"(SA!FT33-SA!FH33)/SA!FH33","v":1.0362694300518135E-2},{"$f":"(SA!FU33-SA!FI33)/SA!FI33","v":1.2422360248447204E-2},{"$f":"(SA!FV33-SA!FJ33)/SA!FJ33","v":2.8511087645195353E-2},{"$f":"(SA!FW33-SA!FK33)/SA!FK33","v":1.5625E-2},{"$f":"(SA!FX33-SA!FL33)/SA!FL33","v":9.2783505154639175E-3},{"$f":"(SA!FY33-SA!FM33)/SA!FM33","v":9.2307692307692316E-3},{"$f":"(SA!FZ33-SA!FN33)/SA!FN33","v":7.1138211382113818E-3},{"$f":"(SA!GA33-SA!FO33)/SA!FO33","v":3.0549898167006109E-3},{"$f":"(SA!GB33-SA!FP33)/SA!FP33","v":2.0325203252032522E-3},{"$f":"(SA!GC33-SA!FQ33)/SA!FQ33","v":8.1799591002044997E-3},{"$f":"(SA!GD33-SA!FR33)/SA!FR33","v":-1.0040160642570281E-2},{"$f":"(SA!GE33-SA!FS33)/SA!FS33","v":3.0549898167006109E-3},{"$f":"(SA!GF33-SA!FT33)/SA!FT33","v":9.2307692307692316E-3},{"$f":"(SA!GG33-SA!FU33)/SA!FU33","v":4.0899795501022499E-3},{"$f":"(SA!GH33-SA!FV33)/SA!FV33","v":-5.1334702258726897E-3},{"$f":"(SA!GI33-SA!FW33)/SA!FW33","v":-9.2307692307692316E-3},{"$f":"(SA!GJ33-SA!FX33)/SA!FX33","v":-1.7364657814096015E-2},{"$f":"(SA!GK33-SA!FY33)/SA!FY33","v":-2.7439024390243903E-2},{"$f":"(SA!GL33-SA!FZ33)/SA!FZ33","v":-3.1281533804238142E-2},{"$f":"(SA!GM33-SA!GA33)/SA!GA33","v":-2.5380710659898477E-2},{"$f":"(SA!GN33-SA!GB33)/SA!GB33","v":-2.9411764705882353E-2},{"$f":"(SA!GO33-SA!GC33)/SA!GC33","v":-2.5354969574036511E-2},{"$f":"(SA!GP33-SA!GD33)/SA!GD33","v":-2.9411764705882353E-2},{"$f":"(SA!GQ33-SA!GE33)/SA!GE33","v":-2.9441624365482234E-2},{"$f":"(SA!GR33-SA!GF33)/SA!GF33","v":-2.7439024390243903E-2},{"$f":"(SA!GS33-SA!GG33)/SA!GG33","v":-2.9531568228105907E-2},{"$f":"(SA!GT33-SA!GH33)/SA!GH33","v":-1.4447884416924664E-2},{"$f":"(SA!GU33-SA!GI33)/SA!GI33","v":-8.2815734989648039E-3},{"$f":"(SA!GV33-SA!GJ33)/SA!GJ33","v":0},{"$f":"(SA!GW33-SA!GK33)/SA!GK33","v":-4.1797283176593526E-3},{"$f":"(SA!GX33-SA!GL33)/SA!GL33","v":-2.7083333333333334E-2},{"$f":"(SA!GY33-SA!GM33)/SA!GM33","v":5.208333333333333E-3},{"$f":"(SA!GZ33-SA!GN33)/SA!GN33","v":2.8213166144200628E-2},{"$f":"(SA!HA33-SA!GO33)/SA!GO33","v":4.0582726326742979E-2},{"$f":"(SA!HB33-SA!GP33)/SA!GP33","v":7.3145245559038665E-3},{"$f":"(SA!HC33-SA!GQ33)/SA!GQ33","v":3.5564853556485358E-2},{"$f":"(SA!HD33-SA!GR33)/SA!GR33","v":-1.7763845350052248E-2},{"$f":"(SA!HE33-SA!GS33)/SA!GS33","v":3.9874081846799581E-2},{"$f":"(SA!HF33-SA!GT33)/SA!GT33","v":5.3403141361256547E-2},{"$f":"(SA!HG33-SA!GU33)/SA!GU33","v":3.1315240083507308E-3},{"$f":"(SA!HH33-SA!GV33)/SA!GV33","v":6.2370062370062374E-3},{"$f":"(SA!HI33-SA!GW33)/SA!GW33","v":1.0493179433368311E-3},{"$f":"(SA!HJ33-SA!GX33)/SA!GX33","v":3.8543897216274089E-2},{"$f":"(SA!HK33-SA!GY33)/SA!GY33","v":-1},{"$f":"(SA!HL33-SA!GZ33)/SA!GZ33","v":-1},{"$f":"(SA!HM33-SA!HA33)/SA!HA33","v":-1}," n/a ","n/a",null,"State Government",-0.10380267214799589,-2.9464110331138153E-2,-1.1423502264019506E-2,-2.6717283792837697E-3,3.0179865485719698E-3,8.3377324756635108E-3,1.7244024231798757E-2,0.15411355735805329,2.9486499035259441E-2]
["Local Government",{"$f":"(SA!BN34-SA!BB34)/SA!BB34","v":1.1811023622047244E-2},{"$f":"(SA!BO34-SA!BC34)/SA!BC34","v":9.5676824946846206E-3},{"$f":"(SA!BP34-SA!BD34)/SA!BD34","v":2.828854314002829E-3},{"$f":"(SA!BQ34-SA!BE34)/SA!BE34","v":1.3908701854493581E-2},{"$f":"(SA!BR34-SA!BF34)/SA!BF34","v":6.382978723404255E-3},{"$f":"(SA!BS34-SA!BG34)/SA!BG34","v":3.900709219858156E-3},{"$f":"(SA!BT34-SA!BH34)/SA!BH34","v":7.8236130867709811E-3},{"$f":"(SA!BU34-SA!BI34)/SA!BI34","v":8.5227272727272721E-3},{"$f":"(SA!BV34-SA!BJ34)/SA!BJ34","v":2.8901734104046242E-2},{"$f":"(SA!BW34-SA!BK34)/SA!BK34","v":1.3518320882248309E-2},{"$f":"(SA!BX34-SA!BL34)/SA!BL34","v":2.4787535410764872E-3},{"$f":"(SA!BY34-SA!BM34)/SA!BM34","v":1.6440314510364547E-2},{"$f":"(SA!BZ34-SA!BN34)/SA!BN34","v":3.5373187124159886E-4},{"$f":"(SA!CA34-SA!BO34)/SA!BO34","v":-7.0200070200070203E-3},{"$f":"(SA!CB34-SA!BP34)/SA!BP34","v":2.1156558533145277E-3},{"$f":"(SA!CC34-SA!BQ34)/SA!BQ34","v":-7.0348223707351388E-4},{"$f":"(SA!CD34-SA!BR34)/SA!BR34","v":-2.1141649048625794E-3},{"$f":"(SA!CE34-SA!BS34)/SA!BS34","v":1.4129282938890851E-3},{"$f":"(SA!CF34-SA!BT34)/SA!BT34","v":-2.1171489061397319E-3},{"$f":"(SA!CG34-SA!BU34)/SA!BU34","v":-4.2253521126760559E-3},{"$f":"(SA!CH34-SA!BV34)/SA!BV34","v":-5.6179775280898875E-3},{"$f":"(SA!CI34-SA!BW34)/SA!BW34","v":-1.1232011232011231E-2},{"$f":"(SA!CJ34-SA!BX34)/SA!BX34","v":3.5323207347227127E-4},{"$f":"(SA!CK34-SA!BY34)/SA!BY34","v":-8.4388185654008432E-3},{"$f":"(SA!CL34-SA!BZ34)/SA!BZ34","v":-2.828854314002829E-3},{"$f":"(SA!CM34-SA!CA34)/SA!CA34","v":-8.130081300813009E-3},{"$f":"(SA!CN34-SA!CB34)/SA!CB34","v":-1.1963406052076003E-2},{"$f":"(SA!CO34-SA!CC34)/SA!CC34","v":-3.871876099964801E-3},{"$f":"(SA!CP34-SA!CD34)/SA!CD34","v":-7.0621468926553672E-4},{"$f":"(SA!CQ34-SA!CE34)/SA!CE34","v":1.164021164021164E-2},{"$f":"(SA!CR34-SA!CF34)/SA!CF34","v":6.0113154172560116E-3},{"$f":"(SA!CS34-SA!CG34)/SA!CG34","v":8.1329561527581327E-3},{"$f":"(SA!CT34-SA!CH34)/SA!CH34","v":1.5889830508474576E-2},{"$f":"(SA!CU34-SA!CI34)/SA!CI34","v":7.4547390841320556E-3},{"$f":"(SA!CV34-SA!CJ34)/SA!CJ34","v":-3.5310734463276836E-3},{"$f":"(SA!CW34-SA!CK34)/SA!CK34","v":1.0638297872340425E-2},{"$f":"(SA!CX34-SA!CL34)/SA!CL34","v":1.5602836879432624E-2},{"$f":"(SA!CY34-SA!CM34)/SA!CM34","v":1.9957234497505347E-2},{"$f":"(SA!CZ34-SA!CN34)/SA!CN34","v":1.6737891737891739E-2},{"$f":"(SA!DA34-SA!CO34)/SA!CO34","v":7.0671378091872791E-3},{"$f":"(SA!DB34-SA!CP34)/SA!CP34","v":1.2367491166077738E-2},{"$f":"(SA!DC34-SA!CQ34)/SA!CQ34","v":-6.9735006973500695E-4},{"$f":"(SA!DD34-SA!CR34)/SA!CR34","v":1.2302284710017574E-2},{"$f":"(SA!DE34-SA!CS34)/SA!CS34","v":6.3135741844966677E-3},{"$f":"(SA!DF34-SA!CT34)/SA!CT34","v":3.6843934654153629E-2},{"$f":"(SA!DG34-SA!CU34)/SA!CU34","v":2.3255813953488372E-2},{"$f":"(SA!DH34-SA!CV34)/SA!CV34","v":4.3231750531537917E-2},{"$f":"(SA!DI34-SA!CW34)/SA!CW34","v":2.0350877192982456E-2},{"$f":"(SA!DJ34-SA!CX34)/SA!CX34","v":1.0125698324022346E-2},{"$f":"(SA!DK34-SA!CY34)/SA!CY34","v":1.5024458420684835E-2},{"$f":"(SA!DL34-SA!CZ34)/SA!CZ34","v":1.6112084063047285E-2},{"$f":"(SA!DM34-SA!DA34)/SA!DA34","v":2.0350877192982456E-2},{"$f":"(SA!DN34-SA!DB34)/SA!DB34","v":1.5357766143106457E-2},{"$f":"(SA!DO34-SA!DC34)/SA!DC34","v":1.6748080949057921E-2},{"$f":"(SA!DP34-SA!DD34)/SA!DD34","v":1.5277777777777777E-2},{"$f":"(SA!DQ34-SA!DE34)/SA!DE34","v":1.0456605088881143E-2},{"$f":"(SA!DR34-SA!DF34)/SA!DF34","v":-2.7824337914850821E-2},{"$f":"(SA!DS34-SA!DG34)/SA!DG34","v":7.9201101928374658E-3},{"$f":"(SA!DT34-SA!DH34)/SA!DH34","v":-1.358695652173913E-2},{"$f":"(SA!DU34-SA!DI34)/SA!DI34","v":2.0632737276478678E-3},{"$f":"(SA!DV34-SA!DJ34)/SA!DJ34","v":8.9872105081230565E-3},{"$f":"(SA!DW34-SA!DK34)/SA!DK34","v":-3.7865748709122204E-3},{"$f":"(SA!DX34-SA!DL34)/SA!DL34","v":0},{"$f":"(SA!DY34-SA!DM34)/SA!DM34","v":-6.8775790921595595E-3},{"$f":"(SA!DZ34-SA!DN34)/SA!DN34","v":-8.5940185630800966E-3},{"$f":"(SA!EA34-SA!DO34)/SA!DO34","v":-1.2354152367879203E-2},{"$f":"(SA!EB34-SA!DP34)/SA!DP34","v":-2.1545827633378933E-2},{"$f":"(SA!EC34-SA!DQ34)/SA!DQ34","v":-1.2763021731631597E-2},{"$f":"(SA!ED34-SA!DR34)/SA!DR34","v":-5.8620689655172415E-3},{"$f":"(SA!EE34-SA!DS34)/SA!DS34","v":-1.0591048855483429E-2},{"$f":"(SA!EF34-SA!DT34)/SA!DT34","v":2.7548209366391185E-3},{"$f":"(SA!EG34-SA!DU34)/SA!DU34","v":-1.1667810569663692E-2},{"$f":"(SA!EH34-SA!DV34)/SA!DV34","v":-5.4813292223364167E-3},{"$f":"(SA!EI34-SA!DW34)/SA!DW34","v":7.9474775397373881E-3},{"$f":"(SA!EJ34-SA!DX34)/SA!DX34","v":3.447087211306446E-3},{"$f":"(SA!EK34-SA!DY34)/SA!DY34","v":2.7700831024930748E-3},{"$f":"(SA!EL34-SA!DZ34)/SA!DZ34","v":-6.9348127600554787E-4},{"$f":"(SA!EM34-SA!EA34)/SA!EA34","v":1.0423905489923557E-3},{"$f":"(SA!EN34-SA!EB34)/SA!EB34","v":2.2719328905976933E-2},{"$f":"(SA!EO34-SA!EC34)/SA!EC34","v":2.3410202655485674E-2},{"$f":"(SA!EP34-SA!ED34)/SA!ED34","v":3.4686090877558099E-4},{"$f":"(SA!EQ34-SA!EE34)/SA!EE34","v":-1.9337016574585635E-2},{"$f":"(SA!ER34-SA!EF34)/SA!EF34","v":-3.2623626373626376E-2},{"$f":"(SA!ES34-SA!EG34)/SA!EG34","v":-9.0277777777777769E-3},{"$f":"(SA!ET34-SA!EH34)/SA!EH34","v":-1.7568033069238719E-2},{"$f":"(SA!EU34-SA!EI34)/SA!EI34","v":-2.3311621528968117E-2},{"$f":"(SA!EV34-SA!EJ34)/SA!EJ34","v":-1.8206801786327723E-2},{"$f":"(SA!EW34-SA!EK34)/SA!EK34","v":-2.7624309392265192E-3},{"$f":"(SA!EX34-SA!EL34)/SA!EL34","v":1.4920194309507287E-2},{"$f":"(SA!EY34-SA!EM34)/SA!EM34","v":2.4297119055883376E-3},{"$f":"(SA!EZ34-SA!EN34)/SA!EN34","v":-2.7341079972658919E-2},{"$f":"(SA!FA34-SA!EO34)/SA!EO34","v":-1.7070672584499829E-2},{"$f":"(SA!FB34-SA!EP34)/SA!EP34","v":-1.4563106796116505E-2},{"$f":"(SA!FC34-SA!EQ34)/SA!EQ34","v":5.6338028169014088E-3},{"$f":"(SA!FD34-SA!ER34)/SA!ER34","v":3.017394391196308E-2},{"$f":"(SA!FE34-SA!ES34)/SA!ES34","v":1.751927119831815E-3},{"$f":"(SA!FF34-SA!ET34)/SA!ET34","v":1.0518934081346423E-3},{"$f":"(SA!FG34-SA!EU34)/SA!EU34","v":9.1260091260091259E-3},{"$f":"(SA!FH34-SA!EV34)/SA!EV34","v":-6.9979006298110562E-4},{"$f":"(SA!FI34-SA!EW34)/SA!EW34","v":-1.6966759002770084E-2},{"$f":"(SA!FJ34-SA!EX34)/SA!EX34","v":-2.4957264957264958E-2},{"$f":"(SA!FK34-SA!EY34)/SA!EY34","v":-1.5927977839335181E-2},{"$f":"(SA!FL34-SA!EZ34)/SA!EZ34","v":-1.7568517217146872E-3},{"$f":"(SA!FM34-SA!FA34)/SA!FA34","v":-1.5630427231677665E-2},{"$f":"(SA!FN34-SA!FB34)/SA!FB34","v":2.8149190710767065E-3},{"$f":"(SA!FO34-SA!FC34)/SA!FC34","v":-2.8011204481792717E-3},{"$f":"(SA!FP34-SA!FD34)/SA!FD34","v":-2.6188835286009647E-2},{"$f":"(SA!FQ34-SA!FE34)/SA!FE34","v":-5.246589716684155E-3},{"$f":"(SA!FR34-SA!FF34)/SA!FF34","v":-6.6549912434325743E-3},{"$f":"(SA!FS34-SA!FG34)/SA!FG34","v":-1.8434782608695653E-2},{"$f":"(SA!FT34-SA!FH34)/SA!FH34","v":-5.2521008403361349E-3},{"$f":"(SA!FU34-SA!FI34)/SA!FI34","v":2.1134202183867557E-3},{"$f":"(SA!FV34-SA!FJ34)/SA!FJ34","v":-2.8050490883590462E-3},{"$f":"(SA!FW34-SA!FK34)/SA!FK34","v":2.4630541871921183E-3},{"$f":"(SA!FX34-SA!FL34)/SA!FL34","v":4.2238648363252373E-3},{"$f":"(SA!FY34-SA!FM34)/SA!FM34","v":2.4700070571630206E-2},{"$f":"(SA!FZ34-SA!FN34)/SA!FN34","v":1.0526315789473684E-3},{"$f":"(SA!GA34-SA!FO34)/SA!FO34","v":-3.5112359550561797E-4},{"$f":"(SA!GB34-SA!FP34)/SA!FP34","v":2.300070771408351E-2},{"$f":"(SA!GC34-SA!FQ34)/SA!FQ34","v":-2.4613220815752463E-3},{"$f":"(SA!GD34-SA!FR34)/SA!FR34","v":-3.526093088857546E-3},{"$f":"(SA!GE34-SA!FS34)/SA!FS34","v":5.3153791637136783E-3},{"$f":"(SA!GF34-SA!FT34)/SA!FT34","v":-2.8159098908834917E-3},{"$f":"(SA!GG34-SA!FU34)/SA!FU34","v":-4.2179261862917402E-3},{"$f":"(SA!GH34-SA!FV34)/SA!FV34","v":-2.8129395218002813E-3},{"$f":"(SA!GI34-SA!FW34)/SA!FW34","v":-3.5100035100035102E-3},{"$f":"(SA!GJ34-SA!FX34)/SA!FX34","v":-7.0101647388713636E-3},{"$f":"(SA!GK34-SA!FY34)/SA!FY34","v":-2.3415977961432508E-2},{"$f":"(SA!GL34-SA!FZ34)/SA!FZ34","v":-6.3091482649842269E-3},{"$f":"(SA!GM34-SA!GA34)/SA!GA34","v":-4.9174569722514926E-3},{"$f":"(SA!GN34-SA!GB34)/SA!GB34","v":-3.0439294361812523E-2},{"$f":"(SA!GO34-SA!GC34)/SA!GC34","v":3.5248501938667606E-4},{"$f":"(SA!GP34-SA!GD34)/SA!GD34","v":1.0261854210898797E-2},{"$f":"(SA!GQ34-SA!GE34)/SA!GE34","v":6.3447303489601696E-3},{"$f":"(SA!GR34-SA!GF34)/SA!GF34","v":6.3536886692552065E-3},{"$f":"(SA!GS34-SA!GG34)/SA!GG34","v":1.0589481115425344E-2},{"$f":"(SA!GT34-SA!GH34)/SA!GH34","v":-1.763046544428773E-3},{"$f":"(SA!GU34-SA!GI34)/SA!GI34","v":4.2268404367735114E-3},{"$f":"(SA!GV34-SA!GJ34)/SA!GJ34","v":1.5178256265442993E-2},{"$f":"(SA!GW34-SA!GK34)/SA!GK34","v":2.3272214386459801E-2},{"$f":"(SA!GX34-SA!GL34)/SA!GL34","v":1.164021164021164E-2},{"$f":"(SA!GY34-SA!GM34)/SA!GM34","v":2.3296858453935757E-2},{"$f":"(SA!GZ34-SA!GN34)/SA!GN34","v":4.5308597930788438E-2},{"$f":"(SA!HA34-SA!GO34)/SA!GO34","v":1.8322762508809022E-2},{"$f":"(SA!HB34-SA!GP34)/SA!GP34","v":6.3047285464098071E-3},{"$f":"(SA!HC34-SA!GQ34)/SA!GQ34","v":8.0560420315236424E-3},{"$f":"(SA!HD34-SA!GR34)/SA!GR34","v":1.1224131883549631E-2},{"$f":"(SA!HE34-SA!GS34)/SA!GS34","v":1.4669926650366748E-2},{"$f":"(SA!HF34-SA!GT34)/SA!GT34","v":1.6248675379724478E-2},{"$f":"(SA!HG34-SA!GU34)/SA!GU34","v":1.4030164854437039E-3},{"$f":"(SA!HH34-SA!GV34)/SA!GV34","v":1.1821974965229486E-2},{"$f":"(SA!HI34-SA!GW34)/SA!GW34","v":-7.5809786354238459E-3},{"$f":"(SA!HJ34-SA!GX34)/SA!GX34","v":7.6708507670850768E-3},{"$f":"(SA!HK34-SA!GY34)/SA!GY34","v":-1},{"$f":"(SA!HL34-SA!GZ34)/SA!GZ34","v":-1},{"$f":"(SA!HM34-SA!HA34)/SA!HA34","v":-1}," n/a ","n/a",null,"Local Government",-3.2623626373626376E-2,-1.2061092631026803E-2,-3.8292254854385109E-3,8.6715227193895247E-5,2.474828702605395E-3,8.3278417127427024E-3,1.5674585286693112E-2,4.5308597930788438E-2,1.4001360043784888E-2]
[]
["Note  Current month is preliminary.  All other results utilize revised and/or benchmarked results.",null,null,null,null,null,null,null,null,null,null,null,null,null,null,null,null,null,null,null,null,null,null,null,null,null,null,null,null,null,null,null,null,null,null,null,null,null,null,null,null,null,null,null,null,null,null,null,null,null,null,null,null,null,null,null,null,null,null,null,null,null,null,null,null,null,null,null,null,null,null,null,null,null,null,null,null,null,null,null,null,null,null,null,null,null,null,null,null,null,null,null,null,null,null,null,null,null,null,null,null,null,null,null,null,null,null,null,null,null,null,null,null,null,null,null,null,null,null,null,null,null,null,null,null,null,null,null,null,null,null,null,null,null,null,null,null,null,null,null,null,null,null,null,null,null,null,null,null,null,null,null,null,null,null,null,null,null,null,null,"Note  Current month is preliminary.  All other results utilize revised and/or benchmarked results."]

{"sheet":"NSA","index":7,"n_rows":392,"n_cols":218,"rows_kept":392,"cut":false,"hidden":false,"merged":[]}
[null,null,"AREA  ","INDUSTRY TITLE AE","SERIES","2000-01-01","2000-02-01","2000-03-01","2000-04-01","2000-05-01","2000-06-01","2000-07-01","2000-08-01","2000-09-01","2000-10-01","2000-11-01","2000-12-01","2001-01-01","2001-02-01","2001-03-01","2001-04-01","2001-05-01","2001-06-01","2001-07-01","2001-08-01","2001-09-01","2001-10-01","2001-11-01","2001-12-01","2002-01-01","2002-02-01","2002-03-01","2002-04-01","2002-05-01","2002-06-01","2002-07-01","2002-08-01","2002-09-01","2002-10-01","2002-11-01","2002-12-01","2003-01-01","2003-02-01","2003-03-01","2003-04-01","2003-05-01","2003-06-01","2003-07-01","2003-08-01","2003-09-01","2003-10-01","2003-11-01","2003-12-01","2004-01-01","2004-02-01","2004-03-01","2004-04-01","2004-05-01","2004-06-01","2004-07-01","2004-08-01","2004-09-01","2004-10-01","2004-11-01","2004-12-01","2005-01-01","2005-02-01","2005-03-01","2005-04-01","2005-05-01","2005-06-01","2005-07-01","2005-08-01","2005-09-01","2005-10-01","2005-11-01","2005-12-01","2006-01-01","2006-02-01","2006-03-01","2006-04-01","2006-05-01","2006-06-01","2006-07-01","2006-08-01","2006-09-01","2006-10-01","2006-11-01","2006-12-01","2007-01-01","2007-02-01","2007-03-01","2007-04-01","2007-05-01","2007-06-01","2007-07-01","2007-08-01","2007-09-01","2007-10-01","2007-11-01","2007-12-01","2008-01-01","2008-02-01","2008-03-01","2008-04-01","2008-05-01","2008-06-01","2008-07-01","2008-08-01","2008-09-01","2008-10-01","2008-11-01","2008-12-01","2009-01-01","2009-02-01","2009-03-01","2009-04-01","2009-05-01","2009-06-01","2009-07-01","2009-08-01","2009-09-01","2009-10-01","2009-11-01","2009-12-01","2010-01-01","2010-02-01","2010-03-01","2010-04-01","2010-05-01","2010-06-01","2010-07-01","2010-08-01","2010-09-01","2010-10-01","2010-11-01","2010-12-01","2011-01-01","2011-02-01","2011-03-01","2011-04-01","2011-05-01","2011-06-01","2011-07-01","2011-08-01","2011-09-01","2011-10-01","2011-11-01","2011-12-01","2012-01-01","2012-02-01","2012-03-01","2012-04-01","2012-05-01","2012-06-01","2012-07-01","2012-08-01","2012-09-01","2012-10-01","2012-11-01","2012-12-01","2013-01-01","2013-02-01","2013-03-01","2013-04-01","2013-05-01","2013-06-01","2013-07-01","2013-08-01","2013-09-01","2013-10-01","2013-11-01","2013-12-01","2014-01-01","2014-02-01","2014-03-01","2014-04-01","2014-05-01","2014-06-01","2014-07-01","2014-08-01","2014-09-01","2014-10-01","2014-11-01","2014-12-01","2015-01-01","2015-02-01","2015-03-01","2015-04-01","2015-05-01","2015-06-01","2015-07-01","2015-08-01","2015-09-01","2015-10-01","2015-11-01","2015-12-01","2016-01-01","2016-02-01",{"$f":"EDATE(GQ1,1)","v":"2016-03-01"},{"$f":"EDATE(GR1,1)","v":"2016-04-01"},"2016-05-01","2016-06-01","2016-07-01","2016-08-01","2016-09-01","2016-10-01","2016-11-01","2016-12-01","2017-01-01","2017-02-01","2017-03-01","2017-04-01","2017-05-01","2017-06-01","2017-07-01","2017-08-01","2017-09-01"]
[null,null,"State","Total Nonfarm",0,2747400,2758200,2783600,2818800,2845300,2883900,2851000,2856900,2857700,2862400,2868300,2853100,2769100,2774800,2787200,2811900,2838400,2859900,2827600,2827300,2823200,2819000,2810800,2796600,2717600,2715800,2734100,2764200,2797400,2821000,2793100,2798100,2796000,2811500,2813700,2799000,2707500,2715400,2723500,2758300,2792500,2814800,2778200,2780200,2789200,2806400,2799400,2796000,2713900,2723000,2739800,2779300,2812600,2843100,2829700,2833900,2831700,2842500,2841900,2836100,2751800,2763200,2777800,2824900,2849000,2874400,2855600,2857800,2870600,2867700,2869500,2869600,2783200,2786900,2804800,2844400,2873300,2909700,2878400,2879500,2888500,2887400,2887400,2885100,2806300,2801800,2821700,2854000,2895800,2934100,2897500,2898800,2899000,2900100,2901300,2897600,2818900,2814600,2827300,2855800,2898000,2919100,2887600,2886300,2889500,2889600,2877100,2854600,2744500,2731400,2723600,2735500,2764900,2775300,2738400,2732300,2731900,2744000,2739800,2731900,2646300,2651000,2665300,2710800,2743200,2761800,2740700,2745000,2747000,2767500,2768200,2753200,2676500,2683700,2699400,2737000,2766600,2784300,2770900,2771000,2782400,2786000,2785900,2777300,2690200,2704400,2732800,2768500,2802200,2820100,2787800,2794400,2805300,2819000,2826900,2814400,2716800,2746300,2760300,2779600,2822300,2844700,2821100,2830100,2840800,2849800,2853400,2847000,2761800,2778500,2792100,2827800,2863000,2888600,2867000,2880300,2881700,2892900,2902800,2891100,2805000,2824400,2838100,2877300,2905400,2927300,2911000,2912900,2915400,2929700,2928300,2928900,2847900,2868700,2878500,2919100,2933200,2951900,2945000,2946400,2941900,2961600,2961200,2935200,2874000,2897600,2901900,2939800,2968800,2992200,2979300,2977500,2975500]
[null,null,"State","Total Private",5000000,2347800,2349400,2371500,2400100,2427900,2470600,2469900,null,2460000,2452400,2450600,2441000,2366800,2357100,2366200,2386800,2413900,2443800,2440200,2443300,2411600,2395000,2384200,2372300,2309000,2294300,2307900,2336000,2371300,2407700,2409400,2418000,2392000,2384800,2380900,2372800,2303200,2290500,2297300,2329400,2367500,2394500,2395200,2400300,2390000,2386000,2377100,2375800,2310700,2302700,2317800,2356600,2390400,2428500,2445100,2452100,2425700,2421800,2415700,2414600,2340900,2338600,2354000,2397700,2423000,2460100,2469900,2476300,2456300,2444600,2444100,2442600,2373100,2367200,2380200,2416900,2447300,2491100,2491100,2496200,2474600,2466000,2462500,2459600,2396100,2385000,2399200,2427000,2468700,2512000,2509200,2514000,2485000,2476300,2475000,2468800,2402200,2392400,2400100,2426200,2465500,2496900,2495200,2499300,2466500,2457100,2435700,2418600,2325900,2300100,2290900,2300600,2329200,2353500,2346000,2347200,2323400,2317900,2308600,2300100,2231000,2225900,2237800,2275300,2305700,2340400,2350700,2360700,2335900,2338700,2334300,2326700,2264400,2257100,2271300,2306300,2338000,2372800,2384000,2390300,2373800,2366900,2363900,2355100,2294300,2293000,2313000,2341300,2373500,2411500,2409500,2415800,2398600,2396600,2397200,2391500,2322000,2326000,2340700,2356800,2405400,2440400,2442900,2454400,2431900,2427500,2429900,2424800,2356600,2360400,2373300,2403100,2445100,2482800,2486200,2495800,2471100,2470300,2471800,2468300,2401900,2404400,2419200,2450700,2488000,2523300,2530600,2535800,2509500,2511100,2509100,2508300,2444800,2449600,2460300,2492200,2518000,2548100,2562100,2562300,2533700,2535200,2526600,2507800,2463700,2470400,2479000,2508500,2542800,2588000,2593200,2597600,2564700]
[null,null,"State","Goods Producing",6000000,701300,700700,708000,716500,724400,742700,741700,742500,734200,729500,722600,711800,689500,682500,683200,687100,694400,706800,706100,705600,694600,685400,674500,664800,643500,634900,638600,646800,658000,671800,673100,675700,667400,662400,657000,645700,621100,613000,614000,623200,635800,646300,647700,648200,640800,637200,631100,623900,607000,603400,608700,623300,634000,646100,654600,655800,648500,644100,640000,634300,612000,611300,615000,628400,637100,652200,656400,657000,649000,644400,640500,633200,618800,613900,617200,629700,638800,656000,656700,656900,648400,642900,636500,630200,614400,607400,612200,620800,633600,649200,650100,650000,640900,636200,632300,623200,606800,601700,603600,610300,621300,633800,633500,632100,621900,616000,605500,590100,561400,546800,538300,536200,540500,546900,546200,545700,541800,536500,531300,521700.00000000006,504300,500900,504700,517500,526300,540100,546200,548700,542800,540100,536700,527800,515000,512500,517299.99999999994,529200,539900,554400,561000,562000,555300,551600,549200,541300,529300,527100,533000,544300,551500,566800,571500,571600,563800,562100,558000,552900,539400,537600,541000,545200,559400,573000,577600,579300,570800,569000,566300,558000,546200,544500,549300,559000,571500,585900,593300,594200,585700,583200,579900,574300,561800,560200,563400,573300,582200,595100,600200,598600,589300,585900,582400,577200,563800,561600,565600,574100,581000,593300,598500,597300,588100,588000,583300,575600,568400,566300,568600,582200,591600,604400,609300,609500,601000]
[null,null,"State","Service-Providing",7000000,2046100,2057500,2075600,2102300,2120900,2141200,2109300,2114400,2123500,2132900,2145700,2141300,2079600,2092300.0000000002,2104000,2124800,2144000,2153100,2121500,2121700,2128600,2133600,2136300,2131800,2074100,2080900,2095500,2117400,2139400,2149200,2120000,2122400,2128600,2149100,2156700,2153300,2086400,2102400,2109500,2135100,2156700,2168500,2130500,2132000,2148400,2169200,2168300,2172100,2106900,2119600,2131100,2156000,2178600,2197000,2175100,2178100,2183200,2198400,2201900,2201800,2139800,2151900,2162800,2196500,2211900,2222200,2199200,2200800,2221600,2223300,2229000,2236400,2164400,2173000,2187600,2214700,2234500,2253700,2221700,2222600,2240100,2244500,2250900,2254900,2191900,2194400,2209500,2233200,2262200,2284900,2247400,2248800,2258100,2263900,2269000,2274400,2212100,2212900,2223700,2245500,2276700,2285300,2254100,2254200,2267600,2273600,2271600,2264500,2183100,2184600,2185300,2199300,2224400,2228400,2192200,2186600,2190100,2207500,2208500,2210200,2142000,2150100,2160600,2193300,2216900,2221700,2194500,2196300,2204200,2227400,2231500,2225400,2161500,2171200,2182100,2207800,2226700,2229900,2209900,2209000,2227100,2234400,2236700,2236000,2160900,2177300,2199800,2224200,2250700,2253300,2216300,2222800,2241500,2256900,2268900,2261500,2177400,2208700,2219300,2234400,2262900,2271700,2243500,2250800,2270000,2280800,2287100,2289000,2215600,2234000,2242800,2268800,2291500,2302700,2273700,2286100,2296000,2309700,2322900,2316800,2243200,2264200,2274700,2304000,2323200,2332200,2310800,2314300,2326100,2343800,2345900,2351700,2284100,2307100,2312900,2345000,2352200,2358600,2346500,2349100,2353800,2373600,2377900,2359600,2305600,2331300,2333300,2357600,2377200,2387800,2370000,2368000,2374500]
[null,null,"State","Private Service Providing",8000000,1646500,1648700,1663500,1683600,1703500,1727900,1728200,1736000,1725800,1722900,1728000,1729200,1677300,1674600,1683000,1699700,1719500,1737000,1734100,1737700,1717000,1709600,1709700,1707500,1665500,1659400,1669300,1689200,1713300,1735900,1736300,1742300,1724600,1722400,1723900,1727100,1682100,1677500,1683300,1706200,1731700,1748200,1747500,1752100,1749200,1748800,1746000,1751900,1703700,1699300,1709100,1733300,1756400,1782400,1790500,1796300,1777200,1777700,1775700,1780300,1728900,1727300,1739000,1769300,1785900,1807900,1813500,1819300,1807300,1800200,1803600,1809400,1754300,1753300,1763000,1787200,1808500,1835100,1834400,1839300,1826200,1823100,1826000,1829400,1781700,1777600,1787000,1806200,1835100,1862800,1859100,1864000,1844100,1840100,1842700,1845600,1795400,1790700,1796500,1815900,1844200,1863100,1861700,1867200,1844600,1841100,1830200,1828500,1764500,1753300,1752600,1764400,1788700,1806600,1799800,1801500,1781600,1781400,1777300,1778400,1726700,1725000,1733100,1757800,1779400,1800300,1804500,1812000,1793100,1798600,1797600,1798900,1749400,1744600,1754000,1777100,1798100,1818400,1823000,1828300,1818500,1815300,1814700,1813800,1765000,1765900,1780000,1797000,1822000,1844700,1838000,1844200,1834800,1834500,1839200,1838600,1782600,1788400,1799700,1811600,1846000,1867400,1865300,1875100,1861100,1858500,1863600,1866800,1810400,1815900,1824000,1844100,1873600,1896900,1892900,1901600,1885400,1887100,1891900,1894000,1840100,1844200,1855800,1877400,1905800,1928200,1930400,1937200,1920200,1925200,1926700,1931100,1881000,1888000,1894700,1918100,1937000,1954800,1963600,1965000,1945600,1947200,1943300,1932200,1895300,1904100,1910400,1926300,1951200,1983600,1983900,1988100,1963700]
[null,null,"State","Mining and Logging",10000000,3500,3600,3700,3900,4300,4400,4400,4400,4300,4200,4100,3600,3200,3300,3400,3600,4100,4300,4300,4300,4200,4200,4000,3700,3200,3200,3300,3600,4100,4200,4200,4200,4200,4100,3900,3600,3200,3100,3200,3500,4000,4100,4100,4100,4100,4000,3900,3700,3100,3200,3300,3700,4000,4100,4200,4200,4100,4200,4100,3900,3300,3300,3500,3800,4100,4300,4400,4400,4300,4200,4100,3800,3400,3400,3500,3800,4200,4300,4300,4300,4200,4100,3900,3700,3200,3200,3300,3500,3900,3900,4000,4000,3900,3800,3700,3300,3000,2900,3000,3100,3500,3700,3700,3800,3700,3600,3500,3100,2600,2600,2600,2700,3100,3200,3300,3300,3300,3300,3100,2800,2400,2400,2500,2800,3100,3200,3300,3300,3200,3200,3100,2700,2500,2500,2600,2700,3000,3300,3300,3300,3400,3400,3400,3100,2900,2900,3100,3400,3600,3700,3800,3800,3800,3700,3600,3400,3200,3200,3200,3400,3800,4000,4000,4100,4000,4000,3900,3600,3400,3500,3500,3800,4100,4300,4400,4500,4400,4500,4400,4200,3900,4000,4000,4200,4400,4500,4400,4300,4200,4200,4100,3900,3500,3500,3600,3700,3900,3900,3900,3900,3800,3900,3900,3600,3400,3500,3600,3800,4100,4200,4200,4200,4100]
[null,null,"State","Mining, Logging and Construction",15000000,111100,109700,114900,125200,133000,139700,141700,141900,137900,135900,131800,123500,112500,111300,113500,121700,132100,138900,142400,143100,139000,137500,133000,126000,111900,108900,111300,121500,131300,137600,140900,140900,137300,136100,133100,124500,111800,108100,109800,119700,131800,137700,140100,140600,137400,136800,133000,127100,113500,110800,114200,125900,133600,139500,143900,142900,139800,138200,135500,129300.00000000001,115400,112800,115300,127000,134600,140800,143900,143300,140500,138800,136300,129000,117700,115300,116900,127800,135300,142100,142800,142400,139100,137000,133200,127300,115700,111100,116300,123500,134100,139600,141000,140900,137700,136600,133700,124500,111000,107800,109800,116900,127400,131600,133100,132800,129300.00000000001,127700,121900,112000,96500,94000,93600,100700,108800,112700,114100,112800,110900,109500,105800,97100,84500,82300,84100,94900,100200,104900,106900,107200,105300,105500,101600,92700,81700,79300,82100,90400,98100,103800,106100,106300,104400,103700,100700,92700,82600,80900,84600,93800,98900,104300,105700,106100,104300,104900,101900,96500,86800,86100,88400,92800,104800,110300,112800,114300,111600,111200,108300,99700,90500,89700,92600,100000,109300,116000,118500,119600,117400,117000,113800,107300,98300,97200,99500,109900,117100,122200,124500,123700,120800,120400,117400,111900,101800,101600,104600,113100,118600,123400,125600,125500,122700,121400,118700,109900,104100,102700,104200,114000,121200,126100,128100,127900,125000]
[null,null,"State","Construction",20000000,107600,106100,111200,121300,128699.99999999999,135300,137300,137500,133600,131700,127700,119900,109300,108000,110100,118100,128000,134600,138100,138800,134800,133300,129000,122300,108700,105700,108000,117900,127200,133400,136700,136700,133100,132000,129199.99999999999,120900,108600,105000,106600,116200,127800,133600,136000,136500,133300,132800,129100,123400,110400,107600,110900,122200,129600,135400,139700,138700,135700,134000,131400,125400,112100,109500,111800,123200,130500,136500,139500,138900,136200,134600,132200,125200,114300,111900,113400,124000,131100,137800,138500,138100,134900,132900,129300.00000000001,123600,112500,107900,113000,120000,130199.99999999999,135700,137000,136900,133800,132800,130000,121200,108000,104900,106800,113800,123900,127900,129400,129000,125600,124100,118400,108900,93900,91400,91000,98000,105700,109500,110800,109500,107600,106200,102700,94300,82100,79900,81600,92100,97100,101700,103600,103900,102100,102300,98500,90000,79200,76800,79500,87700,95100,100500,102800,103000,101000,100300,97300,89600,79700,78000,81500,90400,95300,100600,101900,102300,100500,101200,98300,93100,83600,82900,85200,89400,101000,106300,108800,110200,107600,107200,104400,96100,87100,86200,89100,96200,105200,111700,114100,115100,113000,112500,109400,103100,94400,93200,95500,105700,112700,117700,120100,119400,116600,116200,113300,108000,98300,98100,101000,109400,114700,119500,121700,121600,118900,117500,114800,106300,100700,99200,100600,110200,117100,121900,123900,123700,120900]
[null,null,"State","Construction of Buildings",20236000,28800,28000,28700,29800,31000,32700.000000000004,33100,33100,32000,31700,31300,30500,29100,28500,28600,29300,30800,32500,33400,33500,32400,32299.999999999996,31700,31000,29100,28100,28300,29600,30800,32400,33200,33400,32200.000000000004,32100,31800,30800,29200,27900,28200,29300,31000,32500,33300,33200,32100,31900,31600,31300,29400,28500,29100,30200,31400,33000,33900,33600,32900,32600,32200.000000000004,31600,30100,29300,29400,30600,31500,33100,33700,33400,32600,32400,32200.000000000004,31500,30000,28900,29000,30100,31200,32900,33000,32800,31800,31400,31100,30800,28900,27400,28200,29100,30500,31800,32000,32100,31500,31300,30900,30100,27800,26700,26800,27800,29100,29900,30000,29800,29000,28700,27800,26500,23500,22500,22100,22900,23900,24700,24800,24500,24100,23700,23500,22800,20300,19600,19800,21100,21800,23100,23500,23400,23000,23300,22700,21900,19500,18600,18900,20000,21000,22200,23000,23100,22600,22400,22000,21400,19700,19200,19400,20600,21400,22700,22900,23200,22700,23400,23100,22800,21100,20800,20700,21000,22500,23700,24300,24700,24000,24100,23600,23000,21600,21100,21600,22500,23600,25100,25900,26000,25500,25400,25300,24900,23600,23300,23500,24800,25600,26900,27500,27400,26800,26700,26300,26200,25200,24900,25100,25700,26500,27700,28200,28300,27300,27400,26600,25800,25500,24000,23700,25100,27000,28200,28700,27400,26700]
[null,null,"State","Heavy and Civil Engineering Construction",20237000,8300,8300,9500,12800,15400,16400,17500,17500,17100,16700,14900,11800,8800,8900,9400,12200,15900,16800,17400,17600,17200,17000,15100,11800,8700,8500,9100,11900,15200,16100.000000000002,16400,16500,16500,16300,15200,11600,8700,8500,8800,11900,15800,16400,16400,16800,16600,16200,14700,12000,8800,8500,9100,12700,15200,16300,16600,16400,15900,15700,15000,12300,9100,8600,9500,12300,14700,15700,16100.000000000002,16500,16300,16100.000000000002,15400,12700,10000,10000,10500,13900,16200,17300,17400,17600,17100,17000,15900,13700,11200,11400,12500,14100,17500,18500,18900,18800,18500,18300,17500,14100,11300,11300,11700,13400,16900,17900,18600,18500,18000,17800,16100.000000000002,12700,10100,10300,10600,13200,15700,16500,16900,17000,17100,16700,15400,11900,9400,9100,9600,12400,13900,14500,14800,14900,14900,14500,13200,10100,8000,8100,9100,11300,13400,14300,14500,14700,14700,14700,13600,10100,8300,8400,9700,12200,13300,14200,14400,14300,14400,14500,13400,11100,9000,9200,10300,11200,14100,15000,15300,15700,15500,15400,14600,11300,9400,9600,10400,12500,15100,16200,16100.000000000002,16400,16400,16400,15400,12400,10300,10400,11000,14100,16300,16800,17000,16800,16600,16300,15100,12300,9400,9700,10500,13500,14900,15300,15500,15500,15500,15200,14200,11200,9600,9800,10200,13100,15300,16000,16500,16500,15900]
[null,null,"State","Specialty Trade Contractors",20238000,70500,69800,73000,78700,82300,86200,86700,86900,84500,83300,81500,77600,71400,70600,72100,76600,81300,85300,87300,87700,85200,84000,82200,79500,70900,69100,70600,76400,81200,84900,87100,86800,84400,83600,82200,78500,70700,68600,69600,75000,81000,84700,86300,86500,84600,84700,82800,80100,72200,70600,72700,79300,83000,86100,89200,88700,86900,85700,84200,81500,72900,71600,72900,80300,84300,87700,89700,89000,87300,86100,84600,81000,74300,73000,73900,80000,83700,87600,88100,87700,86000,84500,82300,79100,72400,69100,72300,76800,82200,85400,86100,86000,83800,83200,81600,77000,68900,66900,68300,72600,77900,80100,80800,80700,78600,77600,74500,69700,60300,58600,58300,61900,66100,68300,69100,68000,66400,65800,63800,59600,52400,51200,52200,58600,61400,64099.999999999993,65300,65600,64200,64500,62600,58000,51700,50100,51500,56400,60700,64000,65300,65200,63700,63200,61700,58100,51700,50400,52400,57600,60600,63700,64599.999999999993,64800,63400,63300,61800,59200,53500,52900,54200,57200,64400.000000000007,67600,69200,69800,68100,67700,66200,61800,56100,55500,57100,61200,66500,70400,72100,72700,71100,70700,68700,65800,60500,59500,61000,66800,70800,74000,75600,75200,73200,73200,71900,69500,63700,63500,65400.000000000007,70200,73300,76500,78000,77800,76100,74900,74000,69300,65600,65400,66700,72000,74800,77700,78700,79800,78300]
[null,null,"State","Building Equipment Contractors",20238200,0,0,0,0,0,0,0,0,0,0,0,0,0,0,0,0,0,0,0,0,0,0,0,0,0,0,0,0,0,0,0,0,0,0,0,0,34600,34000,33700,34100,35100,35900,36800,36500,36400,36700,36600,36700,35500,34900,35000,35300,36000,36700,37500,37400,37200,37000,37000,37300,35800,35000,35100,35800,36400,37100,38100,37900,37600,37500,37400,37800,36300,36100,36000,36600,37200,38100,38500,38600,38400,38300,37800,37900,36600,36100,36400,36700,37400,38300,38400,38500,38100,38000,37700,37800,36300,35600,35400,35800,35900,36400,36200,36000,35800,36100,35300,35100,32800,31700,31300,31200,31600,31900,32000,31500,31000,31300,31000,30600,29100,28700,28600,29500,29900,30500,30700,30900,30500,30800,30600,30400,28900,28300,28300,28900,29400,30200,30600,30500,30200,30200,30100,30000,28600,28100,28300,29000,29400,30200,30800,31000,30800,31100,31000,31200,30300,30100,30400,31000,32200.000000000004,33100,33600,33800,33400,33300,33300,33100,31600,31500,31700,32100,33000,34000,34700,35000,34700,34700,34400,34400,33400,33100,33200,33600,34200,35200,36100,36000,35600,35700,35800,35900,35000,34800,34900,35400,36000,37100,37800,37800,37400,37500,36700,36200,34500,34400,35200,36500,37400,39000,40400,40500,38700]
[null,null,"State","Manufacturing",30000000,590200,591000,593100,591300,591400,603000,600000,600600,596300,593600,590800,588300,577000,571200,569700,565400,562300,567900,563700,562500,555600,547900,541500,538800,531600,526000,527300,525300,526700,534200,532200,534800,530100,526300,523900,521200.00000000006,509300,504900,504200,503500,504000,508600,507600,507600,503400,500400,498100,496800,493500,492600,494500,497400,500400,506600,510700,512900,508700,505900,504500,505000,496600,498500,499700,501400,502500,511400,512500,513700.00000000006,508500,505600,504200,504200,501100,498600,500300,501900,503500,513900,513900,514500,509300,505900,503300,502900,498700,496300,495900,497300,499500,509600,509100,509100,503200,499600,498600,498700,495800,493900,493800,493400,493900,502200,500400,499300,492600,488300,483600,478100,464900,452800,444700,435500,431700,434200,432100,432900,430900,427000,425500,424600,419800,418600,420600,422600,426100,435200,439300,441500,437500,434600,435100,435100,433300,433200,435200,438800,441800,450600,454900,455700,450900,447900,448500,448600,446700,446200,448400,450500,452600,462500,465800,465500,459500,457200,456100,456400,452600,451500,452600,452400,454600,462700,464800,465000,459200,457800,458000,458300,455700,454800,456700,459000,462200,469900,474800,474600,468300,466200,466100,467000,463500,463000,463900,463400,465100,472900,475700,474900,468500,465500,465000,465300,462000,460000,461000,461000,462400,469900,472900,471800,465400,466600,464600,465700,464300,463600,464400,468200,470400,478300,481200,481600,476000]
[null,null,"State","Durable Goods",31000000,372600,373200,374200,374300,373800,378500,374500,374400,372700,372600,371700,370100,362900,359000,357300,352900,350900,352200,346500,345400,341400,336400,333300,331300,326500,323800,324100,322900,324000,327800,324400,326100,323700,321700,321200,319100,314600,311700,311600,311500,311300,313400,309900,309400,307700,307200,307200,306800,304400,304800,306600,308600,311000,314100,315800,317300,315100,314800,315400,316400,310200,313000,314300,316200,316700,321400,320000,320900,318000,317900,317400,317700,316600,315300,316800,318100,319400,325000,323400,323700,320800,319800,318700,318200,315600,314100,313500,315400,316300,320500,318900,318800,315500,313900,313700,313400,312500,311400,311400,311200,310800,314800,312700,311100,307300,304900,302200,298000,288300,278900,272100,264300,260800,260000,257500,256899.99999999997,256500,255600,254600,253900,251200,250800,252600,254100,256399.99999999997,260600.00000000003,262100.00000000003,263300,261600.00000000003,261100.00000000003,262000,262900,262200,262800,264500,266900,269000,273800,275400,275300,272600,272000,273300,274000,273500,273700,275700,276900,278600,283600,284500,283800,280000,279600,279100,279500,277800,277200,278000,277900,279000,283000,282400,282100,278600,278900,279300,279600,278300,277500,278900,281100,283000,286900,288500,287900,284200,284300,284600,285800,283800,283500,284300,283800,284400,288000,288300,287100,283400,282100,281800,281800,280200,279000,279300,279200,280000,283200,283800,282400,278800,279300,278900,279900,279200,278600,279600,282000,283800,289100,289200,288900,285700]
[null,null,"State","Wood Product Manufacturing",31321000,27200,27000,27300,27600,27900,29000,28100,28300,28000,27700,27500,27300,26800,26200,26600,27000,27200,28100,27900,27900,27100,26800,26400,26100,25400,25000,25300,25700,26200,27000,27200,27100,26500,26200,25900,25500,25100,24600,24200,25100,25700,26700,26500,26500,26000,25800,25600,25700,25100,25000,25200,25600,26200,26800,27000,26900,26500,26300,26000,26000,25300,25000,25200,26100,25900,27300,27100,27200,26600,26400,26300,26100,26000,25300,25800,25700,26300,26900,26900,26800,26100,25400,25100,24600,24400,23900,24100,24200,24400,24900,24900,24800,24300,23800,23500,23400,22800,22400,22300,22200,22400,22800,22600,22200,21900,21300,20800,20400,19000,17800,17700,17800,17700,17800,17700,17800,17600,17500,17200,16700,15900,15800,15800,16400,16700,16900,16800,16700,16400,16200,16300,16300,16100.000000000002,15900,16100.000000000002,16200,16500,16900,16600,16700,16400,16400,16200,16200,15800,15700,15900,15900,16100.000000000002,16400,16400,16400,16200,16100.000000000002,16100.000000000002,16200,15900,15800,16100.000000000002,16200,16500,16800,16900,17000,16900,16900,16800,16900,16600,16400,16600,16800,17100,17400,17700,17700,17400,17300,17200,17300,16900,17000,17000,17200,17400,17700,17800,17800,17600,17400,17400,17400,17400,17100,17300,17400,17500,17900,17800,17800,17500,17400,17400,17400,17100,17000,17200,17300,17500,17800,17900,17900,17600]
[null,null,"State","Fabricated Metal Product Manufacturing",31332000,80200,80400,80400,81300,81200,81800,81900,81500,80800,80600,80100,80000,78900,77800,77000,76500,76000,75700,74400,74300,73400,72500,71400,71400,70600,69900,70000,70200,70700,71400,71100,71200,70600,70300,70300,70100,69400,68700,68700,68800,68600,69000,68300,68100,67800,67800,67800,67800,67200,67400,68100,68300,69100,70100,70800,71100,70500,70700,70800,71300,71100,71200,71600,72000,72400,73300,73500,73700,73100,73100,72900,73300,73100,73200,73500,74200,74700,76000,76600,76900,76400,76100,76100,76400,75900,75700,76000,76300,76400,77300,77000,77000,76300,76300,76100,76300,76300,76000,76000,76400,76300,76900,76800,76600,75800,75600,75000,74300,72400,69700,67400,65500,64000,63400,62000,61700,61700,61800,61600,61900,61000,61400,61800,62300,62900,64099.999999999993,64900.000000000007,65600,65500,65400.000000000007,65700,66400,66300,66500,67300,68000,68500,69500,70100,70400,70100,70000,70100,70500,70700,70900,71500,71900,72500,73800,74200,74200,73400,73200,73000,73100,72800,72600,72800,72800,73000,73900,73600,73500,72700,72600,72600,72600,72600,72600,73000,73400,73900,74800,75400,75400,74500,74600,74700,74900,75000,74800,74900,74600,74700,75600,75600,75100,74000,73500,73400,73400,72900,72700,72700,72800,72900,74000,74000,73700,72400,73000,72700,73500,73800,73400,73800,74600,74900,76400,77200,76400,76300]
[null,null,"State","Machinery Manufacturing",31333000,89800,90100,90200,89400,88500,89500,88800,86900,88000,88000,87600,87900,86700,85400,84800,83000,82100,81900,80600,79200,78700,77400,76600,76600,75700,74900,74700,73500,73100,73200,72100,71700,71400,70900,70800,71000,70100,69700,69700,69200,68500,68900,68000,66900,67400,67500,67700,68000,67800,67700,67800,67900,67800,67400,68600,68500,68100,68000,68300,68800,68000,68200,68400,68800,68900,69200,68600,68900,68500,69100,68800,69000,69200,69300,69300,69400,69500,70000,69700,68700,68700,68600,68400,68500,68500,68500,68600,68800,69000,69900,69900,69300,69500,69100,69300,69600,69800,69800,70100,70200,70100,70800,70500,70400,69700,69500,69100,68300,67000,65400.000000000007,63900,60000,60200,59800,59200,58900,58800,57900,57700,57800,57600,57400,58300,58000,58600,59400,59800,59900,59800,59800,60300,60800,60900,61300,61500,62300,62800,64099.999999999993,64700,64700,64200,64400.000000000007,65099.999999999993,65400.000000000007,65600,65600,65900,66000,66400,67500,67700,67600,66800,66800,66800,67300,67400,67300,67500,67200,67400,68200,67700,67900,67000,67200,67500,68000,67700,67200,67500,67900,68100,69100,69200,69100,68200,68300,68300,69000,68100,68100,68200,67700,67800,68600,68100,68000,67100,66900,66800,67000,66700,66400,66200,65200,65700,66200,66300,65600,65300,65099.999999999993,65300,65500,65400,65300,65300,65300,65500,66100,66000,65900,65300]
[null,null,"State","Electrical Equipment, Appliance, and Component Manufacturing",31335000,33100,33200,33300,33100,33300,33500,33500,33300,32900,32500,32400,32400,31500,31200,31100,30500,30300,30400,30100,29800,29500,28800,28700,28600,28100,27800,27600,27300,27200,27400,26600,27000,26800,26700,26600,26700,26300,26100,26000,25600,24900,25100,24500,24700,24600,24500,24400,24500,24500,24400,24500,24500,24500,24700,24600,24600,24500,24300,24300,24600,24600,24600,24400,24200,24300,24600,25000,25000,24800,24800,24900,25100,25200,25100,25100,25200,25300,25800,25700,25600,25200,25300,25000,25100,24900,24700,23400,24500,24600,24900,24700,24600,24200,24000,24000,24100,24300,24300,24200,24400,24400,24500,24600,24600,24300,24300,24200,24000,23700,22900,22300,21900,21300,21600,21300,21200,21200,21200,21100,21100,20900,20700,20700,20900,21000,21200,21500,21400,21200,21100,21300,21400,21600,21500,21500,21600,21600,21900,21900,22000,21800,21400,21800,22000,22300,22300,22300,22500,22500,22800,23000,22900,22500,22600,22600,22700,22700,22700,22800,23100,23000,23200,23400,23400,23100,23200,23200,23200,23300,23200,23200,23600,23600,23900,24100,24100,23800,23900,24000,24200,24300,24200,24100,24200,24100,24300,24400,24200,23900,23900,23900,23900,23900,23800,23700,23800,23800,23900,24000,23900,23500,23400,23400,23600,23400,23200,23300,23300,23200,23400,23500,23300,23100]
[null,null,"State","Transportation Equipment Manufacturing",31336000,42300,42500,42600,42200,42200,42600,40400,42300,41700,41800,41900,40800,40000,40100,39900,38700,38500,38600,37200,38200,38000,37100,36900,36500,36400,36700,36700,36000,36100,36800,35800,37400,37600,37000,37100,36800,36700,36400,36700,36000,36100,36500,36000,36500,36200,35800,35800,35400,35600,36100,36400,36500,36700,36900,36100,37200,37100,37200,37300,37300,34500,37600,37900,37400,37400,37500,36600,37200,37100,37200,37200,37200,37200,37100,37100,36900,36500,37000,35800,36500,36400,36200,36100,36100,35400,35400,35500,35300,35000,35700,34800,35500,35100,34500,34500,34600,34700,35100,34900,34500,33400,34800,33600,32800,32100,31700,31200,30700,28700,27900,27900,27100,26100,25400,25500,25300,25600,25700,25200,25400,26000,25900,26000,25600,25600,25800,25300,25500,25300,25100,24800,24800,25000,25200,25200,25300,25500,25800,25700,25500,25500,25500,25700,26000,26100,26200,26600,26500,26500,26900,26800,26700,26600,26800,26700,26900,27100,27200,27100,27000,26800,27000,26500,26200,26000,25800,26000,26200,26500,26500,26800,26900,27000,27200,27100,26700,26600,26500,26400,26700,26800,26800,27000,26800,26600,26900,26900,26800,26600,26700,26700,26700,26700,26600,26600,26500,26400,26500,26500,26600,26600,26700,27000,27200,27400,27500,27600,27600,27500,27800,27800,27800,27900]
[null,null,"State","Non-Durable Goods",32000000,217600,217800,218900,217000,217600,224500,225500,226200,223600,221000,219100,218200,214100,212200,212400,212500,211400,215700,217200,217100,214200,211500,208200,207500,205100,202200,203200,202400,202700,206400,207800,208700,206400,204600,202700,202100,194700,193200,192600,192000,192700,195200,197700,198200,195700,193200,190900,190000,189100,187800,187900,188800,189400,192500,194900,195600,193600,191100,189100,188600,186400,185500,185400,185200,185800,190000,192500,192800,190500,187700,186800,186500,184500,183300,183500,183800,184100,188900,190500,190800,188500,186100,184600,184700,183100,182200,182400,181900,183200,189100,190200,190300,187700,185700,184900,185300,183300,182500,182400,182200,183100,187400,187700,188200,185300,183400,181400,180100,176600,173900,172600,171200,170900,174200,174600,176000,174400,171400,170900,170700,168600,167800,168000,168500,169700,174600,177200,178200,175900,173500,173100,172200,171100,170400,170700,171900,172800,176800,179500,180400,178300,175900,175200,174600,173200,172500,172700,173600,174000,178900,181300,181700,179500,177600,177000,176900,174800,174300,174600,174500,175600,179700,182400,182900,180600,178900,178700,178700,177400,177300,177800,177900,179200,183000,186300,186700,184100,181900,181500,181200,179700,179500,179600,179600,180700,184900,187400,187800,185100,183400,183200,183500,181800,181000,181700,181800,182400,186700,189100,189400,186600,187300,185700,185800,185100,185000,184800,186200,186600,189200,192000,192700,190300]
[null,null,"State","Food Manufacturing",32311000,62500,62700,62900,62000,62600,66000,67200,68600,68200,66800,65099.999999999993,64400.000000000007,62200,62000,62300,62600,62800,64800,67500,68200,67800,66200,63700,63200,61600,61200,61400,61600,61800,63300,64900.000000000007,66100,65800,64599.999999999993,62900,61900,60600,60100,59500,59300,60000,61200,63900,65300,65200,63500,62100,61100,59800,59200,59200,59900,60200,61400,63400,64500,64200,62800,61000,60100,58700,58400,58500,57800,58100,60200,62200,63000,62600,60100,59400,58500,57400,56900,56900,57100,57500,59900,61700,62000,62000,60000,59000,58300,57400,57100,57200,56700,57500,60800,62100,62600,61800,60100,59800,59600,58000,57700,57700,58000,58700,61000,61800,63100,62700,62000,60300,59600,58500,58300,58300,58400,58800,61200,61800,63600,62900,60900,60000,59300,58000,57900,57800,58000,58500,61200,63100,64099.999999999993,63100,61000,60600,59700,58900,58400,58700,59200,59500,61400,63700,64599.999999999993,64200,62300,61700,60800,60000,59800,60000,60500,60700,63400,65500,66000,65400.000000000007,63700,62900,62400,60700,60500,60700,60500,61200,62700,65000,65800,65200,63900,63400,62900,61800,61900,62100,62300,62900,64500,67300,68100,67300,65400.000000000007,64500,63800,62400,62400,62400,62500,62900,65000,66800,67300,66600,65200,64800,64599.999999999993,63400,63000,63200,63400,63700,65800,67600,68300,67600,67500,66800,67300,66900,67100,66600,67100,67800,69000,70500,70800,69800]
[null,null,"State","Animal Slaughtering and Processing",32311600,18400,18400,18400,18200,18200,18500,18500,18500,18400,18500,18500,18600,18200,18200,18500,18500,18500,18800,19000,18800,18600,18500,18600,18400,17900,17900,18000,18300,18200,18300,18100,18200,18300,18400,18600,18800,18600,18600,18200,18200,18400,18500,18500,18600,18500,18700,19000,18900,18800,18700,18600,18800,18800,18800,18500,18400,18400,18300,18400,18400,18100,18200,18200,17700,17700,17800,17700,17700,17600,17600,17700,17700,17600,17400,17500,17500,17500,17800,17700,17700,17600,17700,17800,18000,17800,17700,17800,17500,17500,17700,17600,17600,17600,17900,18200,18300,18000,17900,17900,18000,17900,18000,18000,18000,18100,18300,18400,18500,18200,18100,18200,18200,18200,18200,17000,18000,17900,17800,17900,18100,17800,17800,17700,17500,17300,17400,17200,17100,17100,17100,17100,17100,17000,16800,16700,16700,16600,16700,16500,16600,16600,16500,16600,16700,16500,16400,16400,16400,16300,16600,16600,16500,16600,16700,16800,17000,17000,16900,17000,16900,16900,17000,17000,17000,17000,17100,17200,17400,17200,17100,17200,17100,17100,17200,17200,17200,17200,16600,16700,17000,16600,16700,16700,16600,16600,16700,16600,16700,16700,16600,16500,16800,16500,16400,16400,16200,16200,16300,16000,16200,16100.000000000002,16100.000000000002,16200,16300,16100,16100,16100,16200,16300,16400,16300,16300,16200]
[null,null,"State","Paper Manufacturing",32322000,0,0,0,0,0,0,0,0,0,0,0,0,0,0,0,0,0,0,0,0,0,0,0,0,0,0,0,0,0,0,0,0,0,0,0,0,41500,41200,41100,40700,40600,41000,41100,40600,39800,39200,38800,38700,39000,38600,38500,38400,38400,39000,39000,38900,38400,37900,37800,38000,38100,37700,37600,37400,37200,38100,38300,37800,36800,36700,36500,36600,36400,36000,35900,35800,35700,36300,36600,36600,35700,35500,35600,35800,35800,35500,35400,35400,35600,36400,36400,36200,35400,35300,35200,35300,35500,35100,35000,34800,34900,35800,35700,35300,34300,34000,34200,34000,33700,33100,32700.000000000004,32299.999999999996,32200.000000000004,32700.000000000004,32700.000000000004,32500,32100,31400,31900,32200.000000000004,32100,31900,31700,31500,31700,32400,32400,32400,31700,31300,31300,31400,31400,31200,31200,31200,31300,32100,31900,31700,31100,31000,30900,31200,31000,30700,30600,30700,30600,31300,31500,31400,30800,30700,30800,30900,30700,30600,30600,30600,30600,31400,31300,31200,30600,30400,30400,30500,30600,30500,30500,30500,30600,31400,31400,31100,30500,30500,30600,30700,30600,30600,30400,30300,30400,31000,31200,31100,30600,30200,30400,30500,30500,30300,30400,30300,30400,31100,31100,30900,30200,30100,30100,30200,30100,30100,30000,30200,30200,30900,30900,30700,30100]
[null,null,"State","Printing and Related Support Activities",32323000,38400,38500,38800,38500,38500,39300,40000,40100,39700,38800,38700,39100,38700,38400,38200,37900,37400,38100,38000,37700,37200,36800,36200,36200,35500,35100,35000,34900,34700,34900,35100,34800,34400,34100,34100,34100,34000,33700,33700,33400,33600,34000,34400,34500,34000,34000,33900,34000,33600,33200,33300,33000,33100,33500,33700,33600,33200,32800,32900,33100,32800,32600,32600,32900,32900,33500,33900,33900,33500,33500,33400,33600,33400,33300,33400,33200,33100,33800,33800,33900,33500,33400,33200,33400,33000,32900,33000,32800,32800,33200,33400,33500,33200,33200,33000,33000,32700.000000000004,32700.000000000004,32700.000000000004,32500,32400,32700.000000000004,32700.000000000004,32600,32100,31800,31700,31600,31000,30100,29800,29500,29000,29100,29000,28900,28700,28700,28600,28600,28400,28000,28000,28100,28000,28600,29000,29000,28700,28800,28900,28700,28800,28700,28800,29000,29000,29500,29800,30000,29600,29600,29500,29500,29400,28900,28900,28800,28800,29200,29300,29400,29000,29100,29100,29200,29000,28700,28700,28900,28900,29600,29800,29700,29400,29500,29500,29500,29200,28900,29000,28900,29000,29400,29700,29600,29300,29300,29500,29500,29700,29500,29600,29500,29600,30100,30100,30200,29700,29800,29900,29800,29700,29600,29700,29400,29400,29800,30000,29900,29500,29600,29600,29500,29400,29100,29100,29400,29200,29600,29800,29800,29400]
[null,null,"State","Plastics and Rubber Products Manufacturing",32326000,37700,37900,38400,38200,38200,38600,38300,37800,37600,37700,37600,37200,36900,36400,36300,36200,35500,35500,35400,35300,34900,34600,34400,34300,34000,34000,34000,33900,34000,34300,34100,34200,33700,33700,33600,33600,33400,33300,33300,33300,33300,33500,33100,33000,32500,32700.000000000004,32700.000000000004,32900,32700.000000000004,32700.000000000004,32800,33000,33100,33300,33500,33400,33100,33000,33000,32900,32800,32800,32700.000000000004,32800,33100,33300,33200,33400,33200,33300,33300,33500,33300,33100,33300,33100,33000,33400,33200,33200,32600,32500,32200.000000000004,32200.000000000004,32100,32000,32100,32100,32200.000000000004,32900,33000,33000,32700.000000000004,32800,32700.000000000004,32800,32900,32800,32800,32700.000000000004,32600,32800,32600,32299.999999999996,31900,31500,31200,30800,29900,29100,28600,28200,27900,27900,27900,27600,27700,27300,27400,27500,27100,27200,27400,27600,27800,28300,28300,28300,28100,28100,28000,28100,28000,28100,28000,28400,28400,28800,29000,29000,28700,28500,28600,28700,28800,28900,29000,29200,29300,29700,29900,29700,29500,29500,29500,29600,29800,29800,29900,29700,29800,30300,30600,30700,30300,30200,30500,30700,30800,30900,31100,31000,31200,31700,31800,31800,31400,31300,31400,31700,31600,31700,31700,31800,31800,32299.999999999996,32600,32400,31900,31800,31800,32100,32000,32000,32100,32100,32000,32400,32600,32500,32100,32100,32000,32200.000000000004,32100,32100,32200,32500,32400,32800,32900,32900,32600]
[null,null,"State","Plastics Product Manufacturing",32326100,0,0,0,0,0,0,0,0,0,0,0,0,0,0,0,0,0,0,0,0,0,0,0,0,0,0,0,0,0,0,0,0,0,0,0,0,30900,30800,30700,30700,30800,30900,30700,30500,30100,30300,30300,30500,30200,30200,30300,30500,30600,30800,30900,30800,30600,30400,30400,30400,30200,30300,30100,30200,30500,30700,30600,30800,30600,30600,30700,30800,30700,30500,30700,30500,30500,30800,30500,30400,30000,29800,29800,29700,29600,29300,29300,29400,29500,30200,30300,30300,30000,30100,30000,30100,30200,30100,30200,30100,30000,30200,30000,29800,29500,29000,28800,28400,27700,27000,26500,26200,25900,25800,25900,25600,25700,25300,25400,25500,25100,25200,25400,25600,25800,26200,26100,26100,26000,25900,25800,25900,25900,25900,25900,26200,26200,26600,26800,26800,26500,26300,26300,26500,26500,26600,26800,26900,27100,27500,27700,27500,27200,27300,27300,27500,27600,27600,27700,27500,27600,28100,28400,28400,28100,27900,28300,28500,28400,28600,28700,28700,28900,29300,29400,29400,29000,29000,29100,29300,29200,29200,29200,29300,29300,29800,30100,29900,29400,29300,29400,29600,29500,29400,29600,29600,29500,29900,30100,30000,29600,29700,29600,29800,29700,29700,29700,30000,29900,30300,30500,30500,30200]
[null,null,"State","Trade, Transportation, and Utilities",40000000,541400,535800,539400,543900,548400,550600,549200,552000,555700,564700,574900,578700,549200,540000,541700,544100,549200,549800,543500,546200,544200,548000,557200,558800,533000,524700,527400,528900,535800,538200,533500,534900,535400,540800,552400,555900,528300,521900,521799.99999999994,528400,535800,540100,533300,535600,537700,543700,551800,557700,529500,522500,524700,529200,537100,543000,539900,540600,540000,545700,555600,559500,532000,526700,529000,535400,541300,543800,542100,543900,544100,551700,561400,566800,536000,529600,532700,536800,542900,548000,542900,544300,544400,549300,561400,565800,541300,533500,536300,538300,547700,552300,547500,547200,546500,550000,561000,563000,539900,531400,533200,536600,543200,546300,541600,542100,538800,541500,546400,547700,520600,511900,510200,512299.99999999994,519000,523100,515900,515700.00000000006,513600,517799.99999999994,523200.00000000006,524600,501300,494400,496400,501700,507600,512100,508000,509000,507200,514700.00000000006,521600,524000,502100,495600,497800,503900,508700,512100,511500,512700.00000000006,512200.00000000006,516799.99999999994,525500,527800,505500,498600,500700,503300,511200,514700.00000000006,511500,513200.00000000006,511800,517200.00000000006,528900,530400,507600,502500,504400,508500,517000,522200.00000000006,518799.99999999994,520900,517900,522600,533200,537000,513400,509300,511900,517200.00000000006,524300,529200,526500,527600,524400,528500,539500,542900,519400,514299.99999999994,517400,521299.99999999994,529400,534800,533900,536200,534900,539400,548100,550600,530300,526800,528500,534400,539700,542300,543400,543400,539600,544200,552200,551200,534900,530700,530300,534500,540500,545800,544000,545700,546600]
[null,null,"State","Wholesale Trade",41000000,114100,114200,114900,115200,115700,117100,117500,117400,116300,116400,116600,117000,115400,115200,115500,115400,116400,117500,117200,116800,115400,115300,114800,114900,113200,112700,113200,113900,114800,115500,116100,115600,114400,113600,113700,113600,111300,111100,111300,112500,113200,114400,114100,114100,113200,113700,113200,113900,112300,111800,112400,112900,113600,114900,116600,117000,115000,115700,116000,116500,115000,114700,114900,116900,117800,119300,119800,119600,118400,118900,119100,119800,118500,118100,118800,119900,120600,122600,122800,122500,121200,121300,121400,121900,120000,119700,120000,121100,122200,124100,124300,123500,122300,122200,122600,122900,121100,120400,120900,122000,123200,124300,124200,123600,121500,121100,120700,120100,117600,116500,116000,115600,116200,117000,116300,115300,113400,113800,113300,113100,110600,110000,110300,112000,112700,114000,114700,114500,112400,113300,113400,113400,111800,111600,112100,113700,114800,116200,117300,116800,115500,115800,115900,116000,114600,114400,115200,116500,117200,118700,118600,118000,116500,116800,117000,117200,116800,116600,116900,118100,119500,120800,120800,120400,118700,118800,118900,119100,117300,117300,118100,119300,120600,122000,122300,122100,120100,120100,120200,120500,119300,119000,119600,121200,122600,124200,124600,124200,122300,123100,123200,123400,121800,121700,122200,123500,124200,125300,126300,125800,124000,124800,125400,124500,124000,124100,125500,127600,127000,128600,127500,128000,128500]
[null,null,"State","Merchant Wholesalers, Durable Goods",41423000,65400.000000000007,65400.000000000007,65800,65400.000000000007,65500,66400,66600,66400,65800,65700,65600,65800,64700,64599.999999999993,64700,64599.999999999993,65099.999999999993,65700,65500,65400.000000000007,64700,64800,64300,64500,63500,63400,63500,63500,63900,64400.000000000007,64700,64300,63700,63200,63200,63100,62300,62200,62300,62600,62900,63500,63700,63800,63300,63000,63000,63400,62900,62800,63200,63200,63600,64500,65300,65300,64800,65000,65099.999999999993,65600,64900.000000000007,64900.000000000007,64900.000000000007,65800,66200,67200,67400,67300,66700,66600,66700,67100,66700,66700,67100,67500,67900,69200,69200,69100,68400,68100,67900,68300,67300,67100,67300,67600,68000,69200,69300,69000,68300,68000,67900,68200,67300,67000,67100,67700,68100,69000,69000,68600,67400,66900,66600,66200,65000,64300,63600,63000,63300,63700,63600,63000,62000,62100,61800,61900,60600,60100,60400,61000,61400,62100,62500,62500,61600,61800,61800,62000,61400,61200,61500,62100,62700,63700,64599.999999999993,64500,64000,64000,64200,64500,63900,63800,64099.999999999993,64500,64800,65700,65600,65400.000000000007,64400.000000000007,64200,64400.000000000007,64599.999999999993,64099.999999999993,63900,64000,64400.000000000007,64900.000000000007,65800,65800,65600,64900.000000000007,64700,64700,64900.000000000007,64099.999999999993,64000,64500,64900.000000000007,65300,66100,66500,66400,65500,65300,65200,65500,65099.999999999993,64900.000000000007,65200,65500,66000,67100,67500,67300,66300,66500,66600,66800,66000,66200,66300,66700,66900,67800,68300,68100,67200,67000,66900,67600,67900,68200,67700,68800,68500,69100,68500,68700,68200]
[null,null,"State","Merchant Wholesalers, Nondurable Goods",41424000,43000,43000,43300,43900,44300,44800,45000,45200,44700,44900,45100,45300,44800,44600,44900,44900,45500,45900,45800,45500,44800,44500,44500,44400,43800,43400,43600,44300,44900,45300,45600,45600,45200,45000,45100,45200,45200,44900,44700,44600,45100,45500,45100,45200,44700,45300,44900,45100,44100,43700,43900,44400,44800,45300,45800,46200,44800,45200,45400,45500,44700,44400,44500,45400,45700,46200,46300,46200,45500,46000,46000,46200,45500,45100,45300,45800,46100,46800,46900,46600,46000,46100,46400,46500,45500,45300,45400,45900,46600,47200,47200,46700,46300,46400,46800,46900,46000,45700,46000,46400,47100,47400,47100,46900,46000,46100,46000,45800,44800,44400,44700,44900,45200,45500,45000,44600,43700,43900,43700,43400,42500,42400,42400,43400,43600,44200,44400,44200,43000,43300,43300,43100,42300,42200,42400,43200,43700,44100,44200,43800,43100,43200,43100,43000,42200,42100,42500,43200,43600,44200,44200,43600,43200,43500,43500,43400,42500,42500,42600,43200,44000,44500,44300,44100,43200,43300,43300,43300,42400,42500,42800,43500,44500,44900,44800,44700,43700,43800,43900,44000,43100,43000,43300,43900,44600,45100,44800,44700,43900,44300,44300,44300,43500,43400,43600,44400,45000,45200,45700,45500,44700,45400,45800,44500,43100,43200,43700,43700,43600,43500,42900,43500,44300]
[null,null,"State","Grocery and Related Product Merchant Wholesalers",41424400,0,0,0,0,0,0,0,0,0,0,0,0,0,0,0,0,0,0,0,0,0,0,0,0,0,0,0,0,0,0,0,0,0,0,0,0,18700,18600,18600,18800,18700,19000,18500,18500,18500,18900,18400,18400,18000,17800,17900,17800,17800,18100,18400,18900,18200,18400,18600,18600,17900,17700,17700,18000,18100,18400,18600,18600,18500,19000,19000,19100,18500,18300,18300,18300,18300,18700,18800,18800,18700,18800,18900,19100,18700,18600,18700,18600,18700,19100,19100,19100,19100,19100,19300,19400,18800,18500,18800,18800,18800,19100,19100,19100,19000,19000,19000,19100,18400,18300,18400,18200,18200,18400,18300,18300,18100,18300,18200,18100,17800,17700,17800,17700,17700,17900,17700,18300,17600,17800,17800,17700,17300,17300,17300,17400,17400,17700,17600,17700,17500,17600,17600,17500,17100,17000,17200,17200,17300,17600,17700,17700,17600,17800,17800,17800,17300,17300,17200,17300,17400,17600,17700,17700,17600,17700,17700,17800,17600,17600,17700,17800,17900,18100,18200,18300,18100,18200,18300,18500,18100,18000,18100,18000,18100,18400,18400,18400,18200,18400,18400,18500,18100,17900,18000,18100,18100,18300,18600,18900,18600,18800,18900,18900,18200,18100,18300,18300,18400,18500,18600,18800,18700]
[null,null,"State","Retail Trade",42000000,325000,319200,321300,323500,326200,328500,328300,330500,331600,338200,349100,353200,326400,317700,318800,319600,322400,323600,320400,323000,319600,323100,333600,336300,317100,309900,311300,310500,314500,317600,315800,317400,315000,319800,331500,336400,314200,308000,307200,310700,315600,318300,315900,318300,316700,321200,330600,336600,313800,307300,308100,310400,315600,319700,317900,318500,316100,318900,329100,333400,311700,306200,307400,310200,314000,315400,315700,317700,315100,321900,331500,336100,310400,303900,305500,307600,311400,314400,312500,314000,311200,315500,328000,331400,313500,305600,307600,307900,314000,316100,315700,315000,311900,314900,325600,327400,310300,302500,303800,305900,309900,312000,311200,312000,307900,310700,316800,319100,299400,292400,291400,292500,296900,299800,297800,298400,294700,298500,305400,307100,290300,283900,285300,287300,291700,294500,293300,294800,291600,297400,304700,307000,290600,284600,286000,289500,292200,295000,295500,297100,294200,298200,307000,309000,292000,285400,286700,288100,292600,295400,294500,296400,293200,298000,309500,310200,292000,287000,288200,291100,296400,300800,300400,301800,297800,301800,311900,315000,296900,292600,294200,297500,301600,305200,305300,305700,301300,304900,314700,316600,298900,294300,296200,297800,302900,306300,306600,308000,304800,308200,316400,317100,303400,300000,301200,304800,308100,310600,312400,312300,307100,311000,317800,317800,306400,301300,300500,301700,306500,310100,310200,310500,307100]
[null,null,"State","Motor Vehicle and Parts Dealers",42441000,37600,37800,38300,38900,39100,39300,39200,39300,38900,39000,38800,38600,37600,37700,38000,38900,39200,39800,39700,39800,39400,39300,39200,39000,38400,38300,38700,39400,39800,40100,40000,40100,39800,39300,39200,39200,38400,38300,38600,39000,39700,39900,39900,39900,39600,39200,38800,38600,38000,38000,38400,39000,39400,39600,39700,39700,39300,38900,38600,38400,37600,37800,38200,38900,39100,39400,39100,39100,38600,37800,37100,36900,36200,36100,36500,37200,37600,37900,37600,37600,37300,36700,36200,36100,35600,35500,36100,36800,37300,37700,37600,37400,37000,36300,35900,35700,35300,35200,35600,36400,37000,37200,37000,36700,36300,35300,34500,34000,33000,32800,33000,33200,33600,33800,33500,33400,33200,32600,32400,32200.000000000004,31800,31800,32200.000000000004,32900,33200,33500,33500,33700,33500,33400,33200,33100,32700.000000000004,32900,33400,34200,34600,34900,35200,35200,35100,34800,34800,34700,34300,34400,35000,35500,35900,36300,36200,36200,36000,35800,35500,35500,34900,34900,35400,36000,36700,37100,37300,37500,37300,37000,36900,36900,36600,37000,37500,38300,38800,39300,39300,39400,39200,38700,38700,38900,38100,38200,38700,39200,39700,39900,39800,40000,39700,39600,39400,39400,38800,39000,39400,40100,40500,40600,40900,40700,40400,39600,39500,38800,39300,39100,39700,40700,41500,42500,42300,43000,41700]
[null,null,"State","Building Material and Garden Equipment and Supplies Dealers",42444000,27400,27300,28200,29400,30600,31100,30800,30500,29700,29600,29800,29500,27900,27700,28300,29400,30500,29800,29100,29000,27300,27000,26600,26200,25100,24900,25400,26500,28100,29100,28500,28400,27400,26800,26700,27000,25300,25000,24700,26800,28700,29200,28900,28600,27700,27700,27500,27400,26100,25800,26100,28300,29700,29900,29400,28600,27800,27500,27500,27400,26100,25900,26300,28100,29600,29800,29100,28500,27700,27800,28000,28000,27000,26900,27400,28900,30100,30400,29700,28900,28100,28000,27900,27600,26500,26300,26600,28100,29700,30000,29300,28600,27500,27200,27300,26900,25600,25200,25400,26600,28400,28600,28000,27300,26400,26300,26100,25800,24500,24000,24100,25500,27100,27400,26500,25900,25100,24800,24600,24400,23300,23100,23600,25400,26900,27200,26300,25900,24900,24600,24300,24100,23200,23000,23500,25000,26100,26700,26100,25600,24900,24500,24400,24100,22900,23000,23800,25400,26600,26900,26200,25400,24900,24400,24300,24100,23200,23200,23900,24800,26500,26900,26600,25900,25100,24900,24700,24500,23700,23600,24200,25600,27200,27500,27100,26400,25800,25500,25600,25500,24900,24800,25400,26700,28100,28000,27500,26900,25800,25700,25700,25600,25100,25000,25800,27300,28500,28700,28200,27600,26600,26300,26300,26200,25600,25500,26300,27700,29200,29400,28800,28500,27100]
[null,null,"State","Food and Beverage Stores",42445000,62600,62300,62500,62700,62700,63000,64200,64599.999999999993,64500,63100,64000,64900.000000000007,63300,62100,62200,62100,62400,62700,62300,63200,62600,61900,62600,64000,61100,60500,60200,59600,60100,60700,60200,60100,59300,59100,59600,60200,59200,58500,58300,58400,59400,59500,58700,59000,58900,58300,59000,59800,58400,57700,57400,56400,57700,59000,58200,59000,58400,58200,58600,59300,57700,56900,57000,56600,57400,57900,58000,58700,58100,57700,57900,58300,57100,55700,55900,56200,56800,58000,57900,58400,57500,57600,58600,59100,57900,56600,56700,55400,56900,57500,57500,57800,57000,57500,58000,58300,57400,55800,55800,56000,56700,57300,57300,57700,56200,56100,56000,56600,55500,54600,54400,53700,55000,56200,56100,56100,54500,54900,54700,54800,54200,52700,52400,52400,53300,54200,54200,54500,53500,53700,53700,53900,52900,52100,52200,52300,52600,53500,53200,53700,52800,53000,53200,53700,53000,52000,52000,51500,52700,53800,53900,54500,53000,53200,53900,54200,53700,52800,52900,53500,54900,55900,55900,56200,54800,55200,55800,56100,55400,54600,54600,54900,56100,57200,57000,57100,56200,56700,56900,57600,56000,55000,54900,54400,55400,56100,56300,56500,55000,55000,55200,55500,55000,54700,54800,54900,55700,57100,57700,57900,56200,57000,57200,57000,55300,55200,55100,54700,55900,57300,56700,56000,55000]
[null,null,"State","Grocery Stores",42445100,54100,54000,54100,53900,53900,54100,55300,55600,55500,54200,54600,55300,54400,53600,53600,53400,53500,53700,53400,54100,53600,52900,53400,54400,52300,51900,51600,51100,51500,51900,51600,51500,50800,50700,51100,51600,50900,50400,50300,50200,51000,51100,50300,50600,50400,49900,50500,51200,50400,49800,49500,48300,49500,50600,49800,50500,49800,49800,50000,50700,49700,48900,49000,48600,49200,49500,49600,50300,49600,49100,49100,49300,48500,47300,47400,47500,48000,49000,48900,49300,48400,48300,49200,49600,48900,47900,47900,46700,48000,48400,48500,48700,48000,48400,48700,48900,48200,47000,47000,47100,47700,48100,48200,48600,47200,47100,47000,47500,46800,46000,46000,45200,46300,47400,47400,47400,46000,46300,46100,46100,46000,44600,44300,44400,45100,45900,45900,46200,45200,45400,45500,45600,45000,44300,44400,44500,44700,45400,45100,45600,44700,44900,45200,45600,45300,44400,44300,43900,44900,45700,45800,46200,44900,45100,45800,46100,45600,44800,45000,45600,46700,47700,47600,47900,46500,46800,47300,47500,47200,46600,46600,46900,47700,48800,48500,48500,47700,48100,48400,48900,47800,46900,46800,46200,46900,47400,47600,47700,46200,46300,46500,46700,46600,46400,46500,46700,47300,48400,49100,49100,47500,47700,48100,47900,46800,46200,46200,46100,46900,47700,47800,47200,45900]
[null,null,"State","Gasoline Stations",42447000,24200,23900,24100,24400,24800,25000,25000,24800,25000,24500,24500,24600,23900,23700,23700,23800,24100,24300,24300,24500,24100,24000,23900,23800,23400,23000,22900,22900,23300,23500,23800,24000,23800,23500,23600,23700,23400,23200,23400,23500,23800,23900,24000,24000,23900,23700,23500,23600,23200,23000,23100,23200,23300,23600,23500,23500,23400,23100,23100,23100,22600,22600,22600,22900,23100,23400,23500,23600,23500,23300,23600,23600,23200,23100,23200,23300,23600,23900,23900,24000,24100,23600,23500,23700,23000,22900,23100,23200,23700,24000,24200,24400,24100,23700,23900,23700,23100,22900,23000,22900,23200,23500,23600,23600,23400,23300,23600,23200,22800,22500,22600,22600,23100,23300,23300,23300,23000,22900,23000,22700,22400,22200,22200,22500,22800,23100,23000,23100,22900,22700,22800,22700,22500,22300,22300,22400,22600,22900,23000,23100,23000,22900,23000,23000,22400,22300,22500,22700,23000,23200,23200,23300,23100,22900,23000,23000,22600,22500,22700,22800,23100,23500,23600,23700,23500,23400,23800,23600,23300,23200,23300,23600,24200,24600,24600,25000,24700,24700,25200,25000,24600,24400,24600,24600,25200,25700,25900,26100,25800,26000,26500,26200,25800,25700,25600,25900,26200,26500,26600,26700,26600,26600,27000,26900,26500,26300,26400,26500,27000,27300,27500,27700,27500]
[null,null,"State","General Merchandise Stores",42452000,60800,59400,59300,59900,60000,60100,59600,59800,60300,63900,67800,69200,60100,58100,58100,57500,58000,57800,57000,56400,55900,57700,62100,62100,59500,57600,58100,57600,57800,57400,56400,55800,56100,58700,65200,66500,61000,59400,58500,58600,59200,59500,59500,60200,60200,62900,66400,68000,62500,60400,60500,60100,61100,61400,61400,61200,60500,62100,66300,66900,62100,60200,60400,61100,61300,60900,61200,61900,61500,62100,65500,65800,62200,60100,60500,60000,60700,60500,60000,60400,59700,61900,66600,67300,64599.999999999993,61800,62600,61800,63000,62500,62500,62100,61800,63100,66800,67200,64099.999999999993,62200,62900,62800,62600,62900,62900,63000,62400,63300,66400,67200,63500,61600,61200,61400,62000,62500,62300,62400,61900,61800,65500,65400.000000000007,61600,60100,60500,59800,60400,60800,61000,61200,60500,62100,65700,66200,62900,60900,61300,61900,61900,62100,62500,62700,61700,63200,67800,68400,64200,61300,60800,60400,60800,60800,60900,61300,60900,62500,67500,68000,61500,59900,60000,60400,60800,61400,61200,61300,60400,61700,65400.000000000007,66400,61300,59900,60000,60400,60300,60700,61000,60800,59700,61000,64599.999999999993,65099.999999999993,59400,58100,58600,58800,59900,61000,61400,62100,61600,63400,66700,66500,62700,60900,61000,61800,62400,62900,63300,63400,61900,63600,67500,68500,65400,63700,63300,62800,62600,63400,64000,64400,63400]
[null,null,"State","Department Stores",42452100,45600,44300,44000,44200,44300,44500,43600,43900,44300,47100,50800,52000,43700,41500,41300,40700,41000,40700,40000,39300,38900,40400,44100,43900,41700,40100,40400,39600,39800,39100,38100,37900,37800,40000,44800,45800,41000,39500,38500,38400,38700,38900,38600,39300,39300,41500,44700,46000,41100,39100,39000,38500,39100,39100,39100,38900,38400,39500,43400,44000,39700,38000,38000,38400,38500,38000,38200,38800,38500,39100,42100,42300,39300,37300,37500,36900,37300,37100,36600,36900,36300,38100,42600,43000,40600,38100,38500,37700,38700,38100,37800,37000,36800,37800,41000,41200,38500,36800,37200,37100,36600,36800,36500,36500,36000,36900,39500,40300,37100,35300,34900,34800,35200,35500,35200,35100,34800,34800,38100,38000,34700,33200,33300,32800,33200,33400,33400,33600,33100,34600,37900,38400,35300,33400,33600,33900,33500,33300,33000,33000,31800,32700.000000000004,36700,37100,33600,31400,30900,29700,29700,29400,29100,29300,29000,29900,33900,33700,30500,29200,29100,29200,29300,29800,29800,30000,29600,30900,34200,35200,32100,31000,30900,30800,30500,30500,30500,30300,29600,30700,33600,34100,30400,29000,28900,28500,28400,28600,28600,28800,28600,29800,32600,32800,30200,28400,28100,28100,28000,27900,28200,28300,27400,28900,30900,31500,29200,27800,27700,27100,27100,27400,27600,27900,26900]
[null,null,"State","Nonstore Retailers",42454000,25800,23300,23100,22900,22600,23300,23900,24800,26900,29900,32800,32900,26800,24000,24100,23600,22900,23000,23300,24400,25800,28200,31500,31500,25100,23600,22900,22100,21700,21800,21900,23200,24200,27200,29500,30500,23700,22300,22300,22600,21700,21700,21900,22700,23900,25200,28600,29900,22800,21400,21400,21200,20900,21000,21500,22100,22900,24200,27400,28300,21900,20900,20800,20000,19800,19600,19800,20500,21200,22700,25700,26800,20600,19500,19500,19100,18900,19100,19200,19700,20600,22800,26100,27200,21300,20000,20000,19800,19500,19600,19700,20100,20800,22600,25600,26200,21100,19700,19800,19700,19500,19500,19300,19900,20700,22900,25100,25700,20400,19200,18900,19100,18500,18500,18600,19400,20100,22900,24200,25400,20100,19200,19100,18600,18500,18700,18700,19400,20800,23500,24500,25500,20500,19300,19100,19000,18700,18500,18900,19600,20900,22800,23900,24500,19700,18400,18300,18100,18000,18100,17900,18700,19300,21000,23000,23700,19000,18200,17900,18100,17900,18300,18400,19000,19900,20800,23000,23900,19300,18700,18700,18500,18600,18900,19500,19700,19700,20900,23000,23700,19900,19100,18900,18600,18400,18700,19000,19200,19100,20200,21600,22400,19000,18500,18100,18000,17800,17900,18200,18400,18500,19600,21300,21800,18700,17600,17300,17300,17100,17500,17700,17800,18600]
[null,null,"State","Electronic Shopping and Mail-Order Houses",42454100,20300,17700,17500,17200,17000,17700,18400,19500,21500,24400,27300,27300,21400,18600,18800,18300,17600,17700,18100,19100,20500,23000,26300,26200,19800,18400,17600,17000,16600,16600,16800,18200,19300,22400,24800,25800,19100,17700,17700,18000,17100,17100,17300,18200,19300,20600,24100,25500,18300,17000,17000,16800,16500,16700,17100,17700,18500,19900,23100,24000,17500,16700,16500,15800,15700,15400,15600,16300,17100,18700,21700,22700,16500,15500,15400,15100,14800,14900,14900,15500,16400,18500,21800,22800,17000,15800,15800,15500,15300,15300,15400,15900,16600,18300,21300,21900,16800,15500,15500,15500,15300,15300,15000,15700,16600,18700,20900,21500,16300,15100,14900,15000,14500,14400,14500,15400,16100.000000000002,18800,20100,21200,16200,15200,15100,14700,14600,14600,14600,15400,16900,19500,20500,21400,16600,15300,15200,15000,14800,14600,14800,15600,16900,18800,19800,20400,15700,14300,14300,14100,14000,14000,13800,14600,15200,17000,19000,19600,15000,14200,13900,14100,13900,14200,14300,14900,15800,16800,18800,19700,15200,14700,14600,14500,14500,14800,15200,15500,15500,16700,18800,19400,15600,14900,14600,14300,14200,14600,14600,14700,14800,15700,17100,17900,14700,14000,13600,13600,13400,13700,13800,13900,14000,15100,16700,17100,14300,13100,12900,13000,12800,13200,13300,13300,14200]
[null,null,"State","Transportation, Warehousing, and Utilities",43000000,102300,102400,103200,105200,106500,105000,103400,104100,107800,110100,109200,108500,107400,107100,107400,109100,110400,108700,105900,106400,109200,109600,108800,107600,102700,102100,102900,104500,106500,105100,101600,101900,106000,107400,107200,105900,102800,102800,103300,105200,107000,107400,103300,103200,107800,108800,108000,107200,103400,103400,104200,105900,107900,108400,105400,105100,108900,111100,110500,109600,105300,105800,106700,108300,109500,109100,106600,106600,110600,110900,110800,110900,107100,107600,108400,109300,110900,111000,107600,107800,112000,112500,112000,112500,107800,108200,108700,109300,111500,112100,107500,108700,112300,112900,112800,112700,108500,108500,108500,108700,110100,110000,106200,106500,109400,109700,108900,108500,103600,103000,102800,104200,105900,106300,101800,102000,105500,105500,104500,104400,100400,100500,100800,102400,103200,103600,100000,99700,103200,104000,103500,103600,99700,99400,99700,100700,101700,100900,98700,98800,102500,102800,102600,102800,98900,98800,98800,98700,101400,100600,98400,98800,102100,102400,102400,103000,98800,98900,99300,99300,101100,100600,97600,98700,101400,102000,102400,102900,99200,99400,99600,100400,102100,102000,98900,99800,103000,103500,104600,105800,101200,101000,101600,102300,103900,104300,102700,104000,107800,108100,108500,110100,105100,105100,105100,106100,107400,106400,104700,105300,108500,108400,109000,108900,104500,105300,104300,105200,107000,107100,106300,107200,111000]
[null,null,"State","Utilities",43220000,13200,13100,13100,13200,13200,13700,13700,13700,13400,13400,13400,13400,13400,13400,13300,13200,13000,13400,13200,12900,12400,12300,12100,11900,11700,11700,11700,11700,11700,12000,12000,11900,11600,11500,11500,11400,11400,11400,11400,11500,11500,11800,11900,11800,11600,11600,11500,11500,11500,11400,11400,11500,11700,11800,11800,11800,11600,11700,11500,11400,11400,11400,11400,11500,11500,11700,11700,11600,11400,11300,11200,11200,11200,11100,11000,11100,11200,11400,11500,11400,11200,11300,11100,11000,11000,11100,11000,11000,11100,11400,11300,11300,11000,11100,11000,10900,10900,10900,11000,11100,11100,11300,11400,11300,11100,11000,11000,11000,11100,11000,11100,11100,11200,11400,11400,11500,11300,11300,11100,11000,11000,11100,11000,11000,11000,11100,11200,11100,11000,10900,10900,10900,10800,10800,10800,10900,10900,11100,11100,11100,10900,10900,10900,10800,10800,10800,10800,10800,10800,11100,11100,11100,10900,10900,10800,10800,10700,10800,10700,10700,10800,10900,10900,10800,10600,10500,10500,10400,10200,10600,10300,10400,10500,10700,10700,10700,10500,10500,10500,10500,10300,10500,10500,10500,10500,10700,10700,10600,10300,10100,10100,9900,9700,9700,9700,9700,9800,9900,9900,9900,9600,9600,9600,9500,9500,9500,9500,9500,9500,9700,9700,9700,9500]
[null,null,"State","Transportation and Warehousing",43400089,89100,89300,90100,92000,93300,91300,89700,90400,94400,96700,95800,95100,94000,93700,94100,95900,97400,95300,92700,93500,96800,97300,96700,95700,91000,90400,91200,92800,94800,93100,89600,90000,94400,95900,95700,94500,91400,91400,91900,93700,95500,95600,91400,91400,96200,97200,96500,95700,91900,92000,92800,94400,96200,96600,93600,93300,97300,99400,99000,98200,93900,94400,95300,96800,98000,97400,94900,95000,99200,99600,99600,99700,95900,96500,97400,98200,99700,99600,96100,96400,100800,101200,100900,101500,96800,97100,97700,98300,100400,100700,96200,97400,101300,101800,101800,101800,97600,97600,97500,97600,99000,98700,94800,95200,98300,98700,97900,97500,92500,92000,91700,93100,94700,94900,90400,90500,94200,94200,93400,93400,89400,89400,89800,91400,92200,92500,88800,88600,92200,93100,92600,92700,88900,88600,88900,89800,90800,89800,87600,87700,91600,91900,91700,92000,88100,88000,88000,87900,90600,89500,87300,87700,91200,91500,91600,92200,88100,88100,88600,88600,90300,89700,86700,87900,90800,91500,91900,92500,89000,88800,89300,90000,91600,91300,88200,89100,92500,93000,94100,95300,90900,90500,91100,91800,93400,93600,92000,93400,97500,98000,98400,100200,95400,95400,95400,96400,97600,96500,94800,95400,98900,98800,99400,99400,95000,95800,94800,95700,97500,97400,96600,97500,101500]
[null,null,"State","Truck Transportation",43484000,44200,44400,44900,45500,46600,47600,47400,47900,47800,47900,47600,47400,45000,44900,45000,45500,46200,46800,46600,46500,46100,45900,46000,45600,43600,43100,43400,43700,45200,45800,45500,46100,45700,45600,45900,45000,42900,42900,43200,44000,45300,46200,46100,46500,46500,46500,46400,45900,43700,43800,43900,45800,46300,46800,47800,47900,47900,48100,48000,47600,45400,45700,46100,47400,48300,48900,49200,49500,49500,49500,49400,49000,47000,47400,47900,48900,49700,50400,50200,50700,50800,50400,50100,49600,46700,46500,46900,47400,48600,48900,48600,49300,49100,49000,48800,48000,45800,45500,45400,45800,46500,47100,46800,46900,46700,46800,46600,45300,42900,42300,42100,42200,42900,43200,42900,42800,42600,42200,41400,40600,38800,38700,38800,40200,40900,41500,42000,42000,41900,42200,42000,41400,39800,39700,40100,40900,41700,42300,42700,42900,42800,42800,42500,42000,40300,40200,40500,41500,42100,42900,43100,43300,43200,43200,43000,42500,40800,40700,41100,41500,42700,43200,43300,43500,43300,43500,43300,42700,41400,41300,41700,42200,43400,43900,44200,44500,44100,43700,43700,43500,41800,41700,42200,43200,44100,44500,44800,44900,44600,44600,44300,43800,42400,42500,42600,43500,43900,44500,44600,44600,44300,43700,43500,42900,41600,42200,41500,42500,43300,44200,44600,44900,45700]
[null,null,"State","Information",50000000,52500,52400,52500,52600,52900,53400,53800,53900,53800,54600,55600,55600,53800,53600,53800,54000,53400,53700,53300,53100,52600,52500,52800,52500,51800,51300,51200,51100,51000,51100,51100,51200,50600,50800,51200,51400,50700,50100,50100,49900,49900,50200,50200,50400,50400,50300,50800,51000,50200,49800,49900,49600,49600,49700,50200,50300,49700,49600,50000,50100,49600,49400,49300,49600,49700,50100,49800,50000,49600,49600,50000,50100,49600,49300,49100,48900,48900,49100,49200,49400,48900,49300,49800,50000,49800,49500,49400,49700,49900,50400,50600,50800,50300,50600,50800,50900,50300,50000,49900,50100,50900,50700,50500,50500,49800,49700,49900,49900,49100,48900,48300,48000,48100,48100,48100,48000,47400,46900,47400,47600,46600,46200,46100,45900,46100,46700,47100,47200,46800,46500,47400,47400,46900,46600,46400,46500,46500,46400,47100,47200,46800,46700,47200,47100,46400,46000,45800,45900,45900,46500,46800,47100,46500,46600,47100,46900,46900,46700,46500,46700,47100,47200,47700,47900,47100,47400,47800,47900,47400,47300,47100,47100,47500,47700,48400,48800,47700,48500,48700,48800,48500,48100,47800,48000,48300,48400,49600,50000,49000,49600,49800,49600,49200,49100,48900,49000,48900,48900,49500,49700,48600,48300,48000,48000,47700,47600,47300,46900,46700,47000,47000,46700,46300]
[null,null,"State","Financial Activities",55000000,143000,142900,143100,144100,144500,146500,146800,146500,145500,145400,145700,146600,145700,145600,146500,146100,147000,148800,149200,148900,147600,146800,147100,147200,146700,147000,147000,147700,148400,150000,150800,151100,149600,149300,149900,150600,149300,149900,150000,150900,152100,153600,153600,153700,152100,151800,151800,152700,151600,151300,151500,152500,153100,154700,155600,155800,153700,153900,153900,155100,153100,152400,152800,153500,154000,155700,156400,156400,155000,154600,154600,155600,154100,153700,153800,155100,156200,157600,158600,158300,157000,156700,156700,157600,156400,156100,155800,156500,156900,158700,158800,158300,156600,157800,157700,158600,157400,157700,157300,158100,159200,160000,160700,160300,157800,157300,157100,157600,156400,155600,155100,155800,156100,156900,156800,156700,154100,153800,153500,153800,152100,151700,151900,152000,152200,153200,153500,153200,151500,151500,151300,151900,150200,149800,149900,150300,150600,151800,152300,152000,151000,150600,150300,150800,150100,149800,150000,150100,150800,152200,152500,152500,150800,150700,150400,150900,149400,149200,149500,149400,150300,151900,152600,152400,150600,150300,150000,150400,147900,147800,148200,148900,149700,151500,152000,152300,150800,150000,150000,150900,149600,149500,149700,150000,151100,152800,153500,153100,151200,151100,151000,151600,150000,149800,150000,150600,151300,152900,154200,154000,152200,151600,151300,151900,152600,152400,152300,152800,152600,153600,153800,154500,153400]
[null,null,"State","Finance and Insurance",55520000,117500,117400,117500,118000,118000,118900,119100,118900,118600,118900,119600,120100,119900,119900,120500,119800,120100,120900,121500,121100,120500,120400,120800,120900,120800,121100,121000,121400,121400,122200,123000,123200,122400,122500,123300,123700,123500,124000,124100,124300,124700,125400,125300,125200,124400,124400,124800,125500,125000,124900,125000,125400,125400,126200,126500,126700,125400,126100,126400,127400,126000,125500,125800,125800,125900,126800,127100,127200,126400,126700,126900,127500,126800,126600,126600,127400,127900,128300.00000000001,129000,128800.00000000001,128400,128699.99999999999,129000,129600,129100,128900,128500,128800.00000000001,128600,129500,129600,129100,128300.00000000001,129900,130300.00000000001,130800.00000000001,130600,130900,130500,131000,131500,131600,132300,132000,130600,130400,130600,130900,130800.00000000001,130400,130100,130600,130400,130300.00000000001,130199.99999999999,130100,128400,128600,128699.99999999999,128800.00000000001,127600,127400,127700,127500,127400,127600,127800,127600,126700,127000,127100,127600,126600,126300,126300,126300,126300,126500,127000,126700,126400,126600,126500,127000,126800,126600,126900,126500,126500,127000,127000,127100,126300,126600,126700,127000,126000,125900,126100,125600,125700,126400,126800,126700,125700,126000,126100,126400,124600,124600,124900,125000,125200,125900,126200,126500,125800,125600,126000,126900,126100,126100,126200,126000,126100,126800,126800,126600,125500,125800,126000,126600,125900,125600,125800,125800,125700,126400,127400,127200,126300,126200,126300,126900,127800,127700,127500,127400,126600,126700,126600,127300,126900]
[null,null,"State","Credit Intermediation and Related Activities including Monetary Authorities-Central Bank",55522000,49300,49100,48900,48900,48900,49200,49500,49500,49200,49200,49700,49900,50100,50100,50400,49800,50100,50500,50900,50800,50700,50400,50600,50800,50900,50900,51100,51100,51100,51600,52200,52400,52200,52200,52900,53200,53100,53300,53500,53700,54000,54500,54700,54700,54400,54100,54200,54400,54100,54000,54000,54200,54300,54600,54600,54600,54200,54300,54500,55100,54300,54000,54100,54200,54200,54500,54800,54700,54700,54500,54900,55200,55200,54900,54800,54800,54900,55100,55200,55100,54800,54900,55100,55100,55600,55400,55100,54800,54800,55100,55000,54400,54000,53900,54000,54100,54200,54400,54300,54400,54500,54600,54600,54700,54100,53900,54200,54500,54800,54500,54400,54300,54200,54200,54000,53800,53100,53200,53200,53300,52800,52700,52800,52600,52500,52400,52400,52400,52000,52000,51900,52200,52000,51700,51600,51300,51200,51100,51300,51100,51000,51100,50900,51000,50800,50600,50700,50500,50500,50600,50500,50600,50300,50400,50500,50600,50300,50200,50100,50100,50200,50400,50400,50300,49700,49600,49600,49700,49900,49700,49700,49700,49900,49900,49900,49900,49500,49300,49300,49600,49100,49000,49000,48800,48900,49000,48600,48500,48000,47800,47800,48000,47700,47600,47500,47500,47600,47900,48100,48000,47800,47600,47700,47700,47600,47700,47700,47800,47500,47500,47500,47700,47500]
[null,null,"State","Depository Credit Intermediation including Monetary Authorities-Central Bank",55522100,0,0,0,0,0,0,0,0,0,0,0,0,0,0,0,0,0,0,0,0,0,0,0,0,0,0,0,0,0,0,0,0,0,0,0,0,42500,42500,42600,42500,42500,42700,42900,42700,42300,42000,41900,42100,42100,41800,41800,41800,41900,42200,42100,42100,41700,41600,41600,42100,41600,41200,41300,41300,41300,41400,41600,41500,41500,41200,41500,41700,41900,41700,41700,41800,41800,41900,42000,41900,41600,41600,41700,41900,42500,42300,42100,42000,42000,42400,42500,42400,42100,42100,42300,42500,42800,42800,42800,42800,42900,43000,43100,43200,42800,42500,42700,43000,43300,43000,42900,42800,42600,42700,42600,42400,41900,41800,41800,41900,41600,41400,41500,41300,41300,41500,41400,41400,41100,41100,41000,41300,41300,41000,41000,40900,40900,41000,41200,41100,41000,41000,41100,41200,41100,40900,41000,40800,40700,40800,40700,40700,40400,40400,40400,40400,40300,40200,40100,40100,40300,40400,40500,40500,40100,40100,40200,40400,40400,40300,40400,40400,40500,40500,40400,40400,40100,39900,40000,40200,39800,39700,39700,39500,39600,39700,39500,39500,39200,39100,39200,39400,39300,39300,39300,39400,39400,39700,39800,39700,39500,39400,39500,39700,39700,39600,39700,39700,39500,39500,39600,39800,39700]
[null,null,"State","Insurance Carriers and Related Activities",55524000,58500,58500,58800,59100,59000,59400,59100,58900,58800,59100,59300,59600,59200,59100,59400,59300,59300,59800,59800,59400,59000,59200,59300,59500,59100,59200,59200,59300,59500,59900,59800,59800,59600,59300,59500,59700,59400,59800,59800,59900,60000,60300,59800,59800,59400,59800,60100,60500,60400,60400,60500,60700,60800,61100,61300,61500,60900,61300,61400,61900,61100,61200,61200,61200,61400,62100,61800,61900,61500,61500,61500,61800,61100,61200,61400,62100,62400,62800,62900,62700,62700,62900,63000,63500,62600,62600,62700,62900,62700,63200,63200,63200,63100,63100,63300,63500,63200,63400,63300,63500,64000,64200,64400.000000000007,64200,63700,64099.999999999993,64300,64599.999999999993,64200,64400.000000000007,64500,65099.999999999993,65099.999999999993,65200,65099.999999999993,65099.999999999993,64599.999999999993,64500,64599.999999999993,64800,64000,64000,64200,64300,64200,64400.000000000007,64500,64400.000000000007,64000,64099.999999999993,64300,64400.000000000007,63700,63700,63900,63800,63900,64099.999999999993,64500,64500,64300,64300,64400.000000000007,64800,64599.999999999993,64700,64900.000000000007,64900.000000000007,64900.000000000007,65400.000000000007,65400.000000000007,65500,65099.999999999993,65400.000000000007,65400.000000000007,65600,64900.000000000007,64900.000000000007,65300,64800,64700,65200,65300,65400.000000000007,65099.999999999993,65300,65400.000000000007,65700,64300,64500,64800,64700,64900.000000000007,65400.000000000007,65600,65800,65500,65600,65900,66500,66200,66200,66300,66200,66300,66700,66800,66800,66300,66600,66800,67200,67100,66900,67100,67000,66900,67500,67900,67800,67300,67600,67500,67100,67900,67400,67600,67400,67000,67100,67200,67800,67300]
[null,null,"State","Real Estate and Rental and Leasing",55530000,25500,25500,25600,26100,26500,27600,27700,27600,26900,26500,26100,26500,25800,25700,26000,26300,26900,27900,27700,27800,27100,26400,26300,26300,25900,25900,26000,26300,27000,27800,27800,27900,27200,26800,26600,26900,25800,25900,25900,26600,27400,28200,28300,28500,27700,27400,27000,27200,26600,26400,26500,27100,27700,28500,29100,29100,28300,27800,27500,27700,27100,26900,27000,27700,28100,28900,29300,29200,28600,27900,27700,28100,27300,27100,27200,27700,28300,29300,29600,29500,28600,28000,27700,28000,27300,27200,27300,27700,28300,29200,29200,29200,28300,27900,27400,27800,26800,26800,26800,27100,27700,28400,28400,28300,27200,26900,26500,26700,25600,25200,25000,25200,25700,26600,26600,26600,25700,25200,24800,25000,24500,24300,24200,24500,24800,25600,25700,25600,24800,24500,24200,24300,23600,23500,23600,24000,24300,25300,25300,25300,24600,24000,23800,23800,23300,23200,23100,23600,24300,25200,25500,25400,24500,24100,23700,23900,23400,23300,23400,23800,24600,25500,25800,25700,24900,24300,23900,24000,23300,23200,23300,23900,24500,25600,25800,25800,25000,24400,24000,24000,23500,23400,23500,24000,25000,26000,26700,26500,25700,25300,25000,25000,24100,24200,24200,24800,25600,26500,26800,26800,25900,25400,25000,25000,24800,24700,24800,25400,26000,26900,27200,27200,26500]
[null,null,"State","Professional and Business Services",60000000,238700,240900,244200,248000,251300,254900,252700,255700,254800,253000,252100,247700,238000,238100,237900,241800,243300,245300,245200,247000,243000,241300,238500,235900,231700,232400,236000,242700,244400,247200,248000,250100,247600,247400,243700,241700,237900,239400,241300,246100,246600,249000,250600,251800,252300,252500,250300,250100,243000,244100,246300,252500,253800,259399.99999999997,261500,265600,261700,263700,260800,260200,252600,254600,257700,265300,264400,268300,271500,274200,273200,270700,270100,270500,260200,263200,264600,273100,273700,278500,278200,280600,279700,280000,278500,276700,268600,270400,272300,279000,281300,287200,286800,289800,287100,287000,286600,287500,277400,279800,278900,283500,285300,288800,289600,292600,289400,286500,281400,278900,262900,258600.00000000003,255600,257899.99999999997,258600.00000000003,260399.99999999997,261500,263100,261500,264900,265500,265800,256000,259500,259800,269200,271000,274800,279000,283200,281600,285600,286000,286200,277200,277600,280400,283900,284800,290600,291300,293800,294000,294000,293700,291100,282800,284300,288200,291600,292900,298200,297200,298700,298800,300300,301500,297600,287600,291300,294800,294700,299600,304600,306600,309100,307500,307600,309000,307700,298000,299200,299000,302300,306200,309800,311200,314000,312000,315400,315200,311600,302600,303400,304200,310400,312800,316300,320600,323500,319600,322500,321600,321800,314400,315700,315400,321000,320900,324000,326800,328100,325600,326400,324000,317800,312500,315900,318600,320500,325000,327300,330000,330200,327400]
[null,null,"State","Professional, Scientific, and Technical Services",60540000,87700,89100,89600,89200,88000,89500,89100,89300,88600,88300,88900,89800,89600,90900,90900,91100,88300,89100,89100,89400,87900,88400,88100,88300,89600,90300,90500,90700,87800,88600,89300,89400,88100,88600,89200,90200,89900,90700,90500,90500,87600,88000,87700,87900,86900,87800,87900,88700,88500,89600,89500,90400,88000,88900,89500,89900,88600,89300,89800,91000,91400,92700,92700,93300,90500,91600,92500,93100,92200,92600,93000,94700,94700,95900,95700,97000,94100,95200,95500,95700,94700,95200,95400,96500,97000,98200,98300,99300,96800,97900,98400,98900,97800,98200,98600,100000,100000,101300,101000,102800,99600,100500,100400,100900,100000,100100,99700,100500,99500,100000,98800,98100,94000,94200,93500,93100,92000,92300,93000,93400,93300,94500,94200,94700,91800,92400,93100,93300,92100,93800,94000,95500,95500,97100,96700,98000,94900,95300,95500,96000,95300,96000,96800,97100,97300,98800,98800,99800,96800,97700,97500,97900,96800,98100,99700,98600,98900,100700,100500,101100,98500,99100,99900,100000,98800,99800,100200,100800,100700,102100,102000,102600,99900,101200,101200,101700,99900,100600,101000,101800,103300,104600,104700,105600,103200,104400,105100,105200,103700,105000,105400,105900,106700,108300,108000,109000,106100,106500,107600,108000,106400,106700,106400,106000,105300,107300,108400,108400,106600,106600,106900,105800,104200]
[null,null,"State","Architectural, Engineering, and Related Services",60541300,0,0,0,0,0,0,0,0,0,0,0,0,0,0,0,0,0,0,0,0,0,0,0,0,0,0,0,0,0,0,0,0,0,0,0,0,0,0,0,0,0,0,0,0,0,0,0,0,0,0,0,0,0,0,0,0,0,0,0,0,17500,17400,17700,18000,18300,18800,19200,19300,19200,19000,18900,18800,18200,18000,18100,18600,18900,19600,19700,19800,19600,19700,19500,19400,18900,18800,19100,19500,19800,20500,20600,20800,20600,20600,20600,20700,20100,20000,20100,20500,20600,21000,21000,21100,20800,20600,20300,20000,18900,18500,18300,18200,18200,18300,18300,18100,17900,17900,17800,17400,16900,16900,16900,17100,17400,17700,18100,18000,17700,17800,17700,17700,17200,17100,17300,17700,17900,18100,17900,18000,17900,18000,17900,17700,17000,16700,16800,17300,17400,17700,17700,17700,17400,17400,17100,17000,16100.000000000002,16000,16100.000000000002,16200,16500,16800,17000,17000,16700,16800,16800,16700,16300,16200,16200,16500,16700,17100,17300,17200,17000,16800,16700,16700,16500,16500,16500,16700,17000,17500,17600,17600,17200,17400,17400,17300,17000,16900,16800,17100,17200,17600,17900,17800,17500,17600,17100,17200,17400,17400,17300,17200,17400,17800,18000,18100,17600]
[null,null,"State","Management of Companies and Enterprises",60550000,0,0,0,0,0,0,0,0,0,0,0,0,0,0,0,0,0,0,0,0,0,0,0,0,0,0,0,0,0,0,0,0,0,0,0,0,40800,40800,40800,40500,40500,41000,41300,41300,41100,41800,41900,41800,43000,42900,42900,42700,43000,43600,43700,43800,43400,43600,43800,43900,43700,43800,43900,43900,44000,44500,44700,44700,44400,44100,44300,44500,43800,43600,43600,44100,44300,45000,45300,45400,45300,45500,45700,46000,46100,46200,46300,46600,46800,47200,47000,46900,46600,46700,46900,47100,46900,47000,46900,47200,47800,48300,49100,49100,49000,48900,49200,49500,48500,48400,48100,48000,48300,48800,49300,49200,49100,49100,49300,49800,48400,48900,49200,49700,50100,50800,51000,51700,51600,51900,52500,53000,52300,52500,52600,53000,53400,54200,54700,54900,54900,55100,55400,55700,55200,55100,55400,55600,56000,57000,57300,57200,56800,57000,57600,57900,57300,57300,57900,57700,58100,59100,59300,59400,59000,59200,59600,59800,58300,58400,58700,58700,59100,60000,60200,60500,60000,59800,60100,60200,60600,60900,61400,61700,62500,63700,64900.000000000007,65700,65500,66000,66700,67300,67100,67300,68100,68100,68300,69100,69700,69600,69000,69100,69500,69400,69200,69200,69300,69000,69300,70600,70700,70900,70300]
[null,null,"State","Administrative and Support and Waste Management and Remediation Services",60560000,119500,120200,123000,126900,131500,133200,131300,134100,133900,132300,130900,125700,116200,114900,114700,118200,122200,122800,122300,123600,121200,118700,115900,113000,107000,107000,110100,116800,121300,122700,122800,125100,123900,123600,119300,116100,107200,107900,110000,115100,118500,120000,121600,122600,124300,122900,120500,119600,111500,111600,113900,119400,122800,126900,128300.00000000001,131900,129699.99999999999,130800.00000000001,127200,125300,117500,118100,121100,128100,129900,132200,134300,136400,136600,134000,132800,131300,121700,123700,125300,132000,135300,138300,137400,139500,139700,139300,137400,134200,125500,126000,127700,133100,137700,142100,141400,144000,142700,142100,141100,140400,130500,131500,131000,133500,137900,140000,140100,142600,140400,137500,132500,128900,114900,110200,108700,111800,116300,117400,118700,120800,120400,123500,123200,122600,114300,116100,116400,124800,129100,131600,134900,138200,137900,139900,139500,137700,129400,128000,131100,132900,136500,141100,141100,142900,143800,142900,141500,138300,130300.00000000001,130400,134000,136200,140100,143500,142400,143600,145200,145200,144200,141100,131400,133300,136400,135900,143000,146400,147400,149700,149700,148600,149200,147100,139000,138700,138300,141000,147200,148600,149800,151800,152100,155000,154100,149600,138700,137900,138100,143100,147100,148200,150600,152600,150400,151500,149500,148600,140600,140100,139300,143900,146500,148400,149500,150500,150200,150600,148100,142400,138000,139400,140900,143100,149100,150100,152400,153500,152900]
[null,null,"State","Employment Services",60561300,59200,59400,60700,61200,63400,63700,61900,64599.999999999993,65300,63700,63400,59500,54300,52700,51900,51100,52700,51900,51200,52700,52500,49100,47200,46500,43400,43400,45500,48500,50600,51100,50700,53300,53900,54000,50700,49700,45000,45200,46600,47600,48600,48800,50800,51600,54400,53400,52300,52200,47700,47800,49500,50500,52100,54900,55500,58800,58200,59000,57000,56500,51500,52500,54500,55600,55800,57200,58800,61000,61700,59900,59700,59600,54000,54800,55700,57000,58400,59900,59700,61900,63300,63500,62300,61400,55000,55100,56600,56900,59000,61800,61000,63800,64099.999999999993,63100,62700,62900,57000,57500,57800,56400,57100,58200,58000,60600,60400,57900,54000,51200,41600,38900,37300,37500,39500,39900,40800,43400,44400,46800,46900,46700,42900,44100,45600,48500,51100,52800,55700,58700,59900,60400,60700,60300,54500,53900,56400,56000,57300,60900,59800,62100,64599.999999999993,63600,63100,63100,57200,58000,61000,59800,61900,64200,63100,64800,67100,67100,66800,66000,59300,60200,62300,60800,63400,65400.000000000007,65400.000000000007,68400,70000,68800,70400,69400,64500,64500,65099.999999999993,64300,67400,67700,67700,70300,72100,75700,75400,73600,64800,64500,65000,64800,66400,66100,67700,70600,70100,71000,70100,72300,64900.000000000007,64400.000000000007,63800,63900,64700,65200,65600,67300,68900,69700,68000,66100,62300,63300,63700,65600,67300,65500,66700,67500,68800]
[null,null,"State","Services to Buildings and Dwellings",60561700,24000,24000,25100,28300,30000,31100,30900,30700,29700,29200,28400,26900,24300,24300,24900,28800,30800,31700,31700,31400,30000,30000,28900,26500,24500,24500,25100,28900,31100,31800,31500,31300,30100,29600,28700,26800,23600,24400,25000,28600,31100,32000,31800,31600,30500,29800,28800,27200,25000,25100,25200,29600,31500,32400,33000,32800,31600,30700,29800,27700,25700,25600,26000,30400,32299.999999999996,33400,33600,33200,32299.999999999996,31400,30800,29000,25700,26600,27000,31500,33400,34800,34500,34200,33200,32299.999999999996,31400,29100,26700,27200,27500,32400,34800,36000,35900,35500,34200,33800,32900,31600,28900,29600,28900,32299.999999999996,35600,36500,36300,36000,34600,34000,32900,32200.000000000004,30000,28700,28600,31300,33600,34300,34400,33600,32700.000000000004,32200.000000000004,31600,31000,27500,28400,26800,31800,33200,34200,33900,33800,32800,32900,32100,31300,29900,29700,29900,32000,33900,35000,35300,35000,34000,33500,32800,30200,29900,29100,29500,32900,34300,35200,34700,34600,33800,33400,32700.000000000004,31200,29300,30300,30700,31500,35700,37000,37300,37200,35800,35700,34900,34300,32299.999999999996,31900,31000,34000,37100,38300,38600,38600,37400,36500,35900,33200,32000,31600,31500,36300,38400,39500,39900,39500,38200,37700,36700,33600,34000,33800,33300,37300,38900,40100,40500,40200,38700,38400,38500,36000,34200,33800,34600,35900,39800,41600,42500,42500,40400]
[null,null,"State","Education and Health Services",65000000,331200,334300,336600,338800,338000,340200,339700,340700,341300,342600,345200,346300,341900,347600,349000,349500,349300,349000,347900,347900,350000,352600,355200,355300,350300,352300,353000,355500,355900,358400,356100,357400,357500,360200,362700,362100,358800,360600,360800,362700,362600,358100,358800,359000,366300,370100,370100,369500,366500,369100,369700,372400,371900,372600,372200,372000,372700,374700,376600,377000,373900,375800,376900,379200,378800,380300,378700,379000,381100,382300,384400,384400,381500,383900,384200,385300,386400,387400,386300,386700,388500,390800,392300,392100,387600,389800,390700,391200,392700,393500,392300,393500,394700,394500,395200,396200,392300,394300,395700,396500,398100,398500,397800,399500,400800,405300,406500,408400,403700,405700,407400,405900,406300,406100,404400,405000,405200,408900,409000,409300,405400,407500,409300,406500,407100,406100,405500,406000,406200,409500,410500,411000,405200,407500,408400,410400,411600,408200,406900,407400,412800,415900,416700,418100,410100,415600,418200,418400,419300,416200,410600,413300,420200,425100,425800,427100,416700,423400,424800,425000,425500,422000,416100,419300,425400,429600,430700,431000,422800,429300,430700,431400,431500,429300,423200,425700,431700,435100,436900,438100,427600,434800,436700,437000,437600,434800,429400,430600,436500,441400,442900,444800,435900,443300,444700,446300,444700,442100,439200,440100,446500,451900,453900,452400,445600,450100,452100,452200,449200,447900,446200,446100,449800]
[null,null,"State","Educational Services",65610000,41500,43800,44100,45100,44100,44600,42600,42500,43800,44700,45900,45700,42000,47000,46800,47300,45600,42700,41000,39800,43200,44800,45500,44700,42800,44900,44500,45900,44700,45100,42800,42800,44100,45000,46200,45200,42700,44900,44400,44700,43900,38400,38300,38300,47300,49400,49000,47500,44500,47300,47100,48500,47000,47000,45200,44900,46700,47700,48800,48100,46700,48200,48400,49300,48200,48100,45900,45700,47800,48400,49700,48700,47400,49300,49200,49700,49600,48700,47000,46400,48800,49700,50800,50000,48100,49900,50300,49900,50100,48700,47300,47400,49500,48000,47900,47900,46300,48000,48400,48400,48400,47400,46300,46400,49100,51700,52000,52500,50700,52500,53400,50900,50300,49100,47800,47500,49700,51100,51600,51400,49200,51500,52200,50300,50100,48500,47500,47300,49000,50800,51200,50900,48300,50800,51000,51000,51600,47100,45200,45300,50300,52900,53400,52900,46700,51900,53200,52200,52400,47700,41000,42400,49900,52900,53200,52700,46500,53000,53300,52600,51600,46900,41000,42300,49900,53100,53400,52600,46800,53000,53200,52800,52100,47300,41500,42600,50300,53100,53300,53100,46800,53500,53800,53200,52200,47600,42000,42400,50400,53400,53900,53200,47000,53400,53800,53800,51600,48100,42400,43100,51300,55100,55700,55100,49000,54300,54700,54000,51900,47000,44000,44400,51400]
[null,null,"State","Colleges, Universities, and Professional Schools",65611300,18400,19600,20000,19900,19700,19400,19300,19400,20300,20200,20300,20600,16000,20200,20500,20200,19800,16700,16400,16000,19400,21000,21300,21200,16600,20900,20500,20500,20200,15400,15200,15300,19500,21300,21600,20600,17900,21800,22100,21600,21500,16100.000000000002,16000,15900,20500,23500,23400,22700,18100,21600,22100,21800,21700,18100,16200,16000,19500,20500,20600,20300,17300,20500,20800,20300,20200,16600,15600,15500,20200,22100,22200,21400,18000,21300,21600,21200,21100,17200,16200,16000,20400,22400,22400,21800,18100,21500,21800,22300,22200,18300,17400,17300,21400,23200,23100,22300,18900,21900,22500,23100,22800,19000,18100,18100,22400,24400,24300,23700,20100,23100,23800,24400,23900,23100,22600,22800,24600,25200,25300,25200,23300,25300,25600,25700,25400,24200,23700,23900,25100,26400,26600,26400,24300,26400,26600,26300,26800,22800,21800,21800,26200,27900,28300,27500,21500,26400,27500,26700,26500,22400,21100,22100,25900,27400,27300,26900,21200,27200,27300,26700,25600,21900,20800,21800,25500,27000,26900,26400,21100,26800,26800,26400,25600,21400,20800,21700,25500,26800,26800,26500,20400,26800,27000,26300,25200,21000,20700,21000,24800,26300,26400,25900,20300,26100,26400,26400,24100,21200,20700,21200,25600,27700,28000,27600,22000,27300,27700,27400,26300,21600,20700,21000,24800]
[null,null,"State","Health Care and Social Assistance",65620000,289700,290500,292500,293700,293900,295600,297100,298200,297500,297900,299300,300600,299900,300600,302200,302200,303700,306300,306900,308100,306800,307800,309700,310600,307500,307400,308500,309600,311200,313300,313300,314600,313400,315200,316500,316900,316100,315700,316400,318000,318700,319700,320500,320700,319000,320700,321100,322000,322000,321800,322600,323900,324900,325600,327000,327100,326000,327000,327800,328900,327200,327600,328500,329900,330600,332200,332800,333300,333300,333900,334700,335700,334100,334600,335000,335600,336800,338700,339300,340300,339700,341100,341500,342100,339500,339900,340400,341300,342600,344800,345000,346100,345200,346500,347300,348300,346000,346300,347300,348100,349700,351100,351500,353100,351700,353600,354500,355900,353000,353200,354000,355000,356000,357000,356600,357500,355500,357800,357400,357900,356200,356000,357100,356200,357000,357600,358000,358700,357200,358700,359300,360100,356900,356700,357400,359400,360000,361100,361700,362100,362500,363000,363300,365200,363400,363700,365000,366200,366900,368500,369600,370900,370300,372200,372600,374400,370200,370400,371500,372400,373900,375100,375100,377000,375500,376500,377300,378400,376000,376300,377500,378600,379400,382000,381700,383100,381400,382000,383600,385000,380800,381300,382900,383800,385400,387200,387400,388200,386100,388000,389000,391600,388900,389900,390900,392500,393100,394000,396800,397000,395200,396800,398200,397300,396600,395800,397400,398200,397300,400900,402200,401700,398400]
[null,null,"State","Ambulatory Health Care Services",65621000,87100,87300,87800,88300,88700,88800,89600,89900,89600,88800,89100,89600,90100,90400,90800,90800,91400,92000,92900,93400,92600,93200,93600,94200,93100,93000,93100,94700,95300,96100,95600,96200,95500,96100,96500,96700,96000,96000,96100,96900,97200,97400,98100,98100,97500,98100,98100,98800,97500,97400,97500,98600,99000,99300,100700,100800,100200,100500,100700,101500,100300,100500,100800,101700,102000,102300,103000,103100,102800,103100,103300,103700,102600,102500,102500,103100,102900,103200,103400,103300,102600,103000,102600,102700,101600,102000,102200,102500,102800,103700,103900,104500,104200,104800,105200,105800,104500,104500,104700,105400,105700,106000,106400,107000,106700,107400,107700,108400,106700,106700,107000,106900,107200,107500,107700,107900,107300,108300,108200,108600,108000,108000,108100,108200,108500,108900,109200,109600,109500,110500,110900,111500,110600,110900,111100,111700,112000,112700,113200,113800,114100,114400,114800,115700,113500,113900,114200,114100,114600,115300,115200,115700,115600,116000,116300,117000,116200,116600,116700,116700,117200,117700,117800,118600,118300,118500,118900,119300,118100,118200,118500,118600,118700,119200,119200,119600,119400,119800,119900,120200,118100,118200,118400,118100,118800,119200,119400,119900,119300,120100,120500,121100,119600,120000,120000,120300,120600,120400,121500,121900,121100,121800,121700,122400,121500,121700,121800,122600,122300,122100,122600,121900,122700]
[null,null,"State","Offices of Physicians",65621100,34200,34200,34500,34700,34900,35100,35500,35800,35600,35800,35900,36100,37000,37100,37200,37500,37900,38300,39000,39500,39300,39700,40200,40500,40200,39900,39800,40600,40700,41000,41400,41700,41400,41600,41700,41700,41400,41300,41400,41500,41800,41900,42300,42300,42100,42300,42500,42800,42300,42200,42200,42800,42900,43000,43800,43800,43700,43700,43700,43900,43500,43500,43400,43800,43900,44100,44400,44500,44300,44500,44500,44700,44000,44000,44000,44200,43900,44000,43800,43700,43300,43500,43200,43100,42700,42500,42400,42600,42600,43000,43000,43200,43300,43800,44100,44400,43800,43700,43800,43900,43900,44000,44100,44300,44100,44200,44300,44800,44000,43900,44000,43700,43700,43800,44000,44200,44000,44500,44500,44800,44700,44600,44700,44400,44500,44800,45000,45200,45300,45700,46000,46300,45900,46000,46200,46100,46100,46300,46400,46700,46700,46800,47100,47400,46700,46700,46700,46600,46600,46800,46800,46900,46900,47100,47300,47600,47300,47400,47400,47400,47500,47600,47600,47900,47900,48100,48200,48500,47800,48000,48200,48200,48300,48600,48300,48500,48600,48700,49100,49000,47800,47800,47800,47700,47900,48000,48000,48300,48200,48400,48500,48900,48600,48700,48700,48500,48700,48700,48900,49100,49300,49800,50200,50300,49800,49700,49500,49300,49000,49100,49500,49500,49700]
[null,null,"State","Outpatient Care Centers",65621400,12500,12600,12700,12800,12900,12900,12800,12800,12800,12500,12600,12800,12700,12700,12800,12500,12300,12200,11900,11700,11500,11400,11300,11100,11100,11200,11100,11000,11100,11300,11300,11400,11300,11400,11500,11500,11400,11400,11400,11500,11500,11600,11700,11600,11400,11500,11500,11500,11500,11500,11500,11600,11700,11700,11800,11800,11500,11600,11700,11800,11800,11900,11800,11800,11900,12000,11900,12000,12000,12000,12100,12100,12200,12300,12300,12500,12300,12400,12500,12400,12400,12500,12500,12500,12600,12600,12600,12600,12600,12700,12800,12900,12900,13000,13100,13200,13000,13100,13100,13300,13400,13400,13500,13700,13700,13800,13800,13900,13800,13800,13900,13900,13800,13800,13700,13600,13500,13600,13500,13400,13300,13200,13200,13300,13300,13300,13300,13400,13500,13500,13500,13500,13600,13600,13600,13700,13800,14000,14100,14100,14300,14300,14300,14400,14400,14400,14400,14500,14600,14600,14600,14700,14600,14600,14600,14700,14500,14500,14400,14400,14500,14500,14500,14600,14600,14800,14700,14700,14600,14600,14700,14700,14700,14800,14800,14700,14700,14900,14900,15000,14900,14800,14900,14900,15000,15100,15300,15400,15400,15600,15600,15900,15200,15300,15300,15500,15600,15700,15800,15800,15800,15900,16000,16100.000000000002,16000,16100,16000,16300,16200,16300,16100,16100,16200]
[null,null,"State","Hospitals",65622000,89000,88800,89200,89400,89500,90400,90500,90800,90400,90700,91200,91400,91400,91600,91900,92100,92400,93700,93800,94200,93900,94100,94800,94900,94000,94200,94500,94200,94500,95500,96500,96500,96100,96500,96800,97000,97500,97200,97400,97300,97500,98500,98600,98600,98000,98400,98600,98600,99200,99000,99200,99100,99300,100000,100100,99900,99500,99600,100000,100100,99800,99700,100000,99600,99900,100900,101500,101700,101800,101500,101800,102000,102300,102400,102700,102800,103300,104800,105400,105700,105700,106200,106900,106900,106600,106600,106700,106700,106600,107500,108000,107800,107700,107800,107800,108000,108100,108200,108700,108400,108800,110100,110200,110400,110200,110400,110600,110700,110500,110300,110500,110000,109800,110600,110000,109900,109000,109300,108900,109100,109400,109200,109600,108800,108800,109400,109700,109600,109000,108700,108700,109000,107700,107500,107400,107600,107600,107900,108400,108300,108400,108600,108500,109400,109700,109700,110100,110000,109800,110300,110500,110600,110400,110300,110100,110500,108200,107800,108000,107300,107400,107700,107700,107800,107300,106900,106900,107400,106600,106400,106700,106800,106800,107400,107400,107700,107400,107400,108100,108200,107700,107800,108000,108100,108000,108600,109200,109500,109200,109400,109500,110200,110300,110200,110500,111000,111100,111300,111500,111600,111700,111500,111800,111500,110800,111000,110800,111100,110900,111500,111500,111500,111200]
[null,null,"State","Nursing and Residential Care Facilities",65623000,63700,64000,64400.000000000007,64400.000000000007,64099.999999999993,64800,65900,66100,65800,65900,66300,66700,66500,66600,67100,66600,66800,67600,67400,67600,67000,66600,67200,67500,67600,67600,67800,67400,67600,68200,67700,68100,67900,68000,68300,68600,68000,67900,68000,68600,68700,68800,69000,69200,68700,68700,68800,69100,68400,68400,68600,68500,68700,69000,69000,69300,68600,68600,68800,69200,68500,68600,68700,68700,68800,69400,68900,68900,68600,68500,68700,68900,69000,69100,69300,69100,69300,69800,69700,70200,69900,69700,70000,70500,70200,70200,70300,70500,70900,71500,71500,72000,71400,71400,71900,72000,71500,71500,71800,71800,72300,72700,72700,73100,72400,73300,73900,74500,74300,74300,74700,75400,75700,76200,76400,76700,76000,76500,76700,77000,76600,76400,76800,76500,76800,77100,77200,77600,76700,77100,77400,77700,77500,77000,77400,77700,77800,78200,78300,78400,77900,78000,78000,78400,78400,77900,78300,78400,78400,79000,79100,79600,78700,78900,79000,79200,78900,78800,79300,79200,79600,80000,79500,80000,78900,79000,79100,79400,79200,79100,79200,79300,79600,80400,80100,80600,79700,79000,79500,80100,79600,79500,79900,80000,80200,80700,80400,80400,79400,79400,79600,80100,79600,79600,79900,79900,80000,80700,80900,81000,80000,80600,81200,80700,82000,80100,80900,79800,79800,80000,80600,81200,80600]
[null,null,"State","Nursing Care Facilities",65623100,38800,38900,39100,38900,38600,39100,40000,40200,40000,39800,40200,40400,40200,40300,40500,40300,40300,40700,40400,40400,40100,39700,40000,40100,40000,39900,40000,39500,39600,39900,39500,39600,39300,39300,39300,39400,39100,38900,39100,39100,39100,39100,39400,39600,39200,39300,39400,39600,39200,39100,39200,39100,39100,39300,39200,39300,38900,38800,38800,39000,37500,37400,37400,37300,37400,37600,37200,37200,37100,36900,36900,37000,36900,36900,37100,36700,36600,36700,36600,36700,36400,36300,36300,36500,36400,36200,36300,36500,36600,36900,36900,36900,36700,36600,36800,36700,36700,36500,36700,36600,36900,37100,36900,37000,36700,37200,37300,37500,37500,37400,37500,37700,37700,38100,38100,38300,37900,38100,38300,38400,38200,37900,38100,37700,37800,37800,37900,38000,37500,37300,37300,37300,37500,37100,37200,37100,37100,37200,37300,37300,36900,37000,37000,37100,37200,36800,36900,36700,36600,36700,36600,36700,36200,36200,36000,36000,35700,35500,35600,35600,35600,35800,35300,35300,34700,35000,34900,35100,34800,34500,34400,34300,34300,34700,34400,34600,33900,33700,33900,34000,33800,33500,33600,33500,33500,33800,33400,33300,32800,32600,32500,32500,32400,32200.000000000004,32400,32299.999999999996,32500,32900,32700.000000000004,32700.000000000004,32100,32000,32500,32400,32300,31900,31900,31800,31300,31300,31800,32200,31500]
[null,null,"State","Social Assistance",65624000,49900,50400,51100,51600,51600,51600,51100,51400,51700,52500,52700,52900,51900,52000,52400,52700,53100,53000,52800,52900,53300,53900,54100,54000,52800,52600,53100,53300,53800,53500,53500,53800,53900,54600,54900,54600,54600,54600,54900,55200,55300,55000,54800,54800,54800,55500,55600,55500,56900,57000,57300,57700,57900,57300,57200,57100,57700,58300,58300,58100,58600,58800,59000,59900,59900,59600,59400,59600,60100,60800,60900,61100,60200,60600,60500,60600,61300,60900,60800,61100,61500,62200,62000,62000,61100,61100,61200,61600,62300,62100,61600,61800,61900,62500,62400,62500,61900,62100,62100,62500,62900,62300,62200,62600,62400,62500,62300,62300,61500,61900,61800,62700,63300,62700,62500,63000,63200,63700,63600,63200,62200,62400,62600,62700,62900,62200,61900,61900,62000,62400,62300,61900,61100,61300,61500,62400,62600,62300,61800,61600,62100,62000,62000,61700,61800,62200,62400,63700,64099.999999999993,63900,64800,65000,65600,67000,67200,67700,66900,67200,67500,69200,69700,69700,70100,70600,71000,72100,72400,72300,72100,72600,73100,73900,74300,75000,75000,75200,74900,75800,76100,76500,75400,75800,76600,77600,78400,78700,78400,78400,78200,79100,79400,80200,79400,80100,80500,81300,81400,81600,82900,82500,82400,82900,83500,82700,82300,83000,83900,84700,84300,87300,87500,87100,83900]
[null,null,"State","Leisure and Hospitality",70000000,215500,216900,221600,230100,242400,254800,259600.00000000003,261300,248300,235900,228000,226400,219400,220100,223000,233900,246700,257700,263000,262400,247800,236800,227600,224700,221000,220700,222500,231400,245800,256899.99999999997,264200,265000,251900,241700,232000,232100,225600,224000,226600,235800,252200,262600,267500,268200,257500,248300,239500,237900,230300,229400,232600,242700,256200,265900,275000,275600,263400,252900,243400,242600,233800,233900,237700,250300,261500,271900,278000,278800,267700,255200,247700,245600,239000,239600,243400,252600,264400,276500,282100,283100,271000,260600.00000000003,251400,250200,242900,242800,246000,254200,268600,281000,284100,286100,271400,261899.99999999997,253600,251000,242200,241100,244200,252700,268300,277900,281200,282200,268700,259600.00000000003,249200,246100,235100,235600,237900,246300,262000,271900,274000,274300,262200,251500,241500,239600,230800,230700,233600,245400,258100.00000000003,268800,273100,275400,262800,253000,244100,241200,232700,232400,235000,245100,258399.99999999997,270300,275100,276700,264300,253800,244300,241000,234400,235400,240400,250200,263900,276500,280200,280600,269000,256600.00000000003,247800,247600,238800,239600,243200,250400,268600,279800,284500,286600,273800,262500,253600,252600,242500,243800,246800,255800,271800,284500,286300,287500,273800,264400,256300,255200,247300,248500,253100,262800,277900,290900,293500,294400,280700,272800,265300,263400,254300,256399.99999999997,259200,268300,282600,294300,299800,299100,283600,274900,263500,259300,252400,256300,258700,267000,286300,308400,309500,311400,288100]
[null,null,"State","Arts, Entertainment, and Recreation",70710000,26200,26300,26600,30100,35600,39300,41500,40300,36100,32000,27800,27900,26400,26100,25600,30000,35600,39000,41900,40200,35500,32000,27400,26400,26300,26100,25700,30600,35900,39900,43100,42100,37000,33500,28500,29500,27300,27400,27500,31300,37400,41500,43500,42200,38000,33800,29300,29600,28400,28400,28300,32299.999999999996,37200,40800,43300,42600,38200,34300,29800,30000,28000,27800,28200,33000,37200,41500,43300,42700,38700,34500,30000,29800,28100,28600,28800,33400,37700,42300,43700,43600,39200,34900,30200,30500,28800,29200,29500,33000,39200,44200,45000,44900,39900,35800,31500,31600,29500,29400,29300,32700.000000000004,39200,43400,44500,44700,38800,35700,30500,30800,28300,28000,28200,31700,38000,42400,43300,43000,38500,33900,29800,29700,27600,27700,28100,33100,37100,40900,43600,43600,38700,34200,30200,30100,28100,28400,28100,32299.999999999996,36500,41500,44500,43800,39300,35200,31100,30900,29000,28800,29800,33800,38100,42700,44900,43600,39800,35100,30800,31400,29300,29200,29100,31500,38800,43100,45200,44300,40100,36000,32100,32600,30000,30100,30000,32900,38900,44100,46500,45000,40200,36300,32700.000000000004,32900,30900,30600,31100,34900,40300,46100,46700,46300,41400,38500,34800,34000,32200.000000000004,32400,32700.000000000004,36400,41800,47500,50100,48800,43400,39300,33000,32100,30700,30200,31800,36100,43500,52200,52700,51900,45300]
[null,null,"State","Accommodation and Food Services",70720000,189300,190600,195000,200000,206800,215500,218100,221000,212200,203900,200200,198500,193000,194000,197400,203900,211100,218700,221100,222200,212300,204800,200200,198300,194700,194600,196800,200800,209900,217000,221100,222900,214900,208200,203500,202600,198300,196600,199100,204500,214800,221100,224000,226000,219500,214500,210200,208300,201900,201000,204300,210400,219000,225100,231700,233000,225200,218600,213600,212600,205800,206100,209500,217300,224300,230400,234700,236100,229000,220700,217700,215800,210900,211000,214600,219200,226700,234200,238400,239500,231800,225700,221200,219700,214100,213600,216500,221200,229400,236800,239100,241200,231500,226100,222100,219400,212700,211700,214900,220000,229100,234500,236700,237500,229900,223900,218700,215300,206800,207600,209700,214600,224000,229500,230700,231300,223700,217600,211700,209900,203200,203000,205500,212300,221000,227900,229500,231800,224100,218800,213900,211100,204600,204000,206900,212800,221900,228800,230600,232900,225000,218600,213200,210100,205400,206600,210600,216400,225800,233800,235300,237000,229200,221500,217000,216200,209500,210400,214100,218900,229800,236700,239300,242300,233700,226500,221500,220000,212500,213700,216800,222900,232900,240400,239800,242500,233600,228100,223600,222300,216400,217900,222000,227900,237600,244800,246800,248100,239300,234300,230500,229400,222100,224000,226500,231900,240800,246800,249700,250300,240200,235600,230500,227200,221700,226100,226900,230900,242800,256200,256800,259500,242800]
[null,null,"State","Accommodation",70721000,26500,26900,27000,28400,31100,34500,36400,37000,32900,31000,29100,28400,27500,27900,28200,29000,31200,34600,37300,37700,33100,29700,27600,27000,26500,26600,26700,27600,30200,33200,35300,36000,32000,30100,27800,27700,26800,26900,27300,27700,30500,33100,35600,36300,32000,30000,28000,27500,26900,27200,27500,28600,30900,33600,37000,37100,33100,30700,28600,28100,27500,27700,28000,29400,31400,34300,37100,37500,33600,30900,29000,28300,27800,27800,28100,29500,31800,35100,38000,38000,34200,31400,29400,28900,28500,28500,28800,29800,32299.999999999996,35300,38000,37900,33800,31700,29900,29500,28300,28600,29000,29900,32400,35300,37600,37400,33100,31000,28900,28300,27200,27200,26900,27700,30500,33500,35800,35500,31500,29500,27500,27200,26100,26200,26700,27600,29600,33100,35300,35400,31700,29800,28000,27600,26500,26500,27000,28000,30200,33800,36000,35600,32000,30000,28100,27600,26800,27000,27400,28000,30200,34500,36100,35500,31900,29500,27700,27500,26700,26900,27300,27800,30700,34500,36300,36100,31800,29900,27800,27700,26900,27000,27200,27800,30900,34600,35500,35900,31600,29800,27800,27700,27000,27000,27400,27900,30600,34100,36500,36000,32299.999999999996,30000,27800,27300,27100,27400,27500,28400,30700,34300,37000,36200,32299.999999999996,30000,28000,27400,25900,27500,27900,28500,31700,39500,41100,41200,35500]
[null,null,"State","Food Services and Drinking Places",70722000,162800,163700,168000,171600,175700,181000,181700,184000,179300,172900,171100,170100,165500,166100,169200,174900,179900,184100,183800,184500,179200,175100,172600,171300,168200,168000,170100,173200,179700,183800,185800,186900,182900,178100,175700,174900,171500,169700,171800,176800,184300,188000,188400,189700,187500,184500,182200,180800,175000,173800,176800,181800,188100,191500,194700,195900,192100,187900,185000,184500,178300,178400,181500,187900,192900,196100,197600,198600,195400,189800,188700,187500,183100,183200,186500,189700,194900,199100,200400,201500,197600,194300,191800,190800,185600,185100,187700,191400,197100,201500,201100,203300,197700,194400,192200,189900,184400,183100,185900,190100,196700,199200,199100,200100,196800,192900,189800,187000,179600,180400,182800,186900,193500,196000,194900,195800,192200,188100,184200,182700,177100,176800,178800,184700,191400,194800,194200,196400,192400,189000,185900,183500,178100,177500,179900,184800,191700,195000,194600,197300,193000,188600,185100,182500,178600,179600,183200,188400,195600,199300,199200,201500,197300,192000,189300,188700,182800,183500,186800,191100,199100,202200,203000,206200,201900,196600,193700,192300,185600,186700,189600,195100,202000,205800,204300,206600,202000,198300,195800,194600,189400,190900,194600,200000,207000,210700,210300,212100,207000,204300,202700,202100,195000,196600,199000,203500,210100,212500,212700,214100,207900,205600,202500,199800,195800,198600,199000,202400,211100,216700,215700,218300,207300]
[null,null,"State","Drinking Places (Alcoholic Beverages)",70722400,18500,18900,19200,19800,20300,20600,20200,20300,20100,20300,20100,20000,19600,19600,19900,20100,20500,20600,20500,20700,20400,20200,20100,20000,19500,19500,19800,19800,20400,20600,20500,20500,20400,20400,20300,20000,19500,19500,19700,20200,20700,21000,21000,21200,21000,20900,20800,20600,20000,20100,20300,20600,21100,21600,21500,21700,21400,21000,20700,20600,20100,20200,20400,20900,21400,21600,22500,22600,21700,21400,21100,20700,20200,20400,20700,21000,21500,21900,22600,22500,21700,21300,21000,20800,20500,20400,20800,21300,21700,22100,22600,22800,21800,21200,21000,20500,20100,20000,20000,20500,21200,21600,22200,22100,22300,20900,20500,20300,19300,19400,19700,19900,20400,20900,21600,21700,21400,20600,20200,20100,19500,19500,19700,20200,20600,21100,20800,20800,20600,20200,19900,19400,18800,18900,19000,19400,19800,20300,20200,20200,19900,19300,19000,18600,18200,18300,18500,18900,19400,19800,19800,19900,19800,19200,18900,18600,18200,18100,18300,18700,19400,19700,19700,19800,19600,19000,18800,18500,18100,18200,18400,18600,19300,19800,19900,20000,19700,19300,19100,18900,18500,18700,18900,19500,20200,20500,20700,20800,20400,20300,20100,19900,19500,19800,19900,20400,20900,21300,21300,21300,20800,20500,20300,20000,19600,19700,19800,20300,21000,21400,21500,21500,21000]
[null,null,"State","Restaurants and Other Eating Places",70722500,138300,139100,143000,145400,148500,153200,154100,155300,151200,145000,143900,142900,140100,140300,143100,148000,152400,156000,156000,155800,151500,148100,145700,144500,141300,141100,143000,145800,151400,155300,157100,157500,153800,149500,147300,146700,142800,141600,143700,147800,154500,157800,157900,158800,156100,154000,152000,150800,146400,145200,148000,152400,157800,161100,163000,163800,160200,156400,154100,153700,149000,149100,152000,157700,162300,165800,166300,166700,163500,158300,157700,157000,153700,153600,156700,159300,163900,167600,168200,168900,164900,162100,160800,159700,156200,155300,157400,160500,165700,169700,169500,170200,165000,162000,160600,159000,154800,153400,156200,159800,165700,168800,168900,169300,164700,161600,159100,157100,152200,152000,154100,158100,163600,166700,165600,165800,162000,157300,154200,152800,149700,148400,150900,155000,161300,165400,165000,166500,162000,157900,155500,153700,150800,149300,151500,155700,161000,165000,166200,166700,161900,157900,155600,153700,151600,151800,155300,159700,165100,170000,169700,170600,165300,161500,159700,159300,155900,155400,158300,162000,168600,172600,173900,175600,169800,166200,163800,162800,158200,158000,160500,164900,171300,175500,174900,176100,170100,167700,165900,165400,161800,162200,165500,169300,175600,180600,180300,180500,175200,172200,171400,171100,166400,166600,169000,172400,177900,181900,182100,181800,175700,174600,172800,170400,166600,168800,170000,172100,179200,183800,183700,183500,176000]
[null,null,"State","Full-service restaurants",70722511,75300,75700,77100,78800,80600,83800,84700,85600,82900,79600,78900,78300,77300,77000,78100,81100,84000,86900,87500,87000,84600,83000,81500,81300,80100,80200,80800,82200,85600,88500,90000,89700,87500,85000,83400,83200,81200,80400,81400,83500,87500,89500,90100,90500,89200,87600,86200,85600,83200,82400,83300,85500,88900,90900,92100,92600,90200,87300,85500,85400,83500,83400,84500,87500,90500,92800,93400,93500,91700,88700,88400,88100,86300,86500,87700,89100,91600,93900,94500,94900,92400,91600,90700,89900,88000,87700,88300,90200,92700,95200,94900,95000,92400,90800,89400,88700,86500,85500,86800,88500,92000,94000,94000,94100,91700,89700,87700,86500,83900,83500,83900,86200,89300,91300,90700,91200,89500,87200,85200,84500,82700,81900,82800,85200,89100,91800,91500,92500,90200,87600,86000,85100,83300,82500,83300,85400,88400,91100,91900,91900,89100,86800,85200,84000,82900,83000,84700,87100,90300,93300,93200,93500,90900,88600,87200,86900,84900,84500,85600,87700,91800,94500,95400,96100,93300,91000,89000,88600,86000,85800,86400,88600,92800,95600,95700,96100,92900,91600,90200,89900,87600,87700,89000,91000,94900,98300,98100,98100,95400,93500,92600,92500,89900,89800,90300,92300,96000,98900,99100,98500,95200,94200,92000,90200,87700,89400,89900,92100,95000,98600,98600,99600,94900]
[null,null,"State","Limited Service Eating Places and Other Eating Places",70722590,63000,63400,65900,66600,67900,69400,69400,69700,68300,65400.000000000007,65000,64599.999999999993,62800,63300,65000,66900,68400,69100,68500,68800,66900,65099.999999999993,64200,63200,61200,60900,62200,63600,65800,66800,67100,67800,66300,64500,63900,63500,61600,61200,62300,64300,67000,68300,67800,68300,66900,66400,65800,65200,63200,62800,64700,66900,68900,70200,70900,71200,70000,69100,68600,68300,65500,65700,67500,70200,71800,73000,72900,73200,71800,69600,69300,68900,67400,67100,69000,70200,72300,73700,73700,74000,72500,70500,70100,69800,68200,67600,69100,70300,73000,74500,74600,75200,72600,71200,71200,70300,68300,67900,69400,71300,73700,74800,74900,75200,73000,71900,71400,70600,68300,68500,70200,71900,74300,75400,74900,74600,72500,70100,69000,68300,67000,66500,68100,69800,72200,73600,73500,74000,71800,70300,69500,68600,67500,66800,68200,70300,72600,73900,74300,74800,72800,71100,70400,69700,68700,68800,70600,72600,74800,76700,76500,77100,74400,72900,72500,72400,71000,70900,72700,74300,76800,78100,78500,79500,76500,75200,74800,74200,72200,72200,74100,76300,78500,79900,79200,80000,77200,76100,75700,75500,74200,74500,76500,78300,80700,82300,82200,82400,79800,78700,78800,78600,76500,76800,78700,80100,81900,83000,83000,83300,80500,80400,80800,80200,78900,79400,80100,80000,84200,85200,85100,83900,81100]
[null,null,"State","Other Services",80000000,124200,125500,126100,126100,126000,127500,126400,125900,126400,126700,126500,127900,129300.00000000001,129600,131100,130300.00000000001,130600,132700,132000,132200,131800,131600,131300,133100,131000,131000,132200,131900,132000,134100,132600,132600,132000,132200,132000,133300,131500,131600,132700,132400,132500,134600,133500,133400,132900,132100,131700,133000,132600,133100,134400,134400,134700,137100,136100,136400,136000,137200,135400,135800,133900,134500,135600,136000,136200,137800,137000,137000,136600,136100,135400,136400,133900,134000,135200,135400,136000,138000,137100,136900,136700,136400,135900,137000,135100,135500,136500,137300,138000,139700,139000,138300,137500,138300,137800,138400,135900,136400,137300,138400,139200,140900,140300,140000,139300,141200,139700,139900,136700,137000,138100,138200,138600,140100,139100,138700,137600,137600,137200,137700,134500,135000,136000,137100,137300,138600,138300,138000,137000,137800,136700,137200,135100,135100,136100,137000,137500,139000,138800,138500,137400,137500,137000,137900,135700,136200,136700,137500,138000,140400,139200,138800,137700,138000,137700,138100,135600,135700,136500,136900,137900,139700,139000,138900,138800,138500,139300,140200,138400,139200,140300,141400,142600,144900,145300,145700,145000,145200,145300,146500,145100,145600,146900,147900,148700,150200,149900,149400,148300,148400,148000,149300,146900,146900,148000,148500,148900,150300,150700,150600,149500,149900,150400,151600,149600,151100,151100,152400,150900,153600,153400,153500,152100]
[null,null,"State","Repair and Maintenance",80811000,22700,22900,23000,22900,22900,22900,22700,22700,22800,22900,23000,23100,23400,23300,23400,23200,23100,23100,23200,23300,22900,22700,22800,23000,22600,22500,22400,22400,22200,22300,22400,22400,22100,22000,22000,22300,21800,21700,21700,21700,21600,21700,21800,21700,21600,21600,21400,21700,21300,21300,21500,21500,21600,21700,21700,21600,21600,21700,21500,21600,21400,21400,21600,21800,21700,21800,22000,21900,21800,21600,21500,21700,21400,21300,21600,21600,21600,22000,22000,21900,21800,21600,21600,21900,21600,21600,21800,22000,22000,22300,22200,22200,22000,21900,21900,21900,21500,21400,21600,21600,21900,22000,21700,21700,21500,21600,21300,21300,20900,20800,20900,20800,20800,20900,20700,20600,20600,20600,20500,20400,20100,20100,20200,20400,20400,20400,20500,20500,20400,20700,20600,20700,20600,20600,20800,21000,21000,21200,21200,21100,21100,21200,21100,21100,20800,20900,20900,20900,20900,21200,21100,21100,20900,21100,21000,21300,20900,20800,20900,21100,21300,21300,21500,21500,21500,21500,21400,21500,21300,21300,21600,21700,21800,21800,21800,21900,21700,21700,21600,21800,21800,21900,22100,22200,22300,22400,22400,22500,22500,22600,22600,22800,22500,22500,22700,22800,22700,22800,22800,22900,22700,22600,22900,22900,23200,23300,23500,24000,23200,23900,24500,24300,23900]
[null,null,"State","Personal and Laundry Services",80812000,24700,25000,25200,25500,25700,25800,25900,25800,25800,25900,25800,25800,25200,25100,25400,25700,26000,26400,26100,26200,26000,25600,25400,25300,25100,25100,25300,25700,26000,26400,26200,26400,26100,26000,25900,25800,25300,25200,25200,25800,26100,26100,26300,26400,26200,26000,25900,25800,25400,25400,25700,26000,26300,26500,26500,26600,26400,26200,26100,26000,25600,25600,25900,26400,26700,26900,26900,27000,26800,26700,26400,26500,26000,26100,26300,26700,27100,27400,27400,27400,27300,27000,26900,26900,26700,26700,26800,27300,27700,27900,27900,27900,27700,27300,27000,26900,26700,26700,26800,27300,27600,27700,27600,27500,27200,27300,27000,27000,26100,26100,26400,26600,26700,26900,26800,26900,26400,26400,26000,26100,25400,25300,25700,26200,26400,26500,26400,26500,26200,26200,26000,26000,25500,25500,25800,26100,26200,26300,26100,26300,26000,26000,25800,25800,25500,25700,25600,26100,26200,26400,26400,26500,26100,26200,26100,26200,25600,25700,25800,26300,26500,26600,26400,26700,26200,26100,26200,26300,25600,25600,25600,26000,26100,26400,26400,26400,26100,25900,25800,26000,25800,25700,25800,26400,26600,26700,26700,26800,26300,26500,26400,26600,26100,26000,26100,26500,26700,26700,26800,26900,26300,25600,25600,26200,25900,25600,25700,26100,26200,25900,26000,26100,26100]
[null,null,"State","Religious, Grantmaking, Civic, Professional, and Similar Organizations",80813000,76800,77600,77900,77700,77400,78800,77800,77400,77800,77900,77700,79000,80700,81200,82300,81400,81500,83200,82700,82700,82900,83300,83100,84800,83300,83400,84500,83800,83800,85400,84000,83800,83800,84200,84100,85200,84400,84700,85800,84900,84800,86800,85400,85300,85100,84500,84400,85500,85900,86400,87200,86900,86800,88900,87900,88200,88000,89300,87800,88200,86900,87500,88100,87800,87800,89100,88100,88100,88000,87800,87500,88200,86500,86600,87300,87100,87300,88600,87700,87600,87600,87800,87400,88200,86800,87200,87900,88000,88300,89500,88900,88200,87800,89100,88900,89600,87700,88300,88900,89500,89700,91200,91000,90800,90600,92300,91400,91600,89700,90100,90800,90800,91100,92300,91600,91200,90600,90600,90700,91200,89000,89600,90100,90500,90500,91700,91400,91000,90400,90900,90100,90500,89000,89000,89500,89900,90300,91500,91500,91100,90300,90300,90100,91000,89400,89600,90200,90500,90900,92800,91700,91200,90700,90700,90600,90600,89100,89200,89800,89500,90100,91800,91100,90700,91100,90900,91700,92400,91500,92300,93100,93700,94700,96700,97100,97400,97200,97600,97900,98700,97500,98000,99000,99300,99800,101100,100800,100100,99500,99300,99000,99900,98300,98400,99200,99200,99500,100800,101100,100800,100500,101700,101900,102500,100500,102200,101900,102300,101500,103800,102900,103100,102100]
[null,null,"State","Government",90000000,399600,408800,412100,418700,417400,413300,381100,378400,397700,410000,417700,412100,402300,417700,421000,425100,424500,416100,387400,384000,411600,424000,426600,424300,408600,421500,426200,428200,426100,413300,383700,380100,404000,426700,432800,426200,404300,424900,426200,428900,425000,420300,383000,379900,399200,420400,422300,420200,403200,420300,422000,422700,422200,414600,384600,381800,406000,420700,426200,421500,410900,424600,423800,427200,426000,414300,385700,381500,414300,423100,425400,427000,410100,419700,424600,427500,426000,418600,387300,383300,413900,421400,424900,425500,410200,416800,422500,427000,427100,422100,388300,384800,414000,423800,426300,428800,416700,422200,427200,429600,432500,422200,392400,387000,423000,432500,441400,436000,418600,431300,432700,434900,435700,421800,392400,385100,408500,426100,431200,431800,415300,425100,427500,435500,437500,421400,390000,384300,411100,428800,433900,426500,412100,426600,428100,430700,428600,411500,386900,380700,408600,419100,422000,422200,395900,411400,419800,427200,428700,408600,378300,378600,406700,422400,429700,422900,394800,420300,419600,422800,416900,404300,378200,375700,408900,422300,423500,422200,405200,418100,418800,424700,417900,405800,380800,384500,410600,422600,431000,422800,403100,420000,418900,426600,417400,404000,380400,377100,405900,418600,419200,420600,403100,419100,418200,426900,415200,403800,382900,384100,408200,426400,434600,427400,410300,427200,422900,431300,426000,404200,386100,379900,410800]
[null,null,"State","Federal Government",90910000,30500,30500,32000,33500,37600,38300,33500,35100,29800,29700,30400,30600,29900,29700,29800,29900,30000,30300,30400,30400,30200,30000,30100,30200,29700,29600,29600,29500,29600,30200,30100,30000,29800,30100,30100,30400,29800,29800,29700,29700,29700,30000,30000,29800,30200,29800,29600,29900,29500,29300,29200,29500,29300,29700,29900,29900,29600,29600,29700,29600,29200,29100,29000,29200,29200,29300,29500,29400,29300,29100,29200,29200,28900,28800,29000,29100,29100,29400,29600,29400,29400,29200,29200,29300,29200,28900,28900,29000,29100,29400,29500,29500,29300,29300,29200,29100,29200,29100,29300,29300,29600,29800,30200,30000,29900,29900,29700,29600,29900,29700,29500,31900,31800,29900,30100,29800,29700,30100,29600,29600,29600,29400,30100,33500,37800,34400,32700.000000000004,30600,29700,29600,29500,29600,29400,29300,29300,29500,29400,29500,29800,29500,29400,29400,29000,29200,28900,28800,28900,29100,29000,29200,29300,29300,29000,29100,28700,29000,28700,28700,28400,28800,28600,28700,28800,28600,28600,28500,28600,28600,28500,28400,28400,28600,28500,28600,28800,28800,28700,28700,28700,29000,28600,28500,28500,28800,28700,29000,29100,28900,28800,28800,28800,29200,28800,28700,28800,28900,28800,29200,29100,29200,29200,29200,29100,29500,29200,29000,29100,29000,29100,29300,29400,29100,29200]
[null,null,"State","State Government",90920000,97200,100500,101900,104100,100700,96200,91700,91800,93500,98400,100800,98200,91900,102100,103400,104700,104300,96700,96200,95700,101300,104200,105300,102400,92600,100100,102600,105000,101800,93300,91400,94600,99000,104600,107700,103400,92600,102200,103800,105800,103500,97400,91800,94600,100300,103500,104600,102500,96800,101600,102400,103500,102800,94900,95200,97200,104100,106100,107000,105000,101700,104000,103900,104400,105000,94200,94100,95100,104300,105300,105900,105900,101000,104700,104700,105600,106000,97600,95800,97800,105000,106600,106600,107100,101300,105900,106600,106600,107300,97400,95100,97100,102800,106300,106900,107300,103400,106500,106400,106700,109200,95700,94800,96200,102000,107600,109300,108100,99900,107000,107400,102800,105200,90900,90500,91600,95800,100400,103900,103700,94400,102100,102300,104200,103500,90700,90500,91600,100700,104000,105000,101600,94800,101700,102700,101900,103500,85400,85200,82300,97500,101500,102200,99900,85100,95500,100700,102300,99900,82500,83800,83900,100000,103100,102300,101300,84600,102200,101800,102900,96500,83100,84200,85000,101400,104500,103700,102800,96400,103900,103000,104400,98500,84200,85100,85700,102300,103800,104900,103900,95600,104400,104200,104400,98200,83300,85000,84200,99000,101200,101700,101700,92700,101600,101600,101500,96600,82400,83900,83800,97300,102500,104200,104300,95200,105300,100000,105600,101600,82800,84600,83900,100800]
[null,null,"State","Local Government",90930000,271900,277800,278200,281100,279100,278800,255900,251500,274400,281900,286500,283300,280500,285900,287800,290500,290200,289100,260800,257899.99999999997,280100,289800,291200,291700,286300,291800,294000,293700,294700,289800,262200,255500,275200,292000,295000,292400,281900,292900,292700,293400,291800,292900,261200,255500,268700,287100,288100,287800,276900,289400,290400,289700,290100,290000,259500,254700,272300,285000,289500,286900,280000,291500,290900,293600,291800,290800,262100.00000000003,257000,280700,288700,290300,291900,280200,286200,290900,292800,290900,291600,261899.99999999997,256100.00000000003,279500,285600,289100,289100,279700,282000,287000,291400,290700,295300,263700,258200,281900,288200,290200,292400,284100,286600,291500,293600,293700,296700,267400,260800,291100,295000,302400,298300,288800,294600,295800,300200,298700,301000,271800,263700,283000,295600,297700,298500,291300,293600,295100,297800,296200,296300,266800,262100.00000000003,280700,295200,299400,295300,287900,295600,296100,299300,295700,296600,271900,268900,281700,288200,290800,293100,281900,287100,290200,295800,299800,296900,265200,265400,277700,290200,298700,292600,281500,289400,289400,291100,291800,292500,265200,262100.00000000003,278900,289300,291200,290800,280300,285800,287400,291700,290900,293000,266900,270000,279600,290100,297400,289900,278900,287100,286200,293400,290500,291700,266300,264000,278100,288600,288700,289700,281600,288800,287800,296500,289800,292200,269900,271100,281700,294700,301300,293600,285900,292900,293800,296700,295300,292100,272100,266900,280800]
[null,null,"State","Local Government Educational Services",90931611,149300,154300,155500,155600,154900,146700,121900,118500,145600,156200,157100,157800,155100,159500,162700,162200,161100,153900,124700,123100,150200,160100,161500,161400,156800,161700,164500,163300,164200,153700,128800.00000000001,124400,144300,161200,162300,162200,153100,162000,163100,162700,161100,156900,127400,123500,141500,158500,159800,160000,151500,161500,163600,161300,162000,157200,127800,124200,143700,157700,159900,159800,153100,161900,162800,161500,162000,156700,126400,122600,149800,159300,161000,160000,153200,159200,163100,160700,160700,156400,128500,125000,144500,156100,156900,157000,151500,154700,158900,160000,161400,157700,127500,124300,146600,159200,161800,160700,155800,158300,163700,161400,163200,158600,131100,126900,149400,162200,164400,162900,158400,163300,165800,165600,166100,160900,131700,126100,149800,163600,166400,164200,159200,164300,166900,165000,166500,159700,133500,130600,148400,163500,165300,164800,160100,164500,166500,166200,164600,159900,134100,131400,149800,157300,161200,160300,154400,159500,162100,160600,162200,153800,127300,125100,146400,158600,161200,159800,154000,160100,161000,158800,161000,153900,129800.00000000001,128400,147500,158400,161400,158400,152600,158800,160000,159200,160300,155200,129300.00000000001,129600,147900,158700,159700,158300,151900,158900,159500,158800,160100,154400,129199.99999999999,128600,148200,158500,159700,158500,153800,157500,160200,159600,159500,155000,132800,131700,150300,162500,163600,163300,157900,163900,164900,163800,164900,155500,137500,133900,153300]
[null,null,null,null,null,null,null,null,null,null,null,null,null,null,null,null,null,null,null,null,null,null,null,null,null,null,null,null,null,null,null,null,null,null,null,null,null,null,null,null,null,null,null,null,null,null,null,null,null,null,null,null,null,null,null,null,null,null,null,null,null,null,null,null,null,null,null,null,null,null,null,null,null,null,null,null,null,null,null,null,null,null,null,null,null,null,null,null,null,null,null,null,null,null,null,null,null,null,null,null,null,null,null,null,null,null,null,null,null,null,null,null,null,null,null,null,null,null,null,null,null,null,null,null,null,null,null,null,null,null,null,null,null,null,null,null,null,null,null,null,null,null,null,null,null,null,null,null,null,null,null,null,null,null,null,null,null,null,null,null,null,null,null,null,null,null,null,null,null,null,null,null,null,null,null,null,null,null,null,null,null,null,null,null,null,null,null,null,null,null,null,null,null,null,null,null,null,null,null,null,null,null,null,null,null,null,null,null,null,124500,124300,124800,126300,127800,130000,129600,129900,128700]
[null,null,null,null,null,null,null,null,null,null,null,null,null,null,null,null,null,null,null,null,null,null,null,null,null,null,null,null,null,null,null,null,null,null,null,null,null,null,null,null,null,null,null,null,null,null,null,null,null,null,null,null,null,null,null,null,null,null,null,null,null,null,null,null,null,null,null,null,null,null,null,null,null,null,null,null,null,null,null,null,null,null,null,null,null,null,null,null,null,null,null,null,null,null,null,null,null,null,null,null,null,null,null,null,null,null,null,null,null,null,null,null,null,null,null,null,null,null,null,null,null,null,null,null,null,null,null,null,null,null,null,null,null,null,null,null,null,null,null,null,null,null,null,null,null,null,null,null,null,null,null,null,null,null,null,null,null,null,null,null,null,null,null,null,null,null,null,null,null,null,null,null,null,null,null,null,null,null,null,null,null,null,null,null,null,null,null,null,null,null,null,null,null,null,null,null,null,null,null,null,null,null,null,null,null,null,null,null,null,112100,111600,112100,113200,114800,117000,117800,118100,116500]
[null,null,null,null,null,null,null,null,null,null,null,null,null,null,null,null,null,null,null,null,null,null,null,null,null,null,null,null,null,null,null,null,null,null,null,null,null,null,null,null,null,null,null,null,null,null,null,null,null,null,null,null,null,null,null,null,null,null,null,null,null,null,null,null,null,null,null,null,null,null,null,null,null,null,null,null,null,null,null,null,null,null,null,null,null,null,null,null,null,null,null,null,null,null,null,null,null,null,null,null,null,null,null,null,null,null,null,null,null,null,null,null,null,null,null,null,null,null,null,null,null,null,null,null,null,null,null,null,null,null,null,null,null,null,null,null,null,null,null,null,null,null,null,null,null,null,null,null,null,null,null,null,null,null,null,null,null,null,null,null,null,null,null,null,null,null,null,null,null,null,null,null,null,null,null,null,null,null,null,null,null,null,null,null,null,null,null,null,null,null,null,null,null,null,null,null,null,null,null,null,null,null,null,null,null,null,null,null,null,31000,30800,30900,31200,32000,33000,33600,33700,33100]
[null,null,null,null,null,null,null,null,null,null,null,null,null,null,null,null,null,null,null,null,null,null,null,null,null,null,null,null,null,null,null,null,null,null,null,null,null,null,null,null,null,null,null,null,null,null,null,null,null,null,null,null,null,null,null,null,null,null,null,null,null,null,null,null,null,null,null,null,null,null,null,null,null,null,null,null,null,null,null,null,null,null,null,null,null,null,null,null,null,null,null,null,null,null,null,null,null,null,null,null,null,null,null,null,null,null,null,null,null,null,null,null,null,null,null,null,null,null,null,null,null,null,null,null,null,null,null,null,null,null,null,null,null,null,null,null,null,null,null,null,null,null,null,null,null,null,null,null,null,null,null,null,null,null,null,null,null,null,null,null,null,null,null,null,null,null,null,null,null,null,null,null,null,null,null,null,null,null,null,null,null,null,null,null,null,null,null,null,null,null,null,null,null,null,null,null,null,null,null,null,null,null,null,null,null,null,null,null,null,93500,93500,93900,95100,95800,97000,96000,96200,95600]
[null,null,null,null,null,null,null,null,null,null,null,null,null,null,null,null,null,null,null,null,null,null,null,null,null,null,null,null,null,null,null,null,null,null,null,null,null,null,null,null,null,null,null,null,null,null,null,null,null,null,null,null,null,null,null,null,null,null,null,null,null,null,null,null,null,null,null,null,null,null,null,null,null,null,null,null,null,null,null,null,null,null,null,null,null,null,null,null,null,null,null,null,null,null,null,null,null,null,null,null,null,null,null,null,null,null,null,null,null,null,null,null,null,null,null,null,null,null,null,null,null,null,null,null,null,null,null,null,null,null,null,null,null,null,null,null,null,null,null,null,null,null,null,null,null,null,null,null,null,null,null,null,null,null,null,null,null,null,null,null,null,null,null,null,null,null,null,null,null,null,null,null,null,null,null,null,null,null,null,null,null,null,null,null,null,null,null,null,null,null,null,null,null,null,null,null,null,null,null,null,null,null,null,null,null,null,null,null,null,81100,80800,81200,82000,82800,84000,84200,84400,83400]
[null,null,null,null,null,null,null,null,null,null,null,null,null,null,null,null,null,null,null,null,null,null,null,null,null,null,null,null,null,null,null,null,null,null,null,null,null,null,null,null,null,null,null,null,null,null,null,null,null,null,null,null,null,null,null,null,null,null,null,null,null,null,null,null,null,null,null,null,null,null,null,null,null,null,null,null,null,null,null,null,null,null,null,null,null,null,null,null,null,null,null,null,null,null,null,null,null,null,null,null,null,null,null,null,null,null,null,null,null,null,null,null,null,null,null,null,null,null,null,null,null,null,null,null,null,null,null,null,null,null,null,null,null,null,null,null,null,null,null,null,null,null,null,null,null,null,null,null,null,null,null,null,null,null,null,null,null,null,null,null,null,null,null,null,null,null,null,null,null,null,null,null,null,null,null,null,null,null,null,null,null,null,null,null,null,null,null,null,null,null,null,null,null,null,null,null,null,null,null,null,null,null,null,null,null,null,null,null,null,8000,8000,8100,8500,9100,9600,9900,9900,9500]
[null,null,null,null,null,null,null,null,null,null,null,null,null,null,null,null,null,null,null,null,null,null,null,null,null,null,null,null,null,null,null,null,null,null,null,null,null,null,null,null,null,null,null,null,null,null,null,null,null,null,null,null,null,null,null,null,null,null,null,null,null,null,null,null,null,null,null,null,null,null,null,null,null,null,null,null,null,null,null,null,null,null,null,null,null,null,null,null,null,null,null,null,null,null,null,null,null,null,null,null,null,null,null,null,null,null,null,null,null,null,null,null,null,null,null,null,null,null,null,null,null,null,null,null,null,null,null,null,null,null,null,null,null,null,null,null,null,null,null,null,null,null,null,null,null,null,null,null,null,null,null,null,null,null,null,null,null,null,null,null,null,null,null,null,null,null,null,null,null,null,null,null,null,null,null,null,null,null,null,null,null,null,null,null,null,null,null,null,null,null,null,null,null,null,null,null,null,null,null,null,null,null,null,null,null,null,null,null,null,23000,22800,22800,22700,22900,23400,23700,23800,23600]
[null,null,null,null,null,null,null,null,null,null,null,null,null,null,null,null,null,null,null,null,null,null,null,null,null,null,null,null,null,null,null,null,null,null,null,null,null,null,null,null,null,null,null,null,null,null,null,null,null,null,null,null,null,null,null,null,null,null,null,null,null,null,null,null,null,null,null,null,null,null,null,null,null,null,null,null,null,null,null,null,null,null,null,null,null,null,null,null,null,null,null,null,null,null,null,null,null,null,null,null,null,null,null,null,null,null,null,null,null,null,null,null,null,null,null,null,null,null,null,null,null,null,null,null,null,null,null,null,null,null,null,null,null,null,null,null,null,null,null,null,null,null,null,null,null,null,null,null,null,null,null,null,null,null,null,null,null,null,null,null,null,null,null,null,null,null,null,null,null,null,null,null,null,null,null,null,null,null,null,null,null,null,null,null,null,null,null,null,null,null,null,null,null,null,null,null,null,null,null,null,null,null,null,null,null,null,null,null,null,10300,10200,10300,10300,10400,10500,10600,10600,10500]
[null,null,null,null,null,null,null,null,null,null,null,null,null,null,null,null,null,null,null,null,null,null,null,null,null,null,null,null,null,null,null,null,null,null,null,null,null,null,null,null,null,null,null,null,null,null,null,null,null,null,null,null,null,null,null,null,null,null,null,null,null,null,null,null,null,null,null,null,null,null,null,null,null,null,null,null,null,null,null,null,null,null,null,null,null,null,null,null,null,null,null,null,null,null,null,null,null,null,null,null,null,null,null,null,null,null,null,null,null,null,null,null,null,null,null,null,null,null,null,null,null,null,null,null,null,null,null,null,null,null,null,null,null,null,null,null,null,null,null,null,null,null,null,null,null,null,null,null,null,null,null,null,null,null,null,null,null,null,null,null,null,null,null,null,null,null,null,null,null,null,null,null,null,null,null,null,null,null,null,null,null,null,null,null,null,null,null,null,null,null,null,null,null,null,null,null,null,null,null,null,null,null,null,null,null,null,null,null,null,12700,12600,12500,12400,12500,12900,13100,13200,13100]
[null,null,null,null,null,null,null,null,null,null,null,null,null,null,null,null,null,null,null,null,null,null,null,null,null,null,null,null,null,null,null,null,null,null,null,null,null,null,null,null,null,null,null,null,null,null,null,null,null,null,null,null,null,null,null,null,null,null,null,null,null,null,null,null,null,null,null,null,null,null,null,null,null,null,null,null,null,null,null,null,null,null,null,null,null,null,null,null,null,null,null,null,null,null,null,null,null,null,null,null,null,null,null,null,null,null,null,null,null,null,null,null,null,null,null,null,null,null,null,null,null,null,null,null,null,null,null,null,null,null,null,null,null,null,null,null,null,null,null,null,null,null,null,null,null,null,null,null,null,null,null,null,null,null,null,null,null,null,null,null,null,null,null,null,null,null,null,null,null,null,null,null,null,null,null,null,null,null,null,null,null,null,null,null,null,null,null,null,null,null,null,null,null,null,null,null,null,null,null,null,null,null,null,null,null,null,null,null,null,23400,23200,23100,23400,23700,24000,24000,24000,23900]
[null,null,null,null,null,null,null,null,null,null,null,null,null,null,null,null,null,null,null,null,null,null,null,null,null,null,null,null,null,null,null,null,null,null,null,null,null,null,null,null,null,null,null,null,null,null,null,null,null,null,null,null,null,null,null,null,null,null,null,null,null,null,null,null,null,null,null,null,null,null,null,null,null,null,null,null,null,null,null,null,null,null,null,null,null,null,null,null,null,null,null,null,null,null,null,null,null,null,null,null,null,null,null,null,null,null,null,null,null,null,null,null,null,null,null,null,null,null,null,null,null,null,null,null,null,null,null,null,null,null,null,null,null,null,null,null,null,null,null,null,null,null,null,null,null,null,null,null,null,null,null,null,null,null,null,null,null,null,null,null,null,null,null,null,null,null,null,null,null,null,null,null,null,null,null,null,null,null,null,null,null,null,null,null,null,null,null,null,null,null,null,null,null,null,null,null,null,null,null,null,null,null,null,null,null,null,null,null,null,5800,5800,5800,5900,5900,6200,6300,6300,6000]
[null,null,null,null,null,null,null,null,null,null,null,null,null,null,null,null,null,null,null,null,null,null,null,null,null,null,null,null,null,null,null,null,null,null,null,null,null,null,null,null,null,null,null,null,null,null,null,null,null,null,null,null,null,null,null,null,null,null,null,null,null,null,null,null,null,null,null,null,null,null,null,null,null,null,null,null,null,null,null,null,null,null,null,null,null,null,null,null,null,null,null,null,null,null,null,null,null,null,null,null,null,null,null,null,null,null,null,null,null,null,null,null,null,null,null,null,null,null,null,null,null,null,null,null,null,null,null,null,null,null,null,null,null,null,null,null,null,null,null,null,null,null,null,null,null,null,null,null,null,null,null,null,null,null,null,null,null,null,null,null,null,null,null,null,null,null,null,null,null,null,null,null,null,null,null,null,null,null,null,null,null,null,null,null,null,null,null,null,null,null,null,null,null,null,null,null,null,null,null,null,null,null,null,null,null,null,null,null,null,14400,14100,14000,14200,14500,14500,14400,14400,14500]
[null,null,null,null,null,null,null,null,null,null,null,null,null,null,null,null,null,null,null,null,null,null,null,null,null,null,null,null,null,null,null,null,null,null,null,null,null,null,null,null,null,null,null,null,null,null,null,null,null,null,null,null,null,null,null,null,null,null,null,null,null,null,null,null,null,null,null,null,null,null,null,null,null,null,null,null,null,null,null,null,null,null,null,null,null,null,null,null,null,null,null,null,null,null,null,null,null,null,null,null,null,null,null,null,null,null,null,null,null,null,null,null,null,null,null,null,null,null,null,null,null,null,null,null,null,null,null,null,null,null,null,null,null,null,null,null,null,null,null,null,null,null,null,null,null,null,null,null,null,null,null,null,null,null,null,null,null,null,null,null,null,null,null,null,null,null,null,null,null,null,null,null,null,null,null,null,null,null,null,null,null,null,null,null,null,null,null,null,null,null,null,null,null,null,null,null,null,null,null,null,null,null,null,null,null,null,null,null,null,3100,2900,2900,2900,2900,3000,3000,3000,2900]
[null,null,null,null,null,null,null,null,null,null,null,null,null,null,null,null,null,null,null,null,null,null,null,null,null,null,null,null,null,null,null,null,null,null,null,null,null,null,null,null,null,null,null,null,null,null,null,null,null,null,null,null,null,null,null,null,null,null,null,null,null,null,null,null,null,null,null,null,null,null,null,null,null,null,null,null,null,null,null,null,null,null,null,null,null,null,null,null,null,null,null,null,null,null,null,null,null,null,null,null,null,null,null,null,null,null,null,null,null,null,null,null,null,null,null,null,null,null,null,null,null,null,null,null,null,null,null,null,null,null,null,null,null,null,null,null,null,null,null,null,null,null,null,null,null,null,null,null,null,null,null,null,null,null,null,null,null,null,null,null,null,null,null,null,null,null,null,null,null,null,null,null,null,null,null,null,null,null,null,null,null,null,null,null,null,null,null,null,null,null,null,null,null,null,null,null,null,null,null,null,null,null,null,null,null,null,null,null,null,3200,3300,3300,3300,3300,3300,3300,3300,3400]
[null,null,null,null,null,null,null,null,null,null,null,null,null,null,null,null,null,null,null,null,null,null,null,null,null,null,null,null,null,null,null,null,null,null,null,null,null,null,null,null,null,null,null,null,null,null,null,null,null,null,null,null,null,null,null,null,null,null,null,null,null,null,null,null,null,null,null,null,null,null,null,null,null,null,null,null,null,null,null,null,null,null,null,null,null,null,null,null,null,null,null,null,null,null,null,null,null,null,null,null,null,null,null,null,null,null,null,null,null,null,null,null,null,null,null,null,null,null,null,null,null,null,null,null,null,null,null,null,null,null,null,null,null,null,null,null,null,null,null,null,null,null,null,null,null,null,null,null,null,null,null,null,null,null,null,null,null,null,null,null,null,null,null,null,null,null,null,null,null,null,null,null,null,null,null,null,null,null,null,null,null,null,null,null,null,null,null,null,null,null,null,null,null,null,null,null,null,null,null,null,null,null,null,null,null,null,null,null,null,1500,1500,1500,1500,1500,1500,1500,1500,1400]
[null,null,null,null,null,null,null,null,null,null,null,null,null,null,null,null,null,null,null,null,null,null,null,null,null,null,null,null,null,null,null,null,null,null,null,null,null,null,null,null,null,null,null,null,null,null,null,null,null,null,null,null,null,null,null,null,null,null,null,null,null,null,null,null,null,null,null,null,null,null,null,null,null,null,null,null,null,null,null,null,null,null,null,null,null,null,null,null,null,null,null,null,null,null,null,null,null,null,null,null,null,null,null,null,null,null,null,null,null,null,null,null,null,null,null,null,null,null,null,null,null,null,null,null,null,null,null,null,null,null,null,null,null,null,null,null,null,null,null,null,null,null,null,null,null,null,null,null,null,null,null,null,null,null,null,null,null,null,null,null,null,null,null,null,null,null,null,null,null,null,null,null,null,null,null,null,null,null,null,null,null,null,null,null,null,null,null,null,null,null,null,null,null,null,null,null,null,null,null,null,null,null,null,null,null,null,null,null,null,7300,7300,7300,7300,7300,7400,7400,7300,7300]
[null,null,null,null,null,null,null,null,null,null,null,null,null,null,null,null,null,null,null,null,null,null,null,null,null,null,null,null,null,null,null,null,null,null,null,null,null,null,null,null,null,null,null,null,null,null,null,null,null,null,null,null,null,null,null,null,null,null,null,null,null,null,null,null,null,null,null,null,null,null,null,null,null,null,null,null,null,null,null,null,null,null,null,null,null,null,null,null,null,null,null,null,null,null,null,null,null,null,null,null,null,null,null,null,null,null,null,null,null,null,null,null,null,null,null,null,null,null,null,null,null,null,null,null,null,null,null,null,null,null,null,null,null,null,null,null,null,null,null,null,null,null,null,null,null,null,null,null,null,null,null,null,null,null,null,null,null,null,null,null,null,null,null,null,null,null,null,null,null,null,null,null,null,null,null,null,null,null,null,null,null,null,null,null,null,null,null,null,null,null,null,null,null,null,null,null,null,null,null,null,null,null,null,null,null,null,null,null,null,13700,13700,13800,13900,14000,14300,14400,14400,14300]
[null,null,null,null,null,null,null,null,null,null,null,null,null,null,null,null,null,null,null,null,null,null,null,null,null,null,null,null,null,null,null,null,null,null,null,null,null,null,null,null,null,null,null,null,null,null,null,null,null,null,null,null,null,null,null,null,null,null,null,null,null,null,null,null,null,null,null,null,null,null,null,null,null,null,null,null,null,null,null,null,null,null,null,null,null,null,null,null,null,null,null,null,null,null,null,null,null,null,null,null,null,null,null,null,null,null,null,null,null,null,null,null,null,null,null,null,null,null,null,null,null,null,null,null,null,null,null,null,null,null,null,null,null,null,null,null,null,null,null,null,null,null,null,null,null,null,null,null,null,null,null,null,null,null,null,null,null,null,null,null,null,null,null,null,null,null,null,null,null,null,null,null,null,null,null,null,null,null,null,null,null,null,null,null,null,null,null,null,null,null,null,null,null,null,null,null,null,null,null,null,null,null,null,null,null,null,null,null,null,15800,15800,15900,15900,15900,16100,16500,16500,16600]
[null,null,null,null,null,null,null,null,null,null,null,null,null,null,null,null,null,null,null,null,null,null,null,null,null,null,null,null,null,null,null,null,null,null,null,null,null,null,null,null,null,null,null,null,null,null,null,null,null,null,null,null,null,null,null,null,null,null,null,null,null,null,null,null,null,null,null,null,null,null,null,null,null,null,null,null,null,null,null,null,null,null,null,null,null,null,null,null,null,null,null,null,null,null,null,null,null,null,null,null,null,null,null,null,null,null,null,null,null,null,null,null,null,null,null,null,null,null,null,null,null,null,null,null,null,null,null,null,null,null,null,null,null,null,null,null,null,null,null,null,null,null,null,null,null,null,null,null,null,null,null,null,null,null,null,null,null,null,null,null,null,null,null,null,null,null,null,null,null,null,null,null,null,null,null,null,null,null,null,null,null,null,null,null,null,null,null,null,null,null,null,null,null,null,null,null,null,null,null,null,null,null,null,null,null,null,null,null,null,14300,14300,14300,14300,14300,14400,14800,14800,14700]
[null,null,null,null,null,null,null,null,null,null,null,null,null,null,null,null,null,null,null,null,null,null,null,null,null,null,null,null,null,null,null,null,null,null,null,null,null,null,null,null,null,null,null,null,null,null,null,null,null,null,null,null,null,null,null,null,null,null,null,null,null,null,null,null,null,null,null,null,null,null,null,null,null,null,null,null,null,null,null,null,null,null,null,null,null,null,null,null,null,null,null,null,null,null,null,null,null,null,null,null,null,null,null,null,null,null,null,null,null,null,null,null,null,null,null,null,null,null,null,null,null,null,null,null,null,null,null,null,null,null,null,null,null,null,null,null,null,null,null,null,null,null,null,null,null,null,null,null,null,null,null,null,null,null,null,null,null,null,null,null,null,null,null,null,null,null,null,null,null,null,null,null,null,null,null,null,null,null,null,null,null,null,null,null,null,null,null,null,null,null,null,null,null,null,null,null,null,null,null,null,null,null,null,null,null,null,null,null,null,11700,11600,11800,12300,12800,13200,13000,13100,12400]
[null,null,null,null,null,null,null,null,null,null,null,null,null,null,null,null,null,null,null,null,null,null,null,null,null,null,null,null,null,null,null,null,null,null,null,null,null,null,null,null,null,null,null,null,null,null,null,null,null,null,null,null,null,null,null,null,null,null,null,null,null,null,null,null,null,null,null,null,null,null,null,null,null,null,null,null,null,null,null,null,null,null,null,null,null,null,null,null,null,null,null,null,null,null,null,null,null,null,null,null,null,null,null,null,null,null,null,null,null,null,null,null,null,null,null,null,null,null,null,null,null,null,null,null,null,null,null,null,null,null,null,null,null,null,null,null,null,null,null,null,null,null,null,null,null,null,null,null,null,null,null,null,null,null,null,null,null,null,null,null,null,null,null,null,null,null,null,null,null,null,null,null,null,null,null,null,null,null,null,null,null,null,null,null,null,null,null,null,null,null,null,null,null,null,null,null,null,null,null,null,null,null,null,null,null,null,null,null,null,7700,7700,7800,7700,7600,7500,7400,7600,7500]
[null,null,null,null,null,null,null,null,null,null,null,null,null,null,null,null,null,null,null,null,null,null,null,null,null,null,null,null,null,null,null,null,null,null,null,null,null,null,null,null,null,null,null,null,null,null,null,null,null,null,null,null,null,null,null,null,null,null,null,null,null,null,null,null,null,null,null,null,null,null,null,null,null,null,null,null,null,null,null,null,null,null,null,null,null,null,null,null,null,null,null,null,null,null,null,null,null,null,null,null,null,null,null,null,null,null,null,null,null,null,null,null,null,null,null,null,null,null,null,null,null,null,null,null,null,null,null,null,null,null,null,null,null,null,null,null,null,null,null,null,null,null,null,null,null,null,null,null,null,null,null,null,null,null,null,null,null,null,null,null,null,null,null,null,null,null,null,null,null,null,null,null,null,null,null,null,null,null,null,null,null,null,null,null,null,null,null,null,null,null,null,null,null,null,null,null,null,null,null,null,null,null,null,null,null,null,null,null,null,12400,12700,12700,13100,13000,13000,11800,11800,12200]
[null,null,null,null,null,null,null,null,null,null,null,null,null,null,null,null,null,null,null,null,null,null,null,null,null,null,null,null,null,null,null,null,null,null,null,null,null,null,null,null,null,null,null,null,null,null,null,null,null,null,null,null,null,null,null,null,null,null,null,null,null,null,null,null,null,null,null,null,null,null,null,null,null,null,null,null,null,null,null,null,null,null,null,null,null,null,null,null,null,null,null,null,null,null,null,null,null,null,null,null,null,null,null,null,null,null,null,null,null,null,null,null,null,null,null,null,null,null,null,null,null,null,null,null,null,null,null,null,null,null,null,null,null,null,null,null,null,null,null,null,null,null,null,null,null,null,null,null,null,null,null,null,null,null,null,null,null,null,null,null,null,null,null,null,null,null,null,null,null,null,null,null,null,null,null,null,null,null,null,null,null,null,null,null,null,null,null,null,null,null,null,null,null,null,null,null,null,null,null,null,null,null,null,null,null,null,null,null,null,700,700,700,700,700,700,700,700,700]
[null,null,null,null,null,null,null,null,null,null,null,null,null,null,null,null,null,null,null,null,null,null,null,null,null,null,null,null,null,null,null,null,null,null,null,null,null,null,null,null,null,null,null,null,null,null,null,null,null,null,null,null,null,null,null,null,null,null,null,null,null,null,null,null,null,null,null,null,null,null,null,null,null,null,null,null,null,null,null,null,null,null,null,null,null,null,null,null,null,null,null,null,null,null,null,null,null,null,null,null,null,null,null,null,null,null,null,null,null,null,null,null,null,null,null,null,null,null,null,null,null,null,null,null,null,null,null,null,null,null,null,null,null,null,null,null,null,null,null,null,null,null,null,null,null,null,null,null,null,null,null,null,null,null,null,null,null,null,null,null,null,null,null,null,null,null,null,null,null,null,null,null,null,null,null,null,null,null,null,null,null,null,null,null,null,null,null,null,null,null,null,null,null,null,null,null,null,null,null,null,null,null,null,null,null,null,null,null,null,300,300,200,200,300,200,300,300,300]
[null,null,null,null,null,null,null,null,null,null,null,null,null,null,null,null,null,null,null,null,null,null,null,null,null,null,null,null,null,null,null,null,null,null,null,null,null,null,null,null,null,null,null,null,null,null,null,null,null,null,null,null,null,null,null,null,null,null,null,null,null,null,null,null,null,null,null,null,null,null,null,null,null,null,null,null,null,null,null,null,null,null,null,null,null,null,null,null,null,null,null,null,null,null,null,null,null,null,null,null,null,null,null,null,null,null,null,null,null,null,null,null,null,null,null,null,null,null,null,null,null,null,null,null,null,null,null,null,null,null,null,null,null,null,null,null,null,null,null,null,null,null,null,null,null,null,null,null,null,null,null,null,null,null,null,null,null,null,null,null,null,null,null,null,null,null,null,null,null,null,null,null,null,null,null,null,null,null,null,null,null,null,null,null,null,null,null,null,null,null,null,null,null,null,null,null,null,null,null,null,null,null,null,null,null,null,null,null,null,11400,11700,11800,12200,12000,12100,10800,10800,11200]
[null,null,null,null,null,null,null,null,null,null,null,null,null,null,null,null,null,null,null,null,null,null,null,null,null,null,null,null,null,null,null,null,null,null,null,null,null,null,null,null,null,null,null,null,null,null,null,null,null,null,null,null,null,null,null,null,null,null,null,null,null,null,null,null,null,null,null,null,null,null,null,null,null,null,null,null,null,null,null,null,null,null,null,null,null,null,null,null,null,null,null,null,null,null,null,null,null,null,null,null,null,null,null,null,null,null,null,null,null,null,null,null,null,null,null,null,null,null,null,null,null,null,null,null,null,null,null,null,null,null,null,null,null,null,null,null,null,null,null,null,null,null,null,null,null,null,null,null,null,null,null,null,null,null,null,null,null,null,null,null,null,null,null,null,null,null,null,null,null,null,null,null,null,null,null,null,null,null,null,null,null,null,null,null,null,null,null,null,null,null,null,null,null,null,null,null,null,null,null,null,null,null,null,null,null,null,null,null,null,82600,84200,84100,85900,85900,84800,84500,84600,85400]
[null,null,null,null,null,null,null,null,null,null,null,null,null,null,null,null,null,null,null,null,null,null,null,null,null,null,null,null,null,null,null,null,null,null,null,null,null,null,null,null,null,null,null,null,null,null,null,null,null,null,null,null,null,null,null,null,null,null,null,null,null,null,null,null,null,null,null,null,null,null,null,null,null,null,null,null,null,null,null,null,null,null,null,null,null,null,null,null,null,null,null,null,null,null,null,null,null,null,null,null,null,null,null,null,null,null,null,null,null,null,null,null,null,null,null,null,null,null,null,null,null,null,null,null,null,null,null,null,null,null,null,null,null,null,null,null,null,null,null,null,null,null,null,null,null,null,null,null,null,null,null,null,null,null,null,null,null,null,null,null,null,null,null,null,null,null,null,null,null,null,null,null,null,null,null,null,null,null,null,null,null,null,null,null,null,null,null,null,null,null,null,null,null,null,null,null,null,null,null,null,null,null,null,null,null,null,null,null,null,71800,72300,72300,73400,74100,74100,74100,74300,73800]
[null,null,null,null,null,null,null,null,null,null,null,null,null,null,null,null,null,null,null,null,null,null,null,null,null,null,null,null,null,null,null,null,null,null,null,null,null,null,null,null,null,null,null,null,null,null,null,null,null,null,null,null,null,null,null,null,null,null,null,null,null,null,null,null,null,null,null,null,null,null,null,null,null,null,null,null,null,null,null,null,null,null,null,null,null,null,null,null,null,null,null,null,null,null,null,null,null,null,null,null,null,null,null,null,null,null,null,null,null,null,null,null,null,null,null,null,null,null,null,null,null,null,null,null,null,null,null,null,null,null,null,null,null,null,null,null,null,null,null,null,null,null,null,null,null,null,null,null,null,null,null,null,null,null,null,null,null,null,null,null,null,null,null,null,null,null,null,null,null,null,null,null,null,null,null,null,null,null,null,null,null,null,null,null,null,null,null,null,null,null,null,null,null,null,null,null,null,null,null,null,null,null,null,null,null,null,null,null,null,13200,13200,13200,13700,14100,14200,14400,14300,14000]
[null,null,null,null,null,null,null,null,null,null,null,null,null,null,null,null,null,null,null,null,null,null,null,null,null,null,null,null,null,null,null,null,null,null,null,null,null,null,null,null,null,null,null,null,null,null,null,null,null,null,null,null,null,null,null,null,null,null,null,null,null,null,null,null,null,null,null,null,null,null,null,null,null,null,null,null,null,null,null,null,null,null,null,null,null,null,null,null,null,null,null,null,null,null,null,null,null,null,null,null,null,null,null,null,null,null,null,null,null,null,null,null,null,null,null,null,null,null,null,null,null,null,null,null,null,null,null,null,null,null,null,null,null,null,null,null,null,null,null,null,null,null,null,null,null,null,null,null,null,null,null,null,null,null,null,null,null,null,null,null,null,null,null,null,null,null,null,null,null,null,null,null,null,null,null,null,null,null,null,null,null,null,null,null,null,null,null,null,null,null,null,null,null,null,null,null,null,null,null,null,null,null,null,null,null,null,null,null,null,69400,71000,70900,72200,71800,70600,70100,70300,71400]
[null,null,null,null,null,null,null,null,null,null,null,null,null,null,null,null,null,null,null,null,null,null,null,null,null,null,null,null,null,null,null,null,null,null,null,null,null,null,null,null,null,null,null,null,null,null,null,null,null,null,null,null,null,null,null,null,null,null,null,null,null,null,null,null,null,null,null,null,null,null,null,null,null,null,null,null,null,null,null,null,null,null,null,null,null,null,null,null,null,null,null,null,null,null,null,null,null,null,null,null,null,null,null,null,null,null,null,null,null,null,null,null,null,null,null,null,null,null,null,null,null,null,null,null,null,null,null,null,null,null,null,null,null,null,null,null,null,null,null,null,null,null,null,null,null,null,null,null,null,null,null,null,null,null,null,null,null,null,null,null,null,null,null,null,null,null,null,null,null,null,null,null,null,null,null,null,null,null,null,null,null,null,null,null,null,null,null,null,null,null,null,null,null,null,null,null,null,null,null,null,null,null,null,null,null,null,null,null,null,58600,59100,59100,59700,60000,59900,59700,60000,59800]
[null,null,null,null,null,null,null,null,null,null,null,null,null,null,null,null,null,null,null,null,null,null,null,null,null,null,null,null,null,null,null,null,null,null,null,null,null,null,null,null,null,null,null,null,null,null,null,null,null,null,null,null,null,null,null,null,null,null,null,null,null,null,null,null,null,null,null,null,null,null,null,null,null,null,null,null,null,null,null,null,null,null,null,null,null,null,null,null,null,null,null,null,null,null,null,null,null,null,null,null,null,null,null,null,null,null,null,null,null,null,null,null,null,null,null,null,null,null,null,null,null,null,null,null,null,null,null,null,null,null,null,null,null,null,null,null,null,null,null,null,null,null,null,null,null,null,null,null,null,null,null,null,null,null,null,null,null,null,null,null,null,null,null,null,null,null,null,null,null,null,null,null,null,null,null,null,null,null,null,null,null,null,null,null,null,null,null,null,null,null,null,null,null,null,null,null,null,null,null,null,null,null,null,null,null,null,null,null,null,2900,2800,2800,3300,3600,3600,3700,3700,3500]
[null,null,null,null,null,null,null,null,null,null,null,null,null,null,null,null,null,null,null,null,null,null,null,null,null,null,null,null,null,null,null,null,null,null,null,null,null,null,null,null,null,null,null,null,null,null,null,null,null,null,null,null,null,null,null,null,null,null,null,null,null,null,null,null,null,null,null,null,null,null,null,null,null,null,null,null,null,null,null,null,null,null,null,null,null,null,null,null,null,null,null,null,null,null,null,null,null,null,null,null,null,null,null,null,null,null,null,null,null,null,null,null,null,null,null,null,null,null,null,null,null,null,null,null,null,null,null,null,null,null,null,null,null,null,null,null,null,null,null,null,null,null,null,null,null,null,null,null,null,null,null,null,null,null,null,null,null,null,null,null,null,null,null,null,null,null,null,null,null,null,null,null,null,null,null,null,null,null,null,null,null,null,null,null,null,null,null,null,null,null,null,null,null,null,null,null,null,null,null,null,null,null,null,null,null,null,null,null,null,10300,10400,10400,10400,10500,10600,10700,10600,10500]
[null,null,null,null,null,null,null,null,null,null,null,null,null,null,null,null,null,null,null,null,null,null,null,null,null,null,null,null,null,null,null,null,null,null,null,null,null,null,null,null,null,null,null,null,null,null,null,null,null,null,null,null,null,null,null,null,null,null,null,null,null,null,null,null,null,null,null,null,null,null,null,null,null,null,null,null,null,null,null,null,null,null,null,null,null,null,null,null,null,null,null,null,null,null,null,null,null,null,null,null,null,null,null,null,null,null,null,null,null,null,null,null,null,null,null,null,null,null,null,null,null,null,null,null,null,null,null,null,null,null,null,null,null,null,null,null,null,null,null,null,null,null,null,null,null,null,null,null,null,null,null,null,null,null,null,null,null,null,null,null,null,null,null,null,null,null,null,null,null,null,null,null,null,null,null,null,null,null,null,null,null,null,null,null,null,null,null,null,null,null,null,null,null,null,null,null,null,null,null,null,null,null,null,null,null,null,null,null,null,17100,17000,17000,17200,17200,17000,16800,16900,17000]
[null,null,null,null,null,null,null,null,null,null,null,null,null,null,null,null,null,null,null,null,null,null,null,null,null,null,null,null,null,null,null,null,null,null,null,null,null,null,null,null,null,null,null,null,null,null,null,null,null,null,null,null,null,null,null,null,null,null,null,null,null,null,null,null,null,null,null,null,null,null,null,null,null,null,null,null,null,null,null,null,null,null,null,null,null,null,null,null,null,null,null,null,null,null,null,null,null,null,null,null,null,null,null,null,null,null,null,null,null,null,null,null,null,null,null,null,null,null,null,null,null,null,null,null,null,null,null,null,null,null,null,null,null,null,null,null,null,null,null,null,null,null,null,null,null,null,null,null,null,null,null,null,null,null,null,null,null,null,null,null,null,null,null,null,null,null,null,null,null,null,null,null,null,null,null,null,null,null,null,null,null,null,null,null,null,null,null,null,null,null,null,null,null,null,null,null,null,null,null,null,null,null,null,null,null,null,null,null,null,3000,3000,3000,3100,3100,3100,3000,3100,3300]
[null,null,null,null,null,null,null,null,null,null,null,null,null,null,null,null,null,null,null,null,null,null,null,null,null,null,null,null,null,null,null,null,null,null,null,null,null,null,null,null,null,null,null,null,null,null,null,null,null,null,null,null,null,null,null,null,null,null,null,null,null,null,null,null,null,null,null,null,null,null,null,null,null,null,null,null,null,null,null,null,null,null,null,null,null,null,null,null,null,null,null,null,null,null,null,null,null,null,null,null,null,null,null,null,null,null,null,null,null,null,null,null,null,null,null,null,null,null,null,null,null,null,null,null,null,null,null,null,null,null,null,null,null,null,null,null,null,null,null,null,null,null,null,null,null,null,null,null,null,null,null,null,null,null,null,null,null,null,null,null,null,null,null,null,null,null,null,null,null,null,null,null,null,null,null,null,null,null,null,null,null,null,null,null,null,null,null,null,null,null,null,null,null,null,null,null,null,null,null,null,null,null,null,null,null,null,null,null,null,10800,10700,10700,10800,10700,10700,10600,10600,10500]
[null,null,null,null,null,null,null,null,null,null,null,null,null,null,null,null,null,null,null,null,null,null,null,null,null,null,null,null,null,null,null,null,null,null,null,null,null,null,null,null,null,null,null,null,null,null,null,null,null,null,null,null,null,null,null,null,null,null,null,null,null,null,null,null,null,null,null,null,null,null,null,null,null,null,null,null,null,null,null,null,null,null,null,null,null,null,null,null,null,null,null,null,null,null,null,null,null,null,null,null,null,null,null,null,null,null,null,null,null,null,null,null,null,null,null,null,null,null,null,null,null,null,null,null,null,null,null,null,null,null,null,null,null,null,null,null,null,null,null,null,null,null,null,null,null,null,null,null,null,null,null,null,null,null,null,null,null,null,null,null,null,null,null,null,null,null,null,null,null,null,null,null,null,null,null,null,null,null,null,null,null,null,null,null,null,null,null,null,null,null,null,null,null,null,null,null,null,null,null,null,null,null,null,null,null,null,null,null,null,3300,3300,3300,3300,3400,3200,3200,3200,3200]
[null,null,null,null,null,null,null,null,null,null,null,null,null,null,null,null,null,null,null,null,null,null,null,null,null,null,null,null,null,null,null,null,null,null,null,null,null,null,null,null,null,null,null,null,null,null,null,null,null,null,null,null,null,null,null,null,null,null,null,null,null,null,null,null,null,null,null,null,null,null,null,null,null,null,null,null,null,null,null,null,null,null,null,null,null,null,null,null,null,null,null,null,null,null,null,null,null,null,null,null,null,null,null,null,null,null,null,null,null,null,null,null,null,null,null,null,null,null,null,null,null,null,null,null,null,null,null,null,null,null,null,null,null,null,null,null,null,null,null,null,null,null,null,null,null,null,null,null,null,null,null,null,null,null,null,null,null,null,null,null,null,null,null,null,null,null,null,null,null,null,null,null,null,null,null,null,null,null,null,null,null,null,null,null,null,null,null,null,null,null,null,null,null,null,null,null,null,null,null,null,null,null,null,null,null,null,null,null,null,900,900,900,900,900,900,900,900,900]
[null,null,null,null,null,null,null,null,null,null,null,null,null,null,null,null,null,null,null,null,null,null,null,null,null,null,null,null,null,null,null,null,null,null,null,null,null,null,null,null,null,null,null,null,null,null,null,null,null,null,null,null,null,null,null,null,null,null,null,null,null,null,null,null,null,null,null,null,null,null,null,null,null,null,null,null,null,null,null,null,null,null,null,null,null,null,null,null,null,null,null,null,null,null,null,null,null,null,null,null,null,null,null,null,null,null,null,null,null,null,null,null,null,null,null,null,null,null,null,null,null,null,null,null,null,null,null,null,null,null,null,null,null,null,null,null,null,null,null,null,null,null,null,null,null,null,null,null,null,null,null,null,null,null,null,null,null,null,null,null,null,null,null,null,null,null,null,null,null,null,null,null,null,null,null,null,null,null,null,null,null,null,null,null,null,null,null,null,null,null,null,null,null,null,null,null,null,null,null,null,null,null,null,null,null,null,null,null,null,3800,3800,3800,3800,3900,3900,3900,3900,3900]
[null,null,null,null,null,null,null,null,null,null,null,null,null,null,null,null,null,null,null,null,null,null,null,null,null,null,null,null,null,null,null,null,null,null,null,null,null,null,null,null,null,null,null,null,null,null,null,null,null,null,null,null,null,null,null,null,null,null,null,null,null,null,null,null,null,null,null,null,null,null,null,null,null,null,null,null,null,null,null,null,null,null,null,null,null,null,null,null,null,null,null,null,null,null,null,null,null,null,null,null,null,null,null,null,null,null,null,null,null,null,null,null,null,null,null,null,null,null,null,null,null,null,null,null,null,null,null,null,null,null,null,null,null,null,null,null,null,null,null,null,null,null,null,null,null,null,null,null,null,null,null,null,null,null,null,null,null,null,null,null,null,null,null,null,null,null,null,null,null,null,null,null,null,null,null,null,null,null,null,null,null,null,null,null,null,null,null,null,null,null,null,null,null,null,null,null,null,null,null,null,null,null,null,null,null,null,null,null,null,8900,9200,9200,9200,9200,9200,9100,9100,9100]
[null,null,null,null,null,null,null,null,null,null,null,null,null,null,null,null,null,null,null,null,null,null,null,null,null,null,null,null,null,null,null,null,null,null,null,null,null,null,null,null,null,null,null,null,null,null,null,null,null,null,null,null,null,null,null,null,null,null,null,null,null,null,null,null,null,null,null,null,null,null,null,null,null,null,null,null,null,null,null,null,null,null,null,null,null,null,null,null,null,null,null,null,null,null,null,null,null,null,null,null,null,null,null,null,null,null,null,null,null,null,null,null,null,null,null,null,null,null,null,null,null,null,null,null,null,null,null,null,null,null,null,null,null,null,null,null,null,null,null,null,null,null,null,null,null,null,null,null,null,null,null,null,null,null,null,null,null,null,null,null,null,null,null,null,null,null,null,null,null,null,null,null,null,null,null,null,null,null,null,null,null,null,null,null,null,null,null,null,null,null,null,null,null,null,null,null,null,null,null,null,null,null,null,null,null,null,null,null,null,16200,16300,16300,16300,16300,16300,16300,16400,16400]
[null,null,null,null,null,null,null,null,null,null,null,null,null,null,null,null,null,null,null,null,null,null,null,null,null,null,null,null,null,null,null,null,null,null,null,null,null,null,null,null,null,null,null,null,null,null,null,null,null,null,null,null,null,null,null,null,null,null,null,null,null,null,null,null,null,null,null,null,null,null,null,null,null,null,null,null,null,null,null,null,null,null,null,null,null,null,null,null,null,null,null,null,null,null,null,null,null,null,null,null,null,null,null,null,null,null,null,null,null,null,null,null,null,null,null,null,null,null,null,null,null,null,null,null,null,null,null,null,null,null,null,null,null,null,null,null,null,null,null,null,null,null,null,null,null,null,null,null,null,null,null,null,null,null,null,null,null,null,null,null,null,null,null,null,null,null,null,null,null,null,null,null,null,null,null,null,null,null,null,null,null,null,null,null,null,null,null,null,null,null,null,null,null,null,null,null,null,null,null,null,null,null,null,null,null,null,null,null,null,7500,7600,7700,8000,8200,8300,8500,8500,8300]
[null,null,null,null,null,null,null,null,null,null,null,null,null,null,null,null,null,null,null,null,null,null,null,null,null,null,null,null,null,null,null,null,null,null,null,null,null,null,null,null,null,null,null,null,null,null,null,null,null,null,null,null,null,null,null,null,null,null,null,null,null,null,null,null,null,null,null,null,null,null,null,null,null,null,null,null,null,null,null,null,null,null,null,null,null,null,null,null,null,null,null,null,null,null,null,null,null,null,null,null,null,null,null,null,null,null,null,null,null,null,null,null,null,null,null,null,null,null,null,null,null,null,null,null,null,null,null,null,null,null,null,null,null,null,null,null,null,null,null,null,null,null,null,null,null,null,null,null,null,null,null,null,null,null,null,null,null,null,null,null,null,null,null,null,null,null,null,null,null,null,null,null,null,null,null,null,null,null,null,null,null,null,null,null,null,null,null,null,null,null,null,null,null,null,null,null,null,null,null,null,null,null,null,null,null,null,null,null,null,4200,4300,4200,4300,4300,4300,4200,4300,4200]
[null,null,null,null,null,null,null,null,null,null,null,null,null,null,null,null,null,null,null,null,null,null,null,null,null,null,null,null,null,null,null,null,null,null,null,null,null,null,null,null,null,null,null,null,null,null,null,null,null,null,null,null,null,null,null,null,null,null,null,null,null,null,null,null,null,null,null,null,null,null,null,null,null,null,null,null,null,null,null,null,null,null,null,null,null,null,null,null,null,null,null,null,null,null,null,null,null,null,null,null,null,null,null,null,null,null,null,null,null,null,null,null,null,null,null,null,null,null,null,null,null,null,null,null,null,null,null,null,null,null,null,null,null,null,null,null,null,null,null,null,null,null,null,null,null,null,null,null,null,null,null,null,null,null,null,null,null,null,null,null,null,null,null,null,null,null,null,null,null,null,null,null,null,null,null,null,null,null,null,null,null,null,null,null,null,null,null,null,null,null,null,null,null,null,null,null,null,null,null,null,null,null,null,null,null,null,null,null,null,10800,11900,11800,12500,11800,10700,10400,10300,11600]
[null,null,null,null,null,null,null,null,null,null,null,null,null,null,null,null,null,null,null,null,null,null,null,null,null,null,null,null,null,null,null,null,null,null,null,null,null,null,null,null,null,null,null,null,null,null,null,null,null,null,null,null,null,null,null,null,null,null,null,null,null,null,null,null,null,null,null,null,null,null,null,null,null,null,null,null,null,null,null,null,null,null,null,null,null,null,null,null,null,null,null,null,null,null,null,null,null,null,null,null,null,null,null,null,null,null,null,null,null,null,null,null,null,null,null,null,null,null,null,null,null,null,null,null,null,null,null,null,null,null,null,null,null,null,null,null,null,null,null,null,null,null,null,null,null,null,null,null,null,null,null,null,null,null,null,null,null,null,null,null,null,null,null,null,null,null,null,null,null,null,null,null,null,null,null,null,null,null,null,null,null,null,null,null,null,null,null,null,null,null,null,null,null,null,null,null,null,null,null,null,null,null,null,null,null,null,null,null,null,500,500,500,500,500,500,500,500,500]
[null,null,null,null,null,null,null,null,null,null,null,null,null,null,null,null,null,null,null,null,null,null,null,null,null,null,null,null,null,null,null,null,null,null,null,null,null,null,null,null,null,null,null,null,null,null,null,null,null,null,null,null,null,null,null,null,null,null,null,null,null,null,null,null,null,null,null,null,null,null,null,null,null,null,null,null,null,null,null,null,null,null,null,null,null,null,null,null,null,null,null,null,null,null,null,null,null,null,null,null,null,null,null,null,null,null,null,null,null,null,null,null,null,null,null,null,null,null,null,null,null,null,null,null,null,null,null,null,null,null,null,null,null,null,null,null,null,null,null,null,null,null,null,null,null,null,null,null,null,null,null,null,null,null,null,null,null,null,null,null,null,null,null,null,null,null,null,null,null,null,null,null,null,null,null,null,null,null,null,null,null,null,null,null,null,null,null,null,null,null,null,null,null,null,null,null,null,null,null,null,null,null,null,null,null,null,null,null,null,3300,4400,4300,4400,4300,3000,3000,2900,3900]
[null,null,null,null,null,null,null,null,null,null,null,null,null,null,null,null,null,null,null,null,null,null,null,null,null,null,null,null,null,null,null,null,null,null,null,null,null,null,null,null,null,null,null,null,null,null,null,null,null,null,null,null,null,null,null,null,null,null,null,null,null,null,null,null,null,null,null,null,null,null,null,null,null,null,null,null,null,null,null,null,null,null,null,null,null,null,null,null,null,null,null,null,null,null,null,null,null,null,null,null,null,null,null,null,null,null,null,null,null,null,null,null,null,null,null,null,null,null,null,null,null,null,null,null,null,null,null,null,null,null,null,null,null,null,null,null,null,null,null,null,null,null,null,null,null,null,null,null,null,null,null,null,null,null,null,null,null,null,null,null,null,null,null,null,null,null,null,null,null,null,null,null,null,null,null,null,null,null,null,null,null,null,null,null,null,null,null,null,null,null,null,null,null,null,null,null,null,null,null,null,null,null,null,null,null,null,null,null,null,7000,7000,7000,7600,7000,7200,6900,6900,7200]
[null,null,null,null,null,null,null,null,null,null,null,null,null,null,null,null,null,null,null,null,null,null,null,null,null,null,null,null,null,null,null,null,null,null,null,null,null,null,null,null,null,null,null,null,null,null,null,null,null,null,null,null,null,null,null,null,null,null,null,null,null,null,null,null,null,null,null,null,null,null,null,null,null,null,null,null,null,null,null,null,null,null,null,null,null,null,null,null,null,null,null,null,null,null,null,null,null,null,null,null,null,null,null,null,null,null,null,null,null,null,null,null,null,null,null,null,null,null,null,null,null,null,null,null,null,null,null,null,null,null,null,null,null,null,null,null,null,null,null,null,null,null,null,null,null,null,null,null,null,null,null,null,null,null,null,null,null,null,null,null,null,null,null,null,null,null,null,null,null,null,null,null,null,null,null,null,null,null,null,null,null,null,null,null,null,null,null,null,null,null,null,null,null,null,null,null,null,null,null,null,null,null,null,null,null,null,null,null,null,47500,47700,48000,48500,48900,49400,49000,48700,48900]
[null,null,null,null,null,null,null,null,null,null,null,null,null,null,null,null,null,null,null,null,null,null,null,null,null,null,null,null,null,null,null,null,null,null,null,null,null,null,null,null,null,null,null,null,null,null,null,null,null,null,null,null,null,null,null,null,null,null,null,null,null,null,null,null,null,null,null,null,null,null,null,null,null,null,null,null,null,null,null,null,null,null,null,null,null,null,null,null,null,null,null,null,null,null,null,null,null,null,null,null,null,null,null,null,null,null,null,null,null,null,null,null,null,null,null,null,null,null,null,null,null,null,null,null,null,null,null,null,null,null,null,null,null,null,null,null,null,null,null,null,null,null,null,null,null,null,null,null,null,null,null,null,null,null,null,null,null,null,null,null,null,null,null,null,null,null,null,null,null,null,null,null,null,null,null,null,null,null,null,null,null,null,null,null,null,null,null,null,null,null,null,null,null,null,null,null,null,null,null,null,null,null,null,null,null,null,null,null,null,41400,41400,41700,42100,42500,43000,43000,42900,42900]
[null,null,null,null,null,null,null,null,null,null,null,null,null,null,null,null,null,null,null,null,null,null,null,null,null,null,null,null,null,null,null,null,null,null,null,null,null,null,null,null,null,null,null,null,null,null,null,null,null,null,null,null,null,null,null,null,null,null,null,null,null,null,null,null,null,null,null,null,null,null,null,null,null,null,null,null,null,null,null,null,null,null,null,null,null,null,null,null,null,null,null,null,null,null,null,null,null,null,null,null,null,null,null,null,null,null,null,null,null,null,null,null,null,null,null,null,null,null,null,null,null,null,null,null,null,null,null,null,null,null,null,null,null,null,null,null,null,null,null,null,null,null,null,null,null,null,null,null,null,null,null,null,null,null,null,null,null,null,null,null,null,null,null,null,null,null,null,null,null,null,null,null,null,null,null,null,null,null,null,null,null,null,null,null,null,null,null,null,null,null,null,null,null,null,null,null,null,null,null,null,null,null,null,null,null,null,null,null,null,13400,13200,13400,13700,13800,14100,14300,14100,14000]
[null,null,null,null,null,null,null,null,null,null,null,null,null,null,null,null,null,null,null,null,null,null,null,null,null,null,null,null,null,null,null,null,null,null,null,null,null,null,null,null,null,null,null,null,null,null,null,null,null,null,null,null,null,null,null,null,null,null,null,null,null,null,null,null,null,null,null,null,null,null,null,null,null,null,null,null,null,null,null,null,null,null,null,null,null,null,null,null,null,null,null,null,null,null,null,null,null,null,null,null,null,null,null,null,null,null,null,null,null,null,null,null,null,null,null,null,null,null,null,null,null,null,null,null,null,null,null,null,null,null,null,null,null,null,null,null,null,null,null,null,null,null,null,null,null,null,null,null,null,null,null,null,null,null,null,null,null,null,null,null,null,null,null,null,null,null,null,null,null,null,null,null,null,null,null,null,null,null,null,null,null,null,null,null,null,null,null,null,null,null,null,null,null,null,null,null,null,null,null,null,null,null,null,null,null,null,null,null,null,34100,34500,34600,34800,35100,35300,34700,34600,34900]
[null,null,null,null,null,null,null,null,null,null,null,null,null,null,null,null,null,null,null,null,null,null,null,null,null,null,null,null,null,null,null,null,null,null,null,null,null,null,null,null,null,null,null,null,null,null,null,null,null,null,null,null,null,null,null,null,null,null,null,null,null,null,null,null,null,null,null,null,null,null,null,null,null,null,null,null,null,null,null,null,null,null,null,null,null,null,null,null,null,null,null,null,null,null,null,null,null,null,null,null,null,null,null,null,null,null,null,null,null,null,null,null,null,null,null,null,null,null,null,null,null,null,null,null,null,null,null,null,null,null,null,null,null,null,null,null,null,null,null,null,null,null,null,null,null,null,null,null,null,null,null,null,null,null,null,null,null,null,null,null,null,null,null,null,null,null,null,null,null,null,null,null,null,null,null,null,null,null,null,null,null,null,null,null,null,null,null,null,null,null,null,null,null,null,null,null,null,null,null,null,null,null,null,null,null,null,null,null,null,28000,28200,28300,28400,28700,28900,28700,28800,28900]
[null,null,null,null,null,null,null,null,null,null,null,null,null,null,null,null,null,null,null,null,null,null,null,null,null,null,null,null,null,null,null,null,null,null,null,null,null,null,null,null,null,null,null,null,null,null,null,null,null,null,null,null,null,null,null,null,null,null,null,null,null,null,null,null,null,null,null,null,null,null,null,null,null,null,null,null,null,null,null,null,null,null,null,null,null,null,null,null,null,null,null,null,null,null,null,null,null,null,null,null,null,null,null,null,null,null,null,null,null,null,null,null,null,null,null,null,null,null,null,null,null,null,null,null,null,null,null,null,null,null,null,null,null,null,null,null,null,null,null,null,null,null,null,null,null,null,null,null,null,null,null,null,null,null,null,null,null,null,null,null,null,null,null,null,null,null,null,null,null,null,null,null,null,null,null,null,null,null,null,null,null,null,null,null,null,null,null,null,null,null,null,null,null,null,null,null,null,null,null,null,null,null,null,null,null,null,null,null,null,2700,2600,2700,2900,3100,3200,3300,3200,3200]
[null,null,null,null,null,null,null,null,null,null,null,null,null,null,null,null,null,null,null,null,null,null,null,null,null,null,null,null,null,null,null,null,null,null,null,null,null,null,null,null,null,null,null,null,null,null,null,null,null,null,null,null,null,null,null,null,null,null,null,null,null,null,null,null,null,null,null,null,null,null,null,null,null,null,null,null,null,null,null,null,null,null,null,null,null,null,null,null,null,null,null,null,null,null,null,null,null,null,null,null,null,null,null,null,null,null,null,null,null,null,null,null,null,null,null,null,null,null,null,null,null,null,null,null,null,null,null,null,null,null,null,null,null,null,null,null,null,null,null,null,null,null,null,null,null,null,null,null,null,null,null,null,null,null,null,null,null,null,null,null,null,null,null,null,null,null,null,null,null,null,null,null,null,null,null,null,null,null,null,null,null,null,null,null,null,null,null,null,null,null,null,null,null,null,null,null,null,null,null,null,null,null,null,null,null,null,null,null,null,10700,10600,10700,10800,10700,10900,11000,10900,10800]
[null,null,null,null,null,null,null,null,null,null,null,null,null,null,null,null,null,null,null,null,null,null,null,null,null,null,null,null,null,null,null,null,null,null,null,null,null,null,null,null,null,null,null,null,null,null,null,null,null,null,null,null,null,null,null,null,null,null,null,null,null,null,null,null,null,null,null,null,null,null,null,null,null,null,null,null,null,null,null,null,null,null,null,null,null,null,null,null,null,null,null,null,null,null,null,null,null,null,null,null,null,null,null,null,null,null,null,null,null,null,null,null,null,null,null,null,null,null,null,null,null,null,null,null,null,null,null,null,null,null,null,null,null,null,null,null,null,null,null,null,null,null,null,null,null,null,null,null,null,null,null,null,null,null,null,null,null,null,null,null,null,null,null,null,null,null,null,null,null,null,null,null,null,null,null,null,null,null,null,null,null,null,null,null,null,null,null,null,null,null,null,null,null,null,null,null,null,null,null,null,null,null,null,null,null,null,null,null,null,9000,8800,8800,8900,9100,9100,9000,9000,9000]
[null,null,null,null,null,null,null,null,null,null,null,null,null,null,null,null,null,null,null,null,null,null,null,null,null,null,null,null,null,null,null,null,null,null,null,null,null,null,null,null,null,null,null,null,null,null,null,null,null,null,null,null,null,null,null,null,null,null,null,null,null,null,null,null,null,null,null,null,null,null,null,null,null,null,null,null,null,null,null,null,null,null,null,null,null,null,null,null,null,null,null,null,null,null,null,null,null,null,null,null,null,null,null,null,null,null,null,null,null,null,null,null,null,null,null,null,null,null,null,null,null,null,null,null,null,null,null,null,null,null,null,null,null,null,null,null,null,null,null,null,null,null,null,null,null,null,null,null,null,null,null,null,null,null,null,null,null,null,null,null,null,null,null,null,null,null,null,null,null,null,null,null,null,null,null,null,null,null,null,null,null,null,null,null,null,null,null,null,null,null,null,null,null,null,null,null,null,null,null,null,null,null,null,null,null,null,null,null,null,1800,1800,1800,1800,1900,1900,1900,1900,1900]
[null,null,null,null,null,null,null,null,null,null,null,null,null,null,null,null,null,null,null,null,null,null,null,null,null,null,null,null,null,null,null,null,null,null,null,null,null,null,null,null,null,null,null,null,null,null,null,null,null,null,null,null,null,null,null,null,null,null,null,null,null,null,null,null,null,null,null,null,null,null,null,null,null,null,null,null,null,null,null,null,null,null,null,null,null,null,null,null,null,null,null,null,null,null,null,null,null,null,null,null,null,null,null,null,null,null,null,null,null,null,null,null,null,null,null,null,null,null,null,null,null,null,null,null,null,null,null,null,null,null,null,null,null,null,null,null,null,null,null,null,null,null,null,null,null,null,null,null,null,null,null,null,null,null,null,null,null,null,null,null,null,null,null,null,null,null,null,null,null,null,null,null,null,null,null,null,null,null,null,null,null,null,null,null,null,null,null,null,null,null,null,null,null,null,null,null,null,null,null,null,null,null,null,null,null,null,null,null,null,5500,5300,5300,5400,5500,5500,5500,5500,5400]
[null,null,null,null,null,null,null,null,null,null,null,null,null,null,null,null,null,null,null,null,null,null,null,null,null,null,null,null,null,null,null,null,null,null,null,null,null,null,null,null,null,null,null,null,null,null,null,null,null,null,null,null,null,null,null,null,null,null,null,null,null,null,null,null,null,null,null,null,null,null,null,null,null,null,null,null,null,null,null,null,null,null,null,null,null,null,null,null,null,null,null,null,null,null,null,null,null,null,null,null,null,null,null,null,null,null,null,null,null,null,null,null,null,null,null,null,null,null,null,null,null,null,null,null,null,null,null,null,null,null,null,null,null,null,null,null,null,null,null,null,null,null,null,null,null,null,null,null,null,null,null,null,null,null,null,null,null,null,null,null,null,null,null,null,null,null,null,null,null,null,null,null,null,null,null,null,null,null,null,null,null,null,null,null,null,null,null,null,null,null,null,null,null,null,null,null,null,null,null,null,null,null,null,null,null,null,null,null,null,1700,1700,1700,1700,1700,1700,1600,1600,1700]
[null,null,null,null,null,null,null,null,null,null,null,null,null,null,null,null,null,null,null,null,null,null,null,null,null,null,null,null,null,null,null,null,null,null,null,null,null,null,null,null,null,null,null,null,null,null,null,null,null,null,null,null,null,null,null,null,null,null,null,null,null,null,null,null,null,null,null,null,null,null,null,null,null,null,null,null,null,null,null,null,null,null,null,null,null,null,null,null,null,null,null,null,null,null,null,null,null,null,null,null,null,null,null,null,null,null,null,null,null,null,null,null,null,null,null,null,null,null,null,null,null,null,null,null,null,null,null,null,null,null,null,null,null,null,null,null,null,null,null,null,null,null,null,null,null,null,null,null,null,null,null,null,null,null,null,null,null,null,null,null,null,null,null,null,null,null,null,null,null,null,null,null,null,null,null,null,null,null,null,null,null,null,null,null,null,null,null,null,null,null,null,null,null,null,null,null,null,null,null,null,null,null,null,null,null,null,null,null,null,1000,1000,1000,1000,1000,1000,1000,1000,1000]
[null,null,null,null,null,null,null,null,null,null,null,null,null,null,null,null,null,null,null,null,null,null,null,null,null,null,null,null,null,null,null,null,null,null,null,null,null,null,null,null,null,null,null,null,null,null,null,null,null,null,null,null,null,null,null,null,null,null,null,null,null,null,null,null,null,null,null,null,null,null,null,null,null,null,null,null,null,null,null,null,null,null,null,null,null,null,null,null,null,null,null,null,null,null,null,null,null,null,null,null,null,null,null,null,null,null,null,null,null,null,null,null,null,null,null,null,null,null,null,null,null,null,null,null,null,null,null,null,null,null,null,null,null,null,null,null,null,null,null,null,null,null,null,null,null,null,null,null,null,null,null,null,null,null,null,null,null,null,null,null,null,null,null,null,null,null,null,null,null,null,null,null,null,null,null,null,null,null,null,null,null,null,null,null,null,null,null,null,null,null,null,null,null,null,null,null,null,null,null,null,null,null,null,null,null,null,null,null,null,1700,1800,1800,1800,1800,1800,1800,1800,1800]
[null,null,null,null,null,null,null,null,null,null,null,null,null,null,null,null,null,null,null,null,null,null,null,null,null,null,null,null,null,null,null,null,null,null,null,null,null,null,null,null,null,null,null,null,null,null,null,null,null,null,null,null,null,null,null,null,null,null,null,null,null,null,null,null,null,null,null,null,null,null,null,null,null,null,null,null,null,null,null,null,null,null,null,null,null,null,null,null,null,null,null,null,null,null,null,null,null,null,null,null,null,null,null,null,null,null,null,null,null,null,null,null,null,null,null,null,null,null,null,null,null,null,null,null,null,null,null,null,null,null,null,null,null,null,null,null,null,null,null,null,null,null,null,null,null,null,null,null,null,null,null,null,null,null,null,null,null,null,null,null,null,null,null,null,null,null,null,null,null,null,null,null,null,null,null,null,null,null,null,null,null,null,null,null,null,null,null,null,null,null,null,null,null,null,null,null,null,null,null,null,null,null,null,null,null,null,null,null,null,2500,2500,2600,2600,2600,2700,2700,2800,2700]
[null,null,null,null,null,null,null,null,null,null,null,null,null,null,null,null,null,null,null,null,null,null,null,null,null,null,null,null,null,null,null,null,null,null,null,null,null,null,null,null,null,null,null,null,null,null,null,null,null,null,null,null,null,null,null,null,null,null,null,null,null,null,null,null,null,null,null,null,null,null,null,null,null,null,null,null,null,null,null,null,null,null,null,null,null,null,null,null,null,null,null,null,null,null,null,null,null,null,null,null,null,null,null,null,null,null,null,null,null,null,null,null,null,null,null,null,null,null,null,null,null,null,null,null,null,null,null,null,null,null,null,null,null,null,null,null,null,null,null,null,null,null,null,null,null,null,null,null,null,null,null,null,null,null,null,null,null,null,null,null,null,null,null,null,null,null,null,null,null,null,null,null,null,null,null,null,null,null,null,null,null,null,null,null,null,null,null,null,null,null,null,null,null,null,null,null,null,null,null,null,null,null,null,null,null,null,null,null,null,7300,7500,7500,7500,7500,7400,7300,7300,7500]
[null,null,null,null,null,null,null,null,null,null,null,null,null,null,null,null,null,null,null,null,null,null,null,null,null,null,null,null,null,null,null,null,null,null,null,null,null,null,null,null,null,null,null,null,null,null,null,null,null,null,null,null,null,null,null,null,null,null,null,null,null,null,null,null,null,null,null,null,null,null,null,null,null,null,null,null,null,null,null,null,null,null,null,null,null,null,null,null,null,null,null,null,null,null,null,null,null,null,null,null,null,null,null,null,null,null,null,null,null,null,null,null,null,null,null,null,null,null,null,null,null,null,null,null,null,null,null,null,null,null,null,null,null,null,null,null,null,null,null,null,null,null,null,null,null,null,null,null,null,null,null,null,null,null,null,null,null,null,null,null,null,null,null,null,null,null,null,null,null,null,null,null,null,null,null,null,null,null,null,null,null,null,null,null,null,null,null,null,null,null,null,null,null,null,null,null,null,null,null,null,null,null,null,null,null,null,null,null,null,6300,6300,6300,6300,6300,6400,6400,6400,6400]
[null,null,null,null,null,null,null,null,null,null,null,null,null,null,null,null,null,null,null,null,null,null,null,null,null,null,null,null,null,null,null,null,null,null,null,null,null,null,null,null,null,null,null,null,null,null,null,null,null,null,null,null,null,null,null,null,null,null,null,null,null,null,null,null,null,null,null,null,null,null,null,null,null,null,null,null,null,null,null,null,null,null,null,null,null,null,null,null,null,null,null,null,null,null,null,null,null,null,null,null,null,null,null,null,null,null,null,null,null,null,null,null,null,null,null,null,null,null,null,null,null,null,null,null,null,null,null,null,null,null,null,null,null,null,null,null,null,null,null,null,null,null,null,null,null,null,null,null,null,null,null,null,null,null,null,null,null,null,null,null,null,null,null,null,null,null,null,null,null,null,null,null,null,null,null,null,null,null,null,null,null,null,null,null,null,null,null,null,null,null,null,null,null,null,null,null,null,null,null,null,null,null,null,null,null,null,null,null,null,4000,4100,4100,4100,4200,4400,4400,4400,4400]
[null,null,null,null,null,null,null,null,null,null,null,null,null,null,null,null,null,null,null,null,null,null,null,null,null,null,null,null,null,null,null,null,null,null,null,null,null,null,null,null,null,null,null,null,null,null,null,null,null,null,null,null,null,null,null,null,null,null,null,null,null,null,null,null,null,null,null,null,null,null,null,null,null,null,null,null,null,null,null,null,null,null,null,null,null,null,null,null,null,null,null,null,null,null,null,null,null,null,null,null,null,null,null,null,null,null,null,null,null,null,null,null,null,null,null,null,null,null,null,null,null,null,null,null,null,null,null,null,null,null,null,null,null,null,null,null,null,null,null,null,null,null,null,null,null,null,null,null,null,null,null,null,null,null,null,null,null,null,null,null,null,null,null,null,null,null,null,null,null,null,null,null,null,null,null,null,null,null,null,null,null,null,null,null,null,null,null,null,null,null,null,null,null,null,null,null,null,null,null,null,null,null,null,null,null,null,null,null,null,2500,2500,2500,2500,2500,2500,2500,2500,2500]
[null,null,null,null,null,null,null,null,null,null,null,null,null,null,null,null,null,null,null,null,null,null,null,null,null,null,null,null,null,null,null,null,null,null,null,null,null,null,null,null,null,null,null,null,null,null,null,null,null,null,null,null,null,null,null,null,null,null,null,null,null,null,null,null,null,null,null,null,null,null,null,null,null,null,null,null,null,null,null,null,null,null,null,null,null,null,null,null,null,null,null,null,null,null,null,null,null,null,null,null,null,null,null,null,null,null,null,null,null,null,null,null,null,null,null,null,null,null,null,null,null,null,null,null,null,null,null,null,null,null,null,null,null,null,null,null,null,null,null,null,null,null,null,null,null,null,null,null,null,null,null,null,null,null,null,null,null,null,null,null,null,null,null,null,null,null,null,null,null,null,null,null,null,null,null,null,null,null,null,null,null,null,null,null,null,null,null,null,null,null,null,null,null,null,null,null,null,null,null,null,null,null,null,null,null,null,null,null,null,6100,6300,6300,6400,6400,6400,6000,5800,6000]
[null,null,null,null,null,null,null,null,null,null,null,null,null,null,null,null,null,null,null,null,null,null,null,null,null,null,null,null,null,null,null,null,null,null,null,null,null,null,null,null,null,null,null,null,null,null,null,null,null,null,null,null,null,null,null,null,null,null,null,null,null,null,null,null,null,null,null,null,null,null,null,null,null,null,null,null,null,null,null,null,null,null,null,null,null,null,null,null,null,null,null,null,null,null,null,null,null,null,null,null,null,null,null,null,null,null,null,null,null,null,null,null,null,null,null,null,null,null,null,null,null,null,null,null,null,null,null,null,null,null,null,null,null,null,null,null,null,null,null,null,null,null,null,null,null,null,null,null,null,null,null,null,null,null,null,null,null,null,null,null,null,null,null,null,null,null,null,null,null,null,null,null,null,null,null,null,null,null,null,null,null,null,null,null,null,null,null,null,null,null,null,null,null,null,null,null,null,null,null,null,null,null,null,null,null,null,null,null,null,200,200,200,200,200,200,200,200,200]
[null,null,null,null,null,null,null,null,null,null,null,null,null,null,null,null,null,null,null,null,null,null,null,null,null,null,null,null,null,null,null,null,null,null,null,null,null,null,null,null,null,null,null,null,null,null,null,null,null,null,null,null,null,null,null,null,null,null,null,null,null,null,null,null,null,null,null,null,null,null,null,null,null,null,null,null,null,null,null,null,null,null,null,null,null,null,null,null,null,null,null,null,null,null,null,null,null,null,null,null,null,null,null,null,null,null,null,null,null,null,null,null,null,null,null,null,null,null,null,null,null,null,null,null,null,null,null,null,null,null,null,null,null,null,null,null,null,null,null,null,null,null,null,null,null,null,null,null,null,null,null,null,null,null,null,null,null,null,null,null,null,null,null,null,null,null,null,null,null,null,null,null,null,null,null,null,null,null,null,null,null,null,null,null,null,null,null,null,null,null,null,null,null,null,null,null,null,null,null,null,null,null,null,null,null,null,null,null,null,600,600,600,600,600,600,600,600,600]
[null,null,null,null,null,null,null,null,null,null,null,null,null,null,null,null,null,null,null,null,null,null,null,null,null,null,null,null,null,null,null,null,null,null,null,null,null,null,null,null,null,null,null,null,null,null,null,null,null,null,null,null,null,null,null,null,null,null,null,null,null,null,null,null,null,null,null,null,null,null,null,null,null,null,null,null,null,null,null,null,null,null,null,null,null,null,null,null,null,null,null,null,null,null,null,null,null,null,null,null,null,null,null,null,null,null,null,null,null,null,null,null,null,null,null,null,null,null,null,null,null,null,null,null,null,null,null,null,null,null,null,null,null,null,null,null,null,null,null,null,null,null,null,null,null,null,null,null,null,null,null,null,null,null,null,null,null,null,null,null,null,null,null,null,null,null,null,null,null,null,null,null,null,null,null,null,null,null,null,null,null,null,null,null,null,null,null,null,null,null,null,null,null,null,null,null,null,null,null,null,null,null,null,null,null,null,null,null,null,5300,5500,5500,5600,5600,5600,5200,5000,5200]
[null,null,null,null,null,null,null,null,null,null,null,null,null,null,null,null,null,null,null,null,null,null,null,null,null,null,null,null,null,null,null,null,null,null,null,null,null,null,null,null,null,null,null,null,null,null,null,null,null,null,null,null,null,null,null,null,null,null,null,null,null,null,null,null,null,null,null,null,null,null,null,null,null,null,null,null,null,null,null,null,null,null,null,null,null,null,null,null,null,null,null,null,null,null,null,null,null,null,null,null,null,null,null,null,null,null,null,null,null,null,null,null,null,null,null,null,null,null,null,null,null,null,null,null,null,null,null,null,null,null,null,null,null,null,null,null,null,null,null,null,null,null,null,null,null,null,null,null,null,null,null,null,null,null,null,null,null,null,null,null,null,null,null,null,null,null,null,null,null,null,null,null,null,null,null,null,null,null,null,null,null,null,null,null,null,null,null,null,null,null,null,null,null,null,null,null,null,null,null,null,null,null,null,null,null,null,null,null,null,171300,171700,170700,174300,176300,178600,177500,178400,177500]
[null,null,null,null,null,null,null,null,null,null,null,null,null,null,null,null,null,null,null,null,null,null,null,null,null,null,null,null,null,null,null,null,null,null,null,null,null,null,null,null,null,null,null,null,null,null,null,null,null,null,null,null,null,null,null,null,null,null,null,null,null,null,null,null,null,null,null,null,null,null,null,null,null,null,null,null,null,null,null,null,null,null,null,null,null,null,null,null,null,null,null,null,null,null,null,null,null,null,null,null,null,null,null,null,null,null,null,null,null,null,null,null,null,null,null,null,null,null,null,null,null,null,null,null,null,null,null,null,null,null,null,null,null,null,null,null,null,null,null,null,null,null,null,null,null,null,null,null,null,null,null,null,null,null,null,null,null,null,null,null,null,null,null,null,null,null,null,null,null,null,null,null,null,null,null,null,null,null,null,null,null,null,null,null,null,null,null,null,null,null,null,null,null,null,null,null,null,null,null,null,null,null,null,null,null,null,null,null,null,150900,150500,149800,152800,154900,157300,157900,159000,157100]
[null,null,null,null,null,null,null,null,null,null,null,null,null,null,null,null,null,null,null,null,null,null,null,null,null,null,null,null,null,null,null,null,null,null,null,null,null,null,null,null,null,null,null,null,null,null,null,null,null,null,null,null,null,null,null,null,null,null,null,null,null,null,null,null,null,null,null,null,null,null,null,null,null,null,null,null,null,null,null,null,null,null,null,null,null,null,null,null,null,null,null,null,null,null,null,null,null,null,null,null,null,null,null,null,null,null,null,null,null,null,null,null,null,null,null,null,null,null,null,null,null,null,null,null,null,null,null,null,null,null,null,null,null,null,null,null,null,null,null,null,null,null,null,null,null,null,null,null,null,null,null,null,null,null,null,null,null,null,null,null,null,null,null,null,null,null,null,null,null,null,null,null,null,null,null,null,null,null,null,null,null,null,null,null,null,null,null,null,null,null,null,null,null,null,null,null,null,null,null,null,null,null,null,null,null,null,null,null,null,36200,36000,36400,37100,38000,38800,39200,39300,38700]
[null,null,null,null,null,null,null,null,null,null,null,null,null,null,null,null,null,null,null,null,null,null,null,null,null,null,null,null,null,null,null,null,null,null,null,null,null,null,null,null,null,null,null,null,null,null,null,null,null,null,null,null,null,null,null,null,null,null,null,null,null,null,null,null,null,null,null,null,null,null,null,null,null,null,null,null,null,null,null,null,null,null,null,null,null,null,null,null,null,null,null,null,null,null,null,null,null,null,null,null,null,null,null,null,null,null,null,null,null,null,null,null,null,null,null,null,null,null,null,null,null,null,null,null,null,null,null,null,null,null,null,null,null,null,null,null,null,null,null,null,null,null,null,null,null,null,null,null,null,null,null,null,null,null,null,null,null,null,null,null,null,null,null,null,null,null,null,null,null,null,null,null,null,null,null,null,null,null,null,null,null,null,null,null,null,null,null,null,null,null,null,null,null,null,null,null,null,null,null,null,null,null,null,null,null,null,null,null,null,135100,135700,134300,137200,138300,139800,138300,139100,138800]
[null,null,null,null,null,null,null,null,null,null,null,null,null,null,null,null,null,null,null,null,null,null,null,null,null,null,null,null,null,null,null,null,null,null,null,null,null,null,null,null,null,null,null,null,null,null,null,null,null,null,null,null,null,null,null,null,null,null,null,null,null,null,null,null,null,null,null,null,null,null,null,null,null,null,null,null,null,null,null,null,null,null,null,null,null,null,null,null,null,null,null,null,null,null,null,null,null,null,null,null,null,null,null,null,null,null,null,null,null,null,null,null,null,null,null,null,null,null,null,null,null,null,null,null,null,null,null,null,null,null,null,null,null,null,null,null,null,null,null,null,null,null,null,null,null,null,null,null,null,null,null,null,null,null,null,null,null,null,null,null,null,null,null,null,null,null,null,null,null,null,null,null,null,null,null,null,null,null,null,null,null,null,null,null,null,null,null,null,null,null,null,null,null,null,null,null,null,null,null,null,null,null,null,null,null,null,null,null,null,114700,114500,113400,115700,116900,118500,118700,119700,118400]
[null,null,null,null,null,null,null,null,null,null,null,null,null,null,null,null,null,null,null,null,null,null,null,null,null,null,null,null,null,null,null,null,null,null,null,null,null,null,null,null,null,null,null,null,null,null,null,null,null,null,null,null,null,null,null,null,null,null,null,null,null,null,null,null,null,null,null,null,null,null,null,null,null,null,null,null,null,null,null,null,null,null,null,null,null,null,null,null,null,null,null,null,null,null,null,null,null,null,null,null,null,null,null,null,null,null,null,null,null,null,null,null,null,null,null,null,null,null,null,null,null,null,null,null,null,null,null,null,null,null,null,null,null,null,null,null,null,null,null,null,null,null,null,null,null,null,null,null,null,null,null,null,null,null,null,null,null,null,null,null,null,null,null,null,null,null,null,null,null,null,null,null,null,null,null,null,null,null,null,null,null,null,null,null,null,null,null,null,null,null,null,null,null,null,null,null,null,null,null,null,null,null,null,null,null,null,null,null,null,6700,6700,6900,7600,8300,8500,8700,8800,8700]
[null,null,null,null,null,null,null,null,null,null,null,null,null,null,null,null,null,null,null,null,null,null,null,null,null,null,null,null,null,null,null,null,null,null,null,null,null,null,null,null,null,null,null,null,null,null,null,null,null,null,null,null,null,null,null,null,null,null,null,null,null,null,null,null,null,null,null,null,null,null,null,null,null,null,null,null,null,null,null,null,null,null,null,null,null,null,null,null,null,null,null,null,null,null,null,null,null,null,null,null,null,null,null,null,null,null,null,null,null,null,null,null,null,null,null,null,null,null,null,null,null,null,null,null,null,null,null,null,null,null,null,null,null,null,null,null,null,null,null,null,null,null,null,null,null,null,null,null,null,null,null,null,null,null,null,null,null,null,null,null,null,null,null,null,null,null,null,null,null,null,null,null,null,null,null,null,null,null,null,null,null,null,null,null,null,null,null,null,null,null,null,null,null,null,null,null,null,null,null,null,null,null,null,null,null,null,null,null,null,29500,29300,29500,29500,29700,30300,30500,30500,30000]
[null,null,null,null,null,null,null,null,null,null,null,null,null,null,null,null,null,null,null,null,null,null,null,null,null,null,null,null,null,null,null,null,null,null,null,null,null,null,null,null,null,null,null,null,null,null,null,null,null,null,null,null,null,null,null,null,null,null,null,null,null,null,null,null,null,null,null,null,null,null,null,null,null,null,null,null,null,null,null,null,null,null,null,null,null,null,null,null,null,null,null,null,null,null,null,null,null,null,null,null,null,null,null,null,null,null,null,null,null,null,null,null,null,null,null,null,null,null,null,null,null,null,null,null,null,null,null,null,null,null,null,null,null,null,null,null,null,null,null,null,null,null,null,null,null,null,null,null,null,null,null,null,null,null,null,null,null,null,null,null,null,null,null,null,null,null,null,null,null,null,null,null,null,null,null,null,null,null,null,null,null,null,null,null,null,null,null,null,null,null,null,null,null,null,null,null,null,null,null,null,null,null,null,null,null,null,null,null,null,11600,11400,11600,11700,11700,12100,12100,12200,11900]
[null,null,null,null,null,null,null,null,null,null,null,null,null,null,null,null,null,null,null,null,null,null,null,null,null,null,null,null,null,null,null,null,null,null,null,null,null,null,null,null,null,null,null,null,null,null,null,null,null,null,null,null,null,null,null,null,null,null,null,null,null,null,null,null,null,null,null,null,null,null,null,null,null,null,null,null,null,null,null,null,null,null,null,null,null,null,null,null,null,null,null,null,null,null,null,null,null,null,null,null,null,null,null,null,null,null,null,null,null,null,null,null,null,null,null,null,null,null,null,null,null,null,null,null,null,null,null,null,null,null,null,null,null,null,null,null,null,null,null,null,null,null,null,null,null,null,null,null,null,null,null,null,null,null,null,null,null,null,null,null,null,null,null,null,null,null,null,null,null,null,null,null,null,null,null,null,null,null,null,null,null,null,null,null,null,null,null,null,null,null,null,null,null,null,null,null,null,null,null,null,null,null,null,null,null,null,null,null,null,17900,17900,17900,17800,18000,18200,18400,18300,18100]
[null,null,null,null,null,null,null,null,null,null,null,null,null,null,null,null,null,null,null,null,null,null,null,null,null,null,null,null,null,null,null,null,null,null,null,null,null,null,null,null,null,null,null,null,null,null,null,null,null,null,null,null,null,null,null,null,null,null,null,null,null,null,null,null,null,null,null,null,null,null,null,null,null,null,null,null,null,null,null,null,null,null,null,null,null,null,null,null,null,null,null,null,null,null,null,null,null,null,null,null,null,null,null,null,null,null,null,null,null,null,null,null,null,null,null,null,null,null,null,null,null,null,null,null,null,null,null,null,null,null,null,null,null,null,null,null,null,null,null,null,null,null,null,null,null,null,null,null,null,null,null,null,null,null,null,null,null,null,null,null,null,null,null,null,null,null,null,null,null,null,null,null,null,null,null,null,null,null,null,null,null,null,null,null,null,null,null,null,null,null,null,null,null,null,null,null,null,null,null,null,null,null,null,null,null,null,null,null,null,32800,32800,32500,33000,33300,33600,33800,33800,34100]
[null,null,null,null,null,null,null,null,null,null,null,null,null,null,null,null,null,null,null,null,null,null,null,null,null,null,null,null,null,null,null,null,null,null,null,null,null,null,null,null,null,null,null,null,null,null,null,null,null,null,null,null,null,null,null,null,null,null,null,null,null,null,null,null,null,null,null,null,null,null,null,null,null,null,null,null,null,null,null,null,null,null,null,null,null,null,null,null,null,null,null,null,null,null,null,null,null,null,null,null,null,null,null,null,null,null,null,null,null,null,null,null,null,null,null,null,null,null,null,null,null,null,null,null,null,null,null,null,null,null,null,null,null,null,null,null,null,null,null,null,null,null,null,null,null,null,null,null,null,null,null,null,null,null,null,null,null,null,null,null,null,null,null,null,null,null,null,null,null,null,null,null,null,null,null,null,null,null,null,null,null,null,null,null,null,null,null,null,null,null,null,null,null,null,null,null,null,null,null,null,null,null,null,null,null,null,null,null,null,8100,8100,8100,8200,8200,8300,8400,8400,8300]
[null,null,null,null,null,null,null,null,null,null,null,null,null,null,null,null,null,null,null,null,null,null,null,null,null,null,null,null,null,null,null,null,null,null,null,null,null,null,null,null,null,null,null,null,null,null,null,null,null,null,null,null,null,null,null,null,null,null,null,null,null,null,null,null,null,null,null,null,null,null,null,null,null,null,null,null,null,null,null,null,null,null,null,null,null,null,null,null,null,null,null,null,null,null,null,null,null,null,null,null,null,null,null,null,null,null,null,null,null,null,null,null,null,null,null,null,null,null,null,null,null,null,null,null,null,null,null,null,null,null,null,null,null,null,null,null,null,null,null,null,null,null,null,null,null,null,null,null,null,null,null,null,null,null,null,null,null,null,null,null,null,null,null,null,null,null,null,null,null,null,null,null,null,null,null,null,null,null,null,null,null,null,null,null,null,null,null,null,null,null,null,null,null,null,null,null,null,null,null,null,null,null,null,null,null,null,null,null,null,16600,16600,16300,16600,16800,17000,17200,17200,17300]
[null,null,null,null,null,null,null,null,null,null,null,null,null,null,null,null,null,null,null,null,null,null,null,null,null,null,null,null,null,null,null,null,null,null,null,null,null,null,null,null,null,null,null,null,null,null,null,null,null,null,null,null,null,null,null,null,null,null,null,null,null,null,null,null,null,null,null,null,null,null,null,null,null,null,null,null,null,null,null,null,null,null,null,null,null,null,null,null,null,null,null,null,null,null,null,null,null,null,null,null,null,null,null,null,null,null,null,null,null,null,null,null,null,null,null,null,null,null,null,null,null,null,null,null,null,null,null,null,null,null,null,null,null,null,null,null,null,null,null,null,null,null,null,null,null,null,null,null,null,null,null,null,null,null,null,null,null,null,null,null,null,null,null,null,null,null,null,null,null,null,null,null,null,null,null,null,null,null,null,null,null,null,null,null,null,null,null,null,null,null,null,null,null,null,null,null,null,null,null,null,null,null,null,null,null,null,null,null,null,8100,8100,8100,8200,8300,8300,8200,8200,8500]
[null,null,null,null,null,null,null,null,null,null,null,null,null,null,null,null,null,null,null,null,null,null,null,null,null,null,null,null,null,null,null,null,null,null,null,null,null,null,null,null,null,null,null,null,null,null,null,null,null,null,null,null,null,null,null,null,null,null,null,null,null,null,null,null,null,null,null,null,null,null,null,null,null,null,null,null,null,null,null,null,null,null,null,null,null,null,null,null,null,null,null,null,null,null,null,null,null,null,null,null,null,null,null,null,null,null,null,null,null,null,null,null,null,null,null,null,null,null,null,null,null,null,null,null,null,null,null,null,null,null,null,null,null,null,null,null,null,null,null,null,null,null,null,null,null,null,null,null,null,null,null,null,null,null,null,null,null,null,null,null,null,null,null,null,null,null,null,null,null,null,null,null,null,null,null,null,null,null,null,null,null,null,null,null,null,null,null,null,null,null,null,null,null,null,null,null,null,null,null,null,null,null,null,null,null,null,null,null,null,1600,1600,1500,1500,1500,1500,1500,1500,1500]
[null,null,null,null,null,null,null,null,null,null,null,null,null,null,null,null,null,null,null,null,null,null,null,null,null,null,null,null,null,null,null,null,null,null,null,null,null,null,null,null,null,null,null,null,null,null,null,null,null,null,null,null,null,null,null,null,null,null,null,null,null,null,null,null,null,null,null,null,null,null,null,null,null,null,null,null,null,null,null,null,null,null,null,null,null,null,null,null,null,null,null,null,null,null,null,null,null,null,null,null,null,null,null,null,null,null,null,null,null,null,null,null,null,null,null,null,null,null,null,null,null,null,null,null,null,null,null,null,null,null,null,null,null,null,null,null,null,null,null,null,null,null,null,null,null,null,null,null,null,null,null,null,null,null,null,null,null,null,null,null,null,null,null,null,null,null,null,null,null,null,null,null,null,null,null,null,null,null,null,null,null,null,null,null,null,null,null,null,null,null,null,null,null,null,null,null,null,null,null,null,null,null,null,null,null,null,null,null,null,12800,12800,12800,12800,12800,12800,12800,12800,12700]
[null,null,null,null,null,null,null,null,null,null,null,null,null,null,null,null,null,null,null,null,null,null,null,null,null,null,null,null,null,null,null,null,null,null,null,null,null,null,null,null,null,null,null,null,null,null,null,null,null,null,null,null,null,null,null,null,null,null,null,null,null,null,null,null,null,null,null,null,null,null,null,null,null,null,null,null,null,null,null,null,null,null,null,null,null,null,null,null,null,null,null,null,null,null,null,null,null,null,null,null,null,null,null,null,null,null,null,null,null,null,null,null,null,null,null,null,null,null,null,null,null,null,null,null,null,null,null,null,null,null,null,null,null,null,null,null,null,null,null,null,null,null,null,null,null,null,null,null,null,null,null,null,null,null,null,null,null,null,null,null,null,null,null,null,null,null,null,null,null,null,null,null,null,null,null,null,null,null,null,null,null,null,null,null,null,null,null,null,null,null,null,null,null,null,null,null,null,null,null,null,null,null,null,null,null,null,null,null,null,18200,18000,17400,18200,18200,18700,18700,18900,18600]
[null,null,null,null,null,null,null,null,null,null,null,null,null,null,null,null,null,null,null,null,null,null,null,null,null,null,null,null,null,null,null,null,null,null,null,null,null,null,null,null,null,null,null,null,null,null,null,null,null,null,null,null,null,null,null,null,null,null,null,null,null,null,null,null,null,null,null,null,null,null,null,null,null,null,null,null,null,null,null,null,null,null,null,null,null,null,null,null,null,null,null,null,null,null,null,null,null,null,null,null,null,null,null,null,null,null,null,null,null,null,null,null,null,null,null,null,null,null,null,null,null,null,null,null,null,null,null,null,null,null,null,null,null,null,null,null,null,null,null,null,null,null,null,null,null,null,null,null,null,null,null,null,null,null,null,null,null,null,null,null,null,null,null,null,null,null,null,null,null,null,null,null,null,null,null,null,null,null,null,null,null,null,null,null,null,null,null,null,null,null,null,null,null,null,null,null,null,null,null,null,null,null,null,null,null,null,null,null,null,26000,26200,26300,26300,26300,26200,26300,26300,26400]
[null,null,null,null,null,null,null,null,null,null,null,null,null,null,null,null,null,null,null,null,null,null,null,null,null,null,null,null,null,null,null,null,null,null,null,null,null,null,null,null,null,null,null,null,null,null,null,null,null,null,null,null,null,null,null,null,null,null,null,null,null,null,null,null,null,null,null,null,null,null,null,null,null,null,null,null,null,null,null,null,null,null,null,null,null,null,null,null,null,null,null,null,null,null,null,null,null,null,null,null,null,null,null,null,null,null,null,null,null,null,null,null,null,null,null,null,null,null,null,null,null,null,null,null,null,null,null,null,null,null,null,null,null,null,null,null,null,null,null,null,null,null,null,null,null,null,null,null,null,null,null,null,null,null,null,null,null,null,null,null,null,null,null,null,null,null,null,null,null,null,null,null,null,null,null,null,null,null,null,null,null,null,null,null,null,null,null,null,null,null,null,null,null,null,null,null,null,null,null,null,null,null,null,null,null,null,null,null,null,23900,23900,23900,24000,24000,24200,24200,24200,24200]
[null,null,null,null,null,null,null,null,null,null,null,null,null,null,null,null,null,null,null,null,null,null,null,null,null,null,null,null,null,null,null,null,null,null,null,null,null,null,null,null,null,null,null,null,null,null,null,null,null,null,null,null,null,null,null,null,null,null,null,null,null,null,null,null,null,null,null,null,null,null,null,null,null,null,null,null,null,null,null,null,null,null,null,null,null,null,null,null,null,null,null,null,null,null,null,null,null,null,null,null,null,null,null,null,null,null,null,null,null,null,null,null,null,null,null,null,null,null,null,null,null,null,null,null,null,null,null,null,null,null,null,null,null,null,null,null,null,null,null,null,null,null,null,null,null,null,null,null,null,null,null,null,null,null,null,null,null,null,null,null,null,null,null,null,null,null,null,null,null,null,null,null,null,null,null,null,null,null,null,null,null,null,null,null,null,null,null,null,null,null,null,null,null,null,null,null,null,null,null,null,null,null,null,null,null,null,null,null,null,14700,14500,14200,15200,16100,17100,17000,17800,16500]
[null,null,null,null,null,null,null,null,null,null,null,null,null,null,null,null,null,null,null,null,null,null,null,null,null,null,null,null,null,null,null,null,null,null,null,null,null,null,null,null,null,null,null,null,null,null,null,null,null,null,null,null,null,null,null,null,null,null,null,null,null,null,null,null,null,null,null,null,null,null,null,null,null,null,null,null,null,null,null,null,null,null,null,null,null,null,null,null,null,null,null,null,null,null,null,null,null,null,null,null,null,null,null,null,null,null,null,null,null,null,null,null,null,null,null,null,null,null,null,null,null,null,null,null,null,null,null,null,null,null,null,null,null,null,null,null,null,null,null,null,null,null,null,null,null,null,null,null,null,null,null,null,null,null,null,null,null,null,null,null,null,null,null,null,null,null,null,null,null,null,null,null,null,null,null,null,null,null,null,null,null,null,null,null,null,null,null,null,null,null,null,null,null,null,null,null,null,null,null,null,null,null,null,null,null,null,null,null,null,8600,8600,8700,8700,8700,8600,8600,8600,8600]
[null,null,null,null,null,null,null,null,null,null,null,null,null,null,null,null,null,null,null,null,null,null,null,null,null,null,null,null,null,null,null,null,null,null,null,null,null,null,null,null,null,null,null,null,null,null,null,null,null,null,null,null,null,null,null,null,null,null,null,null,null,null,null,null,null,null,null,null,null,null,null,null,null,null,null,null,null,null,null,null,null,null,null,null,null,null,null,null,null,null,null,null,null,null,null,null,null,null,null,null,null,null,null,null,null,null,null,null,null,null,null,null,null,null,null,null,null,null,null,null,null,null,null,null,null,null,null,null,null,null,null,null,null,null,null,null,null,null,null,null,null,null,null,null,null,null,null,null,null,null,null,null,null,null,null,null,null,null,null,null,null,null,null,null,null,null,null,null,null,null,null,null,null,null,null,null,null,null,null,null,null,null,null,null,null,null,null,null,null,null,null,null,null,null,null,null,null,null,null,null,null,null,null,null,null,null,null,null,null,20400,21200,20900,21500,21400,21300,19600,19400,20400]
[null,null,null,null,null,null,null,null,null,null,null,null,null,null,null,null,null,null,null,null,null,null,null,null,null,null,null,null,null,null,null,null,null,null,null,null,null,null,null,null,null,null,null,null,null,null,null,null,null,null,null,null,null,null,null,null,null,null,null,null,null,null,null,null,null,null,null,null,null,null,null,null,null,null,null,null,null,null,null,null,null,null,null,null,null,null,null,null,null,null,null,null,null,null,null,null,null,null,null,null,null,null,null,null,null,null,null,null,null,null,null,null,null,null,null,null,null,null,null,null,null,null,null,null,null,null,null,null,null,null,null,null,null,null,null,null,null,null,null,null,null,null,null,null,null,null,null,null,null,null,null,null,null,null,null,null,null,null,null,null,null,null,null,null,null,null,null,null,null,null,null,null,null,null,null,null,null,null,null,null,null,null,null,null,null,null,null,null,null,null,null,null,null,null,null,null,null,null,null,null,null,null,null,null,null,null,null,null,null,1400,1400,1400,1400,1400,1400,1400,1400,1400]
[null,null,null,null,null,null,null,null,null,null,null,null,null,null,null,null,null,null,null,null,null,null,null,null,null,null,null,null,null,null,null,null,null,null,null,null,null,null,null,null,null,null,null,null,null,null,null,null,null,null,null,null,null,null,null,null,null,null,null,null,null,null,null,null,null,null,null,null,null,null,null,null,null,null,null,null,null,null,null,null,null,null,null,null,null,null,null,null,null,null,null,null,null,null,null,null,null,null,null,null,null,null,null,null,null,null,null,null,null,null,null,null,null,null,null,null,null,null,null,null,null,null,null,null,null,null,null,null,null,null,null,null,null,null,null,null,null,null,null,null,null,null,null,null,null,null,null,null,null,null,null,null,null,null,null,null,null,null,null,null,null,null,null,null,null,null,null,null,null,null,null,null,null,null,null,null,null,null,null,null,null,null,null,null,null,null,null,null,null,null,null,null,null,null,null,null,null,null,null,null,null,null,null,null,null,null,null,null,null,2000,2300,2000,2300,2200,1800,1900,1800,2200]
[null,null,null,null,null,null,null,null,null,null,null,null,null,null,null,null,null,null,null,null,null,null,null,null,null,null,null,null,null,null,null,null,null,null,null,null,null,null,null,null,null,null,null,null,null,null,null,null,null,null,null,null,null,null,null,null,null,null,null,null,null,null,null,null,null,null,null,null,null,null,null,null,null,null,null,null,null,null,null,null,null,null,null,null,null,null,null,null,null,null,null,null,null,null,null,null,null,null,null,null,null,null,null,null,null,null,null,null,null,null,null,null,null,null,null,null,null,null,null,null,null,null,null,null,null,null,null,null,null,null,null,null,null,null,null,null,null,null,null,null,null,null,null,null,null,null,null,null,null,null,null,null,null,null,null,null,null,null,null,null,null,null,null,null,null,null,null,null,null,null,null,null,null,null,null,null,null,null,null,null,null,null,null,null,null,null,null,null,null,null,null,null,null,null,null,null,null,null,null,null,null,null,null,null,null,null,null,null,null,17000,17500,17500,17800,17800,18100,16300,16200,16800]
[null,null,null,null,null,null,null,null,null,null,null,null,null,null,null,null,null,null,null,null,null,null,null,null,null,null,null,null,null,null,null,null,null,null,null,null,null,null,null,null,null,null,null,null,null,null,null,null,null,null,null,null,null,null,null,null,null,null,null,null,null,null,null,null,null,null,null,null,null,null,null,null,null,null,null,null,null,null,null,null,null,null,null,null,null,null,null,null,null,null,null,null,null,null,null,null,null,null,null,null,null,null,null,null,null,null,null,null,null,null,null,null,null,null,null,null,null,null,null,null,null,null,null,null,null,null,null,null,null,null,null,null,null,null,null,null,null,null,null,null,null,null,null,null,null,null,null,null,null,null,null,null,null,null,null,null,null,null,null,null,null,null,null,null,null,null,null,null,null,null,null,null,null,null,null,null,null,null,null,null,null,null,null,null,null,null,null,null,null,null,null,null,null,null,null,null,null,null,null,null,null,null,null,null,null,null,null,null,null,66500,67400,67900,69100,69600,70200,70600,69900,69800]
[null,null,null,null,null,null,null,null,null,null,null,null,null,null,null,null,null,null,null,null,null,null,null,null,null,null,null,null,null,null,null,null,null,null,null,null,null,null,null,null,null,null,null,null,null,null,null,null,null,null,null,null,null,null,null,null,null,null,null,null,null,null,null,null,null,null,null,null,null,null,null,null,null,null,null,null,null,null,null,null,null,null,null,null,null,null,null,null,null,null,null,null,null,null,null,null,null,null,null,null,null,null,null,null,null,null,null,null,null,null,null,null,null,null,null,null,null,null,null,null,null,null,null,null,null,null,null,null,null,null,null,null,null,null,null,null,null,null,null,null,null,null,null,null,null,null,null,null,null,null,null,null,null,null,null,null,null,null,null,null,null,null,null,null,null,null,null,null,null,null,null,null,null,null,null,null,null,null,null,null,null,null,null,null,null,null,null,null,null,null,null,null,null,null,null,null,null,null,null,null,null,null,null,null,null,null,null,null,null,58000,58600,59000,60100,60700,61400,61600,61800,61500]
[null,null,null,null,null,null,null,null,null,null,null,null,null,null,null,null,null,null,null,null,null,null,null,null,null,null,null,null,null,null,null,null,null,null,null,null,null,null,null,null,null,null,null,null,null,null,null,null,null,null,null,null,null,null,null,null,null,null,null,null,null,null,null,null,null,null,null,null,null,null,null,null,null,null,null,null,null,null,null,null,null,null,null,null,null,null,null,null,null,null,null,null,null,null,null,null,null,null,null,null,null,null,null,null,null,null,null,null,null,null,null,null,null,null,null,null,null,null,null,null,null,null,null,null,null,null,null,null,null,null,null,null,null,null,null,null,null,null,null,null,null,null,null,null,null,null,null,null,null,null,null,null,null,null,null,null,null,null,null,null,null,null,null,null,null,null,null,null,null,null,null,null,null,null,null,null,null,null,null,null,null,null,null,null,null,null,null,null,null,null,null,null,null,null,null,null,null,null,null,null,null,null,null,null,null,null,null,null,null,12400,12600,12600,12800,13100,13300,13400,13600,13400]
[null,null,null,null,null,null,null,null,null,null,null,null,null,null,null,null,null,null,null,null,null,null,null,null,null,null,null,null,null,null,null,null,null,null,null,null,null,null,null,null,null,null,null,null,null,null,null,null,null,null,null,null,null,null,null,null,null,null,null,null,null,null,null,null,null,null,null,null,null,null,null,null,null,null,null,null,null,null,null,null,null,null,null,null,null,null,null,null,null,null,null,null,null,null,null,null,null,null,null,null,null,null,null,null,null,null,null,null,null,null,null,null,null,null,null,null,null,null,null,null,null,null,null,null,null,null,null,null,null,null,null,null,null,null,null,null,null,null,null,null,null,null,null,null,null,null,null,null,null,null,null,null,null,null,null,null,null,null,null,null,null,null,null,null,null,null,null,null,null,null,null,null,null,null,null,null,null,null,null,null,null,null,null,null,null,null,null,null,null,null,null,null,null,null,null,null,null,null,null,null,null,null,null,null,null,null,null,null,null,54100,54800,55300,56300,56500,56900,57200,56300,56400]
[null,null,null,null,null,null,null,null,null,null,null,null,null,null,null,null,null,null,null,null,null,null,null,null,null,null,null,null,null,null,null,null,null,null,null,null,null,null,null,null,null,null,null,null,null,null,null,null,null,null,null,null,null,null,null,null,null,null,null,null,null,null,null,null,null,null,null,null,null,null,null,null,null,null,null,null,null,null,null,null,null,null,null,null,null,null,null,null,null,null,null,null,null,null,null,null,null,null,null,null,null,null,null,null,null,null,null,null,null,null,null,null,null,null,null,null,null,null,null,null,null,null,null,null,null,null,null,null,null,null,null,null,null,null,null,null,null,null,null,null,null,null,null,null,null,null,null,null,null,null,null,null,null,null,null,null,null,null,null,null,null,null,null,null,null,null,null,null,null,null,null,null,null,null,null,null,null,null,null,null,null,null,null,null,null,null,null,null,null,null,null,null,null,null,null,null,null,null,null,null,null,null,null,null,null,null,null,null,null,45600,46000,46400,47300,47600,48100,48200,48200,48100]
[null,null,null,null,null,null,null,null,null,null,null,null,null,null,null,null,null,null,null,null,null,null,null,null,null,null,null,null,null,null,null,null,null,null,null,null,null,null,null,null,null,null,null,null,null,null,null,null,null,null,null,null,null,null,null,null,null,null,null,null,null,null,null,null,null,null,null,null,null,null,null,null,null,null,null,null,null,null,null,null,null,null,null,null,null,null,null,null,null,null,null,null,null,null,null,null,null,null,null,null,null,null,null,null,null,null,null,null,null,null,null,null,null,null,null,null,null,null,null,null,null,null,null,null,null,null,null,null,null,null,null,null,null,null,null,null,null,null,null,null,null,null,null,null,null,null,null,null,null,null,null,null,null,null,null,null,null,null,null,null,null,null,null,null,null,null,null,null,null,null,null,null,null,null,null,null,null,null,null,null,null,null,null,null,null,null,null,null,null,null,null,null,null,null,null,null,null,null,null,null,null,null,null,null,null,null,null,null,null,2600,2600,2700,2800,3000,3000,3100,3200,3000]
[null,null,null,null,null,null,null,null,null,null,null,null,null,null,null,null,null,null,null,null,null,null,null,null,null,null,null,null,null,null,null,null,null,null,null,null,null,null,null,null,null,null,null,null,null,null,null,null,null,null,null,null,null,null,null,null,null,null,null,null,null,null,null,null,null,null,null,null,null,null,null,null,null,null,null,null,null,null,null,null,null,null,null,null,null,null,null,null,null,null,null,null,null,null,null,null,null,null,null,null,null,null,null,null,null,null,null,null,null,null,null,null,null,null,null,null,null,null,null,null,null,null,null,null,null,null,null,null,null,null,null,null,null,null,null,null,null,null,null,null,null,null,null,null,null,null,null,null,null,null,null,null,null,null,null,null,null,null,null,null,null,null,null,null,null,null,null,null,null,null,null,null,null,null,null,null,null,null,null,null,null,null,null,null,null,null,null,null,null,null,null,null,null,null,null,null,null,null,null,null,null,null,null,null,null,null,null,null,null,9800,10000,9900,10000,10100,10300,10300,10400,10400]
[null,null,null,null,null,null,null,null,null,null,null,null,null,null,null,null,null,null,null,null,null,null,null,null,null,null,null,null,null,null,null,null,null,null,null,null,null,null,null,null,null,null,null,null,null,null,null,null,null,null,null,null,null,null,null,null,null,null,null,null,null,null,null,null,null,null,null,null,null,null,null,null,null,null,null,null,null,null,null,null,null,null,null,null,null,null,null,null,null,null,null,null,null,null,null,null,null,null,null,null,null,null,null,null,null,null,null,null,null,null,null,null,null,null,null,null,null,null,null,null,null,null,null,null,null,null,null,null,null,null,null,null,null,null,null,null,null,null,null,null,null,null,null,null,null,null,null,null,null,null,null,null,null,null,null,null,null,null,null,null,null,null,null,null,null,null,null,null,null,null,null,null,null,null,null,null,null,null,null,null,null,null,null,null,null,null,null,null,null,null,null,null,null,null,null,null,null,null,null,null,null,null,null,null,null,null,null,null,null,5600,5500,5600,5600,5600,5700,5700,5700,5600]
[null,null,null,null,null,null,null,null,null,null,null,null,null,null,null,null,null,null,null,null,null,null,null,null,null,null,null,null,null,null,null,null,null,null,null,null,null,null,null,null,null,null,null,null,null,null,null,null,null,null,null,null,null,null,null,null,null,null,null,null,null,null,null,null,null,null,null,null,null,null,null,null,null,null,null,null,null,null,null,null,null,null,null,null,null,null,null,null,null,null,null,null,null,null,null,null,null,null,null,null,null,null,null,null,null,null,null,null,null,null,null,null,null,null,null,null,null,null,null,null,null,null,null,null,null,null,null,null,null,null,null,null,null,null,null,null,null,null,null,null,null,null,null,null,null,null,null,null,null,null,null,null,null,null,null,null,null,null,null,null,null,null,null,null,null,null,null,null,null,null,null,null,null,null,null,null,null,null,null,null,null,null,null,null,null,null,null,null,null,null,null,null,null,null,null,null,null,null,null,null,null,null,null,null,null,null,null,null,null,15800,15900,15800,16000,16200,16200,16200,16100,15900]
[null,null,null,null,null,null,null,null,null,null,null,null,null,null,null,null,null,null,null,null,null,null,null,null,null,null,null,null,null,null,null,null,null,null,null,null,null,null,null,null,null,null,null,null,null,null,null,null,null,null,null,null,null,null,null,null,null,null,null,null,null,null,null,null,null,null,null,null,null,null,null,null,null,null,null,null,null,null,null,null,null,null,null,null,null,null,null,null,null,null,null,null,null,null,null,null,null,null,null,null,null,null,null,null,null,null,null,null,null,null,null,null,null,null,null,null,null,null,null,null,null,null,null,null,null,null,null,null,null,null,null,null,null,null,null,null,null,null,null,null,null,null,null,null,null,null,null,null,null,null,null,null,null,null,null,null,null,null,null,null,null,null,null,null,null,null,null,null,null,null,null,null,null,null,null,null,null,null,null,null,null,null,null,null,null,null,null,null,null,null,null,null,null,null,null,null,null,null,null,null,null,null,null,null,null,null,null,null,null,4100,4100,4200,4300,4400,4400,4500,4400,4300]
[null,null,null,null,null,null,null,null,null,null,null,null,null,null,null,null,null,null,null,null,null,null,null,null,null,null,null,null,null,null,null,null,null,null,null,null,null,null,null,null,null,null,null,null,null,null,null,null,null,null,null,null,null,null,null,null,null,null,null,null,null,null,null,null,null,null,null,null,null,null,null,null,null,null,null,null,null,null,null,null,null,null,null,null,null,null,null,null,null,null,null,null,null,null,null,null,null,null,null,null,null,null,null,null,null,null,null,null,null,null,null,null,null,null,null,null,null,null,null,null,null,null,null,null,null,null,null,null,null,null,null,null,null,null,null,null,null,null,null,null,null,null,null,null,null,null,null,null,null,null,null,null,null,null,null,null,null,null,null,null,null,null,null,null,null,null,null,null,null,null,null,null,null,null,null,null,null,null,null,null,null,null,null,null,null,null,null,null,null,null,null,null,null,null,null,null,null,null,null,null,null,null,null,null,null,null,null,null,null,9000,9000,8800,8900,9000,9000,8900,8900,8800]
[null,null,null,null,null,null,null,null,null,null,null,null,null,null,null,null,null,null,null,null,null,null,null,null,null,null,null,null,null,null,null,null,null,null,null,null,null,null,null,null,null,null,null,null,null,null,null,null,null,null,null,null,null,null,null,null,null,null,null,null,null,null,null,null,null,null,null,null,null,null,null,null,null,null,null,null,null,null,null,null,null,null,null,null,null,null,null,null,null,null,null,null,null,null,null,null,null,null,null,null,null,null,null,null,null,null,null,null,null,null,null,null,null,null,null,null,null,null,null,null,null,null,null,null,null,null,null,null,null,null,null,null,null,null,null,null,null,null,null,null,null,null,null,null,null,null,null,null,null,null,null,null,null,null,null,null,null,null,null,null,null,null,null,null,null,null,null,null,null,null,null,null,null,null,null,null,null,null,null,null,null,null,null,null,null,null,null,null,null,null,null,null,null,null,null,null,null,null,null,null,null,null,null,null,null,null,null,null,null,2700,2800,2800,2800,2800,2800,2800,2800,2800]
[null,null,null,null,null,null,null,null,null,null,null,null,null,null,null,null,null,null,null,null,null,null,null,null,null,null,null,null,null,null,null,null,null,null,null,null,null,null,null,null,null,null,null,null,null,null,null,null,null,null,null,null,null,null,null,null,null,null,null,null,null,null,null,null,null,null,null,null,null,null,null,null,null,null,null,null,null,null,null,null,null,null,null,null,null,null,null,null,null,null,null,null,null,null,null,null,null,null,null,null,null,null,null,null,null,null,null,null,null,null,null,null,null,null,null,null,null,null,null,null,null,null,null,null,null,null,null,null,null,null,null,null,null,null,null,null,null,null,null,null,null,null,null,null,null,null,null,null,null,null,null,null,null,null,null,null,null,null,null,null,null,null,null,null,null,null,null,null,null,null,null,null,null,null,null,null,null,null,null,null,null,null,null,null,null,null,null,null,null,null,null,null,null,null,null,null,null,null,null,null,null,null,null,null,null,null,null,null,null,1600,1500,1500,1500,1500,1500,1600,1600,1500]
[null,null,null,null,null,null,null,null,null,null,null,null,null,null,null,null,null,null,null,null,null,null,null,null,null,null,null,null,null,null,null,null,null,null,null,null,null,null,null,null,null,null,null,null,null,null,null,null,null,null,null,null,null,null,null,null,null,null,null,null,null,null,null,null,null,null,null,null,null,null,null,null,null,null,null,null,null,null,null,null,null,null,null,null,null,null,null,null,null,null,null,null,null,null,null,null,null,null,null,null,null,null,null,null,null,null,null,null,null,null,null,null,null,null,null,null,null,null,null,null,null,null,null,null,null,null,null,null,null,null,null,null,null,null,null,null,null,null,null,null,null,null,null,null,null,null,null,null,null,null,null,null,null,null,null,null,null,null,null,null,null,null,null,null,null,null,null,null,null,null,null,null,null,null,null,null,null,null,null,null,null,null,null,null,null,null,null,null,null,null,null,null,null,null,null,null,null,null,null,null,null,null,null,null,null,null,null,null,null,1800,1800,1800,1800,1800,1900,1800,1800,1800]
[null,null,null,null,null,null,null,null,null,null,null,null,null,null,null,null,null,null,null,null,null,null,null,null,null,null,null,null,null,null,null,null,null,null,null,null,null,null,null,null,null,null,null,null,null,null,null,null,null,null,null,null,null,null,null,null,null,null,null,null,null,null,null,null,null,null,null,null,null,null,null,null,null,null,null,null,null,null,null,null,null,null,null,null,null,null,null,null,null,null,null,null,null,null,null,null,null,null,null,null,null,null,null,null,null,null,null,null,null,null,null,null,null,null,null,null,null,null,null,null,null,null,null,null,null,null,null,null,null,null,null,null,null,null,null,null,null,null,null,null,null,null,null,null,null,null,null,null,null,null,null,null,null,null,null,null,null,null,null,null,null,null,null,null,null,null,null,null,null,null,null,null,null,null,null,null,null,null,null,null,null,null,null,null,null,null,null,null,null,null,null,null,null,null,null,null,null,null,null,null,null,null,null,null,null,null,null,null,null,6100,6100,6200,6400,6300,6400,6500,6600,6700]
[null,null,null,null,null,null,null,null,null,null,null,null,null,null,null,null,null,null,null,null,null,null,null,null,null,null,null,null,null,null,null,null,null,null,null,null,null,null,null,null,null,null,null,null,null,null,null,null,null,null,null,null,null,null,null,null,null,null,null,null,null,null,null,null,null,null,null,null,null,null,null,null,null,null,null,null,null,null,null,null,null,null,null,null,null,null,null,null,null,null,null,null,null,null,null,null,null,null,null,null,null,null,null,null,null,null,null,null,null,null,null,null,null,null,null,null,null,null,null,null,null,null,null,null,null,null,null,null,null,null,null,null,null,null,null,null,null,null,null,null,null,null,null,null,null,null,null,null,null,null,null,null,null,null,null,null,null,null,null,null,null,null,null,null,null,null,null,null,null,null,null,null,null,null,null,null,null,null,null,null,null,null,null,null,null,null,null,null,null,null,null,null,null,null,null,null,null,null,null,null,null,null,null,null,null,null,null,null,null,10500,10900,11200,11300,11200,11200,11200,11200,11500]
[null,null,null,null,null,null,null,null,null,null,null,null,null,null,null,null,null,null,null,null,null,null,null,null,null,null,null,null,null,null,null,null,null,null,null,null,null,null,null,null,null,null,null,null,null,null,null,null,null,null,null,null,null,null,null,null,null,null,null,null,null,null,null,null,null,null,null,null,null,null,null,null,null,null,null,null,null,null,null,null,null,null,null,null,null,null,null,null,null,null,null,null,null,null,null,null,null,null,null,null,null,null,null,null,null,null,null,null,null,null,null,null,null,null,null,null,null,null,null,null,null,null,null,null,null,null,null,null,null,null,null,null,null,null,null,null,null,null,null,null,null,null,null,null,null,null,null,null,null,null,null,null,null,null,null,null,null,null,null,null,null,null,null,null,null,null,null,null,null,null,null,null,null,null,null,null,null,null,null,null,null,null,null,null,null,null,null,null,null,null,null,null,null,null,null,null,null,null,null,null,null,null,null,null,null,null,null,null,null,9700,9800,10100,10100,10000,10000,10000,10000,10300]
[null,null,null,null,null,null,null,null,null,null,null,null,null,null,null,null,null,null,null,null,null,null,null,null,null,null,null,null,null,null,null,null,null,null,null,null,null,null,null,null,null,null,null,null,null,null,null,null,null,null,null,null,null,null,null,null,null,null,null,null,null,null,null,null,null,null,null,null,null,null,null,null,null,null,null,null,null,null,null,null,null,null,null,null,null,null,null,null,null,null,null,null,null,null,null,null,null,null,null,null,null,null,null,null,null,null,null,null,null,null,null,null,null,null,null,null,null,null,null,null,null,null,null,null,null,null,null,null,null,null,null,null,null,null,null,null,null,null,null,null,null,null,null,null,null,null,null,null,null,null,null,null,null,null,null,null,null,null,null,null,null,null,null,null,null,null,null,null,null,null,null,null,null,null,null,null,null,null,null,null,null,null,null,null,null,null,null,null,null,null,null,null,null,null,null,null,null,null,null,null,null,null,null,null,null,null,null,null,null,6500,6500,6600,7000,7200,7500,7500,7500,7300]
[null,null,null,null,null,null,null,null,null,null,null,null,null,null,null,null,null,null,null,null,null,null,null,null,null,null,null,null,null,null,null,null,null,null,null,null,null,null,null,null,null,null,null,null,null,null,null,null,null,null,null,null,null,null,null,null,null,null,null,null,null,null,null,null,null,null,null,null,null,null,null,null,null,null,null,null,null,null,null,null,null,null,null,null,null,null,null,null,null,null,null,null,null,null,null,null,null,null,null,null,null,null,null,null,null,null,null,null,null,null,null,null,null,null,null,null,null,null,null,null,null,null,null,null,null,null,null,null,null,null,null,null,null,null,null,null,null,null,null,null,null,null,null,null,null,null,null,null,null,null,null,null,null,null,null,null,null,null,null,null,null,null,null,null,null,null,null,null,null,null,null,null,null,null,null,null,null,null,null,null,null,null,null,null,null,null,null,null,null,null,null,null,null,null,null,null,null,null,null,null,null,null,null,null,null,null,null,null,null,3300,3300,3300,3300,3400,3400,3400,3400,3400]
[null,null,null,null,null,null,null,null,null,null,null,null,null,null,null,null,null,null,null,null,null,null,null,null,null,null,null,null,null,null,null,null,null,null,null,null,null,null,null,null,null,null,null,null,null,null,null,null,null,null,null,null,null,null,null,null,null,null,null,null,null,null,null,null,null,null,null,null,null,null,null,null,null,null,null,null,null,null,null,null,null,null,null,null,null,null,null,null,null,null,null,null,null,null,null,null,null,null,null,null,null,null,null,null,null,null,null,null,null,null,null,null,null,null,null,null,null,null,null,null,null,null,null,null,null,null,null,null,null,null,null,null,null,null,null,null,null,null,null,null,null,null,null,null,null,null,null,null,null,null,null,null,null,null,null,null,null,null,null,null,null,null,null,null,null,null,null,null,null,null,null,null,null,null,null,null,null,null,null,null,null,null,null,null,null,null,null,null,null,null,null,null,null,null,null,null,null,null,null,null,null,null,null,null,null,null,null,null,null,8500,8800,8900,9000,8900,8800,9000,8100,8300]
[null,null,null,null,null,null,null,null,null,null,null,null,null,null,null,null,null,null,null,null,null,null,null,null,null,null,null,null,null,null,null,null,null,null,null,null,null,null,null,null,null,null,null,null,null,null,null,null,null,null,null,null,null,null,null,null,null,null,null,null,null,null,null,null,null,null,null,null,null,null,null,null,null,null,null,null,null,null,null,null,null,null,null,null,null,null,null,null,null,null,null,null,null,null,null,null,null,null,null,null,null,null,null,null,null,null,null,null,null,null,null,null,null,null,null,null,null,null,null,null,null,null,null,null,null,null,null,null,null,null,null,null,null,null,null,null,null,null,null,null,null,null,null,null,null,null,null,null,null,null,null,null,null,null,null,null,null,null,null,null,null,null,null,null,null,null,null,null,null,null,null,null,null,null,null,null,null,null,null,null,null,null,null,null,null,null,null,null,null,null,null,null,null,null,null,null,null,null,null,null,null,null,null,null,null,null,null,null,null,300,300,300,300,300,300,300,300,300]
[null,null,null,null,null,null,null,null,null,null,null,null,null,null,null,null,null,null,null,null,null,null,null,null,null,null,null,null,null,null,null,null,null,null,null,null,null,null,null,null,null,null,null,null,null,null,null,null,null,null,null,null,null,null,null,null,null,null,null,null,null,null,null,null,null,null,null,null,null,null,null,null,null,null,null,null,null,null,null,null,null,null,null,null,null,null,null,null,null,null,null,null,null,null,null,null,null,null,null,null,null,null,null,null,null,null,null,null,null,null,null,null,null,null,null,null,null,null,null,null,null,null,null,null,null,null,null,null,null,null,null,null,null,null,null,null,null,null,null,null,null,null,null,null,null,null,null,null,null,null,null,null,null,null,null,null,null,null,null,null,null,null,null,null,null,null,null,null,null,null,null,null,null,null,null,null,null,null,null,null,null,null,null,null,null,null,null,null,null,null,null,null,null,null,null,null,null,null,null,null,null,null,null,null,null,null,null,null,null,300,400,400,400,400,300,300,200,300]
[null,null,null,null,null,null,null,null,null,null,null,null,null,null,null,null,null,null,null,null,null,null,null,null,null,null,null,null,null,null,null,null,null,null,null,null,null,null,null,null,null,null,null,null,null,null,null,null,null,null,null,null,null,null,null,null,null,null,null,null,null,null,null,null,null,null,null,null,null,null,null,null,null,null,null,null,null,null,null,null,null,null,null,null,null,null,null,null,null,null,null,null,null,null,null,null,null,null,null,null,null,null,null,null,null,null,null,null,null,null,null,null,null,null,null,null,null,null,null,null,null,null,null,null,null,null,null,null,null,null,null,null,null,null,null,null,null,null,null,null,null,null,null,null,null,null,null,null,null,null,null,null,null,null,null,null,null,null,null,null,null,null,null,null,null,null,null,null,null,null,null,null,null,null,null,null,null,null,null,null,null,null,null,null,null,null,null,null,null,null,null,null,null,null,null,null,null,null,null,null,null,null,null,null,null,null,null,null,null,7900,8100,8200,8300,8200,8200,8400,7600,7700]
[null,null,null,null,null,null,null,null,null,null,null,null,null,null,null,null,null,null,null,null,null,null,null,null,null,null,null,null,null,null,null,null,null,null,null,null,null,null,null,null,null,null,null,null,null,null,null,null,null,null,null,null,null,null,null,null,null,null,null,null,null,null,null,null,null,null,null,null,null,null,null,null,null,null,null,null,null,null,null,null,null,null,null,null,null,null,null,null,null,null,null,null,null,null,null,null,null,null,null,null,null,null,null,null,null,null,null,null,null,null,null,null,null,null,null,null,null,null,null,null,null,null,null,null,null,null,null,null,null,null,null,null,null,null,null,null,null,null,null,null,null,null,null,null,null,null,null,null,null,null,null,null,null,null,null,null,null,null,null,null,null,null,null,null,null,null,null,null,null,null,null,null,null,null,null,null,null,null,null,null,null,null,null,null,null,null,null,null,null,null,null,null,null,null,null,null,null,null,null,null,null,null,null,null,null,null,null,null,null,76700,78400,77700,80100,80200,79400,78800,78800,79600]
[null,null,null,null,null,null,null,null,null,null,null,null,null,null,null,null,null,null,null,null,null,null,null,null,null,null,null,null,null,null,null,null,null,null,null,null,null,null,null,null,null,null,null,null,null,null,null,null,null,null,null,null,null,null,null,null,null,null,null,null,null,null,null,null,null,null,null,null,null,null,null,null,null,null,null,null,null,null,null,null,null,null,null,null,null,null,null,null,null,null,null,null,null,null,null,null,null,null,null,null,null,null,null,null,null,null,null,null,null,null,null,null,null,null,null,null,null,null,null,null,null,null,null,null,null,null,null,null,null,null,null,null,null,null,null,null,null,null,null,null,null,null,null,null,null,null,null,null,null,null,null,null,null,null,null,null,null,null,null,null,null,null,null,null,null,null,null,null,null,null,null,null,null,null,null,null,null,null,null,null,null,null,null,null,null,null,null,null,null,null,null,null,null,null,null,null,null,null,null,null,null,null,null,null,null,null,null,null,null,66700,67100,67400,68600,69200,69800,69700,69800,69500]
[null,null,null,null,null,null,null,null,null,null,null,null,null,null,null,null,null,null,null,null,null,null,null,null,null,null,null,null,null,null,null,null,null,null,null,null,null,null,null,null,null,null,null,null,null,null,null,null,null,null,null,null,null,null,null,null,null,null,null,null,null,null,null,null,null,null,null,null,null,null,null,null,null,null,null,null,null,null,null,null,null,null,null,null,null,null,null,null,null,null,null,null,null,null,null,null,null,null,null,null,null,null,null,null,null,null,null,null,null,null,null,null,null,null,null,null,null,null,null,null,null,null,null,null,null,null,null,null,null,null,null,null,null,null,null,null,null,null,null,null,null,null,null,null,null,null,null,null,null,null,null,null,null,null,null,null,null,null,null,null,null,null,null,null,null,null,null,null,null,null,null,null,null,null,null,null,null,null,null,null,null,null,null,null,null,null,null,null,null,null,null,null,null,null,null,null,null,null,null,null,null,null,null,null,null,null,null,null,null,10500,10600,10600,10900,11100,11400,11300,11300,11200]
[null,null,null,null,null,null,null,null,null,null,null,null,null,null,null,null,null,null,null,null,null,null,null,null,null,null,null,null,null,null,null,null,null,null,null,null,null,null,null,null,null,null,null,null,null,null,null,null,null,null,null,null,null,null,null,null,null,null,null,null,null,null,null,null,null,null,null,null,null,null,null,null,null,null,null,null,null,null,null,null,null,null,null,null,null,null,null,null,null,null,null,null,null,null,null,null,null,null,null,null,null,null,null,null,null,null,null,null,null,null,null,null,null,null,null,null,null,null,null,null,null,null,null,null,null,null,null,null,null,null,null,null,null,null,null,null,null,null,null,null,null,null,null,null,null,null,null,null,null,null,null,null,null,null,null,null,null,null,null,null,null,null,null,null,null,null,null,null,null,null,null,null,null,null,null,null,null,null,null,null,null,null,null,null,null,null,null,null,null,null,null,null,null,null,null,null,null,null,null,null,null,null,null,null,null,null,null,null,null,66200,67800,67100,69200,69100,68000,67500,67500,68400]
[null,null,null,null,null,null,null,null,null,null,null,null,null,null,null,null,null,null,null,null,null,null,null,null,null,null,null,null,null,null,null,null,null,null,null,null,null,null,null,null,null,null,null,null,null,null,null,null,null,null,null,null,null,null,null,null,null,null,null,null,null,null,null,null,null,null,null,null,null,null,null,null,null,null,null,null,null,null,null,null,null,null,null,null,null,null,null,null,null,null,null,null,null,null,null,null,null,null,null,null,null,null,null,null,null,null,null,null,null,null,null,null,null,null,null,null,null,null,null,null,null,null,null,null,null,null,null,null,null,null,null,null,null,null,null,null,null,null,null,null,null,null,null,null,null,null,null,null,null,null,null,null,null,null,null,null,null,null,null,null,null,null,null,null,null,null,null,null,null,null,null,null,null,null,null,null,null,null,null,null,null,null,null,null,null,null,null,null,null,null,null,null,null,null,null,null,null,null,null,null,null,null,null,null,null,null,null,null,null,56200,56500,56800,57700,58100,58400,58400,58500,58300]
[null,null,null,null,null,null,null,null,null,null,null,null,null,null,null,null,null,null,null,null,null,null,null,null,null,null,null,null,null,null,null,null,null,null,null,null,null,null,null,null,null,null,null,null,null,null,null,null,null,null,null,null,null,null,null,null,null,null,null,null,null,null,null,null,null,null,null,null,null,null,null,null,null,null,null,null,null,null,null,null,null,null,null,null,null,null,null,null,null,null,null,null,null,null,null,null,null,null,null,null,null,null,null,null,null,null,null,null,null,null,null,null,null,null,null,null,null,null,null,null,null,null,null,null,null,null,null,null,null,null,null,null,null,null,null,null,null,null,null,null,null,null,null,null,null,null,null,null,null,null,null,null,null,null,null,null,null,null,null,null,null,null,null,null,null,null,null,null,null,null,null,null,null,null,null,null,null,null,null,null,null,null,null,null,null,null,null,null,null,null,null,null,null,null,null,null,null,null,null,null,null,null,null,null,null,null,null,null,null,2500,2600,2600,2800,3000,3200,3200,3200,3100]
[null,null,null,null,null,null,null,null,null,null,null,null,null,null,null,null,null,null,null,null,null,null,null,null,null,null,null,null,null,null,null,null,null,null,null,null,null,null,null,null,null,null,null,null,null,null,null,null,null,null,null,null,null,null,null,null,null,null,null,null,null,null,null,null,null,null,null,null,null,null,null,null,null,null,null,null,null,null,null,null,null,null,null,null,null,null,null,null,null,null,null,null,null,null,null,null,null,null,null,null,null,null,null,null,null,null,null,null,null,null,null,null,null,null,null,null,null,null,null,null,null,null,null,null,null,null,null,null,null,null,null,null,null,null,null,null,null,null,null,null,null,null,null,null,null,null,null,null,null,null,null,null,null,null,null,null,null,null,null,null,null,null,null,null,null,null,null,null,null,null,null,null,null,null,null,null,null,null,null,null,null,null,null,null,null,null,null,null,null,null,null,null,null,null,null,null,null,null,null,null,null,null,null,null,null,null,null,null,null,8000,8000,8000,8100,8100,8200,8100,8100,8100]
[null,null,null,null,null,null,null,null,null,null,null,null,null,null,null,null,null,null,null,null,null,null,null,null,null,null,null,null,null,null,null,null,null,null,null,null,null,null,null,null,null,null,null,null,null,null,null,null,null,null,null,null,null,null,null,null,null,null,null,null,null,null,null,null,null,null,null,null,null,null,null,null,null,null,null,null,null,null,null,null,null,null,null,null,null,null,null,null,null,null,null,null,null,null,null,null,null,null,null,null,null,null,null,null,null,null,null,null,null,null,null,null,null,null,null,null,null,null,null,null,null,null,null,null,null,null,null,null,null,null,null,null,null,null,null,null,null,null,null,null,null,null,null,null,null,null,null,null,null,null,null,null,null,null,null,null,null,null,null,null,null,null,null,null,null,null,null,null,null,null,null,null,null,null,null,null,null,null,null,null,null,null,null,null,null,null,null,null,null,null,null,null,null,null,null,null,null,null,null,null,null,null,null,null,null,null,null,null,null,16100,15800,15900,16100,16300,16300,16300,16400,16300]
[null,null,null,null,null,null,null,null,null,null,null,null,null,null,null,null,null,null,null,null,null,null,null,null,null,null,null,null,null,null,null,null,null,null,null,null,null,null,null,null,null,null,null,null,null,null,null,null,null,null,null,null,null,null,null,null,null,null,null,null,null,null,null,null,null,null,null,null,null,null,null,null,null,null,null,null,null,null,null,null,null,null,null,null,null,null,null,null,null,null,null,null,null,null,null,null,null,null,null,null,null,null,null,null,null,null,null,null,null,null,null,null,null,null,null,null,null,null,null,null,null,null,null,null,null,null,null,null,null,null,null,null,null,null,null,null,null,null,null,null,null,null,null,null,null,null,null,null,null,null,null,null,null,null,null,null,null,null,null,null,null,null,null,null,null,null,null,null,null,null,null,null,null,null,null,null,null,null,null,null,null,null,null,null,null,null,null,null,null,null,null,null,null,null,null,null,null,null,null,null,null,null,null,null,null,null,null,null,null,4000,4000,4000,4100,4200,4200,4200,4200,4200]
[null,null,null,null,null,null,null,null,null,null,null,null,null,null,null,null,null,null,null,null,null,null,null,null,null,null,null,null,null,null,null,null,null,null,null,null,null,null,null,null,null,null,null,null,null,null,null,null,null,null,null,null,null,null,null,null,null,null,null,null,null,null,null,null,null,null,null,null,null,null,null,null,null,null,null,null,null,null,null,null,null,null,null,null,null,null,null,null,null,null,null,null,null,null,null,null,null,null,null,null,null,null,null,null,null,null,null,null,null,null,null,null,null,null,null,null,null,null,null,null,null,null,null,null,null,null,null,null,null,null,null,null,null,null,null,null,null,null,null,null,null,null,null,null,null,null,null,null,null,null,null,null,null,null,null,null,null,null,null,null,null,null,null,null,null,null,null,null,null,null,null,null,null,null,null,null,null,null,null,null,null,null,null,null,null,null,null,null,null,null,null,null,null,null,null,null,null,null,null,null,null,null,null,null,null,null,null,null,null,8700,8500,8500,8600,8600,8600,8600,8600,8500]
[null,null,null,null,null,null,null,null,null,null,null,null,null,null,null,null,null,null,null,null,null,null,null,null,null,null,null,null,null,null,null,null,null,null,null,null,null,null,null,null,null,null,null,null,null,null,null,null,null,null,null,null,null,null,null,null,null,null,null,null,null,null,null,null,null,null,null,null,null,null,null,null,null,null,null,null,null,null,null,null,null,null,null,null,null,null,null,null,null,null,null,null,null,null,null,null,null,null,null,null,null,null,null,null,null,null,null,null,null,null,null,null,null,null,null,null,null,null,null,null,null,null,null,null,null,null,null,null,null,null,null,null,null,null,null,null,null,null,null,null,null,null,null,null,null,null,null,null,null,null,null,null,null,null,null,null,null,null,null,null,null,null,null,null,null,null,null,null,null,null,null,null,null,null,null,null,null,null,null,null,null,null,null,null,null,null,null,null,null,null,null,null,null,null,null,null,null,null,null,null,null,null,null,null,null,null,null,null,null,3400,3300,3400,3400,3500,3500,3500,3600,3600]
[null,null,null,null,null,null,null,null,null,null,null,null,null,null,null,null,null,null,null,null,null,null,null,null,null,null,null,null,null,null,null,null,null,null,null,null,null,null,null,null,null,null,null,null,null,null,null,null,null,null,null,null,null,null,null,null,null,null,null,null,null,null,null,null,null,null,null,null,null,null,null,null,null,null,null,null,null,null,null,null,null,null,null,null,null,null,null,null,null,null,null,null,null,null,null,null,null,null,null,null,null,null,null,null,null,null,null,null,null,null,null,null,null,null,null,null,null,null,null,null,null,null,null,null,null,null,null,null,null,null,null,null,null,null,null,null,null,null,null,null,null,null,null,null,null,null,null,null,null,null,null,null,null,null,null,null,null,null,null,null,null,null,null,null,null,null,null,null,null,null,null,null,null,null,null,null,null,null,null,null,null,null,null,null,null,null,null,null,null,null,null,null,null,null,null,null,null,null,null,null,null,null,null,null,null,null,null,null,null,1100,1100,1100,1100,1100,1100,1100,1100,1100]
[null,null,null,null,null,null,null,null,null,null,null,null,null,null,null,null,null,null,null,null,null,null,null,null,null,null,null,null,null,null,null,null,null,null,null,null,null,null,null,null,null,null,null,null,null,null,null,null,null,null,null,null,null,null,null,null,null,null,null,null,null,null,null,null,null,null,null,null,null,null,null,null,null,null,null,null,null,null,null,null,null,null,null,null,null,null,null,null,null,null,null,null,null,null,null,null,null,null,null,null,null,null,null,null,null,null,null,null,null,null,null,null,null,null,null,null,null,null,null,null,null,null,null,null,null,null,null,null,null,null,null,null,null,null,null,null,null,null,null,null,null,null,null,null,null,null,null,null,null,null,null,null,null,null,null,null,null,null,null,null,null,null,null,null,null,null,null,null,null,null,null,null,null,null,null,null,null,null,null,null,null,null,null,null,null,null,null,null,null,null,null,null,null,null,null,null,null,null,null,null,null,null,null,null,null,null,null,null,null,4000,4000,4000,4000,4000,4100,4000,4000,4000]
[null,null,null,null,null,null,null,null,null,null,null,null,null,null,null,null,null,null,null,null,null,null,null,null,null,null,null,null,null,null,null,null,null,null,null,null,null,null,null,null,null,null,null,null,null,null,null,null,null,null,null,null,null,null,null,null,null,null,null,null,null,null,null,null,null,null,null,null,null,null,null,null,null,null,null,null,null,null,null,null,null,null,null,null,null,null,null,null,null,null,null,null,null,null,null,null,null,null,null,null,null,null,null,null,null,null,null,null,null,null,null,null,null,null,null,null,null,null,null,null,null,null,null,null,null,null,null,null,null,null,null,null,null,null,null,null,null,null,null,null,null,null,null,null,null,null,null,null,null,null,null,null,null,null,null,null,null,null,null,null,null,null,null,null,null,null,null,null,null,null,null,null,null,null,null,null,null,null,null,null,null,null,null,null,null,null,null,null,null,null,null,null,null,null,null,null,null,null,null,null,null,null,null,null,null,null,null,null,null,5900,5900,6000,6100,6100,6200,6300,6300,6200]
[null,null,null,null,null,null,null,null,null,null,null,null,null,null,null,null,null,null,null,null,null,null,null,null,null,null,null,null,null,null,null,null,null,null,null,null,null,null,null,null,null,null,null,null,null,null,null,null,null,null,null,null,null,null,null,null,null,null,null,null,null,null,null,null,null,null,null,null,null,null,null,null,null,null,null,null,null,null,null,null,null,null,null,null,null,null,null,null,null,null,null,null,null,null,null,null,null,null,null,null,null,null,null,null,null,null,null,null,null,null,null,null,null,null,null,null,null,null,null,null,null,null,null,null,null,null,null,null,null,null,null,null,null,null,null,null,null,null,null,null,null,null,null,null,null,null,null,null,null,null,null,null,null,null,null,null,null,null,null,null,null,null,null,null,null,null,null,null,null,null,null,null,null,null,null,null,null,null,null,null,null,null,null,null,null,null,null,null,null,null,null,null,null,null,null,null,null,null,null,null,null,null,null,null,null,null,null,null,null,17100,17400,17300,17600,17500,17600,17700,17800,17700]
[null,null,null,null,null,null,null,null,null,null,null,null,null,null,null,null,null,null,null,null,null,null,null,null,null,null,null,null,null,null,null,null,null,null,null,null,null,null,null,null,null,null,null,null,null,null,null,null,null,null,null,null,null,null,null,null,null,null,null,null,null,null,null,null,null,null,null,null,null,null,null,null,null,null,null,null,null,null,null,null,null,null,null,null,null,null,null,null,null,null,null,null,null,null,null,null,null,null,null,null,null,null,null,null,null,null,null,null,null,null,null,null,null,null,null,null,null,null,null,null,null,null,null,null,null,null,null,null,null,null,null,null,null,null,null,null,null,null,null,null,null,null,null,null,null,null,null,null,null,null,null,null,null,null,null,null,null,null,null,null,null,null,null,null,null,null,null,null,null,null,null,null,null,null,null,null,null,null,null,null,null,null,null,null,null,null,null,null,null,null,null,null,null,null,null,null,null,null,null,null,null,null,null,null,null,null,null,null,null,15400,15600,15600,15800,15700,15800,15900,16000,15900]
[null,null,null,null,null,null,null,null,null,null,null,null,null,null,null,null,null,null,null,null,null,null,null,null,null,null,null,null,null,null,null,null,null,null,null,null,null,null,null,null,null,null,null,null,null,null,null,null,null,null,null,null,null,null,null,null,null,null,null,null,null,null,null,null,null,null,null,null,null,null,null,null,null,null,null,null,null,null,null,null,null,null,null,null,null,null,null,null,null,null,null,null,null,null,null,null,null,null,null,null,null,null,null,null,null,null,null,null,null,null,null,null,null,null,null,null,null,null,null,null,null,null,null,null,null,null,null,null,null,null,null,null,null,null,null,null,null,null,null,null,null,null,null,null,null,null,null,null,null,null,null,null,null,null,null,null,null,null,null,null,null,null,null,null,null,null,null,null,null,null,null,null,null,null,null,null,null,null,null,null,null,null,null,null,null,null,null,null,null,null,null,null,null,null,null,null,null,null,null,null,null,null,null,null,null,null,null,null,null,7700,8000,8100,8400,8600,8600,8600,8600,8700]
[null,null,null,null,null,null,null,null,null,null,null,null,null,null,null,null,null,null,null,null,null,null,null,null,null,null,null,null,null,null,null,null,null,null,null,null,null,null,null,null,null,null,null,null,null,null,null,null,null,null,null,null,null,null,null,null,null,null,null,null,null,null,null,null,null,null,null,null,null,null,null,null,null,null,null,null,null,null,null,null,null,null,null,null,null,null,null,null,null,null,null,null,null,null,null,null,null,null,null,null,null,null,null,null,null,null,null,null,null,null,null,null,null,null,null,null,null,null,null,null,null,null,null,null,null,null,null,null,null,null,null,null,null,null,null,null,null,null,null,null,null,null,null,null,null,null,null,null,null,null,null,null,null,null,null,null,null,null,null,null,null,null,null,null,null,null,null,null,null,null,null,null,null,null,null,null,null,null,null,null,null,null,null,null,null,null,null,null,null,null,null,null,null,null,null,null,null,null,null,null,null,null,null,null,null,null,null,null,null,4300,4300,4400,4400,4500,4500,4400,4300,4300]
[null,null,null,null,null,null,null,null,null,null,null,null,null,null,null,null,null,null,null,null,null,null,null,null,null,null,null,null,null,null,null,null,null,null,null,null,null,null,null,null,null,null,null,null,null,null,null,null,null,null,null,null,null,null,null,null,null,null,null,null,null,null,null,null,null,null,null,null,null,null,null,null,null,null,null,null,null,null,null,null,null,null,null,null,null,null,null,null,null,null,null,null,null,null,null,null,null,null,null,null,null,null,null,null,null,null,null,null,null,null,null,null,null,null,null,null,null,null,null,null,null,null,null,null,null,null,null,null,null,null,null,null,null,null,null,null,null,null,null,null,null,null,null,null,null,null,null,null,null,null,null,null,null,null,null,null,null,null,null,null,null,null,null,null,null,null,null,null,null,null,null,null,null,null,null,null,null,null,null,null,null,null,null,null,null,null,null,null,null,null,null,null,null,null,null,null,null,null,null,null,null,null,null,null,null,null,null,null,null,10000,11300,10300,11500,11000,9600,9100,9000,10100]
[null,null,null,null,null,null,null,null,null,null,null,null,null,null,null,null,null,null,null,null,null,null,null,null,null,null,null,null,null,null,null,null,null,null,null,null,null,null,null,null,null,null,null,null,null,null,null,null,null,null,null,null,null,null,null,null,null,null,null,null,null,null,null,null,null,null,null,null,null,null,null,null,null,null,null,null,null,null,null,null,null,null,null,null,null,null,null,null,null,null,null,null,null,null,null,null,null,null,null,null,null,null,null,null,null,null,null,null,null,null,null,null,null,null,null,null,null,null,null,null,null,null,null,null,null,null,null,null,null,null,null,null,null,null,null,null,null,null,null,null,null,null,null,null,null,null,null,null,null,null,null,null,null,null,null,null,null,null,null,null,null,null,null,null,null,null,null,null,null,null,null,null,null,null,null,null,null,null,null,null,null,null,null,null,null,null,null,null,null,null,null,null,null,null,null,null,null,null,null,null,null,null,null,null,null,null,null,null,null,500,500,500,500,500,600,600,600,500]
[null,null,null,null,null,null,null,null,null,null,null,null,null,null,null,null,null,null,null,null,null,null,null,null,null,null,null,null,null,null,null,null,null,null,null,null,null,null,null,null,null,null,null,null,null,null,null,null,null,null,null,null,null,null,null,null,null,null,null,null,null,null,null,null,null,null,null,null,null,null,null,null,null,null,null,null,null,null,null,null,null,null,null,null,null,null,null,null,null,null,null,null,null,null,null,null,null,null,null,null,null,null,null,null,null,null,null,null,null,null,null,null,null,null,null,null,null,null,null,null,null,null,null,null,null,null,null,null,null,null,null,null,null,null,null,null,null,null,null,null,null,null,null,null,null,null,null,null,null,null,null,null,null,null,null,null,null,null,null,null,null,null,null,null,null,null,null,null,null,null,null,null,null,null,null,null,null,null,null,null,null,null,null,null,null,null,null,null,null,null,null,null,null,null,null,null,null,null,null,null,null,null,null,null,null,null,null,null,null,1900,2700,1700,2700,2300,1500,1400,1500,2400]
[null,null,null,null,null,null,null,null,null,null,null,null,null,null,null,null,null,null,null,null,null,null,null,null,null,null,null,null,null,null,null,null,null,null,null,null,null,null,null,null,null,null,null,null,null,null,null,null,null,null,null,null,null,null,null,null,null,null,null,null,null,null,null,null,null,null,null,null,null,null,null,null,null,null,null,null,null,null,null,null,null,null,null,null,null,null,null,null,null,null,null,null,null,null,null,null,null,null,null,null,null,null,null,null,null,null,null,null,null,null,null,null,null,null,null,null,null,null,null,null,null,null,null,null,null,null,null,null,null,null,null,null,null,null,null,null,null,null,null,null,null,null,null,null,null,null,null,null,null,null,null,null,null,null,null,null,null,null,null,null,null,null,null,null,null,null,null,null,null,null,null,null,null,null,null,null,null,null,null,null,null,null,null,null,null,null,null,null,null,null,null,null,null,null,null,null,null,null,null,null,null,null,null,null,null,null,null,null,null,7600,8100,8100,8300,8200,7500,7100,6900,7200]
[null,null,null,null,null,null,null,null,null,null,null,null,null,null,null,null,null,null,null,null,null,null,null,null,null,null,null,null,null,null,null,null,null,null,null,null,null,null,null,null,null,null,null,null,null,null,null,null,null,null,null,null,null,null,null,null,null,null,null,null,null,null,null,null,null,null,null,null,null,null,null,null,null,null,null,null,null,null,null,null,null,null,null,null,null,null,null,null,null,null,null,null,null,null,null,null,null,null,null,null,null,null,null,null,null,null,null,null,null,null,null,null,null,null,null,null,null,null,null,null,null,null,null,null,null,null,null,null,null,null,null,null,null,null,null,null,null,null,null,null,null,null,null,null,null,null,null,null,null,null,null,null,null,null,null,null,null,null,null,null,null,null,null,null,null,null,null,null,null,null,null,null,null,null,null,null,null,null,null,null,null,null,null,null,null,null,null,null,null,null,null,null,null,null,null,null,null,null,null,null,null,null,null,null,null,null,null,null,null,394400,399000,398200,402000,402100,402600,402000,401900,405100]
[null,null,null,null,null,null,null,null,null,null,null,null,null,null,null,null,null,null,null,null,null,null,null,null,null,null,null,null,null,null,null,null,null,null,null,null,null,null,null,null,null,null,null,null,null,null,null,null,null,null,null,null,null,null,null,null,null,null,null,null,null,null,null,null,null,null,null,null,null,null,null,null,null,null,null,null,null,null,null,null,null,null,null,null,null,null,null,null,null,null,null,null,null,null,null,null,null,null,null,null,null,null,null,null,null,null,null,null,null,null,null,null,null,null,null,null,null,null,null,null,null,null,null,null,null,null,null,null,null,null,null,null,null,null,null,null,null,null,null,null,null,null,null,null,null,null,null,null,null,null,null,null,null,null,null,null,null,null,null,null,null,null,null,null,null,null,null,null,null,null,null,null,null,null,null,null,null,null,null,null,null,null,null,null,null,null,null,null,null,null,null,null,null,null,null,null,null,null,null,null,null,null,null,null,null,null,null,null,null,308400,310000,310600,311900,315900,320400,322000,322900,319400]
[null,null,null,null,null,null,null,null,null,null,null,null,null,null,null,null,null,null,null,null,null,null,null,null,null,null,null,null,null,null,null,null,null,null,null,null,null,null,null,null,null,null,null,null,null,null,null,null,null,null,null,null,null,null,null,null,null,null,null,null,null,null,null,null,null,null,null,null,null,null,null,null,null,null,null,null,null,null,null,null,null,null,null,null,null,null,null,null,null,null,null,null,null,null,null,null,null,null,null,null,null,null,null,null,null,null,null,null,null,null,null,null,null,null,null,null,null,null,null,null,null,null,null,null,null,null,null,null,null,null,null,null,null,null,null,null,null,null,null,null,null,null,null,null,null,null,null,null,null,null,null,null,null,null,null,null,null,null,null,null,null,null,null,null,null,null,null,null,null,null,null,null,null,null,null,null,null,null,null,null,null,null,null,null,null,null,null,null,null,null,null,null,null,null,null,null,null,null,null,null,null,null,null,null,null,null,null,null,null,49100,49200,49600,51000,52200,53900,55100,55200,54100]
[null,null,null,null,null,null,null,null,null,null,null,null,null,null,null,null,null,null,null,null,null,null,null,null,null,null,null,null,null,null,null,null,null,null,null,null,null,null,null,null,null,null,null,null,null,null,null,null,null,null,null,null,null,null,null,null,null,null,null,null,null,null,null,null,null,null,null,null,null,null,null,null,null,null,null,null,null,null,null,null,null,null,null,null,null,null,null,null,null,null,null,null,null,null,null,null,null,null,null,null,null,null,null,null,null,null,null,null,null,null,null,null,null,null,null,null,null,null,null,null,null,null,null,null,null,null,null,null,null,null,null,null,null,null,null,null,null,null,null,null,null,null,null,null,null,null,null,null,null,null,null,null,null,null,null,null,null,null,null,null,null,null,null,null,null,null,null,null,null,null,null,null,null,null,null,null,null,null,null,null,null,null,null,null,null,null,null,null,null,null,null,null,null,null,null,null,null,null,null,null,null,null,null,null,null,null,null,null,null,345300,349800,348600,351000,349900,348700,346900,346700,351000]
[null,null,null,null,null,null,null,null,null,null,null,null,null,null,null,null,null,null,null,null,null,null,null,null,null,null,null,null,null,null,null,null,null,null,null,null,null,null,null,null,null,null,null,null,null,null,null,null,null,null,null,null,null,null,null,null,null,null,null,null,null,null,null,null,null,null,null,null,null,null,null,null,null,null,null,null,null,null,null,null,null,null,null,null,null,null,null,null,null,null,null,null,null,null,null,null,null,null,null,null,null,null,null,null,null,null,null,null,null,null,null,null,null,null,null,null,null,null,null,null,null,null,null,null,null,null,null,null,null,null,null,null,null,null,null,null,null,null,null,null,null,null,null,null,null,null,null,null,null,null,null,null,null,null,null,null,null,null,null,null,null,null,null,null,null,null,null,null,null,null,null,null,null,null,null,null,null,null,null,null,null,null,null,null,null,null,null,null,null,null,null,null,null,null,null,null,null,null,null,null,null,null,null,null,null,null,null,null,null,259300,260800,261000,260900,263700,266500,266900,267700,265300]
[null,null,null,null,null,null,null,null,null,null,null,null,null,null,null,null,null,null,null,null,null,null,null,null,null,null,null,null,null,null,null,null,null,null,null,null,null,null,null,null,null,null,null,null,null,null,null,null,null,null,null,null,null,null,null,null,null,null,null,null,null,null,null,null,null,null,null,null,null,null,null,null,null,null,null,null,null,null,null,null,null,null,null,null,null,null,null,null,null,null,null,null,null,null,null,null,null,null,null,null,null,null,null,null,null,null,null,null,null,null,null,null,null,null,null,null,null,null,null,null,null,null,null,null,null,null,null,null,null,null,null,null,null,null,null,null,null,null,null,null,null,null,null,null,null,null,null,null,null,null,null,null,null,null,null,null,null,null,null,null,null,null,null,null,null,null,null,null,null,null,null,null,null,null,null,null,null,null,null,null,null,null,null,null,null,null,null,null,null,null,null,null,null,null,null,null,null,null,null,null,null,null,null,null,null,null,null,null,null,15400,15500,15800,17000,17900,18800,19200,19300,18700]
[null,null,null,null,null,null,null,null,null,null,null,null,null,null,null,null,null,null,null,null,null,null,null,null,null,null,null,null,null,null,null,null,null,null,null,null,null,null,null,null,null,null,null,null,null,null,null,null,null,null,null,null,null,null,null,null,null,null,null,null,null,null,null,null,null,null,null,null,null,null,null,null,null,null,null,null,null,null,null,null,null,null,null,null,null,null,null,null,null,null,null,null,null,null,null,null,null,null,null,null,null,null,null,null,null,null,null,null,null,null,null,null,null,null,null,null,null,null,null,null,null,null,null,null,null,null,null,null,null,null,null,null,null,null,null,null,null,null,null,null,null,null,null,null,null,null,null,null,null,null,null,null,null,null,null,null,null,null,null,null,null,null,null,null,null,null,null,null,null,null,null,null,null,null,null,null,null,null,null,null,null,null,null,null,null,null,null,null,null,null,null,null,null,null,null,null,null,null,null,null,null,null,null,null,null,null,null,null,null,33700,33700,33800,34000,34300,35100,35900,35900,35400]
[null,null,null,null,null,null,null,null,null,null,null,null,null,null,null,null,null,null,null,null,null,null,null,null,null,null,null,null,null,null,null,null,null,null,null,null,null,null,null,null,null,null,null,null,null,null,null,null,null,null,null,null,null,null,null,null,null,null,null,null,null,null,null,null,null,null,null,null,null,null,null,null,null,null,null,null,null,null,null,null,null,null,null,null,null,null,null,null,null,null,null,null,null,null,null,null,null,null,null,null,null,null,null,null,null,null,null,null,null,null,null,null,null,null,null,null,null,null,null,null,null,null,null,null,null,null,null,null,null,null,null,null,null,null,null,null,null,null,null,null,null,null,null,null,null,null,null,null,null,null,null,null,null,null,null,null,null,null,null,null,null,null,null,null,null,null,null,null,null,null,null,null,null,null,null,null,null,null,null,null,null,null,null,null,null,null,null,null,null,null,null,null,null,null,null,null,null,null,null,null,null,null,null,null,null,null,null,null,null,65200,64400,63900,64200,65300,66300,66000,66000,66000]
[null,null,null,null,null,null,null,null,null,null,null,null,null,null,null,null,null,null,null,null,null,null,null,null,null,null,null,null,null,null,null,null,null,null,null,null,null,null,null,null,null,null,null,null,null,null,null,null,null,null,null,null,null,null,null,null,null,null,null,null,null,null,null,null,null,null,null,null,null,null,null,null,null,null,null,null,null,null,null,null,null,null,null,null,null,null,null,null,null,null,null,null,null,null,null,null,null,null,null,null,null,null,null,null,null,null,null,null,null,null,null,null,null,null,null,null,null,null,null,null,null,null,null,null,null,null,null,null,null,null,null,null,null,null,null,null,null,null,null,null,null,null,null,null,null,null,null,null,null,null,null,null,null,null,null,null,null,null,null,null,null,null,null,null,null,null,null,null,null,null,null,null,null,null,null,null,null,null,null,null,null,null,null,null,null,null,null,null,null,null,null,null,null,null,null,null,null,null,null,null,null,null,null,null,null,null,null,null,null,15000,15000,15000,15200,15200,15400,15400,15400,15200]
[null,null,null,null,null,null,null,null,null,null,null,null,null,null,null,null,null,null,null,null,null,null,null,null,null,null,null,null,null,null,null,null,null,null,null,null,null,null,null,null,null,null,null,null,null,null,null,null,null,null,null,null,null,null,null,null,null,null,null,null,null,null,null,null,null,null,null,null,null,null,null,null,null,null,null,null,null,null,null,null,null,null,null,null,null,null,null,null,null,null,null,null,null,null,null,null,null,null,null,null,null,null,null,null,null,null,null,null,null,null,null,null,null,null,null,null,null,null,null,null,null,null,null,null,null,null,null,null,null,null,null,null,null,null,null,null,null,null,null,null,null,null,null,null,null,null,null,null,null,null,null,null,null,null,null,null,null,null,null,null,null,null,null,null,null,null,null,null,null,null,null,null,null,null,null,null,null,null,null,null,null,null,null,null,null,null,null,null,null,null,null,null,null,null,null,null,null,null,null,null,null,null,null,null,null,null,null,null,null,40900,40100,39600,39600,40600,41300,41200,41100,40900]
[null,null,null,null,null,null,null,null,null,null,null,null,null,null,null,null,null,null,null,null,null,null,null,null,null,null,null,null,null,null,null,null,null,null,null,null,null,null,null,null,null,null,null,null,null,null,null,null,null,null,null,null,null,null,null,null,null,null,null,null,null,null,null,null,null,null,null,null,null,null,null,null,null,null,null,null,null,null,null,null,null,null,null,null,null,null,null,null,null,null,null,null,null,null,null,null,null,null,null,null,null,null,null,null,null,null,null,null,null,null,null,null,null,null,null,null,null,null,null,null,null,null,null,null,null,null,null,null,null,null,null,null,null,null,null,null,null,null,null,null,null,null,null,null,null,null,null,null,null,null,null,null,null,null,null,null,null,null,null,null,null,null,null,null,null,null,null,null,null,null,null,null,null,null,null,null,null,null,null,null,null,null,null,null,null,null,null,null,null,null,null,null,null,null,null,null,null,null,null,null,null,null,null,null,null,null,null,null,null,6200,6100,6000,6000,6000,6100,6100,6200,6100]
[null,null,null,null,null,null,null,null,null,null,null,null,null,null,null,null,null,null,null,null,null,null,null,null,null,null,null,null,null,null,null,null,null,null,null,null,null,null,null,null,null,null,null,null,null,null,null,null,null,null,null,null,null,null,null,null,null,null,null,null,null,null,null,null,null,null,null,null,null,null,null,null,null,null,null,null,null,null,null,null,null,null,null,null,null,null,null,null,null,null,null,null,null,null,null,null,null,null,null,null,null,null,null,null,null,null,null,null,null,null,null,null,null,null,null,null,null,null,null,null,null,null,null,null,null,null,null,null,null,null,null,null,null,null,null,null,null,null,null,null,null,null,null,null,null,null,null,null,null,null,null,null,null,null,null,null,null,null,null,null,null,null,null,null,null,null,null,null,null,null,null,null,null,null,null,null,null,null,null,null,null,null,null,null,null,null,null,null,null,null,null,null,null,null,null,null,null,null,null,null,null,null,null,null,null,null,null,null,null,9300,9300,9300,9400,9500,9600,9400,9500,9900]
[null,null,null,null,null,null,null,null,null,null,null,null,null,null,null,null,null,null,null,null,null,null,null,null,null,null,null,null,null,null,null,null,null,null,null,null,null,null,null,null,null,null,null,null,null,null,null,null,null,null,null,null,null,null,null,null,null,null,null,null,null,null,null,null,null,null,null,null,null,null,null,null,null,null,null,null,null,null,null,null,null,null,null,null,null,null,null,null,null,null,null,null,null,null,null,null,null,null,null,null,null,null,null,null,null,null,null,null,null,null,null,null,null,null,null,null,null,null,null,null,null,null,null,null,null,null,null,null,null,null,null,null,null,null,null,null,null,null,null,null,null,null,null,null,null,null,null,null,null,null,null,null,null,null,null,null,null,null,null,null,null,null,null,null,null,null,null,null,null,null,null,null,null,null,null,null,null,null,null,null,null,null,null,null,null,null,null,null,null,null,null,null,null,null,null,null,null,null,null,null,null,null,null,null,null,null,null,null,null,17200,17000,16900,16900,16500,16600,16500,16400,16300]
[null,null,null,null,null,null,null,null,null,null,null,null,null,null,null,null,null,null,null,null,null,null,null,null,null,null,null,null,null,null,null,null,null,null,null,null,null,null,null,null,null,null,null,null,null,null,null,null,null,null,null,null,null,null,null,null,null,null,null,null,null,null,null,null,null,null,null,null,null,null,null,null,null,null,null,null,null,null,null,null,null,null,null,null,null,null,null,null,null,null,null,null,null,null,null,null,null,null,null,null,null,null,null,null,null,null,null,null,null,null,null,null,null,null,null,null,null,null,null,null,null,null,null,null,null,null,null,null,null,null,null,null,null,null,null,null,null,null,null,null,null,null,null,null,null,null,null,null,null,null,null,null,null,null,null,null,null,null,null,null,null,null,null,null,null,null,null,null,null,null,null,null,null,null,null,null,null,null,null,null,null,null,null,null,null,null,null,null,null,null,null,null,null,null,null,null,null,null,null,null,null,null,null,null,null,null,null,null,null,23600,23600,23700,23800,23900,24100,24200,24300,24000]
[null,null,null,null,null,null,null,null,null,null,null,null,null,null,null,null,null,null,null,null,null,null,null,null,null,null,null,null,null,null,null,null,null,null,null,null,null,null,null,null,null,null,null,null,null,null,null,null,null,null,null,null,null,null,null,null,null,null,null,null,null,null,null,null,null,null,null,null,null,null,null,null,null,null,null,null,null,null,null,null,null,null,null,null,null,null,null,null,null,null,null,null,null,null,null,null,null,null,null,null,null,null,null,null,null,null,null,null,null,null,null,null,null,null,null,null,null,null,null,null,null,null,null,null,null,null,null,null,null,null,null,null,null,null,null,null,null,null,null,null,null,null,null,null,null,null,null,null,null,null,null,null,null,null,null,null,null,null,null,null,null,null,null,null,null,null,null,null,null,null,null,null,null,null,null,null,null,null,null,null,null,null,null,null,null,null,null,null,null,null,null,null,null,null,null,null,null,null,null,null,null,null,null,null,null,null,null,null,null,19300,19300,19300,19300,19200,19300,19400,19400,19300]
[null,null,null,null,null,null,null,null,null,null,null,null,null,null,null,null,null,null,null,null,null,null,null,null,null,null,null,null,null,null,null,null,null,null,null,null,null,null,null,null,null,null,null,null,null,null,null,null,null,null,null,null,null,null,null,null,null,null,null,null,null,null,null,null,null,null,null,null,null,null,null,null,null,null,null,null,null,null,null,null,null,null,null,null,null,null,null,null,null,null,null,null,null,null,null,null,null,null,null,null,null,null,null,null,null,null,null,null,null,null,null,null,null,null,null,null,null,null,null,null,null,null,null,null,null,null,null,null,null,null,null,null,null,null,null,null,null,null,null,null,null,null,null,null,null,null,null,null,null,null,null,null,null,null,null,null,null,null,null,null,null,null,null,null,null,null,null,null,null,null,null,null,null,null,null,null,null,null,null,null,null,null,null,null,null,null,null,null,null,null,null,null,null,null,null,null,null,null,null,null,null,null,null,null,null,null,null,null,null,52100,52800,52800,53300,53900,54100,54700,54900,54900]
[null,null,null,null,null,null,null,null,null,null,null,null,null,null,null,null,null,null,null,null,null,null,null,null,null,null,null,null,null,null,null,null,null,null,null,null,null,null,null,null,null,null,null,null,null,null,null,null,null,null,null,null,null,null,null,null,null,null,null,null,null,null,null,null,null,null,null,null,null,null,null,null,null,null,null,null,null,null,null,null,null,null,null,null,null,null,null,null,null,null,null,null,null,null,null,null,null,null,null,null,null,null,null,null,null,null,null,null,null,null,null,null,null,null,null,null,null,null,null,null,null,null,null,null,null,null,null,null,null,null,null,null,null,null,null,null,null,null,null,null,null,null,null,null,null,null,null,null,null,null,null,null,null,null,null,null,null,null,null,null,null,null,null,null,null,null,null,null,null,null,null,null,null,null,null,null,null,null,null,null,null,null,null,null,null,null,null,null,null,null,null,null,null,null,null,null,null,null,null,null,null,null,null,null,null,null,null,null,null,23500,23700,23700,23600,23400,23600,23700,23800,23900]
[null,null,null,null,null,null,null,null,null,null,null,null,null,null,null,null,null,null,null,null,null,null,null,null,null,null,null,null,null,null,null,null,null,null,null,null,null,null,null,null,null,null,null,null,null,null,null,null,null,null,null,null,null,null,null,null,null,null,null,null,null,null,null,null,null,null,null,null,null,null,null,null,null,null,null,null,null,null,null,null,null,null,null,null,null,null,null,null,null,null,null,null,null,null,null,null,null,null,null,null,null,null,null,null,null,null,null,null,null,null,null,null,null,null,null,null,null,null,null,null,null,null,null,null,null,null,null,null,null,null,null,null,null,null,null,null,null,null,null,null,null,null,null,null,null,null,null,null,null,null,null,null,null,null,null,null,null,null,null,null,null,null,null,null,null,null,null,null,null,null,null,null,null,null,null,null,null,null,null,null,null,null,null,null,null,null,null,null,null,null,null,null,null,null,null,null,null,null,null,null,null,null,null,null,null,null,null,null,null,47100,48000,48300,47800,47800,47800,48200,48500,48100]
[null,null,null,null,null,null,null,null,null,null,null,null,null,null,null,null,null,null,null,null,null,null,null,null,null,null,null,null,null,null,null,null,null,null,null,null,null,null,null,null,null,null,null,null,null,null,null,null,null,null,null,null,null,null,null,null,null,null,null,null,null,null,null,null,null,null,null,null,null,null,null,null,null,null,null,null,null,null,null,null,null,null,null,null,null,null,null,null,null,null,null,null,null,null,null,null,null,null,null,null,null,null,null,null,null,null,null,null,null,null,null,null,null,null,null,null,null,null,null,null,null,null,null,null,null,null,null,null,null,null,null,null,null,null,null,null,null,null,null,null,null,null,null,null,null,null,null,null,null,null,null,null,null,null,null,null,null,null,null,null,null,null,null,null,null,null,null,null,null,null,null,null,null,null,null,null,null,null,null,null,null,null,null,null,null,null,null,null,null,null,null,null,null,null,null,null,null,null,null,null,null,null,null,null,null,null,null,null,null,42000,42800,43000,43000,42900,42900,43100,43400,43100]
[null,null,null,null,null,null,null,null,null,null,null,null,null,null,null,null,null,null,null,null,null,null,null,null,null,null,null,null,null,null,null,null,null,null,null,null,null,null,null,null,null,null,null,null,null,null,null,null,null,null,null,null,null,null,null,null,null,null,null,null,null,null,null,null,null,null,null,null,null,null,null,null,null,null,null,null,null,null,null,null,null,null,null,null,null,null,null,null,null,null,null,null,null,null,null,null,null,null,null,null,null,null,null,null,null,null,null,null,null,null,null,null,null,null,null,null,null,null,null,null,null,null,null,null,null,null,null,null,null,null,null,null,null,null,null,null,null,null,null,null,null,null,null,null,null,null,null,null,null,null,null,null,null,null,null,null,null,null,null,null,null,null,null,null,null,null,null,null,null,null,null,null,null,null,null,null,null,null,null,null,null,null,null,null,null,null,null,null,null,null,null,null,null,null,null,null,null,null,null,null,null,null,null,null,null,null,null,null,null,33800,34500,34900,34200,35600,36600,36300,36600,35200]
[null,null,null,null,null,null,null,null,null,null,null,null,null,null,null,null,null,null,null,null,null,null,null,null,null,null,null,null,null,null,null,null,null,null,null,null,null,null,null,null,null,null,null,null,null,null,null,null,null,null,null,null,null,null,null,null,null,null,null,null,null,null,null,null,null,null,null,null,null,null,null,null,null,null,null,null,null,null,null,null,null,null,null,null,null,null,null,null,null,null,null,null,null,null,null,null,null,null,null,null,null,null,null,null,null,null,null,null,null,null,null,null,null,null,null,null,null,null,null,null,null,null,null,null,null,null,null,null,null,null,null,null,null,null,null,null,null,null,null,null,null,null,null,null,null,null,null,null,null,null,null,null,null,null,null,null,null,null,null,null,null,null,null,null,null,null,null,null,null,null,null,null,null,null,null,null,null,null,null,null,null,null,null,null,null,null,null,null,null,null,null,null,null,null,null,null,null,null,null,null,null,null,null,null,null,null,null,null,null,29400,30200,30400,30400,30900,31700,31500,31800,30400]
[null,null,null,null,null,null,null,null,null,null,null,null,null,null,null,null,null,null,null,null,null,null,null,null,null,null,null,null,null,null,null,null,null,null,null,null,null,null,null,null,null,null,null,null,null,null,null,null,null,null,null,null,null,null,null,null,null,null,null,null,null,null,null,null,null,null,null,null,null,null,null,null,null,null,null,null,null,null,null,null,null,null,null,null,null,null,null,null,null,null,null,null,null,null,null,null,null,null,null,null,null,null,null,null,null,null,null,null,null,null,null,null,null,null,null,null,null,null,null,null,null,null,null,null,null,null,null,null,null,null,null,null,null,null,null,null,null,null,null,null,null,null,null,null,null,null,null,null,null,null,null,null,null,null,null,null,null,null,null,null,null,null,null,null,null,null,null,null,null,null,null,null,null,null,null,null,null,null,null,null,null,null,null,null,null,null,null,null,null,null,null,null,null,null,null,null,null,null,null,null,null,null,null,null,null,null,null,null,null,26200,26200,26500,26400,26900,27400,27100,27300,26000]
[null,null,null,null,null,null,null,null,null,null,null,null,null,null,null,null,null,null,null,null,null,null,null,null,null,null,null,null,null,null,null,null,null,null,null,null,null,null,null,null,null,null,null,null,null,null,null,null,null,null,null,null,null,null,null,null,null,null,null,null,null,null,null,null,null,null,null,null,null,null,null,null,null,null,null,null,null,null,null,null,null,null,null,null,null,null,null,null,null,null,null,null,null,null,null,null,null,null,null,null,null,null,null,null,null,null,null,null,null,null,null,null,null,null,null,null,null,null,null,null,null,null,null,null,null,null,null,null,null,null,null,null,null,null,null,null,null,null,null,null,null,null,null,null,null,null,null,null,null,null,null,null,null,null,null,null,null,null,null,null,null,null,null,null,null,null,null,null,null,null,null,null,null,null,null,null,null,null,null,null,null,null,null,null,null,null,null,null,null,null,null,null,null,null,null,null,null,null,null,null,null,null,null,null,null,null,null,null,null,20300,20500,20500,20700,20700,21000,21000,21000,20800]
[null,null,null,null,null,null,null,null,null,null,null,null,null,null,null,null,null,null,null,null,null,null,null,null,null,null,null,null,null,null,null,null,null,null,null,null,null,null,null,null,null,null,null,null,null,null,null,null,null,null,null,null,null,null,null,null,null,null,null,null,null,null,null,null,null,null,null,null,null,null,null,null,null,null,null,null,null,null,null,null,null,null,null,null,null,null,null,null,null,null,null,null,null,null,null,null,null,null,null,null,null,null,null,null,null,null,null,null,null,null,null,null,null,null,null,null,null,null,null,null,null,null,null,null,null,null,null,null,null,null,null,null,null,null,null,null,null,null,null,null,null,null,null,null,null,null,null,null,null,null,null,null,null,null,null,null,null,null,null,null,null,null,null,null,null,null,null,null,null,null,null,null,null,null,null,null,null,null,null,null,null,null,null,null,null,null,null,null,null,null,null,null,null,null,null,null,null,null,null,null,null,null,null,null,null,null,null,null,null,86000,89000,87600,90100,86200,82200,80000,79000,85700]
[null,null,null,null,null,null,null,null,null,null,null,null,null,null,null,null,null,null,null,null,null,null,null,null,null,null,null,null,null,null,null,null,null,null,null,null,null,null,null,null,null,null,null,null,null,null,null,null,null,null,null,null,null,null,null,null,null,null,null,null,null,null,null,null,null,null,null,null,null,null,null,null,null,null,null,null,null,null,null,null,null,null,null,null,null,null,null,null,null,null,null,null,null,null,null,null,null,null,null,null,null,null,null,null,null,null,null,null,null,null,null,null,null,null,null,null,null,null,null,null,null,null,null,null,null,null,null,null,null,null,null,null,null,null,null,null,null,null,null,null,null,null,null,null,null,null,null,null,null,null,null,null,null,null,null,null,null,null,null,null,null,null,null,null,null,null,null,null,null,null,null,null,null,null,null,null,null,null,null,null,null,null,null,null,null,null,null,null,null,null,null,null,null,null,null,null,null,null,null,null,null,null,null,null,null,null,null,null,null,5400,5400,5400,5400,5400,5400,5400,5300,5400]
[null,null,null,null,null,null,null,null,null,null,null,null,null,null,null,null,null,null,null,null,null,null,null,null,null,null,null,null,null,null,null,null,null,null,null,null,null,null,null,null,null,null,null,null,null,null,null,null,null,null,null,null,null,null,null,null,null,null,null,null,null,null,null,null,null,null,null,null,null,null,null,null,null,null,null,null,null,null,null,null,null,null,null,null,null,null,null,null,null,null,null,null,null,null,null,null,null,null,null,null,null,null,null,null,null,null,null,null,null,null,null,null,null,null,null,null,null,null,null,null,null,null,null,null,null,null,null,null,null,null,null,null,null,null,null,null,null,null,null,null,null,null,null,null,null,null,null,null,null,null,null,null,null,null,null,null,null,null,null,null,null,null,null,null,null,null,null,null,null,null,null,null,null,null,null,null,null,null,null,null,null,null,null,null,null,null,null,null,null,null,null,null,null,null,null,null,null,null,null,null,null,null,null,null,null,null,null,null,null,48500,49800,49400,49700,47700,43500,43900,43000,48700]
[null,null,null,null,null,null,null,null,null,null,null,null,null,null,null,null,null,null,null,null,null,null,null,null,null,null,null,null,null,null,null,null,null,null,null,null,null,null,null,null,null,null,null,null,null,null,null,null,null,null,null,null,null,null,null,null,null,null,null,null,null,null,null,null,null,null,null,null,null,null,null,null,null,null,null,null,null,null,null,null,null,null,null,null,null,null,null,null,null,null,null,null,null,null,null,null,null,null,null,null,null,null,null,null,null,null,null,null,null,null,null,null,null,null,null,null,null,null,null,null,null,null,null,null,null,null,null,null,null,null,null,null,null,null,null,null,null,null,null,null,null,null,null,null,null,null,null,null,null,null,null,null,null,null,null,null,null,null,null,null,null,null,null,null,null,null,null,null,null,null,null,null,null,null,null,null,null,null,null,null,null,null,null,null,null,null,null,null,null,null,null,null,null,null,null,null,null,null,null,null,null,null,null,null,null,null,null,null,null,32100,33800,32800,35000,33100,33300,30700,30700,31600]
[null,null,null,null,null,null,null,null,null,null,null,null,null,null,null,null,null,null,null,null,null,null,null,null,null,null,null,null,null,null,null,null,null,null,null,null,null,null,null,null,null,null,null,null,null,null,null,null,null,null,null,null,null,null,null,null,null,null,null,null,null,null,null,null,null,null,null,null,null,null,null,null,null,null,null,null,null,null,null,null,null,null,null,null,null,null,null,null,null,null,null,null,null,null,null,null,null,null,null,null,null,null,null,null,null,null,null,null,null,null,null,null,null,null,null,null,null,null,null,null,null,null,null,null,null,null,null,null,null,null,null,null,null,null,null,null,null,null,null,null,null,null,null,null,null,null,null,null,null,null,null,null,null,null,null,null,null,null,null,null,null,null,null,null,null,null,null,null,null,null,null,null,null,null,null,null,null,null,null,null,null,null,null,null,null,null,null,null,null,null,null,null,null,null,null,null,null,null,null,null,null,null,null,null,null,null,null,null,null,842200,846600,852100,858400,866500,873600,868800,868600,867500]
[null,null,null,null,null,null,null,null,null,null,null,null,null,null,null,null,null,null,null,null,null,null,null,null,null,null,null,null,null,null,null,null,null,null,null,null,null,null,null,null,null,null,null,null,null,null,null,null,null,null,null,null,null,null,null,null,null,null,null,null,null,null,null,null,null,null,null,null,null,null,null,null,null,null,null,null,null,null,null,null,null,null,null,null,null,null,null,null,null,null,null,null,null,null,null,null,null,null,null,null,null,null,null,null,null,null,null,null,null,null,null,null,null,null,null,null,null,null,null,null,null,null,null,null,null,null,null,null,null,null,null,null,null,null,null,null,null,null,null,null,null,null,null,null,null,null,null,null,null,null,null,null,null,null,null,null,null,null,null,null,null,null,null,null,null,null,null,null,null,null,null,null,null,null,null,null,null,null,null,null,null,null,null,null,null,null,null,null,null,null,null,null,null,null,null,null,null,null,null,null,null,null,null,null,null,null,null,null,null,755500,758300,763400,769100,778000,788000,787600,785500,780900]
[null,null,null,null,null,null,null,null,null,null,null,null,null,null,null,null,null,null,null,null,null,null,null,null,null,null,null,null,null,null,null,null,null,null,null,null,null,null,null,null,null,null,null,null,null,null,null,null,null,null,null,null,null,null,null,null,null,null,null,null,null,null,null,null,null,null,null,null,null,null,null,null,null,null,null,null,null,null,null,null,null,null,null,null,null,null,null,null,null,null,null,null,null,null,null,null,null,null,null,null,null,null,null,null,null,null,null,null,null,null,null,null,null,null,null,null,null,null,null,null,null,null,null,null,null,null,null,null,null,null,null,null,null,null,null,null,null,null,null,null,null,null,null,null,null,null,null,null,null,null,null,null,null,null,null,null,null,null,null,null,null,null,null,null,null,null,null,null,null,null,null,null,null,null,null,null,null,null,null,null,null,null,null,null,null,null,null,null,null,null,null,null,null,null,null,null,null,null,null,null,null,null,null,null,null,null,null,null,null,145300,145300,145700,146800,147800,152800,152800,152900,151500]
[null,null,null,null,null,null,null,null,null,null,null,null,null,null,null,null,null,null,null,null,null,null,null,null,null,null,null,null,null,null,null,null,null,null,null,null,null,null,null,null,null,null,null,null,null,null,null,null,null,null,null,null,null,null,null,null,null,null,null,null,null,null,null,null,null,null,null,null,null,null,null,null,null,null,null,null,null,null,null,null,null,null,null,null,null,null,null,null,null,null,null,null,null,null,null,null,null,null,null,null,null,null,null,null,null,null,null,null,null,null,null,null,null,null,null,null,null,null,null,null,null,null,null,null,null,null,null,null,null,null,null,null,null,null,null,null,null,null,null,null,null,null,null,null,null,null,null,null,null,null,null,null,null,null,null,null,null,null,null,null,null,null,null,null,null,null,null,null,null,null,null,null,null,null,null,null,null,null,null,null,null,null,null,null,null,null,null,null,null,null,null,null,null,null,null,null,null,null,null,null,null,null,null,null,null,null,null,null,null,696900,701300,706400,711600,718700,720800,716000,715700,716000]
[null,null,null,null,null,null,null,null,null,null,null,null,null,null,null,null,null,null,null,null,null,null,null,null,null,null,null,null,null,null,null,null,null,null,null,null,null,null,null,null,null,null,null,null,null,null,null,null,null,null,null,null,null,null,null,null,null,null,null,null,null,null,null,null,null,null,null,null,null,null,null,null,null,null,null,null,null,null,null,null,null,null,null,null,null,null,null,null,null,null,null,null,null,null,null,null,null,null,null,null,null,null,null,null,null,null,null,null,null,null,null,null,null,null,null,null,null,null,null,null,null,null,null,null,null,null,null,null,null,null,null,null,null,null,null,null,null,null,null,null,null,null,null,null,null,null,null,null,null,null,null,null,null,null,null,null,null,null,null,null,null,null,null,null,null,null,null,null,null,null,null,null,null,null,null,null,null,null,null,null,null,null,null,null,null,null,null,null,null,null,null,null,null,null,null,null,null,null,null,null,null,null,null,null,null,null,null,null,null,610200,613000,617700,622300,630200,635200,634800,632600,629400]
[null,null,null,null,null,null,null,null,null,null,null,null,null,null,null,null,null,null,null,null,null,null,null,null,null,null,null,null,null,null,null,null,null,null,null,null,null,null,null,null,null,null,null,null,null,null,null,null,null,null,null,null,null,null,null,null,null,null,null,null,null,null,null,null,null,null,null,null,null,null,null,null,null,null,null,null,null,null,null,null,null,null,null,null,null,null,null,null,null,null,null,null,null,null,null,null,null,null,null,null,null,null,null,null,null,null,null,null,null,null,null,null,null,null,null,null,null,null,null,null,null,null,null,null,null,null,null,null,null,null,null,null,null,null,null,null,null,null,null,null,null,null,null,null,null,null,null,null,null,null,null,null,null,null,null,null,null,null,null,null,null,null,null,null,null,null,null,null,null,null,null,null,null,null,null,null,null,null,null,null,null,null,null,null,null,null,null,null,null,null,null,null,null,null,null,null,null,null,null,null,null,null,null,null,null,null,null,null,null,400,400,400,500,500,500,500,500,500]
[null,null,null,null,null,null,null,null,null,null,null,null,null,null,null,null,null,null,null,null,null,null,null,null,null,null,null,null,null,null,null,null,null,null,null,null,null,null,null,null,null,null,null,null,null,null,null,null,null,null,null,null,null,null,null,null,null,null,null,null,null,null,null,null,null,null,null,null,null,null,null,null,null,null,null,null,null,null,null,null,null,null,null,null,null,null,null,null,null,null,null,null,null,null,null,null,null,null,null,null,null,null,null,null,null,null,null,null,null,null,null,null,null,null,null,null,null,null,null,null,null,null,null,null,null,null,null,null,null,null,null,null,null,null,null,null,null,null,null,null,null,null,null,null,null,null,null,null,null,null,null,null,null,null,null,null,null,null,null,null,null,null,null,null,null,null,null,null,null,null,null,null,null,null,null,null,null,null,null,null,null,null,null,null,null,null,null,null,null,null,null,null,null,null,null,null,null,null,null,null,null,null,null,null,null,null,null,null,null,26100,25800,26000,27300,28000,30500,30900,30800,30200]
[null,null,null,null,null,null,null,null,null,null,null,null,null,null,null,null,null,null,null,null,null,null,null,null,null,null,null,null,null,null,null,null,null,null,null,null,null,null,null,null,null,null,null,null,null,null,null,null,null,null,null,null,null,null,null,null,null,null,null,null,null,null,null,null,null,null,null,null,null,null,null,null,null,null,null,null,null,null,null,null,null,null,null,null,null,null,null,null,null,null,null,null,null,null,null,null,null,null,null,null,null,null,null,null,null,null,null,null,null,null,null,null,null,null,null,null,null,null,null,null,null,null,null,null,null,null,null,null,null,null,null,null,null,null,null,null,null,null,null,null,null,null,null,null,null,null,null,null,null,null,null,null,null,null,null,null,null,null,null,null,null,null,null,null,null,null,null,null,null,null,null,null,null,null,null,null,null,null,null,null,null,null,null,null,null,null,null,null,null,null,null,null,null,null,null,null,null,null,null,null,null,null,null,null,null,null,null,null,null,25700,25400,25600,26800,27500,30000,30400,30300,29700]
[null,null,null,null,null,null,null,null,null,null,null,null,null,null,null,null,null,null,null,null,null,null,null,null,null,null,null,null,null,null,null,null,null,null,null,null,null,null,null,null,null,null,null,null,null,null,null,null,null,null,null,null,null,null,null,null,null,null,null,null,null,null,null,null,null,null,null,null,null,null,null,null,null,null,null,null,null,null,null,null,null,null,null,null,null,null,null,null,null,null,null,null,null,null,null,null,null,null,null,null,null,null,null,null,null,null,null,null,null,null,null,null,null,null,null,null,null,null,null,null,null,null,null,null,null,null,null,null,null,null,null,null,null,null,null,null,null,null,null,null,null,null,null,null,null,null,null,null,null,null,null,null,null,null,null,null,null,null,null,null,null,null,null,null,null,null,null,null,null,null,null,null,null,null,null,null,null,null,null,null,null,null,null,null,null,null,null,null,null,null,null,null,null,null,null,null,null,null,null,null,null,null,null,null,null,null,null,null,null,119200,119500,119700,119500,119800,122300,121900,122100,121300]
[null,null,null,null,null,null,null,null,null,null,null,null,null,null,null,null,null,null,null,null,null,null,null,null,null,null,null,null,null,null,null,null,null,null,null,null,null,null,null,null,null,null,null,null,null,null,null,null,null,null,null,null,null,null,null,null,null,null,null,null,null,null,null,null,null,null,null,null,null,null,null,null,null,null,null,null,null,null,null,null,null,null,null,null,null,null,null,null,null,null,null,null,null,null,null,null,null,null,null,null,null,null,null,null,null,null,null,null,null,null,null,null,null,null,null,null,null,null,null,null,null,null,null,null,null,null,null,null,null,null,null,null,null,null,null,null,null,null,null,null,null,null,null,null,null,null,null,null,null,null,null,null,null,null,null,null,null,null,null,null,null,null,null,null,null,null,null,null,null,null,null,null,null,null,null,null,null,null,null,null,null,null,null,null,null,null,null,null,null,null,null,null,null,null,null,null,null,null,null,null,null,null,null,null,null,null,null,null,null,80800,81200,81400,81200,81400,83500,82800,82800,82500]
[null,null,null,null,null,null,null,null,null,null,null,null,null,null,null,null,null,null,null,null,null,null,null,null,null,null,null,null,null,null,null,null,null,null,null,null,null,null,null,null,null,null,null,null,null,null,null,null,null,null,null,null,null,null,null,null,null,null,null,null,null,null,null,null,null,null,null,null,null,null,null,null,null,null,null,null,null,null,null,null,null,null,null,null,null,null,null,null,null,null,null,null,null,null,null,null,null,null,null,null,null,null,null,null,null,null,null,null,null,null,null,null,null,null,null,null,null,null,null,null,null,null,null,null,null,null,null,null,null,null,null,null,null,null,null,null,null,null,null,null,null,null,null,null,null,null,null,null,null,null,null,null,null,null,null,null,null,null,null,null,null,null,null,null,null,null,null,null,null,null,null,null,null,null,null,null,null,null,null,null,null,null,null,null,null,null,null,null,null,null,null,null,null,null,null,null,null,null,null,null,null,null,null,null,null,null,null,null,null,21900,21800,21800,21900,21800,22100,22200,22000,21800]
[null,null,null,null,null,null,null,null,null,null,null,null,null,null,null,null,null,null,null,null,null,null,null,null,null,null,null,null,null,null,null,null,null,null,null,null,null,null,null,null,null,null,null,null,null,null,null,null,null,null,null,null,null,null,null,null,null,null,null,null,null,null,null,null,null,null,null,null,null,null,null,null,null,null,null,null,null,null,null,null,null,null,null,null,null,null,null,null,null,null,null,null,null,null,null,null,null,null,null,null,null,null,null,null,null,null,null,null,null,null,null,null,null,null,null,null,null,null,null,null,null,null,null,null,null,null,null,null,null,null,null,null,null,null,null,null,null,null,null,null,null,null,null,null,null,null,null,null,null,null,null,null,null,null,null,null,null,null,null,null,null,null,null,null,null,null,null,null,null,null,null,null,null,null,null,null,null,null,null,null,null,null,null,null,null,null,null,null,null,null,null,null,null,null,null,null,null,null,null,null,null,null,null,null,null,null,null,null,null,19700,19700,19700,19700,19600,19700,19700,19700,19500]
[null,null,null,null,null,null,null,null,null,null,null,null,null,null,null,null,null,null,null,null,null,null,null,null,null,null,null,null,null,null,null,null,null,null,null,null,null,null,null,null,null,null,null,null,null,null,null,null,null,null,null,null,null,null,null,null,null,null,null,null,null,null,null,null,null,null,null,null,null,null,null,null,null,null,null,null,null,null,null,null,null,null,null,null,null,null,null,null,null,null,null,null,null,null,null,null,null,null,null,null,null,null,null,null,null,null,null,null,null,null,null,null,null,null,null,null,null,null,null,null,null,null,null,null,null,null,null,null,null,null,null,null,null,null,null,null,null,null,null,null,null,null,null,null,null,null,null,null,null,null,null,null,null,null,null,null,null,null,null,null,null,null,null,null,null,null,null,null,null,null,null,null,null,null,null,null,null,null,null,null,null,null,null,null,null,null,null,null,null,null,null,null,null,null,null,null,null,null,null,null,null,null,null,null,null,null,null,null,null,11400,11300,11300,11500,11400,11500,11600,11500,11400]
[null,null,null,null,null,null,null,null,null,null,null,null,null,null,null,null,null,null,null,null,null,null,null,null,null,null,null,null,null,null,null,null,null,null,null,null,null,null,null,null,null,null,null,null,null,null,null,null,null,null,null,null,null,null,null,null,null,null,null,null,null,null,null,null,null,null,null,null,null,null,null,null,null,null,null,null,null,null,null,null,null,null,null,null,null,null,null,null,null,null,null,null,null,null,null,null,null,null,null,null,null,null,null,null,null,null,null,null,null,null,null,null,null,null,null,null,null,null,null,null,null,null,null,null,null,null,null,null,null,null,null,null,null,null,null,null,null,null,null,null,null,null,null,null,null,null,null,null,null,null,null,null,null,null,null,null,null,null,null,null,null,null,null,null,null,null,null,null,null,null,null,null,null,null,null,null,null,null,null,null,null,null,null,null,null,null,null,null,null,null,null,null,null,null,null,null,null,null,null,null,null,null,null,null,null,null,null,null,null,5000,5000,5100,5000,5000,5000,5000,5000,5000]
[null,null,null,null,null,null,null,null,null,null,null,null,null,null,null,null,null,null,null,null,null,null,null,null,null,null,null,null,null,null,null,null,null,null,null,null,null,null,null,null,null,null,null,null,null,null,null,null,null,null,null,null,null,null,null,null,null,null,null,null,null,null,null,null,null,null,null,null,null,null,null,null,null,null,null,null,null,null,null,null,null,null,null,null,null,null,null,null,null,null,null,null,null,null,null,null,null,null,null,null,null,null,null,null,null,null,null,null,null,null,null,null,null,null,null,null,null,null,null,null,null,null,null,null,null,null,null,null,null,null,null,null,null,null,null,null,null,null,null,null,null,null,null,null,null,null,null,null,null,null,null,null,null,null,null,null,null,null,null,null,null,null,null,null,null,null,null,null,null,null,null,null,null,null,null,null,null,null,null,null,null,null,null,null,null,null,null,null,null,null,null,null,null,null,null,null,null,null,null,null,null,null,null,null,null,null,null,null,null,38400,38300,38300,38300,38400,38800,39100,39300,38800]
[null,null,null,null,null,null,null,null,null,null,null,null,null,null,null,null,null,null,null,null,null,null,null,null,null,null,null,null,null,null,null,null,null,null,null,null,null,null,null,null,null,null,null,null,null,null,null,null,null,null,null,null,null,null,null,null,null,null,null,null,null,null,null,null,null,null,null,null,null,null,null,null,null,null,null,null,null,null,null,null,null,null,null,null,null,null,null,null,null,null,null,null,null,null,null,null,null,null,null,null,null,null,null,null,null,null,null,null,null,null,null,null,null,null,null,null,null,null,null,null,null,null,null,null,null,null,null,null,null,null,null,null,null,null,null,null,null,null,null,null,null,null,null,null,null,null,null,null,null,null,null,null,null,null,null,null,null,null,null,null,null,null,null,null,null,null,null,null,null,null,null,null,null,null,null,null,null,null,null,null,null,null,null,null,null,null,null,null,null,null,null,null,null,null,null,null,null,null,null,null,null,null,null,null,null,null,null,null,null,144600,143200,143300,144400,145600,145500,145100,145800,145300]
[null,null,null,null,null,null,null,null,null,null,null,null,null,null,null,null,null,null,null,null,null,null,null,null,null,null,null,null,null,null,null,null,null,null,null,null,null,null,null,null,null,null,null,null,null,null,null,null,null,null,null,null,null,null,null,null,null,null,null,null,null,null,null,null,null,null,null,null,null,null,null,null,null,null,null,null,null,null,null,null,null,null,null,null,null,null,null,null,null,null,null,null,null,null,null,null,null,null,null,null,null,null,null,null,null,null,null,null,null,null,null,null,null,null,null,null,null,null,null,null,null,null,null,null,null,null,null,null,null,null,null,null,null,null,null,null,null,null,null,null,null,null,null,null,null,null,null,null,null,null,null,null,null,null,null,null,null,null,null,null,null,null,null,null,null,null,null,null,null,null,null,null,null,null,null,null,null,null,null,null,null,null,null,null,null,null,null,null,null,null,null,null,null,null,null,null,null,null,null,null,null,null,null,null,null,null,null,null,null,38900,39000,39500,39800,39800,40100,39800,40200,39900]
[null,null,null,null,null,null,null,null,null,null,null,null,null,null,null,null,null,null,null,null,null,null,null,null,null,null,null,null,null,null,null,null,null,null,null,null,null,null,null,null,null,null,null,null,null,null,null,null,null,null,null,null,null,null,null,null,null,null,null,null,null,null,null,null,null,null,null,null,null,null,null,null,null,null,null,null,null,null,null,null,null,null,null,null,null,null,null,null,null,null,null,null,null,null,null,null,null,null,null,null,null,null,null,null,null,null,null,null,null,null,null,null,null,null,null,null,null,null,null,null,null,null,null,null,null,null,null,null,null,null,null,null,null,null,null,null,null,null,null,null,null,null,null,null,null,null,null,null,null,null,null,null,null,null,null,null,null,null,null,null,null,null,null,null,null,null,null,null,null,null,null,null,null,null,null,null,null,null,null,null,null,null,null,null,null,null,null,null,null,null,null,null,null,null,null,null,null,null,null,null,null,null,null,null,null,null,null,null,null,23700,23800,23800,23900,23900,24100,24100,24100,23900]
[null,null,null,null,null,null,null,null,null,null,null,null,null,null,null,null,null,null,null,null,null,null,null,null,null,null,null,null,null,null,null,null,null,null,null,null,null,null,null,null,null,null,null,null,null,null,null,null,null,null,null,null,null,null,null,null,null,null,null,null,null,null,null,null,null,null,null,null,null,null,null,null,null,null,null,null,null,null,null,null,null,null,null,null,null,null,null,null,null,null,null,null,null,null,null,null,null,null,null,null,null,null,null,null,null,null,null,null,null,null,null,null,null,null,null,null,null,null,null,null,null,null,null,null,null,null,null,null,null,null,null,null,null,null,null,null,null,null,null,null,null,null,null,null,null,null,null,null,null,null,null,null,null,null,null,null,null,null,null,null,null,null,null,null,null,null,null,null,null,null,null,null,null,null,null,null,null,null,null,null,null,null,null,null,null,null,null,null,null,null,null,null,null,null,null,null,null,null,null,null,null,null,null,null,null,null,null,null,null,80200,78700,78300,78900,79900,79500,80100,80200,79100]
[null,null,null,null,null,null,null,null,null,null,null,null,null,null,null,null,null,null,null,null,null,null,null,null,null,null,null,null,null,null,null,null,null,null,null,null,null,null,null,null,null,null,null,null,null,null,null,null,null,null,null,null,null,null,null,null,null,null,null,null,null,null,null,null,null,null,null,null,null,null,null,null,null,null,null,null,null,null,null,null,null,null,null,null,null,null,null,null,null,null,null,null,null,null,null,null,null,null,null,null,null,null,null,null,null,null,null,null,null,null,null,null,null,null,null,null,null,null,null,null,null,null,null,null,null,null,null,null,null,null,null,null,null,null,null,null,null,null,null,null,null,null,null,null,null,null,null,null,null,null,null,null,null,null,null,null,null,null,null,null,null,null,null,null,null,null,null,null,null,null,null,null,null,null,null,null,null,null,null,null,null,null,null,null,null,null,null,null,null,null,null,null,null,null,null,null,null,null,null,null,null,null,null,null,null,null,null,null,null,18800,18200,18100,17900,18000,18200,18300,18500,18200]
[null,null,null,null,null,null,null,null,null,null,null,null,null,null,null,null,null,null,null,null,null,null,null,null,null,null,null,null,null,null,null,null,null,null,null,null,null,null,null,null,null,null,null,null,null,null,null,null,null,null,null,null,null,null,null,null,null,null,null,null,null,null,null,null,null,null,null,null,null,null,null,null,null,null,null,null,null,null,null,null,null,null,null,null,null,null,null,null,null,null,null,null,null,null,null,null,null,null,null,null,null,null,null,null,null,null,null,null,null,null,null,null,null,null,null,null,null,null,null,null,null,null,null,null,null,null,null,null,null,null,null,null,null,null,null,null,null,null,null,null,null,null,null,null,null,null,null,null,null,null,null,null,null,null,null,null,null,null,null,null,null,null,null,null,null,null,null,null,null,null,null,null,null,null,null,null,null,null,null,null,null,null,null,null,null,null,null,null,null,null,null,null,null,null,null,null,null,null,null,null,null,null,null,null,null,null,null,null,null,9800,9300,9200,9000,9100,9200,9200,9300,9000]
[null,null,null,null,null,null,null,null,null,null,null,null,null,null,null,null,null,null,null,null,null,null,null,null,null,null,null,null,null,null,null,null,null,null,null,null,null,null,null,null,null,null,null,null,null,null,null,null,null,null,null,null,null,null,null,null,null,null,null,null,null,null,null,null,null,null,null,null,null,null,null,null,null,null,null,null,null,null,null,null,null,null,null,null,null,null,null,null,null,null,null,null,null,null,null,null,null,null,null,null,null,null,null,null,null,null,null,null,null,null,null,null,null,null,null,null,null,null,null,null,null,null,null,null,null,null,null,null,null,null,null,null,null,null,null,null,null,null,null,null,null,null,null,null,null,null,null,null,null,null,null,null,null,null,null,null,null,null,null,null,null,null,null,null,null,null,null,null,null,null,null,null,null,null,null,null,null,null,null,null,null,null,null,null,null,null,null,null,null,null,null,null,null,null,null,null,null,null,null,null,null,null,null,null,null,null,null,null,null,25500,25500,25500,25700,25900,25900,25200,25400,26300]
[null,null,null,null,null,null,null,null,null,null,null,null,null,null,null,null,null,null,null,null,null,null,null,null,null,null,null,null,null,null,null,null,null,null,null,null,null,null,null,null,null,null,null,null,null,null,null,null,null,null,null,null,null,null,null,null,null,null,null,null,null,null,null,null,null,null,null,null,null,null,null,null,null,null,null,null,null,null,null,null,null,null,null,null,null,null,null,null,null,null,null,null,null,null,null,null,null,null,null,null,null,null,null,null,null,null,null,null,null,null,null,null,null,null,null,null,null,null,null,null,null,null,null,null,null,null,null,null,null,null,null,null,null,null,null,null,null,null,null,null,null,null,null,null,null,null,null,null,null,null,null,null,null,null,null,null,null,null,null,null,null,null,null,null,null,null,null,null,null,null,null,null,null,null,null,null,null,null,null,null,null,null,null,null,null,null,null,null,null,null,null,null,null,null,null,null,null,null,null,null,null,null,null,null,null,null,null,null,null,13800,13800,13700,13700,13700,13800,13800,13700,13600]
[null,null,null,null,null,null,null,null,null,null,null,null,null,null,null,null,null,null,null,null,null,null,null,null,null,null,null,null,null,null,null,null,null,null,null,null,null,null,null,null,null,null,null,null,null,null,null,null,null,null,null,null,null,null,null,null,null,null,null,null,null,null,null,null,null,null,null,null,null,null,null,null,null,null,null,null,null,null,null,null,null,null,null,null,null,null,null,null,null,null,null,null,null,null,null,null,null,null,null,null,null,null,null,null,null,null,null,null,null,null,null,null,null,null,null,null,null,null,null,null,null,null,null,null,null,null,null,null,null,null,null,null,null,null,null,null,null,null,null,null,null,null,null,null,null,null,null,null,null,null,null,null,null,null,null,null,null,null,null,null,null,null,null,null,null,null,null,null,null,null,null,null,null,null,null,null,null,null,null,null,null,null,null,null,null,null,null,null,null,null,null,null,null,null,null,null,null,null,null,null,null,null,null,null,null,null,null,null,null,50300,50200,49800,49900,49600,49700,49400,49500,49500]
[null,null,null,null,null,null,null,null,null,null,null,null,null,null,null,null,null,null,null,null,null,null,null,null,null,null,null,null,null,null,null,null,null,null,null,null,null,null,null,null,null,null,null,null,null,null,null,null,null,null,null,null,null,null,null,null,null,null,null,null,null,null,null,null,null,null,null,null,null,null,null,null,null,null,null,null,null,null,null,null,null,null,null,null,null,null,null,null,null,null,null,null,null,null,null,null,null,null,null,null,null,null,null,null,null,null,null,null,null,null,null,null,null,null,null,null,null,null,null,null,null,null,null,null,null,null,null,null,null,null,null,null,null,null,null,null,null,null,null,null,null,null,null,null,null,null,null,null,null,null,null,null,null,null,null,null,null,null,null,null,null,null,null,null,null,null,null,null,null,null,null,null,null,null,null,null,null,null,null,null,null,null,null,null,null,null,null,null,null,null,null,null,null,null,null,null,null,null,null,null,null,null,null,null,null,null,null,null,null,40500,40500,40300,40400,40000,39800,39400,39600,39200]
[null,null,null,null,null,null,null,null,null,null,null,null,null,null,null,null,null,null,null,null,null,null,null,null,null,null,null,null,null,null,null,null,null,null,null,null,null,null,null,null,null,null,null,null,null,null,null,null,null,null,null,null,null,null,null,null,null,null,null,null,null,null,null,null,null,null,null,null,null,null,null,null,null,null,null,null,null,null,null,null,null,null,null,null,null,null,null,null,null,null,null,null,null,null,null,null,null,null,null,null,null,null,null,null,null,null,null,null,null,null,null,null,null,null,null,null,null,null,null,null,null,null,null,null,null,null,null,null,null,null,null,null,null,null,null,null,null,null,null,null,null,null,null,null,null,null,null,null,null,null,null,null,null,null,null,null,null,null,null,null,null,null,null,null,null,null,null,null,null,null,null,null,null,null,null,null,null,null,null,null,null,null,null,null,null,null,null,null,null,null,null,null,null,null,null,null,null,null,null,null,null,null,null,null,null,null,null,null,null,18700,18700,18700,18600,18500,18600,18600,18600,18400]
[null,null,null,null,null,null,null,null,null,null,null,null,null,null,null,null,null,null,null,null,null,null,null,null,null,null,null,null,null,null,null,null,null,null,null,null,null,null,null,null,null,null,null,null,null,null,null,null,null,null,null,null,null,null,null,null,null,null,null,null,null,null,null,null,null,null,null,null,null,null,null,null,null,null,null,null,null,null,null,null,null,null,null,null,null,null,null,null,null,null,null,null,null,null,null,null,null,null,null,null,null,null,null,null,null,null,null,null,null,null,null,null,null,null,null,null,null,null,null,null,null,null,null,null,null,null,null,null,null,null,null,null,null,null,null,null,null,null,null,null,null,null,null,null,null,null,null,null,null,null,null,null,null,null,null,null,null,null,null,null,null,null,null,null,null,null,null,null,null,null,null,null,null,null,null,null,null,null,null,null,null,null,null,null,null,null,null,null,null,null,null,null,null,null,null,null,null,null,null,null,null,null,null,null,null,null,null,null,null,120900,121900,124200,124800,126800,128200,130200,129500,127500]
[null,null,null,null,null,null,null,null,null,null,null,null,null,null,null,null,null,null,null,null,null,null,null,null,null,null,null,null,null,null,null,null,null,null,null,null,null,null,null,null,null,null,null,null,null,null,null,null,null,null,null,null,null,null,null,null,null,null,null,null,null,null,null,null,null,null,null,null,null,null,null,null,null,null,null,null,null,null,null,null,null,null,null,null,null,null,null,null,null,null,null,null,null,null,null,null,null,null,null,null,null,null,null,null,null,null,null,null,null,null,null,null,null,null,null,null,null,null,null,null,null,null,null,null,null,null,null,null,null,null,null,null,null,null,null,null,null,null,null,null,null,null,null,null,null,null,null,null,null,null,null,null,null,null,null,null,null,null,null,null,null,null,null,null,null,null,null,null,null,null,null,null,null,null,null,null,null,null,null,null,null,null,null,null,null,null,null,null,null,null,null,null,null,null,null,null,null,null,null,null,null,null,null,null,null,null,null,null,null,39900,40800,41500,41400,41400,41600,41600,40400,40100]
[null,null,null,null,null,null,null,null,null,null,null,null,null,null,null,null,null,null,null,null,null,null,null,null,null,null,null,null,null,null,null,null,null,null,null,null,null,null,null,null,null,null,null,null,null,null,null,null,null,null,null,null,null,null,null,null,null,null,null,null,null,null,null,null,null,null,null,null,null,null,null,null,null,null,null,null,null,null,null,null,null,null,null,null,null,null,null,null,null,null,null,null,null,null,null,null,null,null,null,null,null,null,null,null,null,null,null,null,null,null,null,null,null,null,null,null,null,null,null,null,null,null,null,null,null,null,null,null,null,null,null,null,null,null,null,null,null,null,null,null,null,null,null,null,null,null,null,null,null,null,null,null,null,null,null,null,null,null,null,null,null,null,null,null,null,null,null,null,null,null,null,null,null,null,null,null,null,null,null,null,null,null,null,null,null,null,null,null,null,null,null,null,null,null,null,null,null,null,null,null,null,null,null,null,null,null,null,null,null,28200,28400,28300,28300,28200,28300,28400,28400,28100]
[null,null,null,null,null,null,null,null,null,null,null,null,null,null,null,null,null,null,null,null,null,null,null,null,null,null,null,null,null,null,null,null,null,null,null,null,null,null,null,null,null,null,null,null,null,null,null,null,null,null,null,null,null,null,null,null,null,null,null,null,null,null,null,null,null,null,null,null,null,null,null,null,null,null,null,null,null,null,null,null,null,null,null,null,null,null,null,null,null,null,null,null,null,null,null,null,null,null,null,null,null,null,null,null,null,null,null,null,null,null,null,null,null,null,null,null,null,null,null,null,null,null,null,null,null,null,null,null,null,null,null,null,null,null,null,null,null,null,null,null,null,null,null,null,null,null,null,null,null,null,null,null,null,null,null,null,null,null,null,null,null,null,null,null,null,null,null,null,null,null,null,null,null,null,null,null,null,null,null,null,null,null,null,null,null,null,null,null,null,null,null,null,null,null,null,null,null,null,null,null,null,null,null,null,null,null,null,null,null,52800,52700,54400,55100,57200,58300,60200,60700,59300]
[null,null,null,null,null,null,null,null,null,null,null,null,null,null,null,null,null,null,null,null,null,null,null,null,null,null,null,null,null,null,null,null,null,null,null,null,null,null,null,null,null,null,null,null,null,null,null,null,null,null,null,null,null,null,null,null,null,null,null,null,null,null,null,null,null,null,null,null,null,null,null,null,null,null,null,null,null,null,null,null,null,null,null,null,null,null,null,null,null,null,null,null,null,null,null,null,null,null,null,null,null,null,null,null,null,null,null,null,null,null,null,null,null,null,null,null,null,null,null,null,null,null,null,null,null,null,null,null,null,null,null,null,null,null,null,null,null,null,null,null,null,null,null,null,null,null,null,null,null,null,null,null,null,null,null,null,null,null,null,null,null,null,null,null,null,null,null,null,null,null,null,null,null,null,null,null,null,null,null,null,null,null,null,null,null,null,null,null,null,null,null,null,null,null,null,null,null,null,null,null,null,null,null,null,null,null,null,null,null,27400,27500,28000,28300,29000,28900,29800,30000,30300]
[null,null,null,null,null,null,null,null,null,null,null,null,null,null,null,null,null,null,null,null,null,null,null,null,null,null,null,null,null,null,null,null,null,null,null,null,null,null,null,null,null,null,null,null,null,null,null,null,null,null,null,null,null,null,null,null,null,null,null,null,null,null,null,null,null,null,null,null,null,null,null,null,null,null,null,null,null,null,null,null,null,null,null,null,null,null,null,null,null,null,null,null,null,null,null,null,null,null,null,null,null,null,null,null,null,null,null,null,null,null,null,null,null,null,null,null,null,null,null,null,null,null,null,null,null,null,null,null,null,null,null,null,null,null,null,null,null,null,null,null,null,null,null,null,null,null,null,null,null,null,null,null,null,null,null,null,null,null,null,null,null,null,null,null,null,null,null,null,null,null,null,null,null,null,null,null,null,null,null,null,null,null,null,null,null,null,null,null,null,null,null,null,null,null,null,null,null,null,null,null,null,null,null,null,null,null,null,null,null,165300,168000,169100,169400,169600,169200,166600,166100,168700]
[null,null,null,null,null,null,null,null,null,null,null,null,null,null,null,null,null,null,null,null,null,null,null,null,null,null,null,null,null,null,null,null,null,null,null,null,null,null,null,null,null,null,null,null,null,null,null,null,null,null,null,null,null,null,null,null,null,null,null,null,null,null,null,null,null,null,null,null,null,null,null,null,null,null,null,null,null,null,null,null,null,null,null,null,null,null,null,null,null,null,null,null,null,null,null,null,null,null,null,null,null,null,null,null,null,null,null,null,null,null,null,null,null,null,null,null,null,null,null,null,null,null,null,null,null,null,null,null,null,null,null,null,null,null,null,null,null,null,null,null,null,null,null,null,null,null,null,null,null,null,null,null,null,null,null,null,null,null,null,null,null,null,null,null,null,null,null,null,null,null,null,null,null,null,null,null,null,null,null,null,null,null,null,null,null,null,null,null,null,null,null,null,null,null,null,null,null,null,null,null,null,null,null,null,null,null,null,null,null,26700,30500,30700,30600,29300,26700,24700,25100,29500]
[null,null,null,null,null,null,null,null,null,null,null,null,null,null,null,null,null,null,null,null,null,null,null,null,null,null,null,null,null,null,null,null,null,null,null,null,null,null,null,null,null,null,null,null,null,null,null,null,null,null,null,null,null,null,null,null,null,null,null,null,null,null,null,null,null,null,null,null,null,null,null,null,null,null,null,null,null,null,null,null,null,null,null,null,null,null,null,null,null,null,null,null,null,null,null,null,null,null,null,null,null,null,null,null,null,null,null,null,null,null,null,null,null,null,null,null,null,null,null,null,null,null,null,null,null,null,null,null,null,null,null,null,null,null,null,null,null,null,null,null,null,null,null,null,null,null,null,null,null,null,null,null,null,null,null,null,null,null,null,null,null,null,null,null,null,null,null,null,null,null,null,null,null,null,null,null,null,null,null,null,null,null,null,null,null,null,null,null,null,null,null,null,null,null,null,null,null,null,null,null,null,null,null,null,null,null,null,null,null,138600,137500,138400,138800,140300,142500,141900,141000,139200]
[null,null,null,null,null,null,null,null,null,null,null,null,null,null,null,null,null,null,null,null,null,null,null,null,null,null,null,null,null,null,null,null,null,null,null,null,null,null,null,null,null,null,null,null,null,null,null,null,null,null,null,null,null,null,null,null,null,null,null,null,null,null,null,null,null,null,null,null,null,null,null,null,null,null,null,null,null,null,null,null,null,null,null,null,null,null,null,null,null,null,null,null,null,null,null,null,null,null,null,null,null,null,null,null,null,null,null,null,null,null,null,null,null,null,null,null,null,null,null,null,null,null,null,null,null,null,null,null,null,null,null,null,null,null,null,null,null,null,null,null,null,null,null,null,null,null,null,null,null,null,null,null,null,null,null,null,null,null,null,null,null,null,null,null,null,null,null,null,null,null,null,null,null,null,null,null,null,null,null,null,null,null,null,null,null,null,null,null,null,null,null,null,null,null,null,null,null,null,null,null,null,null,null,null,null,null,null,null,null,39400,39000,39000,39000,39400,39800,39800,39400,39800]
[null,null,null,null,null,null,null,null,null,null,null,null,null,null,null,null,null,null,null,null,null,null,null,null,null,null,null,null,null,null,null,null,null,null,null,null,null,null,null,null,null,null,null,null,null,null,null,null,null,null,null,null,null,null,null,null,null,null,null,null,null,null,null,null,null,null,null,null,null,null,null,null,null,null,null,null,null,null,null,null,null,null,null,null,null,null,null,null,null,null,null,null,null,null,null,null,null,null,null,null,null,null,null,null,null,null,null,null,null,null,null,null,null,null,null,null,null,null,null,null,null,null,null,null,null,null,null,null,null,null,null,null,null,null,null,null,null,null,null,null,null,null,null,null,null,null,null,null,null,null,null,null,null,null,null,null,null,null,null,null,null,null,null,null,null,null,null,null,null,null,null,null,null,null,null,null,null,null,null,null,null,null,null,null,null,null,null,null,null,null,null,null,null,null,null,null,null,null,null,null,null,null,null,null,null,null,null,null,null,39500,39700,39600,39800,40000,40200,40300,40400,40300]
[null,null,null,null,null,null,null,null,null,null,null,null,null,null,null,null,null,null,null,null,null,null,null,null,null,null,null,null,null,null,null,null,null,null,null,null,null,null,null,null,null,null,null,null,null,null,null,null,null,null,null,null,null,null,null,null,null,null,null,null,null,null,null,null,null,null,null,null,null,null,null,null,null,null,null,null,null,null,null,null,null,null,null,null,null,null,null,null,null,null,null,null,null,null,null,null,null,null,null,null,null,null,null,null,null,null,null,null,null,null,null,null,null,null,null,null,null,null,null,null,null,null,null,null,null,null,null,null,null,null,null,null,null,null,null,null,null,null,null,null,null,null,null,null,null,null,null,null,null,null,null,null,null,null,null,null,null,null,null,null,null,null,null,null,null,null,null,null,null,null,null,null,null,null,null,null,null,null,null,null,null,null,null,null,null,null,null,null,null,null,null,null,null,null,null,null,null,null,null,null,null,null,null,null,null,null,null,null,null,70100,71100,72600,75100,80000,83900,84600,82800,80800]
[null,null,null,null,null,null,null,null,null,null,null,null,null,null,null,null,null,null,null,null,null,null,null,null,null,null,null,null,null,null,null,null,null,null,null,null,null,null,null,null,null,null,null,null,null,null,null,null,null,null,null,null,null,null,null,null,null,null,null,null,null,null,null,null,null,null,null,null,null,null,null,null,null,null,null,null,null,null,null,null,null,null,null,null,null,null,null,null,null,null,null,null,null,null,null,null,null,null,null,null,null,null,null,null,null,null,null,null,null,null,null,null,null,null,null,null,null,null,null,null,null,null,null,null,null,null,null,null,null,null,null,null,null,null,null,null,null,null,null,null,null,null,null,null,null,null,null,null,null,null,null,null,null,null,null,null,null,null,null,null,null,null,null,null,null,null,null,null,null,null,null,null,null,null,null,null,null,null,null,null,null,null,null,null,null,null,null,null,null,null,null,null,null,null,null,null,null,null,null,null,null,null,null,null,null,null,null,null,null,60100,60700,61600,62500,64300,65800,66300,67100,65300]
[null,null,null,null,null,null,null,null,null,null,null,null,null,null,null,null,null,null,null,null,null,null,null,null,null,null,null,null,null,null,null,null,null,null,null,null,null,null,null,null,null,null,null,null,null,null,null,null,null,null,null,null,null,null,null,null,null,null,null,null,null,null,null,null,null,null,null,null,null,null,null,null,null,null,null,null,null,null,null,null,null,null,null,null,null,null,null,null,null,null,null,null,null,null,null,null,null,null,null,null,null,null,null,null,null,null,null,null,null,null,null,null,null,null,null,null,null,null,null,null,null,null,null,null,null,null,null,null,null,null,null,null,null,null,null,null,null,null,null,null,null,null,null,null,null,null,null,null,null,null,null,null,null,null,null,null,null,null,null,null,null,null,null,null,null,null,null,null,null,null,null,null,null,null,null,null,null,null,null,null,null,null,null,null,null,null,null,null,null,null,null,null,null,null,null,null,null,null,null,null,null,null,null,null,null,null,null,null,null,55200,55900,56400,57400,58900,59900,60400,61300,59600]
[null,null,null,null,null,null,null,null,null,null,null,null,null,null,null,null,null,null,null,null,null,null,null,null,null,null,null,null,null,null,null,null,null,null,null,null,null,null,null,null,null,null,null,null,null,null,null,null,null,null,null,null,null,null,null,null,null,null,null,null,null,null,null,null,null,null,null,null,null,null,null,null,null,null,null,null,null,null,null,null,null,null,null,null,null,null,null,null,null,null,null,null,null,null,null,null,null,null,null,null,null,null,null,null,null,null,null,null,null,null,null,null,null,null,null,null,null,null,null,null,null,null,null,null,null,null,null,null,null,null,null,null,null,null,null,null,null,null,null,null,null,null,null,null,null,null,null,null,null,null,null,null,null,null,null,null,null,null,null,null,null,null,null,null,null,null,null,null,null,null,null,null,null,null,null,null,null,null,null,null,null,null,null,null,null,null,null,null,null,null,null,null,null,null,null,null,null,null,null,null,null,null,null,null,null,null,null,null,null,48200,48200,48800,49500,50800,51900,51800,51900,50300]
[null,null,null,null,null,null,null,null,null,null,null,null,null,null,null,null,null,null,null,null,null,null,null,null,null,null,null,null,null,null,null,null,null,null,null,null,null,null,null,null,null,null,null,null,null,null,null,null,null,null,null,null,null,null,null,null,null,null,null,null,null,null,null,null,null,null,null,null,null,null,null,null,null,null,null,null,null,null,null,null,null,null,null,null,null,null,null,null,null,null,null,null,null,null,null,null,null,null,null,null,null,null,null,null,null,null,null,null,null,null,null,null,null,null,null,null,null,null,null,null,null,null,null,null,null,null,null,null,null,null,null,null,null,null,null,null,null,null,null,null,null,null,null,null,null,null,null,null,null,null,null,null,null,null,null,null,null,null,null,null,null,null,null,null,null,null,null,null,null,null,null,null,null,null,null,null,null,null,null,null,null,null,null,null,null,null,null,null,null,null,null,null,null,null,null,null,null,null,null,null,null,null,null,null,null,null,null,null,null,25800,25800,26000,26500,27100,27900,27800,27900,27100]
[null,null,null,null,null,null,null,null,null,null,null,null,null,null,null,null,null,null,null,null,null,null,null,null,null,null,null,null,null,null,null,null,null,null,null,null,null,null,null,null,null,null,null,null,null,null,null,null,null,null,null,null,null,null,null,null,null,null,null,null,null,null,null,null,null,null,null,null,null,null,null,null,null,null,null,null,null,null,null,null,null,null,null,null,null,null,null,null,null,null,null,null,null,null,null,null,null,null,null,null,null,null,null,null,null,null,null,null,null,null,null,null,null,null,null,null,null,null,null,null,null,null,null,null,null,null,null,null,null,null,null,null,null,null,null,null,null,null,null,null,null,null,null,null,null,null,null,null,null,null,null,null,null,null,null,null,null,null,null,null,null,null,null,null,null,null,null,null,null,null,null,null,null,null,null,null,null,null,null,null,null,null,null,null,null,null,null,null,null,null,null,null,null,null,null,null,null,null,null,null,null,null,null,null,null,null,null,null,null,22400,22400,22800,23000,23700,24000,24000,24000,23200]
[null,null,null,null,null,null,null,null,null,null,null,null,null,null,null,null,null,null,null,null,null,null,null,null,null,null,null,null,null,null,null,null,null,null,null,null,null,null,null,null,null,null,null,null,null,null,null,null,null,null,null,null,null,null,null,null,null,null,null,null,null,null,null,null,null,null,null,null,null,null,null,null,null,null,null,null,null,null,null,null,null,null,null,null,null,null,null,null,null,null,null,null,null,null,null,null,null,null,null,null,null,null,null,null,null,null,null,null,null,null,null,null,null,null,null,null,null,null,null,null,null,null,null,null,null,null,null,null,null,null,null,null,null,null,null,null,null,null,null,null,null,null,null,null,null,null,null,null,null,null,null,null,null,null,null,null,null,null,null,null,null,null,null,null,null,null,null,null,null,null,null,null,null,null,null,null,null,null,null,null,null,null,null,null,null,null,null,null,null,null,null,null,null,null,null,null,null,null,null,null,null,null,null,null,null,null,null,null,null,45200,44800,45000,45000,44900,44900,45100,45200,44000]
[null,null,null,null,null,null,null,null,null,null,null,null,null,null,null,null,null,null,null,null,null,null,null,null,null,null,null,null,null,null,null,null,null,null,null,null,null,null,null,null,null,null,null,null,null,null,null,null,null,null,null,null,null,null,null,null,null,null,null,null,null,null,null,null,null,null,null,null,null,null,null,null,null,null,null,null,null,null,null,null,null,null,null,null,null,null,null,null,null,null,null,null,null,null,null,null,null,null,null,null,null,null,null,null,null,null,null,null,null,null,null,null,null,null,null,null,null,null,null,null,null,null,null,null,null,null,null,null,null,null,null,null,null,null,null,null,null,null,null,null,null,null,null,null,null,null,null,null,null,null,null,null,null,null,null,null,null,null,null,null,null,null,null,null,null,null,null,null,null,null,null,null,null,null,null,null,null,null,null,null,null,null,null,null,null,null,null,null,null,null,null,null,null,null,null,null,null,null,null,null,null,null,null,null,null,null,null,null,null,86700,88300,88700,89300,88500,85600,81200,83100,86600]
[null,null,null,null,null,null,null,null,null,null,null,null,null,null,null,null,null,null,null,null,null,null,null,null,null,null,null,null,null,null,null,null,null,null,null,null,null,null,null,null,null,null,null,null,null,null,null,null,null,null,null,null,null,null,null,null,null,null,null,null,null,null,null,null,null,null,null,null,null,null,null,null,null,null,null,null,null,null,null,null,null,null,null,null,null,null,null,null,null,null,null,null,null,null,null,null,null,null,null,null,null,null,null,null,null,null,null,null,null,null,null,null,null,null,null,null,null,null,null,null,null,null,null,null,null,null,null,null,null,null,null,null,null,null,null,null,null,null,null,null,null,null,null,null,null,null,null,null,null,null,null,null,null,null,null,null,null,null,null,null,null,null,null,null,null,null,null,null,null,null,null,null,null,null,null,null,null,null,null,null,null,null,null,null,null,null,null,null,null,null,null,null,null,null,null,null,null,null,null,null,null,null,null,null,null,null,null,null,null,10500,10500,10500,10500,10500,10500,10500,10500,10500]
[null,null,null,null,null,null,null,null,null,null,null,null,null,null,null,null,null,null,null,null,null,null,null,null,null,null,null,null,null,null,null,null,null,null,null,null,null,null,null,null,null,null,null,null,null,null,null,null,null,null,null,null,null,null,null,null,null,null,null,null,null,null,null,null,null,null,null,null,null,null,null,null,null,null,null,null,null,null,null,null,null,null,null,null,null,null,null,null,null,null,null,null,null,null,null,null,null,null,null,null,null,null,null,null,null,null,null,null,null,null,null,null,null,null,null,null,null,null,null,null,null,null,null,null,null,null,null,null,null,null,null,null,null,null,null,null,null,null,null,null,null,null,null,null,null,null,null,null,null,null,null,null,null,null,null,null,null,null,null,null,null,null,null,null,null,null,null,null,null,null,null,null,null,null,null,null,null,null,null,null,null,null,null,null,null,null,null,null,null,null,null,null,null,null,null,null,null,null,null,null,null,null,null,null,null,null,null,null,null,10100,11100,11200,11300,11100,8400,9200,9700,10800]
[null,null,null,null,null,null,null,null,null,null,null,null,null,null,null,null,null,null,null,null,null,null,null,null,null,null,null,null,null,null,null,null,null,null,null,null,null,null,null,null,null,null,null,null,null,null,null,null,null,null,null,null,null,null,null,null,null,null,null,null,null,null,null,null,null,null,null,null,null,null,null,null,null,null,null,null,null,null,null,null,null,null,null,null,null,null,null,null,null,null,null,null,null,null,null,null,null,null,null,null,null,null,null,null,null,null,null,null,null,null,null,null,null,null,null,null,null,null,null,null,null,null,null,null,null,null,null,null,null,null,null,null,null,null,null,null,null,null,null,null,null,null,null,null,null,null,null,null,null,null,null,null,null,null,null,null,null,null,null,null,null,null,null,null,null,null,null,null,null,null,null,null,null,null,null,null,null,null,null,null,null,null,null,null,null,null,null,null,null,null,null,null,null,null,null,null,null,null,null,null,null,null,null,null,null,null,null,null,null,66100,66700,67000,67500,66900,66700,61500,62900,65300]
[null,null,null,null,null,null,null,null,null,null,null,null,null,null,null,null,null,null,null,null,null,null,null,null,null,null,null,null,null,null,null,null,null,null,null,null,null,null,null,null,null,null,null,null,null,null,null,null,null,null,null,null,null,null,null,null,null,null,null,null,null,null,null,null,null,null,null,null,null,null,null,null,null,null,null,null,null,null,null,null,null,null,null,null,null,null,null,null,null,null,null,null,null,null,null,null,null,null,null,null,null,null,null,null,null,null,null,null,null,null,null,null,null,null,null,null,null,null,null,null,null,null,null,null,null,null,null,null,null,null,null,null,null,null,null,null,null,null,null,null,null,null,null,null,null,null,null,null,null,null,null,null,null,null,null,null,null,null,null,null,null,null,null,null,null,null,null,null,null,null,null,null,null,null,null,null,null,null,null,null,null,null,null,null,null,null,null,null,null,null,null,null,null,null,null,null,null,null,null,null,null,null,null,null,null,null,null,null,null,95700,96400,96100,97000,97600,97200,97000,96500,97200]
[null,null,null,null,null,null,null,null,null,null,null,null,null,null,null,null,null,null,null,null,null,null,null,null,null,null,null,null,null,null,null,null,null,null,null,null,null,null,null,null,null,null,null,null,null,null,null,null,null,null,null,null,null,null,null,null,null,null,null,null,null,null,null,null,null,null,null,null,null,null,null,null,null,null,null,null,null,null,null,null,null,null,null,null,null,null,null,null,null,null,null,null,null,null,null,null,null,null,null,null,null,null,null,null,null,null,null,null,null,null,null,null,null,null,null,null,null,null,null,null,null,null,null,null,null,null,null,null,null,null,null,null,null,null,null,null,null,null,null,null,null,null,null,null,null,null,null,null,null,null,null,null,null,null,null,null,null,null,null,null,null,null,null,null,null,null,null,null,null,null,null,null,null,null,null,null,null,null,null,null,null,null,null,null,null,null,null,null,null,null,null,null,null,null,null,null,null,null,null,null,null,null,null,null,null,null,null,null,null,83700,83800,83600,84200,85100,86100,86100,85800,84800]
[null,null,null,null,null,null,null,null,null,null,null,null,null,null,null,null,null,null,null,null,null,null,null,null,null,null,null,null,null,null,null,null,null,null,null,null,null,null,null,null,null,null,null,null,null,null,null,null,null,null,null,null,null,null,null,null,null,null,null,null,null,null,null,null,null,null,null,null,null,null,null,null,null,null,null,null,null,null,null,null,null,null,null,null,null,null,null,null,null,null,null,null,null,null,null,null,null,null,null,null,null,null,null,null,null,null,null,null,null,null,null,null,null,null,null,null,null,null,null,null,null,null,null,null,null,null,null,null,null,null,null,null,null,null,null,null,null,null,null,null,null,null,null,null,null,null,null,null,null,null,null,null,null,null,null,null,null,null,null,null,null,null,null,null,null,null,null,null,null,null,null,null,null,null,null,null,null,null,null,null,null,null,null,null,null,null,null,null,null,null,null,null,null,null,null,null,null,null,null,null,null,null,null,null,null,null,null,null,null,26800,26700,26600,26900,27100,27600,27800,27600,27200]
[null,null,null,null,null,null,null,null,null,null,null,null,null,null,null,null,null,null,null,null,null,null,null,null,null,null,null,null,null,null,null,null,null,null,null,null,null,null,null,null,null,null,null,null,null,null,null,null,null,null,null,null,null,null,null,null,null,null,null,null,null,null,null,null,null,null,null,null,null,null,null,null,null,null,null,null,null,null,null,null,null,null,null,null,null,null,null,null,null,null,null,null,null,null,null,null,null,null,null,null,null,null,null,null,null,null,null,null,null,null,null,null,null,null,null,null,null,null,null,null,null,null,null,null,null,null,null,null,null,null,null,null,null,null,null,null,null,null,null,null,null,null,null,null,null,null,null,null,null,null,null,null,null,null,null,null,null,null,null,null,null,null,null,null,null,null,null,null,null,null,null,null,null,null,null,null,null,null,null,null,null,null,null,null,null,null,null,null,null,null,null,null,null,null,null,null,null,null,null,null,null,null,null,null,null,null,null,null,null,68900,69700,69500,70100,70500,69600,69200,68900,70000]
[null,null,null,null,null,null,null,null,null,null,null,null,null,null,null,null,null,null,null,null,null,null,null,null,null,null,null,null,null,null,null,null,null,null,null,null,null,null,null,null,null,null,null,null,null,null,null,null,null,null,null,null,null,null,null,null,null,null,null,null,null,null,null,null,null,null,null,null,null,null,null,null,null,null,null,null,null,null,null,null,null,null,null,null,null,null,null,null,null,null,null,null,null,null,null,null,null,null,null,null,null,null,null,null,null,null,null,null,null,null,null,null,null,null,null,null,null,null,null,null,null,null,null,null,null,null,null,null,null,null,null,null,null,null,null,null,null,null,null,null,null,null,null,null,null,null,null,null,null,null,null,null,null,null,null,null,null,null,null,null,null,null,null,null,null,null,null,null,null,null,null,null,null,null,null,null,null,null,null,null,null,null,null,null,null,null,null,null,null,null,null,null,null,null,null,null,null,null,null,null,null,null,null,null,null,null,null,null,null,56900,57100,57000,57300,58000,58500,58300,58200,57600]
[null,null,null,null,null,null,null,null,null,null,null,null,null,null,null,null,null,null,null,null,null,null,null,null,null,null,null,null,null,null,null,null,null,null,null,null,null,null,null,null,null,null,null,null,null,null,null,null,null,null,null,null,null,null,null,null,null,null,null,null,null,null,null,null,null,null,null,null,null,null,null,null,null,null,null,null,null,null,null,null,null,null,null,null,null,null,null,null,null,null,null,null,null,null,null,null,null,null,null,null,null,null,null,null,null,null,null,null,null,null,null,null,null,null,null,null,null,null,null,null,null,null,null,null,null,null,null,null,null,null,null,null,null,null,null,null,null,null,null,null,null,null,null,null,null,null,null,null,null,null,null,null,null,null,null,null,null,null,null,null,null,null,null,null,null,null,null,null,null,null,null,null,null,null,null,null,null,null,null,null,null,null,null,null,null,null,null,null,null,null,null,null,null,null,null,null,null,null,null,null,null,null,null,null,null,null,null,null,null,4500,4500,4500,4600,4800,5100,5200,5200,5100]
[null,null,null,null,null,null,null,null,null,null,null,null,null,null,null,null,null,null,null,null,null,null,null,null,null,null,null,null,null,null,null,null,null,null,null,null,null,null,null,null,null,null,null,null,null,null,null,null,null,null,null,null,null,null,null,null,null,null,null,null,null,null,null,null,null,null,null,null,null,null,null,null,null,null,null,null,null,null,null,null,null,null,null,null,null,null,null,null,null,null,null,null,null,null,null,null,null,null,null,null,null,null,null,null,null,null,null,null,null,null,null,null,null,null,null,null,null,null,null,null,null,null,null,null,null,null,null,null,null,null,null,null,null,null,null,null,null,null,null,null,null,null,null,null,null,null,null,null,null,null,null,null,null,null,null,null,null,null,null,null,null,null,null,null,null,null,null,null,null,null,null,null,null,null,null,null,null,null,null,null,null,null,null,null,null,null,null,null,null,null,null,null,null,null,null,null,null,null,null,null,null,null,null,null,null,null,null,null,null,22300,22200,22100,22300,22300,22500,22600,22400,22100]
[null,null,null,null,null,null,null,null,null,null,null,null,null,null,null,null,null,null,null,null,null,null,null,null,null,null,null,null,null,null,null,null,null,null,null,null,null,null,null,null,null,null,null,null,null,null,null,null,null,null,null,null,null,null,null,null,null,null,null,null,null,null,null,null,null,null,null,null,null,null,null,null,null,null,null,null,null,null,null,null,null,null,null,null,null,null,null,null,null,null,null,null,null,null,null,null,null,null,null,null,null,null,null,null,null,null,null,null,null,null,null,null,null,null,null,null,null,null,null,null,null,null,null,null,null,null,null,null,null,null,null,null,null,null,null,null,null,null,null,null,null,null,null,null,null,null,null,null,null,null,null,null,null,null,null,null,null,null,null,null,null,null,null,null,null,null,null,null,null,null,null,null,null,null,null,null,null,null,null,null,null,null,null,null,null,null,null,null,null,null,null,null,null,null,null,null,null,null,null,null,null,null,null,null,null,null,null,null,null,11400,11300,11300,11400,11400,11500,11500,11400,11300]
[null,null,null,null,null,null,null,null,null,null,null,null,null,null,null,null,null,null,null,null,null,null,null,null,null,null,null,null,null,null,null,null,null,null,null,null,null,null,null,null,null,null,null,null,null,null,null,null,null,null,null,null,null,null,null,null,null,null,null,null,null,null,null,null,null,null,null,null,null,null,null,null,null,null,null,null,null,null,null,null,null,null,null,null,null,null,null,null,null,null,null,null,null,null,null,null,null,null,null,null,null,null,null,null,null,null,null,null,null,null,null,null,null,null,null,null,null,null,null,null,null,null,null,null,null,null,null,null,null,null,null,null,null,null,null,null,null,null,null,null,null,null,null,null,null,null,null,null,null,null,null,null,null,null,null,null,null,null,null,null,null,null,null,null,null,null,null,null,null,null,null,null,null,null,null,null,null,null,null,null,null,null,null,null,null,null,null,null,null,null,null,null,null,null,null,null,null,null,null,null,null,null,null,null,null,null,null,null,null,10900,10900,10800,10900,10900,11000,11100,11000,10800]
[null,null,null,null,null,null,null,null,null,null,null,null,null,null,null,null,null,null,null,null,null,null,null,null,null,null,null,null,null,null,null,null,null,null,null,null,null,null,null,null,null,null,null,null,null,null,null,null,null,null,null,null,null,null,null,null,null,null,null,null,null,null,null,null,null,null,null,null,null,null,null,null,null,null,null,null,null,null,null,null,null,null,null,null,null,null,null,null,null,null,null,null,null,null,null,null,null,null,null,null,null,null,null,null,null,null,null,null,null,null,null,null,null,null,null,null,null,null,null,null,null,null,null,null,null,null,null,null,null,null,null,null,null,null,null,null,null,null,null,null,null,null,null,null,null,null,null,null,null,null,null,null,null,null,null,null,null,null,null,null,null,null,null,null,null,null,null,null,null,null,null,null,null,null,null,null,null,null,null,null,null,null,null,null,null,null,null,null,null,null,null,null,null,null,null,null,null,null,null,null,null,null,null,null,null,null,null,null,null,15600,15600,15400,15400,15700,15700,15600,15500,15400]
[null,null,null,null,null,null,null,null,null,null,null,null,null,null,null,null,null,null,null,null,null,null,null,null,null,null,null,null,null,null,null,null,null,null,null,null,null,null,null,null,null,null,null,null,null,null,null,null,null,null,null,null,null,null,null,null,null,null,null,null,null,null,null,null,null,null,null,null,null,null,null,null,null,null,null,null,null,null,null,null,null,null,null,null,null,null,null,null,null,null,null,null,null,null,null,null,null,null,null,null,null,null,null,null,null,null,null,null,null,null,null,null,null,null,null,null,null,null,null,null,null,null,null,null,null,null,null,null,null,null,null,null,null,null,null,null,null,null,null,null,null,null,null,null,null,null,null,null,null,null,null,null,null,null,null,null,null,null,null,null,null,null,null,null,null,null,null,null,null,null,null,null,null,null,null,null,null,null,null,null,null,null,null,null,null,null,null,null,null,null,null,null,null,null,null,null,null,null,null,null,null,null,null,null,null,null,null,null,null,2900,3000,3000,3000,3000,3000,3000,3000,2900]
[null,null,null,null,null,null,null,null,null,null,null,null,null,null,null,null,null,null,null,null,null,null,null,null,null,null,null,null,null,null,null,null,null,null,null,null,null,null,null,null,null,null,null,null,null,null,null,null,null,null,null,null,null,null,null,null,null,null,null,null,null,null,null,null,null,null,null,null,null,null,null,null,null,null,null,null,null,null,null,null,null,null,null,null,null,null,null,null,null,null,null,null,null,null,null,null,null,null,null,null,null,null,null,null,null,null,null,null,null,null,null,null,null,null,null,null,null,null,null,null,null,null,null,null,null,null,null,null,null,null,null,null,null,null,null,null,null,null,null,null,null,null,null,null,null,null,null,null,null,null,null,null,null,null,null,null,null,null,null,null,null,null,null,null,null,null,null,null,null,null,null,null,null,null,null,null,null,null,null,null,null,null,null,null,null,null,null,null,null,null,null,null,null,null,null,null,null,null,null,null,null,null,null,null,null,null,null,null,null,9200,9100,9000,9000,9200,9200,9200,9100,9000]
[null,null,null,null,null,null,null,null,null,null,null,null,null,null,null,null,null,null,null,null,null,null,null,null,null,null,null,null,null,null,null,null,null,null,null,null,null,null,null,null,null,null,null,null,null,null,null,null,null,null,null,null,null,null,null,null,null,null,null,null,null,null,null,null,null,null,null,null,null,null,null,null,null,null,null,null,null,null,null,null,null,null,null,null,null,null,null,null,null,null,null,null,null,null,null,null,null,null,null,null,null,null,null,null,null,null,null,null,null,null,null,null,null,null,null,null,null,null,null,null,null,null,null,null,null,null,null,null,null,null,null,null,null,null,null,null,null,null,null,null,null,null,null,null,null,null,null,null,null,null,null,null,null,null,null,null,null,null,null,null,null,null,null,null,null,null,null,null,null,null,null,null,null,null,null,null,null,null,null,null,null,null,null,null,null,null,null,null,null,null,null,null,null,null,null,null,null,null,null,null,null,null,null,null,null,null,null,null,null,3500,3500,3400,3400,3500,3500,3400,3400,3500]
[null,null,null,null,null,null,null,null,null,null,null,null,null,null,null,null,null,null,null,null,null,null,null,null,null,null,null,null,null,null,null,null,null,null,null,null,null,null,null,null,null,null,null,null,null,null,null,null,null,null,null,null,null,null,null,null,null,null,null,null,null,null,null,null,null,null,null,null,null,null,null,null,null,null,null,null,null,null,null,null,null,null,null,null,null,null,null,null,null,null,null,null,null,null,null,null,null,null,null,null,null,null,null,null,null,null,null,null,null,null,null,null,null,null,null,null,null,null,null,null,null,null,null,null,null,null,null,null,null,null,null,null,null,null,null,null,null,null,null,null,null,null,null,null,null,null,null,null,null,null,null,null,null,null,null,null,null,null,null,null,null,null,null,null,null,null,null,null,null,null,null,null,null,null,null,null,null,null,null,null,null,null,null,null,null,null,null,null,null,null,null,null,null,null,null,null,null,null,null,null,null,null,null,null,null,null,null,null,null,1600,1600,1600,1600,1600,1600,1600,1600,1600]
[null,null,null,null,null,null,null,null,null,null,null,null,null,null,null,null,null,null,null,null,null,null,null,null,null,null,null,null,null,null,null,null,null,null,null,null,null,null,null,null,null,null,null,null,null,null,null,null,null,null,null,null,null,null,null,null,null,null,null,null,null,null,null,null,null,null,null,null,null,null,null,null,null,null,null,null,null,null,null,null,null,null,null,null,null,null,null,null,null,null,null,null,null,null,null,null,null,null,null,null,null,null,null,null,null,null,null,null,null,null,null,null,null,null,null,null,null,null,null,null,null,null,null,null,null,null,null,null,null,null,null,null,null,null,null,null,null,null,null,null,null,null,null,null,null,null,null,null,null,null,null,null,null,null,null,null,null,null,null,null,null,null,null,null,null,null,null,null,null,null,null,null,null,null,null,null,null,null,null,null,null,null,null,null,null,null,null,null,null,null,null,null,null,null,null,null,null,null,null,null,null,null,null,null,null,null,null,null,null,4100,4100,4100,4100,4100,4200,4200,4200,4200]
[null,null,null,null,null,null,null,null,null,null,null,null,null,null,null,null,null,null,null,null,null,null,null,null,null,null,null,null,null,null,null,null,null,null,null,null,null,null,null,null,null,null,null,null,null,null,null,null,null,null,null,null,null,null,null,null,null,null,null,null,null,null,null,null,null,null,null,null,null,null,null,null,null,null,null,null,null,null,null,null,null,null,null,null,null,null,null,null,null,null,null,null,null,null,null,null,null,null,null,null,null,null,null,null,null,null,null,null,null,null,null,null,null,null,null,null,null,null,null,null,null,null,null,null,null,null,null,null,null,null,null,null,null,null,null,null,null,null,null,null,null,null,null,null,null,null,null,null,null,null,null,null,null,null,null,null,null,null,null,null,null,null,null,null,null,null,null,null,null,null,null,null,null,null,null,null,null,null,null,null,null,null,null,null,null,null,null,null,null,null,null,null,null,null,null,null,null,null,null,null,null,null,null,null,null,null,null,null,null,12800,12900,12800,12900,12900,13000,13000,12900,12800]
[null,null,null,null,null,null,null,null,null,null,null,null,null,null,null,null,null,null,null,null,null,null,null,null,null,null,null,null,null,null,null,null,null,null,null,null,null,null,null,null,null,null,null,null,null,null,null,null,null,null,null,null,null,null,null,null,null,null,null,null,null,null,null,null,null,null,null,null,null,null,null,null,null,null,null,null,null,null,null,null,null,null,null,null,null,null,null,null,null,null,null,null,null,null,null,null,null,null,null,null,null,null,null,null,null,null,null,null,null,null,null,null,null,null,null,null,null,null,null,null,null,null,null,null,null,null,null,null,null,null,null,null,null,null,null,null,null,null,null,null,null,null,null,null,null,null,null,null,null,null,null,null,null,null,null,null,null,null,null,null,null,null,null,null,null,null,null,null,null,null,null,null,null,null,null,null,null,null,null,null,null,null,null,null,null,null,null,null,null,null,null,null,null,null,null,null,null,null,null,null,null,null,null,null,null,null,null,null,null,11000,11000,11000,11000,11000,11000,11000,11000,11000]
[null,null,null,null,null,null,null,null,null,null,null,null,null,null,null,null,null,null,null,null,null,null,null,null,null,null,null,null,null,null,null,null,null,null,null,null,null,null,null,null,null,null,null,null,null,null,null,null,null,null,null,null,null,null,null,null,null,null,null,null,null,null,null,null,null,null,null,null,null,null,null,null,null,null,null,null,null,null,null,null,null,null,null,null,null,null,null,null,null,null,null,null,null,null,null,null,null,null,null,null,null,null,null,null,null,null,null,null,null,null,null,null,null,null,null,null,null,null,null,null,null,null,null,null,null,null,null,null,null,null,null,null,null,null,null,null,null,null,null,null,null,null,null,null,null,null,null,null,null,null,null,null,null,null,null,null,null,null,null,null,null,null,null,null,null,null,null,null,null,null,null,null,null,null,null,null,null,null,null,null,null,null,null,null,null,null,null,null,null,null,null,null,null,null,null,null,null,null,null,null,null,null,null,null,null,null,null,null,null,10500,10500,10500,10500,10500,10600,10500,10500,10500]
[null,null,null,null,null,null,null,null,null,null,null,null,null,null,null,null,null,null,null,null,null,null,null,null,null,null,null,null,null,null,null,null,null,null,null,null,null,null,null,null,null,null,null,null,null,null,null,null,null,null,null,null,null,null,null,null,null,null,null,null,null,null,null,null,null,null,null,null,null,null,null,null,null,null,null,null,null,null,null,null,null,null,null,null,null,null,null,null,null,null,null,null,null,null,null,null,null,null,null,null,null,null,null,null,null,null,null,null,null,null,null,null,null,null,null,null,null,null,null,null,null,null,null,null,null,null,null,null,null,null,null,null,null,null,null,null,null,null,null,null,null,null,null,null,null,null,null,null,null,null,null,null,null,null,null,null,null,null,null,null,null,null,null,null,null,null,null,null,null,null,null,null,null,null,null,null,null,null,null,null,null,null,null,null,null,null,null,null,null,null,null,null,null,null,null,null,null,null,null,null,null,null,null,null,null,null,null,null,null,6500,6600,6700,6900,7300,7500,7500,7600,7200]
[null,null,null,null,null,null,null,null,null,null,null,null,null,null,null,null,null,null,null,null,null,null,null,null,null,null,null,null,null,null,null,null,null,null,null,null,null,null,null,null,null,null,null,null,null,null,null,null,null,null,null,null,null,null,null,null,null,null,null,null,null,null,null,null,null,null,null,null,null,null,null,null,null,null,null,null,null,null,null,null,null,null,null,null,null,null,null,null,null,null,null,null,null,null,null,null,null,null,null,null,null,null,null,null,null,null,null,null,null,null,null,null,null,null,null,null,null,null,null,null,null,null,null,null,null,null,null,null,null,null,null,null,null,null,null,null,null,null,null,null,null,null,null,null,null,null,null,null,null,null,null,null,null,null,null,null,null,null,null,null,null,null,null,null,null,null,null,null,null,null,null,null,null,null,null,null,null,null,null,null,null,null,null,null,null,null,null,null,null,null,null,null,null,null,null,null,null,null,null,null,null,null,null,null,null,null,null,null,null,5300,5300,5400,5400,5400,5500,5400,5400,5400]
[null,null,null,null,null,null,null,null,null,null,null,null,null,null,null,null,null,null,null,null,null,null,null,null,null,null,null,null,null,null,null,null,null,null,null,null,null,null,null,null,null,null,null,null,null,null,null,null,null,null,null,null,null,null,null,null,null,null,null,null,null,null,null,null,null,null,null,null,null,null,null,null,null,null,null,null,null,null,null,null,null,null,null,null,null,null,null,null,null,null,null,null,null,null,null,null,null,null,null,null,null,null,null,null,null,null,null,null,null,null,null,null,null,null,null,null,null,null,null,null,null,null,null,null,null,null,null,null,null,null,null,null,null,null,null,null,null,null,null,null,null,null,null,null,null,null,null,null,null,null,null,null,null,null,null,null,null,null,null,null,null,null,null,null,null,null,null,null,null,null,null,null,null,null,null,null,null,null,null,null,null,null,null,null,null,null,null,null,null,null,null,null,null,null,null,null,null,null,null,null,null,null,null,null,null,null,null,null,null,12000,12600,12500,12800,12500,11100,10900,10700,12400]
[null,null,null,null,null,null,null,null,null,null,null,null,null,null,null,null,null,null,null,null,null,null,null,null,null,null,null,null,null,null,null,null,null,null,null,null,null,null,null,null,null,null,null,null,null,null,null,null,null,null,null,null,null,null,null,null,null,null,null,null,null,null,null,null,null,null,null,null,null,null,null,null,null,null,null,null,null,null,null,null,null,null,null,null,null,null,null,null,null,null,null,null,null,null,null,null,null,null,null,null,null,null,null,null,null,null,null,null,null,null,null,null,null,null,null,null,null,null,null,null,null,null,null,null,null,null,null,null,null,null,null,null,null,null,null,null,null,null,null,null,null,null,null,null,null,null,null,null,null,null,null,null,null,null,null,null,null,null,null,null,null,null,null,null,null,null,null,null,null,null,null,null,null,null,null,null,null,null,null,null,null,null,null,null,null,null,null,null,null,null,null,null,null,null,null,null,null,null,null,null,null,null,null,null,null,null,null,null,null,400,400,400,400,400,400,400,400,400]
[null,null,null,null,null,null,null,null,null,null,null,null,null,null,null,null,null,null,null,null,null,null,null,null,null,null,null,null,null,null,null,null,null,null,null,null,null,null,null,null,null,null,null,null,null,null,null,null,null,null,null,null,null,null,null,null,null,null,null,null,null,null,null,null,null,null,null,null,null,null,null,null,null,null,null,null,null,null,null,null,null,null,null,null,null,null,null,null,null,null,null,null,null,null,null,null,null,null,null,null,null,null,null,null,null,null,null,null,null,null,null,null,null,null,null,null,null,null,null,null,null,null,null,null,null,null,null,null,null,null,null,null,null,null,null,null,null,null,null,null,null,null,null,null,null,null,null,null,null,null,null,null,null,null,null,null,null,null,null,null,null,null,null,null,null,null,null,null,null,null,null,null,null,null,null,null,null,null,null,null,null,null,null,null,null,null,null,null,null,null,null,null,null,null,null,null,null,null,null,null,null,null,null,null,null,null,null,null,null,4600,5100,5000,5100,5000,3400,3700,3700,4800]
[null,null,null,null,null,null,null,null,null,null,null,null,null,null,null,null,null,null,null,null,null,null,null,null,null,null,null,null,null,null,null,null,null,null,null,null,null,null,null,null,null,null,null,null,null,null,null,null,null,null,null,null,null,null,null,null,null,null,null,null,null,null,null,null,null,null,null,null,null,null,null,null,null,null,null,null,null,null,null,null,null,null,null,null,null,null,null,null,null,null,null,null,null,null,null,null,null,null,null,null,null,null,null,null,null,null,null,null,null,null,null,null,null,null,null,null,null,null,null,null,null,null,null,null,null,null,null,null,null,null,null,null,null,null,null,null,null,null,null,null,null,null,null,null,null,null,null,null,null,null,null,null,null,null,null,null,null,null,null,null,null,null,null,null,null,null,null,null,null,null,null,null,null,null,null,null,null,null,null,null,null,null,null,null,null,null,null,null,null,null,null,null,null,null,null,null,null,null,null,null,null,null,null,null,null,null,null,null,null,7000,7100,7100,7300,7100,7300,6800,6600,7200]
[null,null,null,null,null,null,null,null,null,null,null,null,null,null,null,null,null,null,null,null,null,null,null,null,null,null,null,null,null,null,null,null,null,null,null,null,null,null,null,null,null,null,null,null,null,null,null,null,null,null,null,null,null,null,null,null,null,null,null,null,null,null,null,null,null,null,null,null,null,null,null,null,null,null,null,null,null,null,null,null,null,null,null,null,null,null,null,null,null,null,null,null,null,null,null,null,null,null,null,null,null,null,null,null,null,null,null,null,null,null,null,null,null,null,null,null,null,null,null,null,null,null,null,null,null,null,null,null,null,null,null,null,null,null,null,null,null,null,null,null,null,null,null,null,null,null,null,null,null,null,null,null,null,null,null,null,null,null,null,null,null,null,null,null,null,null,null,null,null,null,null,null,null,null,null,null,null,null,null,null,null,null,null,null,null,null,null,null,null,null,null,null,null,null,null,null,null,null,null,null,null,null,null,null,null,null,null,null,null,76000,76000,76100,76800,77600,79000,78800,78900,78100]
[null,null,null,null,null,null,null,null,null,null,null,null,null,null,null,null,null,null,null,null,null,null,null,null,null,null,null,null,null,null,null,null,null,null,null,null,null,null,null,null,null,null,null,null,null,null,null,null,null,null,null,null,null,null,null,null,null,null,null,null,null,null,null,null,null,null,null,null,null,null,null,null,null,null,null,null,null,null,null,null,null,null,null,null,null,null,null,null,null,null,null,null,null,null,null,null,null,null,null,null,null,null,null,null,null,null,null,null,null,null,null,null,null,null,null,null,null,null,null,null,null,null,null,null,null,null,null,null,null,null,null,null,null,null,null,null,null,null,null,null,null,null,null,null,null,null,null,null,null,null,null,null,null,null,null,null,null,null,null,null,null,null,null,null,null,null,null,null,null,null,null,null,null,null,null,null,null,null,null,null,null,null,null,null,null,null,null,null,null,null,null,null,null,null,null,null,null,null,null,null,null,null,null,null,null,null,null,null,null,66700,66600,66700,67400,68200,69300,69300,69500,68800]
[null,null,null,null,null,null,null,null,null,null,null,null,null,null,null,null,null,null,null,null,null,null,null,null,null,null,null,null,null,null,null,null,null,null,null,null,null,null,null,null,null,null,null,null,null,null,null,null,null,null,null,null,null,null,null,null,null,null,null,null,null,null,null,null,null,null,null,null,null,null,null,null,null,null,null,null,null,null,null,null,null,null,null,null,null,null,null,null,null,null,null,null,null,null,null,null,null,null,null,null,null,null,null,null,null,null,null,null,null,null,null,null,null,null,null,null,null,null,null,null,null,null,null,null,null,null,null,null,null,null,null,null,null,null,null,null,null,null,null,null,null,null,null,null,null,null,null,null,null,null,null,null,null,null,null,null,null,null,null,null,null,null,null,null,null,null,null,null,null,null,null,null,null,null,null,null,null,null,null,null,null,null,null,null,null,null,null,null,null,null,null,null,null,null,null,null,null,null,null,null,null,null,null,null,null,null,null,null,null,20200,20300,20400,20600,20900,21300,21400,21400,21200]
[null,null,null,null,null,null,null,null,null,null,null,null,null,null,null,null,null,null,null,null,null,null,null,null,null,null,null,null,null,null,null,null,null,null,null,null,null,null,null,null,null,null,null,null,null,null,null,null,null,null,null,null,null,null,null,null,null,null,null,null,null,null,null,null,null,null,null,null,null,null,null,null,null,null,null,null,null,null,null,null,null,null,null,null,null,null,null,null,null,null,null,null,null,null,null,null,null,null,null,null,null,null,null,null,null,null,null,null,null,null,null,null,null,null,null,null,null,null,null,null,null,null,null,null,null,null,null,null,null,null,null,null,null,null,null,null,null,null,null,null,null,null,null,null,null,null,null,null,null,null,null,null,null,null,null,null,null,null,null,null,null,null,null,null,null,null,null,null,null,null,null,null,null,null,null,null,null,null,null,null,null,null,null,null,null,null,null,null,null,null,null,null,null,null,null,null,null,null,null,null,null,null,null,null,null,null,null,null,null,55800,55700,55700,56200,56700,57700,57400,57500,56900]
[null,null,null,null,null,null,null,null,null,null,null,null,null,null,null,null,null,null,null,null,null,null,null,null,null,null,null,null,null,null,null,null,null,null,null,null,null,null,null,null,null,null,null,null,null,null,null,null,null,null,null,null,null,null,null,null,null,null,null,null,null,null,null,null,null,null,null,null,null,null,null,null,null,null,null,null,null,null,null,null,null,null,null,null,null,null,null,null,null,null,null,null,null,null,null,null,null,null,null,null,null,null,null,null,null,null,null,null,null,null,null,null,null,null,null,null,null,null,null,null,null,null,null,null,null,null,null,null,null,null,null,null,null,null,null,null,null,null,null,null,null,null,null,null,null,null,null,null,null,null,null,null,null,null,null,null,null,null,null,null,null,null,null,null,null,null,null,null,null,null,null,null,null,null,null,null,null,null,null,null,null,null,null,null,null,null,null,null,null,null,null,null,null,null,null,null,null,null,null,null,null,null,null,null,null,null,null,null,null,46500,46300,46300,46800,47300,48000,47900,48100,47600]
[null,null,null,null,null,null,null,null,null,null,null,null,null,null,null,null,null,null,null,null,null,null,null,null,null,null,null,null,null,null,null,null,null,null,null,null,null,null,null,null,null,null,null,null,null,null,null,null,null,null,null,null,null,null,null,null,null,null,null,null,null,null,null,null,null,null,null,null,null,null,null,null,null,null,null,null,null,null,null,null,null,null,null,null,null,null,null,null,null,null,null,null,null,null,null,null,null,null,null,null,null,null,null,null,null,null,null,null,null,null,null,null,null,null,null,null,null,null,null,null,null,null,null,null,null,null,null,null,null,null,null,null,null,null,null,null,null,null,null,null,null,null,null,null,null,null,null,null,null,null,null,null,null,null,null,null,null,null,null,null,null,null,null,null,null,null,null,null,null,null,null,null,null,null,null,null,null,null,null,null,null,null,null,null,null,null,null,null,null,null,null,null,null,null,null,null,null,null,null,null,null,null,null,null,null,null,null,null,null,2300,2300,2300,2600,2800,3000,3000,3100,3000]
[null,null,null,null,null,null,null,null,null,null,null,null,null,null,null,null,null,null,null,null,null,null,null,null,null,null,null,null,null,null,null,null,null,null,null,null,null,null,null,null,null,null,null,null,null,null,null,null,null,null,null,null,null,null,null,null,null,null,null,null,null,null,null,null,null,null,null,null,null,null,null,null,null,null,null,null,null,null,null,null,null,null,null,null,null,null,null,null,null,null,null,null,null,null,null,null,null,null,null,null,null,null,null,null,null,null,null,null,null,null,null,null,null,null,null,null,null,null,null,null,null,null,null,null,null,null,null,null,null,null,null,null,null,null,null,null,null,null,null,null,null,null,null,null,null,null,null,null,null,null,null,null,null,null,null,null,null,null,null,null,null,null,null,null,null,null,null,null,null,null,null,null,null,null,null,null,null,null,null,null,null,null,null,null,null,null,null,null,null,null,null,null,null,null,null,null,null,null,null,null,null,null,null,null,null,null,null,null,null,17900,18000,18100,18000,18100,18300,18400,18300,18200]
[null,null,null,null,null,null,null,null,null,null,null,null,null,null,null,null,null,null,null,null,null,null,null,null,null,null,null,null,null,null,null,null,null,null,null,null,null,null,null,null,null,null,null,null,null,null,null,null,null,null,null,null,null,null,null,null,null,null,null,null,null,null,null,null,null,null,null,null,null,null,null,null,null,null,null,null,null,null,null,null,null,null,null,null,null,null,null,null,null,null,null,null,null,null,null,null,null,null,null,null,null,null,null,null,null,null,null,null,null,null,null,null,null,null,null,null,null,null,null,null,null,null,null,null,null,null,null,null,null,null,null,null,null,null,null,null,null,null,null,null,null,null,null,null,null,null,null,null,null,null,null,null,null,null,null,null,null,null,null,null,null,null,null,null,null,null,null,null,null,null,null,null,null,null,null,null,null,null,null,null,null,null,null,null,null,null,null,null,null,null,null,null,null,null,null,null,null,null,null,null,null,null,null,null,null,null,null,null,null,14800,14600,14600,14700,14700,14900,14800,14900,14900]
[null,null,null,null,null,null,null,null,null,null,null,null,null,null,null,null,null,null,null,null,null,null,null,null,null,null,null,null,null,null,null,null,null,null,null,null,null,null,null,null,null,null,null,null,null,null,null,null,null,null,null,null,null,null,null,null,null,null,null,null,null,null,null,null,null,null,null,null,null,null,null,null,null,null,null,null,null,null,null,null,null,null,null,null,null,null,null,null,null,null,null,null,null,null,null,null,null,null,null,null,null,null,null,null,null,null,null,null,null,null,null,null,null,null,null,null,null,null,null,null,null,null,null,null,null,null,null,null,null,null,null,null,null,null,null,null,null,null,null,null,null,null,null,null,null,null,null,null,null,null,null,null,null,null,null,null,null,null,null,null,null,null,null,null,null,null,null,null,null,null,null,null,null,null,null,null,null,null,null,null,null,null,null,null,null,null,null,null,null,null,null,null,null,null,null,null,null,null,null,null,null,null,null,null,null,null,null,null,null,3600,3600,3600,3700,3700,3700,3700,3700,3700]
[null,null,null,null,null,null,null,null,null,null,null,null,null,null,null,null,null,null,null,null,null,null,null,null,null,null,null,null,null,null,null,null,null,null,null,null,null,null,null,null,null,null,null,null,null,null,null,null,null,null,null,null,null,null,null,null,null,null,null,null,null,null,null,null,null,null,null,null,null,null,null,null,null,null,null,null,null,null,null,null,null,null,null,null,null,null,null,null,null,null,null,null,null,null,null,null,null,null,null,null,null,null,null,null,null,null,null,null,null,null,null,null,null,null,null,null,null,null,null,null,null,null,null,null,null,null,null,null,null,null,null,null,null,null,null,null,null,null,null,null,null,null,null,null,null,null,null,null,null,null,null,null,null,null,null,null,null,null,null,null,null,null,null,null,null,null,null,null,null,null,null,null,null,null,null,null,null,null,null,null,null,null,null,null,null,null,null,null,null,null,null,null,null,null,null,null,null,null,null,null,null,null,null,null,null,null,null,null,null,9000,8800,8800,8800,8800,9000,8900,8900,8900]
[null,null,null,null,null,null,null,null,null,null,null,null,null,null,null,null,null,null,null,null,null,null,null,null,null,null,null,null,null,null,null,null,null,null,null,null,null,null,null,null,null,null,null,null,null,null,null,null,null,null,null,null,null,null,null,null,null,null,null,null,null,null,null,null,null,null,null,null,null,null,null,null,null,null,null,null,null,null,null,null,null,null,null,null,null,null,null,null,null,null,null,null,null,null,null,null,null,null,null,null,null,null,null,null,null,null,null,null,null,null,null,null,null,null,null,null,null,null,null,null,null,null,null,null,null,null,null,null,null,null,null,null,null,null,null,null,null,null,null,null,null,null,null,null,null,null,null,null,null,null,null,null,null,null,null,null,null,null,null,null,null,null,null,null,null,null,null,null,null,null,null,null,null,null,null,null,null,null,null,null,null,null,null,null,null,null,null,null,null,null,null,null,null,null,null,null,null,null,null,null,null,null,null,null,null,null,null,null,null,2200,2200,2200,2200,2200,2200,2200,2300,2300]
[null,null,null,null,null,null,null,null,null,null,null,null,null,null,null,null,null,null,null,null,null,null,null,null,null,null,null,null,null,null,null,null,null,null,null,null,null,null,null,null,null,null,null,null,null,null,null,null,null,null,null,null,null,null,null,null,null,null,null,null,null,null,null,null,null,null,null,null,null,null,null,null,null,null,null,null,null,null,null,null,null,null,null,null,null,null,null,null,null,null,null,null,null,null,null,null,null,null,null,null,null,null,null,null,null,null,null,null,null,null,null,null,null,null,null,null,null,null,null,null,null,null,null,null,null,null,null,null,null,null,null,null,null,null,null,null,null,null,null,null,null,null,null,null,null,null,null,null,null,null,null,null,null,null,null,null,null,null,null,null,null,null,null,null,null,null,null,null,null,null,null,null,null,null,null,null,null,null,null,null,null,null,null,null,null,null,null,null,null,null,null,null,null,null,null,null,null,null,null,null,null,null,null,null,null,null,null,null,null,500,500,500,500,500,500,500,500,500]
[null,null,null,null,null,null,null,null,null,null,null,null,null,null,null,null,null,null,null,null,null,null,null,null,null,null,null,null,null,null,null,null,null,null,null,null,null,null,null,null,null,null,null,null,null,null,null,null,null,null,null,null,null,null,null,null,null,null,null,null,null,null,null,null,null,null,null,null,null,null,null,null,null,null,null,null,null,null,null,null,null,null,null,null,null,null,null,null,null,null,null,null,null,null,null,null,null,null,null,null,null,null,null,null,null,null,null,null,null,null,null,null,null,null,null,null,null,null,null,null,null,null,null,null,null,null,null,null,null,null,null,null,null,null,null,null,null,null,null,null,null,null,null,null,null,null,null,null,null,null,null,null,null,null,null,null,null,null,null,null,null,null,null,null,null,null,null,null,null,null,null,null,null,null,null,null,null,null,null,null,null,null,null,null,null,null,null,null,null,null,null,null,null,null,null,null,null,null,null,null,null,null,null,null,null,null,null,null,null,2400,2400,2400,2400,2400,2400,2400,2400,2400]
[null,null,null,null,null,null,null,null,null,null,null,null,null,null,null,null,null,null,null,null,null,null,null,null,null,null,null,null,null,null,null,null,null,null,null,null,null,null,null,null,null,null,null,null,null,null,null,null,null,null,null,null,null,null,null,null,null,null,null,null,null,null,null,null,null,null,null,null,null,null,null,null,null,null,null,null,null,null,null,null,null,null,null,null,null,null,null,null,null,null,null,null,null,null,null,null,null,null,null,null,null,null,null,null,null,null,null,null,null,null,null,null,null,null,null,null,null,null,null,null,null,null,null,null,null,null,null,null,null,null,null,null,null,null,null,null,null,null,null,null,null,null,null,null,null,null,null,null,null,null,null,null,null,null,null,null,null,null,null,null,null,null,null,null,null,null,null,null,null,null,null,null,null,null,null,null,null,null,null,null,null,null,null,null,null,null,null,null,null,null,null,null,null,null,null,null,null,null,null,null,null,null,null,null,null,null,null,null,null,6200,6200,6100,6200,6300,6500,6400,6500,6400]
[null,null,null,null,null,null,null,null,null,null,null,null,null,null,null,null,null,null,null,null,null,null,null,null,null,null,null,null,null,null,null,null,null,null,null,null,null,null,null,null,null,null,null,null,null,null,null,null,null,null,null,null,null,null,null,null,null,null,null,null,null,null,null,null,null,null,null,null,null,null,null,null,null,null,null,null,null,null,null,null,null,null,null,null,null,null,null,null,null,null,null,null,null,null,null,null,null,null,null,null,null,null,null,null,null,null,null,null,null,null,null,null,null,null,null,null,null,null,null,null,null,null,null,null,null,null,null,null,null,null,null,null,null,null,null,null,null,null,null,null,null,null,null,null,null,null,null,null,null,null,null,null,null,null,null,null,null,null,null,null,null,null,null,null,null,null,null,null,null,null,null,null,null,null,null,null,null,null,null,null,null,null,null,null,null,null,null,null,null,null,null,null,null,null,null,null,null,null,null,null,null,null,null,null,null,null,null,null,null,11700,11700,11700,11700,11700,11600,11600,11500,11500]
[null,null,null,null,null,null,null,null,null,null,null,null,null,null,null,null,null,null,null,null,null,null,null,null,null,null,null,null,null,null,null,null,null,null,null,null,null,null,null,null,null,null,null,null,null,null,null,null,null,null,null,null,null,null,null,null,null,null,null,null,null,null,null,null,null,null,null,null,null,null,null,null,null,null,null,null,null,null,null,null,null,null,null,null,null,null,null,null,null,null,null,null,null,null,null,null,null,null,null,null,null,null,null,null,null,null,null,null,null,null,null,null,null,null,null,null,null,null,null,null,null,null,null,null,null,null,null,null,null,null,null,null,null,null,null,null,null,null,null,null,null,null,null,null,null,null,null,null,null,null,null,null,null,null,null,null,null,null,null,null,null,null,null,null,null,null,null,null,null,null,null,null,null,null,null,null,null,null,null,null,null,null,null,null,null,null,null,null,null,null,null,null,null,null,null,null,null,null,null,null,null,null,null,null,null,null,null,null,null,10900,10900,11000,11000,11000,10900,10900,10900,10900]
[null,null,null,null,null,null,null,null,null,null,null,null,null,null,null,null,null,null,null,null,null,null,null,null,null,null,null,null,null,null,null,null,null,null,null,null,null,null,null,null,null,null,null,null,null,null,null,null,null,null,null,null,null,null,null,null,null,null,null,null,null,null,null,null,null,null,null,null,null,null,null,null,null,null,null,null,null,null,null,null,null,null,null,null,null,null,null,null,null,null,null,null,null,null,null,null,null,null,null,null,null,null,null,null,null,null,null,null,null,null,null,null,null,null,null,null,null,null,null,null,null,null,null,null,null,null,null,null,null,null,null,null,null,null,null,null,null,null,null,null,null,null,null,null,null,null,null,null,null,null,null,null,null,null,null,null,null,null,null,null,null,null,null,null,null,null,null,null,null,null,null,null,null,null,null,null,null,null,null,null,null,null,null,null,null,null,null,null,null,null,null,null,null,null,null,null,null,null,null,null,null,null,null,null,null,null,null,null,null,7100,7100,7200,7400,7800,8200,8300,8300,8000]
[null,null,null,null,null,null,null,null,null,null,null,null,null,null,null,null,null,null,null,null,null,null,null,null,null,null,null,null,null,null,null,null,null,null,null,null,null,null,null,null,null,null,null,null,null,null,null,null,null,null,null,null,null,null,null,null,null,null,null,null,null,null,null,null,null,null,null,null,null,null,null,null,null,null,null,null,null,null,null,null,null,null,null,null,null,null,null,null,null,null,null,null,null,null,null,null,null,null,null,null,null,null,null,null,null,null,null,null,null,null,null,null,null,null,null,null,null,null,null,null,null,null,null,null,null,null,null,null,null,null,null,null,null,null,null,null,null,null,null,null,null,null,null,null,null,null,null,null,null,null,null,null,null,null,null,null,null,null,null,null,null,null,null,null,null,null,null,null,null,null,null,null,null,null,null,null,null,null,null,null,null,null,null,null,null,null,null,null,null,null,null,null,null,null,null,null,null,null,null,null,null,null,null,null,null,null,null,null,null,3800,3800,3800,3900,3900,3900,3900,4000,3900]
[null,null,null,null,null,null,null,null,null,null,null,null,null,null,null,null,null,null,null,null,null,null,null,null,null,null,null,null,null,null,null,null,null,null,null,null,null,null,null,null,null,null,null,null,null,null,null,null,null,null,null,null,null,null,null,null,null,null,null,null,null,null,null,null,null,null,null,null,null,null,null,null,null,null,null,null,null,null,null,null,null,null,null,null,null,null,null,null,null,null,null,null,null,null,null,null,null,null,null,null,null,null,null,null,null,null,null,null,null,null,null,null,null,null,null,null,null,null,null,null,null,null,null,null,null,null,null,null,null,null,null,null,null,null,null,null,null,null,null,null,null,null,null,null,null,null,null,null,null,null,null,null,null,null,null,null,null,null,null,null,null,null,null,null,null,null,null,null,null,null,null,null,null,null,null,null,null,null,null,null,null,null,null,null,null,null,null,null,null,null,null,null,null,null,null,null,null,null,null,null,null,null,null,null,null,null,null,null,null,9300,9400,9400,9400,9400,9700,9500,9400,9300]
[null,null,null,null,null,null,null,null,null,null,null,null,null,null,null,null,null,null,null,null,null,null,null,null,null,null,null,null,null,null,null,null,null,null,null,null,null,null,null,null,null,null,null,null,null,null,null,null,null,null,null,null,null,null,null,null,null,null,null,null,null,null,null,null,null,null,null,null,null,null,null,null,null,null,null,null,null,null,null,null,null,null,null,null,null,null,null,null,null,null,null,null,null,null,null,null,null,null,null,null,null,null,null,null,null,null,null,null,null,null,null,null,null,null,null,null,null,null,null,null,null,null,null,null,null,null,null,null,null,null,null,null,null,null,null,null,null,null,null,null,null,null,null,null,null,null,null,null,null,null,null,null,null,null,null,null,null,null,null,null,null,null,null,null,null,null,null,null,null,null,null,null,null,null,null,null,null,null,null,null,null,null,null,null,null,null,null,null,null,null,null,null,null,null,null,null,null,null,null,null,null,null,null,null,null,null,null,null,null,300,300,300,300,300,300,300,300,300]
[null,null,null,null,null,null,null,null,null,null,null,null,null,null,null,null,null,null,null,null,null,null,null,null,null,null,null,null,null,null,null,null,null,null,null,null,null,null,null,null,null,null,null,null,null,null,null,null,null,null,null,null,null,null,null,null,null,null,null,null,null,null,null,null,null,null,null,null,null,null,null,null,null,null,null,null,null,null,null,null,null,null,null,null,null,null,null,null,null,null,null,null,null,null,null,null,null,null,null,null,null,null,null,null,null,null,null,null,null,null,null,null,null,null,null,null,null,null,null,null,null,null,null,null,null,null,null,null,null,null,null,null,null,null,null,null,null,null,null,null,null,null,null,null,null,null,null,null,null,null,null,null,null,null,null,null,null,null,null,null,null,null,null,null,null,null,null,null,null,null,null,null,null,null,null,null,null,null,null,null,null,null,null,null,null,null,null,null,null,null,null,null,null,null,null,null,null,null,null,null,null,null,null,null,null,null,null,null,null,1700,1700,1700,1700,1700,1800,1800,1800,1800]
[null,null,null,null,null,null,null,null,null,null,null,null,null,null,null,null,null,null,null,null,null,null,null,null,null,null,null,null,null,null,null,null,null,null,null,null,null,null,null,null,null,null,null,null,null,null,null,null,null,null,null,null,null,null,null,null,null,null,null,null,null,null,null,null,null,null,null,null,null,null,null,null,null,null,null,null,null,null,null,null,null,null,null,null,null,null,null,null,null,null,null,null,null,null,null,null,null,null,null,null,null,null,null,null,null,null,null,null,null,null,null,null,null,null,null,null,null,null,null,null,null,null,null,null,null,null,null,null,null,null,null,null,null,null,null,null,null,null,null,null,null,null,null,null,null,null,null,null,null,null,null,null,null,null,null,null,null,null,null,null,null,null,null,null,null,null,null,null,null,null,null,null,null,null,null,null,null,null,null,null,null,null,null,null,null,null,null,null,null,null,null,null,null,null,null,null,null,null,null,null,null,null,null,null,null,null,null,null,null,7300,7400,7400,7400,7400,7600,7400,7300,7200]
[null,null,null,null,null,null,null,null,null,null,null,null,null,null,null,null,null,null,null,null,null,null,null,null,null,null,null,null,null,null,null,null,null,null,null,null,null,null,null,null,null,null,null,null,null,null,null,null,null,null,null,null,null,null,null,null,null,null,null,null,null,null,null,null,null,null,null,null,null,null,null,null,null,null,null,null,null,null,null,null,null,null,null,null,null,null,null,null,null,null,null,null,null,null,null,null,null,null,null,null,null,null,null,null,null,null,null,null,null,null,null,null,null,null,null,null,null,null,null,null,null,null,null,null,null,null,null,null,null,null,null,null,null,null,null,null,null,null,null,null,null,null,null,null,null,null,null,null,null,null,null,null,null,null,null,null,null,null,null,null,null,null,null,null,null,null,null,null,null,null,null,null,null,null,null,null,null,null,null,null,null,null,null,null,null,null,null,null,null,null,null,null,null,null,null,null,null,null,null,null,null,null,null,null,null,null,null,null,null,60900,60300,60900,61100,62400,63500,63200,63200,62600]
[null,null,null,null,null,null,null,null,null,null,null,null,null,null,null,null,null,null,null,null,null,null,null,null,null,null,null,null,null,null,null,null,null,null,null,null,null,null,null,null,null,null,null,null,null,null,null,null,null,null,null,null,null,null,null,null,null,null,null,null,null,null,null,null,null,null,null,null,null,null,null,null,null,null,null,null,null,null,null,null,null,null,null,null,null,null,null,null,null,null,null,null,null,null,null,null,null,null,null,null,null,null,null,null,null,null,null,null,null,null,null,null,null,null,null,null,null,null,null,null,null,null,null,null,null,null,null,null,null,null,null,null,null,null,null,null,null,null,null,null,null,null,null,null,null,null,null,null,null,null,null,null,null,null,null,null,null,null,null,null,null,null,null,null,null,null,null,null,null,null,null,null,null,null,null,null,null,null,null,null,null,null,null,null,null,null,null,null,null,null,null,null,null,null,null,null,null,null,null,null,null,null,null,null,null,null,null,null,null,54900,54300,55000,55300,56500,57800,57900,58000,57000]
[null,null,null,null,null,null,null,null,null,null,null,null,null,null,null,null,null,null,null,null,null,null,null,null,null,null,null,null,null,null,null,null,null,null,null,null,null,null,null,null,null,null,null,null,null,null,null,null,null,null,null,null,null,null,null,null,null,null,null,null,null,null,null,null,null,null,null,null,null,null,null,null,null,null,null,null,null,null,null,null,null,null,null,null,null,null,null,null,null,null,null,null,null,null,null,null,null,null,null,null,null,null,null,null,null,null,null,null,null,null,null,null,null,null,null,null,null,null,null,null,null,null,null,null,null,null,null,null,null,null,null,null,null,null,null,null,null,null,null,null,null,null,null,null,null,null,null,null,null,null,null,null,null,null,null,null,null,null,null,null,null,null,null,null,null,null,null,null,null,null,null,null,null,null,null,null,null,null,null,null,null,null,null,null,null,null,null,null,null,null,null,null,null,null,null,null,null,null,null,null,null,null,null,null,null,null,null,null,null,22400,22200,22200,22500,22900,23600,23800,23600,23200]
[null,null,null,null,null,null,null,null,null,null,null,null,null,null,null,null,null,null,null,null,null,null,null,null,null,null,null,null,null,null,null,null,null,null,null,null,null,null,null,null,null,null,null,null,null,null,null,null,null,null,null,null,null,null,null,null,null,null,null,null,null,null,null,null,null,null,null,null,null,null,null,null,null,null,null,null,null,null,null,null,null,null,null,null,null,null,null,null,null,null,null,null,null,null,null,null,null,null,null,null,null,null,null,null,null,null,null,null,null,null,null,null,null,null,null,null,null,null,null,null,null,null,null,null,null,null,null,null,null,null,null,null,null,null,null,null,null,null,null,null,null,null,null,null,null,null,null,null,null,null,null,null,null,null,null,null,null,null,null,null,null,null,null,null,null,null,null,null,null,null,null,null,null,null,null,null,null,null,null,null,null,null,null,null,null,null,null,null,null,null,null,null,null,null,null,null,null,null,null,null,null,null,null,null,null,null,null,null,null,38500,38100,38700,38600,39500,39900,39400,39600,39400]
[null,null,null,null,null,null,null,null,null,null,null,null,null,null,null,null,null,null,null,null,null,null,null,null,null,null,null,null,null,null,null,null,null,null,null,null,null,null,null,null,null,null,null,null,null,null,null,null,null,null,null,null,null,null,null,null,null,null,null,null,null,null,null,null,null,null,null,null,null,null,null,null,null,null,null,null,null,null,null,null,null,null,null,null,null,null,null,null,null,null,null,null,null,null,null,null,null,null,null,null,null,null,null,null,null,null,null,null,null,null,null,null,null,null,null,null,null,null,null,null,null,null,null,null,null,null,null,null,null,null,null,null,null,null,null,null,null,null,null,null,null,null,null,null,null,null,null,null,null,null,null,null,null,null,null,null,null,null,null,null,null,null,null,null,null,null,null,null,null,null,null,null,null,null,null,null,null,null,null,null,null,null,null,null,null,null,null,null,null,null,null,null,null,null,null,null,null,null,null,null,null,null,null,null,null,null,null,null,null,32500,32100,32800,32800,33600,34200,34100,34400,33800]
[null,null,null,null,null,null,null,null,null,null,null,null,null,null,null,null,null,null,null,null,null,null,null,null,null,null,null,null,null,null,null,null,null,null,null,null,null,null,null,null,null,null,null,null,null,null,null,null,null,null,null,null,null,null,null,null,null,null,null,null,null,null,null,null,null,null,null,null,null,null,null,null,null,null,null,null,null,null,null,null,null,null,null,null,null,null,null,null,null,null,null,null,null,null,null,null,null,null,null,null,null,null,null,null,null,null,null,null,null,null,null,null,null,null,null,null,null,null,null,null,null,null,null,null,null,null,null,null,null,null,null,null,null,null,null,null,null,null,null,null,null,null,null,null,null,null,null,null,null,null,null,null,null,null,null,null,null,null,null,null,null,null,null,null,null,null,null,null,null,null,null,null,null,null,null,null,null,null,null,null,null,null,null,null,null,null,null,null,null,null,null,null,null,null,null,null,null,null,null,null,null,null,null,null,null,null,null,null,null,1900,1900,2000,2100,2200,2300,2300,2300,2300]
[null,null,null,null,null,null,null,null,null,null,null,null,null,null,null,null,null,null,null,null,null,null,null,null,null,null,null,null,null,null,null,null,null,null,null,null,null,null,null,null,null,null,null,null,null,null,null,null,null,null,null,null,null,null,null,null,null,null,null,null,null,null,null,null,null,null,null,null,null,null,null,null,null,null,null,null,null,null,null,null,null,null,null,null,null,null,null,null,null,null,null,null,null,null,null,null,null,null,null,null,null,null,null,null,null,null,null,null,null,null,null,null,null,null,null,null,null,null,null,null,null,null,null,null,null,null,null,null,null,null,null,null,null,null,null,null,null,null,null,null,null,null,null,null,null,null,null,null,null,null,null,null,null,null,null,null,null,null,null,null,null,null,null,null,null,null,null,null,null,null,null,null,null,null,null,null,null,null,null,null,null,null,null,null,null,null,null,null,null,null,null,null,null,null,null,null,null,null,null,null,null,null,null,null,null,null,null,null,null,20500,20300,20200,20400,20700,21300,21500,21300,20900]
[null,null,null,null,null,null,null,null,null,null,null,null,null,null,null,null,null,null,null,null,null,null,null,null,null,null,null,null,null,null,null,null,null,null,null,null,null,null,null,null,null,null,null,null,null,null,null,null,null,null,null,null,null,null,null,null,null,null,null,null,null,null,null,null,null,null,null,null,null,null,null,null,null,null,null,null,null,null,null,null,null,null,null,null,null,null,null,null,null,null,null,null,null,null,null,null,null,null,null,null,null,null,null,null,null,null,null,null,null,null,null,null,null,null,null,null,null,null,null,null,null,null,null,null,null,null,null,null,null,null,null,null,null,null,null,null,null,null,null,null,null,null,null,null,null,null,null,null,null,null,null,null,null,null,null,null,null,null,null,null,null,null,null,null,null,null,null,null,null,null,null,null,null,null,null,null,null,null,null,null,null,null,null,null,null,null,null,null,null,null,null,null,null,null,null,null,null,null,null,null,null,null,null,null,null,null,null,null,null,12500,12300,12300,12400,12700,13200,13200,13000,12700]
[null,null,null,null,null,null,null,null,null,null,null,null,null,null,null,null,null,null,null,null,null,null,null,null,null,null,null,null,null,null,null,null,null,null,null,null,null,null,null,null,null,null,null,null,null,null,null,null,null,null,null,null,null,null,null,null,null,null,null,null,null,null,null,null,null,null,null,null,null,null,null,null,null,null,null,null,null,null,null,null,null,null,null,null,null,null,null,null,null,null,null,null,null,null,null,null,null,null,null,null,null,null,null,null,null,null,null,null,null,null,null,null,null,null,null,null,null,null,null,null,null,null,null,null,null,null,null,null,null,null,null,null,null,null,null,null,null,null,null,null,null,null,null,null,null,null,null,null,null,null,null,null,null,null,null,null,null,null,null,null,null,null,null,null,null,null,null,null,null,null,null,null,null,null,null,null,null,null,null,null,null,null,null,null,null,null,null,null,null,null,null,null,null,null,null,null,null,null,null,null,null,null,null,null,null,null,null,null,null,7700,7600,7600,7800,7900,8200,8200,8200,7900]
[null,null,null,null,null,null,null,null,null,null,null,null,null,null,null,null,null,null,null,null,null,null,null,null,null,null,null,null,null,null,null,null,null,null,null,null,null,null,null,null,null,null,null,null,null,null,null,null,null,null,null,null,null,null,null,null,null,null,null,null,null,null,null,null,null,null,null,null,null,null,null,null,null,null,null,null,null,null,null,null,null,null,null,null,null,null,null,null,null,null,null,null,null,null,null,null,null,null,null,null,null,null,null,null,null,null,null,null,null,null,null,null,null,null,null,null,null,null,null,null,null,null,null,null,null,null,null,null,null,null,null,null,null,null,null,null,null,null,null,null,null,null,null,null,null,null,null,null,null,null,null,null,null,null,null,null,null,null,null,null,null,null,null,null,null,null,null,null,null,null,null,null,null,null,null,null,null,null,null,null,null,null,null,null,null,null,null,null,null,null,null,null,null,null,null,null,null,null,null,null,null,null,null,null,null,null,null,null,null,8000,8000,7900,8000,8000,8100,8300,8300,8200]
[null,null,null,null,null,null,null,null,null,null,null,null,null,null,null,null,null,null,null,null,null,null,null,null,null,null,null,null,null,null,null,null,null,null,null,null,null,null,null,null,null,null,null,null,null,null,null,null,null,null,null,null,null,null,null,null,null,null,null,null,null,null,null,null,null,null,null,null,null,null,null,null,null,null,null,null,null,null,null,null,null,null,null,null,null,null,null,null,null,null,null,null,null,null,null,null,null,null,null,null,null,null,null,null,null,null,null,null,null,null,null,null,null,null,null,null,null,null,null,null,null,null,null,null,null,null,null,null,null,null,null,null,null,null,null,null,null,null,null,null,null,null,null,null,null,null,null,null,null,null,null,null,null,null,null,null,null,null,null,null,null,null,null,null,null,null,null,null,null,null,null,null,null,null,null,null,null,null,null,null,null,null,null,null,null,null,null,null,null,null,null,null,null,null,null,null,null,null,null,null,null,null,null,null,null,null,null,null,null,10300,10000,10100,10200,10500,10500,10400,10400,10400]
[null,null,null,null,null,null,null,null,null,null,null,null,null,null,null,null,null,null,null,null,null,null,null,null,null,null,null,null,null,null,null,null,null,null,null,null,null,null,null,null,null,null,null,null,null,null,null,null,null,null,null,null,null,null,null,null,null,null,null,null,null,null,null,null,null,null,null,null,null,null,null,null,null,null,null,null,null,null,null,null,null,null,null,null,null,null,null,null,null,null,null,null,null,null,null,null,null,null,null,null,null,null,null,null,null,null,null,null,null,null,null,null,null,null,null,null,null,null,null,null,null,null,null,null,null,null,null,null,null,null,null,null,null,null,null,null,null,null,null,null,null,null,null,null,null,null,null,null,null,null,null,null,null,null,null,null,null,null,null,null,null,null,null,null,null,null,null,null,null,null,null,null,null,null,null,null,null,null,null,null,null,null,null,null,null,null,null,null,null,null,null,null,null,null,null,null,null,null,null,null,null,null,null,null,null,null,null,null,null,2500,2500,2500,2500,2600,2600,2600,2600,2600]
[null,null,null,null,null,null,null,null,null,null,null,null,null,null,null,null,null,null,null,null,null,null,null,null,null,null,null,null,null,null,null,null,null,null,null,null,null,null,null,null,null,null,null,null,null,null,null,null,null,null,null,null,null,null,null,null,null,null,null,null,null,null,null,null,null,null,null,null,null,null,null,null,null,null,null,null,null,null,null,null,null,null,null,null,null,null,null,null,null,null,null,null,null,null,null,null,null,null,null,null,null,null,null,null,null,null,null,null,null,null,null,null,null,null,null,null,null,null,null,null,null,null,null,null,null,null,null,null,null,null,null,null,null,null,null,null,null,null,null,null,null,null,null,null,null,null,null,null,null,null,null,null,null,null,null,null,null,null,null,null,null,null,null,null,null,null,null,null,null,null,null,null,null,null,null,null,null,null,null,null,null,null,null,null,null,null,null,null,null,null,null,null,null,null,null,null,null,null,null,null,null,null,null,null,null,null,null,null,null,6400,6200,6300,6400,6500,6500,6500,6500,6500]
[null,null,null,null,null,null,null,null,null,null,null,null,null,null,null,null,null,null,null,null,null,null,null,null,null,null,null,null,null,null,null,null,null,null,null,null,null,null,null,null,null,null,null,null,null,null,null,null,null,null,null,null,null,null,null,null,null,null,null,null,null,null,null,null,null,null,null,null,null,null,null,null,null,null,null,null,null,null,null,null,null,null,null,null,null,null,null,null,null,null,null,null,null,null,null,null,null,null,null,null,null,null,null,null,null,null,null,null,null,null,null,null,null,null,null,null,null,null,null,null,null,null,null,null,null,null,null,null,null,null,null,null,null,null,null,null,null,null,null,null,null,null,null,null,null,null,null,null,null,null,null,null,null,null,null,null,null,null,null,null,null,null,null,null,null,null,null,null,null,null,null,null,null,null,null,null,null,null,null,null,null,null,null,null,null,null,null,null,null,null,null,null,null,null,null,null,null,null,null,null,null,null,null,null,null,null,null,null,null,1400,1300,1300,1300,1400,1400,1300,1300,1300]
[null,null,null,null,null,null,null,null,null,null,null,null,null,null,null,null,null,null,null,null,null,null,null,null,null,null,null,null,null,null,null,null,null,null,null,null,null,null,null,null,null,null,null,null,null,null,null,null,null,null,null,null,null,null,null,null,null,null,null,null,null,null,null,null,null,null,null,null,null,null,null,null,null,null,null,null,null,null,null,null,null,null,null,null,null,null,null,null,null,null,null,null,null,null,null,null,null,null,null,null,null,null,null,null,null,null,null,null,null,null,null,null,null,null,null,null,null,null,null,null,null,null,null,null,null,null,null,null,null,null,null,null,null,null,null,null,null,null,null,null,null,null,null,null,null,null,null,null,null,null,null,null,null,null,null,null,null,null,null,null,null,null,null,null,null,null,null,null,null,null,null,null,null,null,null,null,null,null,null,null,null,null,null,null,null,null,null,null,null,null,null,null,null,null,null,null,null,null,null,null,null,null,null,null,null,null,null,null,null,300,300,300,300,300,300,300,300,300]
[null,null,null,null,null,null,null,null,null,null,null,null,null,null,null,null,null,null,null,null,null,null,null,null,null,null,null,null,null,null,null,null,null,null,null,null,null,null,null,null,null,null,null,null,null,null,null,null,null,null,null,null,null,null,null,null,null,null,null,null,null,null,null,null,null,null,null,null,null,null,null,null,null,null,null,null,null,null,null,null,null,null,null,null,null,null,null,null,null,null,null,null,null,null,null,null,null,null,null,null,null,null,null,null,null,null,null,null,null,null,null,null,null,null,null,null,null,null,null,null,null,null,null,null,null,null,null,null,null,null,null,null,null,null,null,null,null,null,null,null,null,null,null,null,null,null,null,null,null,null,null,null,null,null,null,null,null,null,null,null,null,null,null,null,null,null,null,null,null,null,null,null,null,null,null,null,null,null,null,null,null,null,null,null,null,null,null,null,null,null,null,null,null,null,null,null,null,null,null,null,null,null,null,null,null,null,null,null,null,3000,3000,3000,3000,3100,3100,3100,3200,3200]
[null,null,null,null,null,null,null,null,null,null,null,null,null,null,null,null,null,null,null,null,null,null,null,null,null,null,null,null,null,null,null,null,null,null,null,null,null,null,null,null,null,null,null,null,null,null,null,null,null,null,null,null,null,null,null,null,null,null,null,null,null,null,null,null,null,null,null,null,null,null,null,null,null,null,null,null,null,null,null,null,null,null,null,null,null,null,null,null,null,null,null,null,null,null,null,null,null,null,null,null,null,null,null,null,null,null,null,null,null,null,null,null,null,null,null,null,null,null,null,null,null,null,null,null,null,null,null,null,null,null,null,null,null,null,null,null,null,null,null,null,null,null,null,null,null,null,null,null,null,null,null,null,null,null,null,null,null,null,null,null,null,null,null,null,null,null,null,null,null,null,null,null,null,null,null,null,null,null,null,null,null,null,null,null,null,null,null,null,null,null,null,null,null,null,null,null,null,null,null,null,null,null,null,null,null,null,null,null,null,3900,3900,4000,4000,4100,4200,4300,4300,4200]
[null,null,null,null,null,null,null,null,null,null,null,null,null,null,null,null,null,null,null,null,null,null,null,null,null,null,null,null,null,null,null,null,null,null,null,null,null,null,null,null,null,null,null,null,null,null,null,null,null,null,null,null,null,null,null,null,null,null,null,null,null,null,null,null,null,null,null,null,null,null,null,null,null,null,null,null,null,null,null,null,null,null,null,null,null,null,null,null,null,null,null,null,null,null,null,null,null,null,null,null,null,null,null,null,null,null,null,null,null,null,null,null,null,null,null,null,null,null,null,null,null,null,null,null,null,null,null,null,null,null,null,null,null,null,null,null,null,null,null,null,null,null,null,null,null,null,null,null,null,null,null,null,null,null,null,null,null,null,null,null,null,null,null,null,null,null,null,null,null,null,null,null,null,null,null,null,null,null,null,null,null,null,null,null,null,null,null,null,null,null,null,null,null,null,null,null,null,null,null,null,null,null,null,null,null,null,null,null,null,7400,7400,7600,7500,7400,7300,7200,7300,7300]
[null,null,null,null,null,null,null,null,null,null,null,null,null,null,null,null,null,null,null,null,null,null,null,null,null,null,null,null,null,null,null,null,null,null,null,null,null,null,null,null,null,null,null,null,null,null,null,null,null,null,null,null,null,null,null,null,null,null,null,null,null,null,null,null,null,null,null,null,null,null,null,null,null,null,null,null,null,null,null,null,null,null,null,null,null,null,null,null,null,null,null,null,null,null,null,null,null,null,null,null,null,null,null,null,null,null,null,null,null,null,null,null,null,null,null,null,null,null,null,null,null,null,null,null,null,null,null,null,null,null,null,null,null,null,null,null,null,null,null,null,null,null,null,null,null,null,null,null,null,null,null,null,null,null,null,null,null,null,null,null,null,null,null,null,null,null,null,null,null,null,null,null,null,null,null,null,null,null,null,null,null,null,null,null,null,null,null,null,null,null,null,null,null,null,null,null,null,null,null,null,null,null,null,null,null,null,null,null,null,6700,6600,6700,6700,6700,6600,6600,6600,6600]
[null,null,null,null,null,null,null,null,null,null,null,null,null,null,null,null,null,null,null,null,null,null,null,null,null,null,null,null,null,null,null,null,null,null,null,null,null,null,null,null,null,null,null,null,null,null,null,null,null,null,null,null,null,null,null,null,null,null,null,null,null,null,null,null,null,null,null,null,null,null,null,null,null,null,null,null,null,null,null,null,null,null,null,null,null,null,null,null,null,null,null,null,null,null,null,null,null,null,null,null,null,null,null,null,null,null,null,null,null,null,null,null,null,null,null,null,null,null,null,null,null,null,null,null,null,null,null,null,null,null,null,null,null,null,null,null,null,null,null,null,null,null,null,null,null,null,null,null,null,null,null,null,null,null,null,null,null,null,null,null,null,null,null,null,null,null,null,null,null,null,null,null,null,null,null,null,null,null,null,null,null,null,null,null,null,null,null,null,null,null,null,null,null,null,null,null,null,null,null,null,null,null,null,null,null,null,null,null,null,4800,4700,4900,5000,5400,5800,6000,6000,5500]
[null,null,null,null,null,null,null,null,null,null,null,null,null,null,null,null,null,null,null,null,null,null,null,null,null,null,null,null,null,null,null,null,null,null,null,null,null,null,null,null,null,null,null,null,null,null,null,null,null,null,null,null,null,null,null,null,null,null,null,null,null,null,null,null,null,null,null,null,null,null,null,null,null,null,null,null,null,null,null,null,null,null,null,null,null,null,null,null,null,null,null,null,null,null,null,null,null,null,null,null,null,null,null,null,null,null,null,null,null,null,null,null,null,null,null,null,null,null,null,null,null,null,null,null,null,null,null,null,null,null,null,null,null,null,null,null,null,null,null,null,null,null,null,null,null,null,null,null,null,null,null,null,null,null,null,null,null,null,null,null,null,null,null,null,null,null,null,null,null,null,null,null,null,null,null,null,null,null,null,null,null,null,null,null,null,null,null,null,null,null,null,null,null,null,null,null,null,null,null,null,null,null,null,null,null,null,null,null,null,2800,2800,2900,2800,2800,3000,2800,2900,2900]
[null,null,null,null,null,null,null,null,null,null,null,null,null,null,null,null,null,null,null,null,null,null,null,null,null,null,null,null,null,null,null,null,null,null,null,null,null,null,null,null,null,null,null,null,null,null,null,null,null,null,null,null,null,null,null,null,null,null,null,null,null,null,null,null,null,null,null,null,null,null,null,null,null,null,null,null,null,null,null,null,null,null,null,null,null,null,null,null,null,null,null,null,null,null,null,null,null,null,null,null,null,null,null,null,null,null,null,null,null,null,null,null,null,null,null,null,null,null,null,null,null,null,null,null,null,null,null,null,null,null,null,null,null,null,null,null,null,null,null,null,null,null,null,null,null,null,null,null,null,null,null,null,null,null,null,null,null,null,null,null,null,null,null,null,null,null,null,null,null,null,null,null,null,null,null,null,null,null,null,null,null,null,null,null,null,null,null,null,null,null,null,null,null,null,null,null,null,null,null,null,null,null,null,null,null,null,null,null,null,6000,6000,5900,5800,5900,5700,5300,5200,5600]
[null,null,null,null,null,null,null,null,null,null,null,null,null,null,null,null,null,null,null,null,null,null,null,null,null,null,null,null,null,null,null,null,null,null,null,null,null,null,null,null,null,null,null,null,null,null,null,null,null,null,null,null,null,null,null,null,null,null,null,null,null,null,null,null,null,null,null,null,null,null,null,null,null,null,null,null,null,null,null,null,null,null,null,null,null,null,null,null,null,null,null,null,null,null,null,null,null,null,null,null,null,null,null,null,null,null,null,null,null,null,null,null,null,null,null,null,null,null,null,null,null,null,null,null,null,null,null,null,null,null,null,null,null,null,null,null,null,null,null,null,null,null,null,null,null,null,null,null,null,null,null,null,null,null,null,null,null,null,null,null,null,null,null,null,null,null,null,null,null,null,null,null,null,null,null,null,null,null,null,null,null,null,null,null,null,null,null,null,null,null,null,null,null,null,null,null,null,null,null,null,null,null,null,null,null,null,null,null,null,200,200,200,200,200,200,200,200,200]
[null,null,null,null,null,null,null,null,null,null,null,null,null,null,null,null,null,null,null,null,null,null,null,null,null,null,null,null,null,null,null,null,null,null,null,null,null,null,null,null,null,null,null,null,null,null,null,null,null,null,null,null,null,null,null,null,null,null,null,null,null,null,null,null,null,null,null,null,null,null,null,null,null,null,null,null,null,null,null,null,null,null,null,null,null,null,null,null,null,null,null,null,null,null,null,null,null,null,null,null,null,null,null,null,null,null,null,null,null,null,null,null,null,null,null,null,null,null,null,null,null,null,null,null,null,null,null,null,null,null,null,null,null,null,null,null,null,null,null,null,null,null,null,null,null,null,null,null,null,null,null,null,null,null,null,null,null,null,null,null,null,null,null,null,null,null,null,null,null,null,null,null,null,null,null,null,null,null,null,null,null,null,null,null,null,null,null,null,null,null,null,null,null,null,null,null,null,null,null,null,null,null,null,null,null,null,null,null,null,500,500,500,500,500,500,500,500,500]
[null,null,null,null,null,null,null,null,null,null,null,null,null,null,null,null,null,null,null,null,null,null,null,null,null,null,null,null,null,null,null,null,null,null,null,null,null,null,null,null,null,null,null,null,null,null,null,null,null,null,null,null,null,null,null,null,null,null,null,null,null,null,null,null,null,null,null,null,null,null,null,null,null,null,null,null,null,null,null,null,null,null,null,null,null,null,null,null,null,null,null,null,null,null,null,null,null,null,null,null,null,null,null,null,null,null,null,null,null,null,null,null,null,null,null,null,null,null,null,null,null,null,null,null,null,null,null,null,null,null,null,null,null,null,null,null,null,null,null,null,null,null,null,null,null,null,null,null,null,null,null,null,null,null,null,null,null,null,null,null,null,null,null,null,null,null,null,null,null,null,null,null,null,null,null,null,null,null,null,null,null,null,null,null,null,null,null,null,null,null,null,null,null,null,null,null,null,null,null,null,null,null,null,null,null,null,null,null,null,5300,5300,5200,5100,5200,5000,4600,4500,4900]
[null,null,null,null,null,null,null,null,null,null,null,null,null,null,null,null,null,null,null,null,null,null,null,null,null,null,null,null,null,null,null,null,null,null,null,null,null,null,null,null,null,null,null,null,null,null,null,null,null,null,null,null,null,null,null,null,null,null,null,null,null,null,null,null,null,null,null,null,null,null,null,null,null,null,null,null,null,null,null,null,null,null,null,null,null,null,null,null,null,null,null,null,null,null,null,null,null,null,null,null,null,null,null,null,null,null,null,null,null,null,null,null,null,null,null,null,null,null,null,null,null,null,null,null,null,null,null,null,null,null,null,null,null,null,null,null,null,null,null,null,null,null,null,null,null,null,null,null,null,null,null,null,null,null,null,null,null,null,null,null,null,null,null,null,null,null,null,null,null,null,null,null,null,null,null,null,null,null,null,null,null,null,null,null,null,null,null,null,null,null,null,null,null,null,null,null,null,null,null,null,null,null,null,null,null,null,null,null,null,71900,72000,72200,72600,73300,74400,73300,73200,73300]
[null,null,null,null,null,null,null,null,null,null,null,null,null,null,null,null,null,null,null,null,null,null,null,null,null,null,null,null,null,null,null,null,null,null,null,null,null,null,null,null,null,null,null,null,null,null,null,null,null,null,null,null,null,null,null,null,null,null,null,null,null,null,null,null,null,null,null,null,null,null,null,null,null,null,null,null,null,null,null,null,null,null,null,null,null,null,null,null,null,null,null,null,null,null,null,null,null,null,null,null,null,null,null,null,null,null,null,null,null,null,null,null,null,null,null,null,null,null,null,null,null,null,null,null,null,null,null,null,null,null,null,null,null,null,null,null,null,null,null,null,null,null,null,null,null,null,null,null,null,null,null,null,null,null,null,null,null,null,null,null,null,null,null,null,null,null,null,null,null,null,null,null,null,null,null,null,null,null,null,null,null,null,null,null,null,null,null,null,null,null,null,null,null,null,null,null,null,null,null,null,null,null,null,null,null,null,null,null,null,64300,64100,64400,64800,65500,66900,66700,66600,65900]
[null,null,null,null,null,null,null,null,null,null,null,null,null,null,null,null,null,null,null,null,null,null,null,null,null,null,null,null,null,null,null,null,null,null,null,null,null,null,null,null,null,null,null,null,null,null,null,null,null,null,null,null,null,null,null,null,null,null,null,null,null,null,null,null,null,null,null,null,null,null,null,null,null,null,null,null,null,null,null,null,null,null,null,null,null,null,null,null,null,null,null,null,null,null,null,null,null,null,null,null,null,null,null,null,null,null,null,null,null,null,null,null,null,null,null,null,null,null,null,null,null,null,null,null,null,null,null,null,null,null,null,null,null,null,null,null,null,null,null,null,null,null,null,null,null,null,null,null,null,null,null,null,null,null,null,null,null,null,null,null,null,null,null,null,null,null,null,null,null,null,null,null,null,null,null,null,null,null,null,null,null,null,null,null,null,null,null,null,null,null,null,null,null,null,null,null,null,null,null,null,null,null,null,null,null,null,null,null,null,18600,18500,18600,18800,19200,19700,19800,19700,19600]
[null,null,null,null,null,null,null,null,null,null,null,null,null,null,null,null,null,null,null,null,null,null,null,null,null,null,null,null,null,null,null,null,null,null,null,null,null,null,null,null,null,null,null,null,null,null,null,null,null,null,null,null,null,null,null,null,null,null,null,null,null,null,null,null,null,null,null,null,null,null,null,null,null,null,null,null,null,null,null,null,null,null,null,null,null,null,null,null,null,null,null,null,null,null,null,null,null,null,null,null,null,null,null,null,null,null,null,null,null,null,null,null,null,null,null,null,null,null,null,null,null,null,null,null,null,null,null,null,null,null,null,null,null,null,null,null,null,null,null,null,null,null,null,null,null,null,null,null,null,null,null,null,null,null,null,null,null,null,null,null,null,null,null,null,null,null,null,null,null,null,null,null,null,null,null,null,null,null,null,null,null,null,null,null,null,null,null,null,null,null,null,null,null,null,null,null,null,null,null,null,null,null,null,null,null,null,null,null,null,53300,53500,53600,53800,54100,54700,53500,53500,53700]
[null,null,null,null,null,null,null,null,null,null,null,null,null,null,null,null,null,null,null,null,null,null,null,null,null,null,null,null,null,null,null,null,null,null,null,null,null,null,null,null,null,null,null,null,null,null,null,null,null,null,null,null,null,null,null,null,null,null,null,null,null,null,null,null,null,null,null,null,null,null,null,null,null,null,null,null,null,null,null,null,null,null,null,null,null,null,null,null,null,null,null,null,null,null,null,null,null,null,null,null,null,null,null,null,null,null,null,null,null,null,null,null,null,null,null,null,null,null,null,null,null,null,null,null,null,null,null,null,null,null,null,null,null,null,null,null,null,null,null,null,null,null,null,null,null,null,null,null,null,null,null,null,null,null,null,null,null,null,null,null,null,null,null,null,null,null,null,null,null,null,null,null,null,null,null,null,null,null,null,null,null,null,null,null,null,null,null,null,null,null,null,null,null,null,null,null,null,null,null,null,null,null,null,null,null,null,null,null,null,45700,45600,45800,46000,46300,47200,46900,46900,46300]
[null,null,null,null,null,null,null,null,null,null,null,null,null,null,null,null,null,null,null,null,null,null,null,null,null,null,null,null,null,null,null,null,null,null,null,null,null,null,null,null,null,null,null,null,null,null,null,null,null,null,null,null,null,null,null,null,null,null,null,null,null,null,null,null,null,null,null,null,null,null,null,null,null,null,null,null,null,null,null,null,null,null,null,null,null,null,null,null,null,null,null,null,null,null,null,null,null,null,null,null,null,null,null,null,null,null,null,null,null,null,null,null,null,null,null,null,null,null,null,null,null,null,null,null,null,null,null,null,null,null,null,null,null,null,null,null,null,null,null,null,null,null,null,null,null,null,null,null,null,null,null,null,null,null,null,null,null,null,null,null,null,null,null,null,null,null,null,null,null,null,null,null,null,null,null,null,null,null,null,null,null,null,null,null,null,null,null,null,null,null,null,null,null,null,null,null,null,null,null,null,null,null,null,null,null,null,null,null,null,2100,2100,2200,2300,2600,2800,2800,2800,2800]
[null,null,null,null,null,null,null,null,null,null,null,null,null,null,null,null,null,null,null,null,null,null,null,null,null,null,null,null,null,null,null,null,null,null,null,null,null,null,null,null,null,null,null,null,null,null,null,null,null,null,null,null,null,null,null,null,null,null,null,null,null,null,null,null,null,null,null,null,null,null,null,null,null,null,null,null,null,null,null,null,null,null,null,null,null,null,null,null,null,null,null,null,null,null,null,null,null,null,null,null,null,null,null,null,null,null,null,null,null,null,null,null,null,null,null,null,null,null,null,null,null,null,null,null,null,null,null,null,null,null,null,null,null,null,null,null,null,null,null,null,null,null,null,null,null,null,null,null,null,null,null,null,null,null,null,null,null,null,null,null,null,null,null,null,null,null,null,null,null,null,null,null,null,null,null,null,null,null,null,null,null,null,null,null,null,null,null,null,null,null,null,null,null,null,null,null,null,null,null,null,null,null,null,null,null,null,null,null,null,16500,16400,16400,16500,16600,16900,17000,16900,16800]
[null,null,null,null,null,null,null,null,null,null,null,null,null,null,null,null,null,null,null,null,null,null,null,null,null,null,null,null,null,null,null,null,null,null,null,null,null,null,null,null,null,null,null,null,null,null,null,null,null,null,null,null,null,null,null,null,null,null,null,null,null,null,null,null,null,null,null,null,null,null,null,null,null,null,null,null,null,null,null,null,null,null,null,null,null,null,null,null,null,null,null,null,null,null,null,null,null,null,null,null,null,null,null,null,null,null,null,null,null,null,null,null,null,null,null,null,null,null,null,null,null,null,null,null,null,null,null,null,null,null,null,null,null,null,null,null,null,null,null,null,null,null,null,null,null,null,null,null,null,null,null,null,null,null,null,null,null,null,null,null,null,null,null,null,null,null,null,null,null,null,null,null,null,null,null,null,null,null,null,null,null,null,null,null,null,null,null,null,null,null,null,null,null,null,null,null,null,null,null,null,null,null,null,null,null,null,null,null,null,14500,14300,14300,14500,14600,14900,14700,14800,14800]
[null,null,null,null,null,null,null,null,null,null,null,null,null,null,null,null,null,null,null,null,null,null,null,null,null,null,null,null,null,null,null,null,null,null,null,null,null,null,null,null,null,null,null,null,null,null,null,null,null,null,null,null,null,null,null,null,null,null,null,null,null,null,null,null,null,null,null,null,null,null,null,null,null,null,null,null,null,null,null,null,null,null,null,null,null,null,null,null,null,null,null,null,null,null,null,null,null,null,null,null,null,null,null,null,null,null,null,null,null,null,null,null,null,null,null,null,null,null,null,null,null,null,null,null,null,null,null,null,null,null,null,null,null,null,null,null,null,null,null,null,null,null,null,null,null,null,null,null,null,null,null,null,null,null,null,null,null,null,null,null,null,null,null,null,null,null,null,null,null,null,null,null,null,null,null,null,null,null,null,null,null,null,null,null,null,null,null,null,null,null,null,null,null,null,null,null,null,null,null,null,null,null,null,null,null,null,null,null,null,4300,4300,4300,4400,4400,4500,4500,4600,4500]
[null,null,null,null,null,null,null,null,null,null,null,null,null,null,null,null,null,null,null,null,null,null,null,null,null,null,null,null,null,null,null,null,null,null,null,null,null,null,null,null,null,null,null,null,null,null,null,null,null,null,null,null,null,null,null,null,null,null,null,null,null,null,null,null,null,null,null,null,null,null,null,null,null,null,null,null,null,null,null,null,null,null,null,null,null,null,null,null,null,null,null,null,null,null,null,null,null,null,null,null,null,null,null,null,null,null,null,null,null,null,null,null,null,null,null,null,null,null,null,null,null,null,null,null,null,null,null,null,null,null,null,null,null,null,null,null,null,null,null,null,null,null,null,null,null,null,null,null,null,null,null,null,null,null,null,null,null,null,null,null,null,null,null,null,null,null,null,null,null,null,null,null,null,null,null,null,null,null,null,null,null,null,null,null,null,null,null,null,null,null,null,null,null,null,null,null,null,null,null,null,null,null,null,null,null,null,null,null,null,7800,7700,7700,7700,7800,7900,7800,7800,7800]
[null,null,null,null,null,null,null,null,null,null,null,null,null,null,null,null,null,null,null,null,null,null,null,null,null,null,null,null,null,null,null,null,null,null,null,null,null,null,null,null,null,null,null,null,null,null,null,null,null,null,null,null,null,null,null,null,null,null,null,null,null,null,null,null,null,null,null,null,null,null,null,null,null,null,null,null,null,null,null,null,null,null,null,null,null,null,null,null,null,null,null,null,null,null,null,null,null,null,null,null,null,null,null,null,null,null,null,null,null,null,null,null,null,null,null,null,null,null,null,null,null,null,null,null,null,null,null,null,null,null,null,null,null,null,null,null,null,null,null,null,null,null,null,null,null,null,null,null,null,null,null,null,null,null,null,null,null,null,null,null,null,null,null,null,null,null,null,null,null,null,null,null,null,null,null,null,null,null,null,null,null,null,null,null,null,null,null,null,null,null,null,null,null,null,null,null,null,null,null,null,null,null,null,null,null,null,null,null,null,2400,2300,2300,2400,2400,2500,2400,2400,2500]
[null,null,null,null,null,null,null,null,null,null,null,null,null,null,null,null,null,null,null,null,null,null,null,null,null,null,null,null,null,null,null,null,null,null,null,null,null,null,null,null,null,null,null,null,null,null,null,null,null,null,null,null,null,null,null,null,null,null,null,null,null,null,null,null,null,null,null,null,null,null,null,null,null,null,null,null,null,null,null,null,null,null,null,null,null,null,null,null,null,null,null,null,null,null,null,null,null,null,null,null,null,null,null,null,null,null,null,null,null,null,null,null,null,null,null,null,null,null,null,null,null,null,null,null,null,null,null,null,null,null,null,null,null,null,null,null,null,null,null,null,null,null,null,null,null,null,null,null,null,null,null,null,null,null,null,null,null,null,null,null,null,null,null,null,null,null,null,null,null,null,null,null,null,null,null,null,null,null,null,null,null,null,null,null,null,null,null,null,null,null,null,null,null,null,null,null,null,null,null,null,null,null,null,null,null,null,null,null,null,400,400,400,400,400,400,400,400,400]
[null,null,null,null,null,null,null,null,null,null,null,null,null,null,null,null,null,null,null,null,null,null,null,null,null,null,null,null,null,null,null,null,null,null,null,null,null,null,null,null,null,null,null,null,null,null,null,null,null,null,null,null,null,null,null,null,null,null,null,null,null,null,null,null,null,null,null,null,null,null,null,null,null,null,null,null,null,null,null,null,null,null,null,null,null,null,null,null,null,null,null,null,null,null,null,null,null,null,null,null,null,null,null,null,null,null,null,null,null,null,null,null,null,null,null,null,null,null,null,null,null,null,null,null,null,null,null,null,null,null,null,null,null,null,null,null,null,null,null,null,null,null,null,null,null,null,null,null,null,null,null,null,null,null,null,null,null,null,null,null,null,null,null,null,null,null,null,null,null,null,null,null,null,null,null,null,null,null,null,null,null,null,null,null,null,null,null,null,null,null,null,null,null,null,null,null,null,null,null,null,null,null,null,null,null,null,null,null,null,5200,5200,5200,5200,5200,5300,5300,5300,5300]
[null,null,null,null,null,null,null,null,null,null,null,null,null,null,null,null,null,null,null,null,null,null,null,null,null,null,null,null,null,null,null,null,null,null,null,null,null,null,null,null,null,null,null,null,null,null,null,null,null,null,null,null,null,null,null,null,null,null,null,null,null,null,null,null,null,null,null,null,null,null,null,null,null,null,null,null,null,null,null,null,null,null,null,null,null,null,null,null,null,null,null,null,null,null,null,null,null,null,null,null,null,null,null,null,null,null,null,null,null,null,null,null,null,null,null,null,null,null,null,null,null,null,null,null,null,null,null,null,null,null,null,null,null,null,null,null,null,null,null,null,null,null,null,null,null,null,null,null,null,null,null,null,null,null,null,null,null,null,null,null,null,null,null,null,null,null,null,null,null,null,null,null,null,null,null,null,null,null,null,null,null,null,null,null,null,null,null,null,null,null,null,null,null,null,null,null,null,null,null,null,null,null,null,null,null,null,null,null,null,7100,7100,7200,7200,7300,7400,7400,7400,7300]
[null,null,null,null,null,null,null,null,null,null,null,null,null,null,null,null,null,null,null,null,null,null,null,null,null,null,null,null,null,null,null,null,null,null,null,null,null,null,null,null,null,null,null,null,null,null,null,null,null,null,null,null,null,null,null,null,null,null,null,null,null,null,null,null,null,null,null,null,null,null,null,null,null,null,null,null,null,null,null,null,null,null,null,null,null,null,null,null,null,null,null,null,null,null,null,null,null,null,null,null,null,null,null,null,null,null,null,null,null,null,null,null,null,null,null,null,null,null,null,null,null,null,null,null,null,null,null,null,null,null,null,null,null,null,null,null,null,null,null,null,null,null,null,null,null,null,null,null,null,null,null,null,null,null,null,null,null,null,null,null,null,null,null,null,null,null,null,null,null,null,null,null,null,null,null,null,null,null,null,null,null,null,null,null,null,null,null,null,null,null,null,null,null,null,null,null,null,null,null,null,null,null,null,null,null,null,null,null,null,9900,9900,9900,9900,9900,10000,9900,9900,9900]
[null,null,null,null,null,null,null,null,null,null,null,null,null,null,null,null,null,null,null,null,null,null,null,null,null,null,null,null,null,null,null,null,null,null,null,null,null,null,null,null,null,null,null,null,null,null,null,null,null,null,null,null,null,null,null,null,null,null,null,null,null,null,null,null,null,null,null,null,null,null,null,null,null,null,null,null,null,null,null,null,null,null,null,null,null,null,null,null,null,null,null,null,null,null,null,null,null,null,null,null,null,null,null,null,null,null,null,null,null,null,null,null,null,null,null,null,null,null,null,null,null,null,null,null,null,null,null,null,null,null,null,null,null,null,null,null,null,null,null,null,null,null,null,null,null,null,null,null,null,null,null,null,null,null,null,null,null,null,null,null,null,null,null,null,null,null,null,null,null,null,null,null,null,null,null,null,null,null,null,null,null,null,null,null,null,null,null,null,null,null,null,null,null,null,null,null,null,null,null,null,null,null,null,null,null,null,null,null,null,5500,5500,5600,5600,5700,5900,5900,5900,5500]
[null,null,null,null,null,null,null,null,null,null,null,null,null,null,null,null,null,null,null,null,null,null,null,null,null,null,null,null,null,null,null,null,null,null,null,null,null,null,null,null,null,null,null,null,null,null,null,null,null,null,null,null,null,null,null,null,null,null,null,null,null,null,null,null,null,null,null,null,null,null,null,null,null,null,null,null,null,null,null,null,null,null,null,null,null,null,null,null,null,null,null,null,null,null,null,null,null,null,null,null,null,null,null,null,null,null,null,null,null,null,null,null,null,null,null,null,null,null,null,null,null,null,null,null,null,null,null,null,null,null,null,null,null,null,null,null,null,null,null,null,null,null,null,null,null,null,null,null,null,null,null,null,null,null,null,null,null,null,null,null,null,null,null,null,null,null,null,null,null,null,null,null,null,null,null,null,null,null,null,null,null,null,null,null,null,null,null,null,null,null,null,null,null,null,null,null,null,null,null,null,null,null,null,null,null,null,null,null,null,3100,3200,3200,3200,3200,3300,3300,3200,3100]
[null,null,null,null,null,null,null,null,null,null,null,null,null,null,null,null,null,null,null,null,null,null,null,null,null,null,null,null,null,null,null,null,null,null,null,null,null,null,null,null,null,null,null,null,null,null,null,null,null,null,null,null,null,null,null,null,null,null,null,null,null,null,null,null,null,null,null,null,null,null,null,null,null,null,null,null,null,null,null,null,null,null,null,null,null,null,null,null,null,null,null,null,null,null,null,null,null,null,null,null,null,null,null,null,null,null,null,null,null,null,null,null,null,null,null,null,null,null,null,null,null,null,null,null,null,null,null,null,null,null,null,null,null,null,null,null,null,null,null,null,null,null,null,null,null,null,null,null,null,null,null,null,null,null,null,null,null,null,null,null,null,null,null,null,null,null,null,null,null,null,null,null,null,null,null,null,null,null,null,null,null,null,null,null,null,null,null,null,null,null,null,null,null,null,null,null,null,null,null,null,null,null,null,null,null,null,null,null,null,7600,7900,7800,7800,7800,7500,6600,6600,7400]
[null,null,null,null,null,null,null,null,null,null,null,null,null,null,null,null,null,null,null,null,null,null,null,null,null,null,null,null,null,null,null,null,null,null,null,null,null,null,null,null,null,null,null,null,null,null,null,null,null,null,null,null,null,null,null,null,null,null,null,null,null,null,null,null,null,null,null,null,null,null,null,null,null,null,null,null,null,null,null,null,null,null,null,null,null,null,null,null,null,null,null,null,null,null,null,null,null,null,null,null,null,null,null,null,null,null,null,null,null,null,null,null,null,null,null,null,null,null,null,null,null,null,null,null,null,null,null,null,null,null,null,null,null,null,null,null,null,null,null,null,null,null,null,null,null,null,null,null,null,null,null,null,null,null,null,null,null,null,null,null,null,null,null,null,null,null,null,null,null,null,null,null,null,null,null,null,null,null,null,null,null,null,null,null,null,null,null,null,null,null,null,null,null,null,null,null,null,null,null,null,null,null,null,null,null,null,null,null,null,400,400,400,400,400,400,400,400,400]
[null,null,null,null,null,null,null,null,null,null,null,null,null,null,null,null,null,null,null,null,null,null,null,null,null,null,null,null,null,null,null,null,null,null,null,null,null,null,null,null,null,null,null,null,null,null,null,null,null,null,null,null,null,null,null,null,null,null,null,null,null,null,null,null,null,null,null,null,null,null,null,null,null,null,null,null,null,null,null,null,null,null,null,null,null,null,null,null,null,null,null,null,null,null,null,null,null,null,null,null,null,null,null,null,null,null,null,null,null,null,null,null,null,null,null,null,null,null,null,null,null,null,null,null,null,null,null,null,null,null,null,null,null,null,null,null,null,null,null,null,null,null,null,null,null,null,null,null,null,null,null,null,null,null,null,null,null,null,null,null,null,null,null,null,null,null,null,null,null,null,null,null,null,null,null,null,null,null,null,null,null,null,null,null,null,null,null,null,null,null,null,null,null,null,null,null,null,null,null,null,null,null,null,null,null,null,null,null,null,400,400,400,400,400,300,300,300,300]
[null,null,null,null,null,null,null,null,null,null,null,null,null,null,null,null,null,null,null,null,null,null,null,null,null,null,null,null,null,null,null,null,null,null,null,null,null,null,null,null,null,null,null,null,null,null,null,null,null,null,null,null,null,null,null,null,null,null,null,null,null,null,null,null,null,null,null,null,null,null,null,null,null,null,null,null,null,null,null,null,null,null,null,null,null,null,null,null,null,null,null,null,null,null,null,null,null,null,null,null,null,null,null,null,null,null,null,null,null,null,null,null,null,null,null,null,null,null,null,null,null,null,null,null,null,null,null,null,null,null,null,null,null,null,null,null,null,null,null,null,null,null,null,null,null,null,null,null,null,null,null,null,null,null,null,null,null,null,null,null,null,null,null,null,null,null,null,null,null,null,null,null,null,null,null,null,null,null,null,null,null,null,null,null,null,null,null,null,null,null,null,null,null,null,null,null,null,null,null,null,null,null,null,null,null,null,null,null,null,6800,7100,7000,7000,7000,6800,5900,5900,6700]

{"sheet":"SA","index":8,"n_rows":34,"n_cols":218,"rows_kept":34,"cut":false,"hidden":false,"merged":[]}
["BMRK YR","ST","AREA","INDUSTRY TITLE","SERIES","2000-01-01","2000-02-01","2000-03-01","2000-04-01","2000-05-01","2000-06-01","2000-07-01","2000-08-01","2000-09-01","2000-10-01","2000-11-01","2000-12-01","2001-01-01","2001-02-01","2001-03-01","2001-04-01","2001-05-01","2001-06-01","2001-07-01","2001-08-01","2001-09-01","2001-10-01","2001-11-01","2001-12-01","2002-01-01","2002-02-01","2002-03-01","2002-04-01","2002-05-01","2002-06-01","2002-07-01","2002-08-01","2002-09-01","2002-10-01","2002-11-01","2002-12-01","2003-01-01","2003-02-01","2003-03-01","2003-04-01","2003-05-01","2003-06-01","2003-07-01","2003-08-01","2003-09-01","2003-10-01","2003-11-01","2003-12-01","2004-01-01","2004-02-01","2004-03-01","2004-04-01","2004-05-01","2004-06-01","2004-07-01","2004-08-01","2004-09-01","2004-10-01","2004-11-01","2004-12-01","2005-01-01","2005-02-01","2005-03-01","2005-04-01","2005-05-01","2005-06-01","2005-07-01","2005-08-01","2005-09-01","2005-10-01","2005-11-01","2005-12-01","2006-01-01","2006-02-01","2006-03-01","2006-04-01","2006-05-01","2006-06-01","2006-07-01","2006-08-01","2006-09-01","2006-10-01","2006-11-01","2006-12-01","2007-01-01","2007-02-01","2007-03-01","2007-04-01","2007-05-01","2007-06-01","2007-07-01","2007-08-01","2007-09-01","2007-10-01","2007-11-01","2007-12-01","2008-01-01","2008-02-01","2008-03-01","2008-04-01","2008-05-01","2008-06-01","2008-07-01","2008-08-01","2008-09-01","2008-10-01","2008-11-01","2008-12-01","2009-01-01","2009-02-01","2009-03-01","2009-04-01","2009-05-01","2009-06-01","2009-07-01","2009-08-01","2009-09-01","2009-10-01","2009-11-01","2009-12-01","2010-01-01","2010-02-01","2010-03-01","2010-04-01","2010-05-01","2010-06-01","2010-07-01","2010-08-01","2010-09-01","2010-10-01","2010-11-01","2010-12-01","2011-01-01","2011-02-01","2011-03-01","2011-04-01","2011-05-01","2011-06-01","2011-07-01","2011-08-01","2011-09-01","2011-10-01","2011-11-01","2011-12-01","2012-01-01","2012-02-01","2012-03-01","2012-04-01","2012-05-01","2012-06-01","2012-07-01","2012-08-01","2012-09-01","2012-10-01","2012-11-01","2012-12-01","2013-01-01","2013-02-01","2013-03-01","2013-04-01","2013-05-01","2013-06-01","2013-07-01","2013-08-01","2013-09-01","2013-10-01","2013-11-01","2013-12-01","2014-01-01","2014-02-01","2014-03-01","2014-04-01","2014-05-01","2014-06-01","2014-07-01","2014-08-01","2014-09-01","2014-10-01","2014-11-01","2014-12-01","2015-01-01","2015-02-01","2015-03-01","2015-04-01","2015-05-01","2015-06-01","2015-07-01","2015-08-01","2015-09-01","2015-10-01","2015-11-01","2015-12-01","2016-01-01","2016-02-01","2016-03-01","2016-04-01","2016-05-01","2016-06-01","2016-07-01","2016-08-01","2016-09-01","2016-10-01","2016-11-01","2016-12-01","2017-01-01","2017-02-01","2017-03-01","2017-04-01","2017-05-01","2017-06-01","2017-07-01","2017-08-01","2017-09-01"]
["2016-1","State",0,"Total Nonfarm",0,2812200,2820000,2830700,2836800,2833100,2839300,2834800,2839500,2834500,2835800,2842200,2831300,2834200,2841200,2834100,2828900,2824200,2815200,2811500,2808600,2801500,2792700,2785400,2776800,2782900,2782000,2781000,2779900,2779200,2778300,2776100,2778500,2773800,2785400,2788600,2780400,2774100,2777200,2771200,2773900,2773400,2772100,2760500,2760300,2766200,2777100,2775600,2777700,2780800,2785100,2788500,2790000,2796000,2799600,2808700,2815900,2807000,2817200,2818200,2816900,2818200,2824900,2827200,2836200,2831700,2828100,2837200,2839900,2846000,2842900,2845400,2849700,2849300,2853000,2855200,2862300,2855300,2862800,2861000,2861200,2864200,2862400,2862900,2865400,2870500,2868900,2873400,2873100,2878700,2887500,2881200,2880200,2879000,2873200,2872600,2877600,2882800,2881800,2878600,2874100,2876900,2874500,2872300,2867700,2869800,2858000,2849200,2834700,2808900,2792200,2770800,2748000,2748000,2735200,2723600,2716400,2714500,2714700,2711700,2710400,2710200,2710000,2712000,2722500,2725200,2723500,2727000,2729800,2728000,2737600,2738900,2736400,2740700,2742600,2745100,2748900,2749300,2746500,2760200,2756600,2759300,2755100,2755500,2761500,2757200,2763300,2778100,2786300,2783900,2783700,2774300,2779000,2784200,2788800,2796500,2793500,2784700,2803800,2804600,2795600,2804400,2807900,2807100,2814500,2820300,2820600,2823400,2826300,2831400,2832700,2836200,2843100,2845700,2852200,2852100,2864400,2862200,2863600,2875800,2870000,2874900,2877800,2882100,2882900,2888100,2890800,2893700,2896600,2896600,2901300,2901600,2907900,2918400,2922600,2923000,2924300,2916700,2916800,2928200,2929100,2923800,2930100,2933800,2934300,2939700,2950800,2947100,2960200,2956500,2951100,2956900,2949800,2958400]
["2016-1","State",0,"Total Private",5000000,2409200,2418600,2426700,2430300,2426000,2427000,2427600,2430500,2431800,2432100,2435200,2427600,2428300,2428700,2422100,2416400,2410700,2400100,2396800,2392800,2384800,2375300,2369800,2361200,2369900,2366200,2364500,2364500,2364200,2366000,2364800,2366600,2364800,2365500,2366800,2363300,2365000,2361100,2355100,2357800,2359700,2352600,2349400,2348300,2362500,2364200,2364900,2367000,2372400,2373400,2376400,2380100,2385200,2386100,2395800,2401900,2396600,2403600,2403400,2405000,2401500,2408700,2413000,2421600,2417500,2415300,2423000,2426000,2427600,2426800,2431300,2432900,2433600,2438400,2439700,2446900,2441500,2445900,2445200,2445300,2446100,2448000,2447900,2450900,2456300,2455900,2459600,2458100,2462800,2467000,2464100,2461800,2457800,2457400,2458600,2460000,2462100,2462300,2460200,2457000,2456900,2455000,2450300,2447000,2438100,2433000,2420700,2409800,2386100,2368700,2347800,2325700,2324300,2314500,2302400,2297700,2297600,2294800,2293400,2290100,2290900,2292700,2293900,2300800,2299500,2300600,2307800,2312400,2309800,2318800,2319100,2321600,2323600,2324000,2326400,2333000,2331800,2331900,2341100,2342600,2347100,2346100,2349000,2350600,2355800,2359100,2367500,2372200,2365700,2371100,2364400,2366200,2373400,2377100,2380600,2382200,2384100,2390900,2393900,2386400,2395800,2399000,2397400,2405200,2408400,2409100,2413800,2415600,2419600,2423700,2426000,2432300,2435300,2441200,2440300,2447000,2449200,2451800,2459400,2458800,2465000,2466900,2471700,2472600,2478800,2481300,2485200,2488500,2488400,2493300,2496800,2498900,2508300,2512600,2513200,2513800,2509200,2506900,2515400,2514500,2514400,2514500,2513300,2516100,2526500,2534800,2535600,2541600,2539000,2540300,2539800,2537300,2543200]
["2016-1","State",0,"Goods Producing",6000000,723900,726800,728600,728700,725300,725000,722900,721900,721000,720300,719200,714000,711600,709000,704000,699200,695000,689700,687700,684300,681300,675900,670900,667500,665000,661500,659600,658300,657100,656700,654900,654600,654200,653000,653200,648900,642900,639200,635500,634200,634400,631600,629500,627200,627600,627600,627100,627300,628400,629300,630500,632000,633300,631400,634600,636000,635700,635500,636100,636900,632100,636800,636700,637200,636400,636000,637800,637400,636500,636100,636300,635600,638600,639000,638800,640800,638400,640100,638500,637700,636100,634400,632000,633100,633700,631900,633600,632600,633800,633600,632600,630800,628200,627400,627100,625900,625800,625800,624800,621700,620900,620500,615700,612600,608500,605600,600000,593100,581200,570200,558900,546400,540800,534000,528400,526400,529800,527000,525700,524500,523000,523400,524700,527600,526800,527500,529100,530200,530700,531500,531500,532200,533300,535000,536300,539300,540500,540500,543000,543900,544100,543300,544900,546200,547700,549400,551600,554800,551400,552900,552700,552300,553300,554900,554500,557100,557700,559400,558900,555200,558800,559300,558500,560100,561000,562400,563400,562400,564700,565900,566800,568600,570700,572000,574000,575200,576400,577000,577900,578800,579900,581000,580800,581100,581400,581300,581200,580500,580200,580100,580700,581600,581800,582000,582900,581700,580200,579100,579200,579200,579000,581500,581000,584900,586600,586900,585900,591500,590700,588600,591000,590900,593300]
["2016-1","State",0,"Service-Providing",7000000,2088300.0000000002,2093199.9999999998,2102100,2108100,2107800,2114300,2111900,2117600,2113500,2115500,2123000,2117300,2122600,2132200,2130100,2129700,2129200,2125500,2123800,2124300,2120200,2116800,2114500,2109300,2117900,2120500,2121400,2121600,2122100,2121600,2121200,2123900,2119600,2132400,2135400,2131500,2131200,2138000,2135700,2139700,2139000,2140500,2131000,2133100,2138600,2149500,2148500,2150400,2152400,2155800,2158000,2158000,2162700,2168200,2174100,2179900,2171300,2181700,2182100,2180000,2186100,2188100,2190500,2199000,2195300,2192100,2199400,2202500,2209500,2206800,2209100,2214100,2210700,2214000,2216400,2221500,2216900,2222700,2222500,2223500,2228100,2228000,2230900,2232300,2236800,2237000,2239800,2240500,2244900,2253900,2248600,2249400,2250800,2245800,2245500,2251700,2257000,2256000,2253800,2252400,2256000,2254000,2256600,2255100,2261300,2252400,2249200,2241600,2227700,2222000,2211900,2201600,2207200,2201200,2195200,2190000,2184700,2187700,2186000,2185900,2187200,2186600,2187300,2194900,2198400,2196000,2197900,2199600,2197300,2206100,2207400,2204200,2207400,2207600,2208800,2209600,2208800,2206000,2217200,2212700,2215200,2211800,2210600,2215300,2209500,2213900,2226500,2231500,2232500,2230800,2221600,2226700,2230900,2233900,2242000,2236400,2227000,2244400,2245700,2240400,2245600,2248600,2248600,2254400,2259300,2258200,2260000,2263900,2266700,2266800,2269400,2274500,2275000,2280200,2278100,2289200,2285800,2286600,2297900,2291200,2295000,2296800,2301300,2301800,2306700,2309500,2312500,2316100,2316400,2321200,2320900,2326300,2336600,2340600,2340100,2342600,2336500,2337700,2349000,2349900,2344800,2348600,2352800,2349400,2353100,2363900,2361200,2368700,2365800,2362500,2365900,2358900,2365100]
["2016-1","State",0,"Private Service Providing",8000000,1685300,1691800,1698100,1701600,1700700,1702000,1704700,1708600,1710800,1711800,1716000,1713600,1716700,1719700,1718100,1717200,1715700,1710400,1709100,1708500,1703500,1699400,1698900,1693700,1704900,1704700,1704900,1706200,1707100,1709300,1709900,1712000,1710600,1712500,1713600,1714400,1722100,1721900,1719600,1723600,1725300,1721000,1719900,1721100,1734900,1736600,1737800,1739700,1744000,1744100,1745900,1748100,1751900,1754700,1761200,1765900,1760900,1768100,1767300,1768100,1769400,1771900,1776300,1784400,1781100,1779300,1785200,1788600,1791100,1790700,1795000,1797300,1795000,1799400,1800900,1806100,1803100,1805800,1806700,1807600,1810000,1813600,1815900,1817800,1822600,1824000,1826000,1825500,1829000,1833400,1831500,1831000,1829600,1830000,1831500,1834100,1836300,1836500,1835400,1835300,1836000,1834500,1834600,1834400,1829600,1827400,1820700,1816700,1804900,1798500,1788900,1779300,1783500,1780500,1774000,1771300,1767800,1767800,1767700,1765600,1767900,1769300,1769200,1773200,1772700,1773100,1778700,1782200,1779100,1787300,1787600,1789400,1790300,1789000,1790100,1793700,1791300,1791400,1798100,1798700,1803000,1802800,1804100,1804400,1808100,1809700,1815900,1817400,1814300,1818200,1811700,1813900,1820100,1822200,1826100,1825100,1826400,1831500,1835000,1831200,1837000,1839700,1838900,1845100,1847400,1846700,1850400,1853200,1854900,1857800,1859200,1863700,1864600,1869200,1866300,1871800,1872800,1874800,1881500,1880000,1885100,1885900,1890900,1891500,1897400,1900000,1904000,1908000,1908200,1913200,1916100,1917300,1926500,1930600,1930300,1932100,1929000,1927800,1936200,1935300,1935400,1933000,1932300,1931200,1939900,1947900,1949700,1950100,1948300,1951700,1948800,1946400,1949900]
["2016-1","State",0,"Mining and Logging",10000000,4200,4200,4200,4200,4100,4000,4000,4000,4000,3900,4000,3800,3900,3900,3900,3900,3900,3900,3900,3900,3900,3900,3900,3900,3900,3800,3800,3800,3900,3800,3800,3800,3900,3800,3800,3800,3900,3700,3700,3700,3800,3800,3700,3700,3800,3700,3800,3800,3800,3800,3800,3800,3800,3800,3800,3800,3800,3900,4000,4000,3900,3900,4000,3900,3900,4000,4000,4000,4000,3900,4000,3900,4000,4000,4000,4000,4000,4000,3900,3900,3900,3900,3800,3800,3800,3800,3800,3800,3700,3600,3700,3600,3600,3600,3600,3400,3500,3500,3400,3400,3300,3400,3400,3400,3400,3300,3300,3200,3200,3100,3000,2900,3000,2900,3000,3000,3000,3000,2900,3000,2900,2900,2900,3000,3000,2900,3000,3000,2900,3000,2900,2900,3000,3000,3000,2900,2900,3100,3000,3000,3100,3200,3300,3300,3300,3400,3500,3600,3500,3500,3500,3500,3500,3500,3500,3600,3600,3600,3500,3600,3700,3700,3700,3800,3800,3800,3800,3800,3800,3900,3800,4000,4000,4000,4100,4200,4200,4300,4300,4400,4300,4400,4300,4300,4300,4200,4100,4100,4000,4000,4000,4000,3900,3900,3900,3800,3800,3700,3700,3700,3600,3700,3800,3700,3900,4000,3900,3900,4000,4000,4000,3900,3900]
["2016-1","State",0,"Mining, Logging and Construction",null,127500,128000,129900,131700,130000,129600,129000,129600,128900,128400,128100,126400,128800.00000000001,130100,128800.00000000001,128199.99999999999,129000,128800.00000000001,129800.00000000001,130199.99999999999,130100,129900,129300.00000000001,128900,128100,127900,126800,127800,127600,128000,128300.00000000001,128100,128400,128500,129199.99999999999,127400,128199.99999999999,126900,125600,125800,128100,128300.00000000001,127600,127900,128500,128900,129000,129800.00000000001,129699.99999999999,129500,130100,130500,130199.99999999999,130199.99999999999,131000,131000,130900,130800.00000000001,131300,131500,130900,131300,131100,131700,131200,131000,131800,131600,131600,131400,131900,131200,133200,133700,132500,134100,131800,132500,131100,130900,130199.99999999999,129600,128500,130000,131100,129100,131700,130300.00000000001,130800.00000000001,130199.99999999999,129800.00000000001,129500,128900,129000,128600,127300,126200,125500,124800,122900,122900,122900,122300,121600,120500,119200,117000,114900,111700,110800,108100,105700,105700,104400,103400,102200,101900,101200,100600,99900,99400,98800,98200,99900,97200,96800,96600,96800,96700,97700,96500,96000,96000,95600,95500,95300,95500,95600,96100,96100,96200,95900,96300,96300,96400,97000,97900,100100,96200,96000,95600,95400,96200,97400,97400,99600,100400,101800,101300,98800,102000,102100,102600,103600,103800,104000,104200,103000,104200,104800,105400,105600,106300,107700,108200,109000,109900,110200,110600,110700,111900,112000,112300,113300,114000,114000,114000,113800,113500,113800,114400,115300,115400,116100,117300,116200,115400,115000,115300,115600,115700,114400,114800,116500,118500,117800,118000,119400,118600,116200,116700,116200,117400]
["2016-1","State",0,"Construction",20000000,123300,123800,125700,127500,125900,125600,125000,125600,124900,124500,124100,122600,124900,126200,124900,124300,125100,124900,125900,126300,126200,126000,125400,125000,124200,124100,123000,124000,123700,124200,124500,124300,124500,124700,125400,123600,124300,123200,121900,122100,124300,124500,123900,124200,124700,125200,125200,126000,125900,125700,126300,126700,126400,126400,127200,127200,127100,126900,127300,127500,127000,127400,127100,127800,127300,127000,127800,127600,127600,127500,127900,127300,129199.99999999999,129699.99999999999,128500,130100,127800,128500,127200,127000,126300,125700,124700,126200,127300,125300,127900,126500,127100,126600,126100,125900,125300,125400,125000,123900,122700,122000,121400,119500,119600,119500,118900,118200,117100,115900,113700,111700,108500,107700,105100,102800,102700,101500,100400,99200,98900,98200,97700,96900,96500,95900,95300,96900,94200,93900,93600,93800,93800,94700,93600,93100,93000,92600,92500,92400,92600,92500,93100,93100,93100,92700,93000,93000,93100,93600,94400,96500,92700,92500,92100,91900,92700,93900,93900,96000,96800,98200,97800,95200,98300,98400,98900,99800,100000,100200,100400,99200,100400,100900,101600,101600,102300,103700,104100,104800,105700,105900,106300,106300,107600,107600,108000,109000,109700,109800,109900,109700,109500,109800,110400,111300,111500,112200,113400,112400,111600,111300,111600,111900,112100,110700,111000,112800,114600,113800,114100,115500,114600,112200,112700,112300,113500]
["2016-1","State",0,"Manufacturing",30000000,596400,598800,598700,597000,595300,595400,593900,592300,592100,591900,591100,587600,582800,578900,575200,571000,566000,560900,557900,554100,551200,546000,541600,538600,536900,533600,532800,530500,529500,528700,526600,526500,525800,524500,524000,521500,514700.00000000006,512299.99999999994,509900,508400,506300,503300,501900,499300,499100,498700,498100,497500,498700,499800,500400,501500,503100,501200,503600,505000,504800,504700,504800,505400,501200,505500,505600,505500,505200,505000,506000,505800,504900,504700,504400,504400,505400,505300,506300,506700,506600,507600,507400,506800,505900,504800,503500,503100,502600,502800,501900,502300,503000,503400,502800,501300,499300,498400,498500,498600,499600,500300,500000,498800,498000,497600,493400,491000,488000,486400,483000,478200,469500,459400,450800,440700,435100,429600,425000,424200,427900,425800,425100,424600,423600,424600,426500,427700,429600,430700,432500,433400,434000,433800,435000,436200,437300,439400,440800,444000,445000,444900,446900,447800,447900,447400,448600,449900,451300,452400,453700,454700,455200,456900,457100,456900,457100,457500,457100,457500,457300,457600,457600,456400,456800,457200,455900,456500,457200,458400,459200,459400,460500,461100,461400,463000,464400,464300,465800,466200,466500,466800,467300,468100,468000,469000,468500,467800,467400,467300,467200,466700,466700,466300,466300,466300,466400,465900,465600,465500,464800,464100,463900,463600,463300,467100,466200,468400,468100,469100,467900,472100,472100,472400,474300,474700,475900]
["2016-1","State",0,"Durable Goods",31000000,375400,377300,376700,376000,374400,374000,373300,372300,372400,372000,370900,368700,365400,362400,359700,354800,351600,347900,345300,342500,340300,335800,332500,330300,328800,327200,326500,324800,324500,324200,323000,323000,322500,321100,320500,318500,317900,315600,314100,313400,311700,309800,308200,306100,306400,306800,306800,306600,307600,308700,309300,310000,311600,310500,313100,314600,314500,314500,315200,316000,312200,316800,317100,317600,317300,317400,317700,318100,317500,317600,317200,317200,318400,318500,319700,319900,320300,321300,321100,321000,320300,319300,318200,317900,317100,317200,316300,317300,317500,317000,316700,315700,314000,313300,313100,313000,313900,314400,314300,313300,312900,312300,310200,307900,305600,303800,301500,297700,290600,282200,274900,266400,261899.99999999997,257399.99999999997,254700,253200,255800,255100,254200,253700,252800,253700,255300,256300,257600.00000000003,258100.00000000003,258899.99999999997,260300,261000,260899.99999999997,261700,263100,263900,265900,267000,269200,269900,270500,272000,272300,272300,272000,273200,274200,275600,276600,277900,278300,278900,280300,280400,280100,280000,280200,279800,280000,279900,280000,280000,279100,279400,279700,278200,278500,278900,279700,280100,280100,280600,280500,280800,282300,283500,283600,284300,284400,284600,285000,285400,286200,285900,286300,286200,285400,284700,284700,284400,284100,283700,282900,282600,282200,282200,281700,281200,280900,280400,279800,279600,279400,279200,280200,279900,282200,282000,282300,281800,283600,283100,284000,285000,285900,286400]
["2016-1","State",0,"Non-Durable Goods",32000000,221000,221500,222000,221000,220900,221400,220600,220000,219700,219900,220200,218900,217400,216500,215500,216200,214400,213000,212600,211600,210900,210200,209100,208300,208100,206400,206300,205700,205000,204500,203600,203500,203300,203400,203500,203000,196800,196700,195800,195000,194600,193500,193700,193200,192700,191900,191300,190900,191100,191100,191100,191500,191500,190700,190500,190400,190300,190200,189600,189400,189000,188700,188500,187900,187900,187600,188300,187700,187400,187100,187200,187200,187000,186800,186600,186800,186300,186300,186300,185800,185600,185500,185300,185200,185500,185600,185600,185000,185500,186400,186100,185600,185300,185100,185400,185600,185700,185900,185700,185500,185100,185300,183200,183100,182400,182600,181500,180500,178900,177200,175900,174300,173200,172200,170300,171000,172100,170700,170900,170900,170800,170900,171200,171400,172000,172600,173600,173100,173000,172900,173300,173100,173400,173500,173800,174800,175100,174400,174900,175500,175600,175400,175400,175700,175700,175800,175800,176400,176300,176600,176700,176800,177100,177300,177300,177500,177400,177600,177600,177300,177400,177500,177700,178000,178300,178700,179100,179300,179900,180600,180600,180700,180900,180700,181500,181800,181900,181800,181900,181900,182100,182700,182300,182400,182700,182600,182800,182600,183000,183400,183700,184100,184200,184200,184400,184600,184400,184300,184300,184200,184100,186900,186300,186200,186100,186800,186100,188500,189000,188400,189300,188800,189500]
["2016-1","State",0,"Trade, Transportation, and Utilities",40000000,549100,549900,551300,553100,551600,550200,552400,553200,555200,556800,556700,556300,557100,555500,553800,552800,551700,548900,546400,546200,543300,540900,539900,537700,540700,540000,539600,537100,536900,536000,535900,534600,534600,534300,535500,535200,535800,536200,533900,536500,536500,537200,535200,535100,537100,536900,536400,537500,536900,536700,536800,537000,538600,539600,541100,541200,539900,540300,540700,540100,539500,540600,541100,543200,542700,540800,543000,544300,544100,546700,546800,547800,543300,544400,544700,545000,544100,544800,543600,544300,544400,544600,546200,547400,548400,548400,548500,546400,548600,548900,547900,546400,545900,545300,545500,545300,547000,545800,545300,544800,543300,541700,541600,540800,538000,535600,532900,530800,527500,525400,522000,518600,519600,518700.00000000006,516000,514900,513100,512100,510300,508500,508400,507900,508200,507900,508000,507600,508300,508000,507200,510100,508700,508900,509000,509000,509400,511000,509000,508500,511000,511500,512400,512200.00000000006,512500,512299.99999999994,512700.00000000006,512200.00000000006,512299.99999999994,511400,511300,511500,510500,511000,511900,513000,514200.00000000006,514100,514799.99999999994,516000,515799.99999999994,516500,517200.00000000006,517400,517600,518500,518200.00000000006,518799.99999999994,518600,520500,521100,522100,523299.99999999994,525300,524500,524700,525000,525000,524800,524700,526800,526300,527100,527000,528600,527800,529500,530400,533400,534600,535300,535800,535400,533900,538200,539700,539800,541000,539900,539800,541600,541500,541400,538200,537900,535800,541800,544200,543700,543200,543900,544100,541600,541000,546100]
["2016-1","State",0,"Wholesale Trade",41000000,115300,115600,116000,115700,115600,115700,116100,116200,116300,116400,116700,116800,116700,116800,116700,115900,116300,116100,115700,115600,115200,115300,114800,114600,114500,114400,114500,114500,114600,114400,114500,114300,114200,113500,113600,113200,112600,112900,112700,113100,113000,113200,112500,112800,113000,113300,113200,113500,113600,113700,113900,113500,113600,113700,114700,115600,115000,115600,116000,116200,116400,116600,116400,117500,117800,117700,118000,118200,118500,118800,119100,119500,119900,120200,120400,120500,120500,120900,121000,121100,121300,121300,121300,121500,121500,121800,121700,121800,122000,122300,122400,122200,122200,122200,122400,122500,122600,122500,122600,122600,122700,122500,122300,122300,121500,120700,120500,119700,119300,118600,117800,115900,115900,115200,114400,113900,113500,113600,113100,112800,112400,112200,112200,112400,112300,112000,112700,113000,112400,113300,113300,113400,113500,113700,113800,114200,114300,114200,115300,115400,115600,115800,115900,116100,116400,116500,117000,117000,116700,116800,116500,116500,116700,116800,117000,117200,118600,118700,118600,118600,118800,118700,118700,118900,118900,118900,119000,119100,119100,119300,119800,119800,119800,120000,120100,120500,120300,120100,120300,120500,121100,121000,121200,121500,122100,122200,122500,122700,122500,123100,123300,123400,123600,123700,123800,123800,123700,123500,124100,124200,124400,124200,124000,123400,125200,125500,127300,128700,128100,128100,125900,127000,128900]
["2016-1","State",0,"Retail Trade",42000000,328900,329500,330300,332000,330600,329600,330600,331200,332700,333600,333200,332600,330200,328800,327800,327700,326300,324300,322500,322700,320900,319200,318800,317000,320800,320800,320300,318000,317400,317500,317600,316800,316400,316500,317200,317500,318200,318100,316100,318000,318100,317800,317300,317400,318300,317900,317500,318300,317700,317300,317000,317400,318300,318900,318900,318200,317700,316500,316400,315900,315100,316000,316300,317100,316500,314800,316300,317200,316700,319700,318900,319200,313700,314300,314300,314600,313700,313700,312800,313200,312800,313300,315000,315400,316600,316200,316500,314600,316100,315400,315700,313800,313400,312700,312400,312200,313600,312800,312600,312600,311400,310600,310900,310400,309100,307700,305500,304700,302700,301800,299900,298400,298800,298500,297600,296900,295900,295400,294600,293500,293800,293300,293700,293000,293500,293200,293200,293200,293200,294900,293800,293900,294000,294100,294500,295900,294000,293700,294900,295300,295900,295700,295900,295600,295800,295300,295200,294700,294200,294200,293400,294200,294600,295700,296900,296500,295900,296900,296600,297600,298200,299000,299000,299400,299400,299800,299400,301300,301500,301900,302600,304000,303400,303400,303600,303200,303000,302900,303900,303000,303500,303500,304500,303600,304300,304500,305300,305900,306600,306400,305700,303700,308100,309300,309500,310600,309500,309400,310300,310100,309900,306900,306700,304900,309700,311800,310100,308000,309100,309700,308400,307300,307700]
["2016-1","State",0,"Transportation, Warehousing, and Utilities",43000000,104900,104800,105000,105400,105400,104900,105700,105800,106200,106800,106800,106900,110200,109900,109300,109200,109100,108500,108200,107900,107200,106400,106300,106100,105400,104800,104800,104600,104900,104100,103800,103500,104000,104300,104700,104500,105000,105200,105100,105400,105400,106200,105400,104900,105800,105700,105700,105700,105600,105700,105900,106100,106700,107000,107500,107400,107200,108200,108300,108000,108000,108000,108400,108600,108400,108300,108700,108900,108900,108200,108800,109100,109700,109900,110000,109900,109900,110200,109800,110000,110300,110000,109900,110500,110300,110400,110300,110000,110500,111200,109800,110400,110300,110400,110700,110600,110800,110500,110100,109600,109200,108600,108400,108100,107400,107200,106900,106400,105500,105000,104300,104300,104900,105000,104000,104100,103700,103100,102600,102200,102200,102400,102300,102500,102200,102400,102400,101800,101600,101900,101600,101600,101500,101200,101100,100900,100700,100600,100800,100800,100900,100700,100700,100600,100500,100400,100100,99700,100400,100500,100600,100300,100600,100500,100300,100400,100300,100400,100600,100300,100200,99700,99900,100200,99900,100100,100200,100100,100500,100900,100900,101500,101300,101300,101300,101300,101500,101700,102600,102800,102500,102500,102900,102700,103100,103700,105600,106000,106200,106300,106400,106800,106500,106700,106500,106600,106700,106900,107200,107200,107100,107100,107200,107500,106900,106900,106300,106500,106700,106300,107300,106700,109500]
["2016-1","State",0,"Information",50000000,52500,52800,52900,53000,53200,53300,53700,53700,53900,54500,55000,55000,53800,54000,54200,54300,53700,53600,53300,52900,52800,52400,52200,51900,51800,51700,51500,51400,51200,51000,51000,51000,50800,50800,50700,50800,50800,50400,50400,50200,50100,50100,50100,50200,50600,50300,50400,50400,50300,50100,50200,50000,49800,49700,50100,50000,49900,49700,49600,49500,49600,49700,49600,50000,49900,50000,49700,49700,49800,49600,49600,49600,49600,49600,49500,49200,49100,49000,49100,49100,49100,49300,49400,49500,49800,49800,49800,50000,50100,50300,50500,50500,50500,50500,50400,50400,50300,50300,50300,50500,51200,50700,50300,50100,49900,49700,49400,49300,49200,49300,48800,48300,48400,48200,47800,47600,47500,46900,47000,47100,46800,46500,46600,46400,46500,46700,46700,46800,46800,46500,46900,46900,46900,47000,46900,47100,46900,46500,46800,46700,46800,46700,46700,46600,46400,46400,46300,46400,46300,46600,46400,46500,46600,46600,46700,46500,46900,47100,47100,47200,47200,47300,47300,47300,47300,47300,47400,47500,47500,47600,47700,47600,47600,47800,48000,48100,47900,48300,48300,48400,48600,48400,48400,48600,48700,48600,49000,49200,49300,49400,49400,49300,49300,49400,49500,49600,49300,49200,49100,48900,48800,48100,47700,47700,47800,48200,47900,47900,47000,46800,46400,46000,46100]
["2016-1","State",0,"Financial Activities",55000000,143900,143900,144100,144800,144700,145100,145200,145000,145300,145800,146000,146300,146700,146700,147600,146800,147200,147300,147600,147400,147700,147200,147400,147000,147700,148200,148200,148400,148600,148700,149100,149500,149600,149700,150200,150400,150500,151100,151300,151600,152300,152400,151800,152000,152100,152300,152200,152400,152800,152600,152900,153100,153200,153500,153800,154100,153500,154200,154300,154500,154100,153700,154200,154000,154100,154300,154500,154700,154900,154900,155000,155000,155100,155000,155200,155800,156200,156200,156700,156600,157000,157000,157000,157300,157400,157400,157200,157200,156900,157400,156900,156600,156900,158100,158000,158300,158400,158900,158700,158700,159200,158800,158900,158700,158100,157700,157500,157300,157500,156800,156400,156300,156100,155800,155100,155100,154400,154200,153900,153500,153300,152900,153100,152500,152200,152100,151900,151500,151500,151700,151700,151300,151200,151100,151100,150900,150700,150500,150700,150300,150600,150600,150700,150700,151200,151000,151100,150900,151000,150900,150800,150800,150800,150700,150700,150600,150600,150500,150700,150300,150400,150500,150700,150600,150600,150300,150300,150200,149000,149300,149500,149800,149900,150100,150000,150400,150800,150500,150500,150700,150800,151000,151100,150900,151300,151300,151400,151000,151200,151500,151500,151400,151200,151400,151400,151400,151500,151400,152000,151900,151800,151800,151600,152200,154000,153200,153700,153700,152800,152200,151700,152800,153300]
["2016-1","State",0,"Real Estate and Rental and Leasing",55530000,26400,26300,26400,26600,26400,26600,26700,26500,26500,26600,26500,26600,26700,26700,26800,26800,26800,26900,26700,26700,26800,26500,26700,26500,26800,26900,26900,26800,26800,26800,26800,26800,26900,26900,27000,27100,26500,26800,26800,27100,27200,27200,27200,27400,27400,27500,27400,27400,27300,27300,27400,27500,27600,27500,27900,27900,27900,27900,27900,27800,28000,27800,28000,28100,28000,27900,28200,28000,28200,28000,28100,28200,28200,28100,28100,28200,28200,28300,28500,28300,28300,28200,28200,28200,28200,28200,28200,28200,28200,28200,28100,28000,28000,28100,27900,27900,27700,27800,27700,27600,27500,27400,27300,27100,26900,27000,26900,26800,26300,26100,25900,25600,25700,25700,25500,25500,25400,25300,25100,25100,25300,25200,25100,24900,24800,24600,24600,24500,24400,24600,24500,24500,24400,24400,24500,24500,24200,24300,24200,24100,24200,24100,24100,24100,24200,24100,24100,24100,24200,24200,24300,24200,24100,24200,24100,24200,24300,24300,24400,24300,24500,24400,24500,24400,24500,24300,24400,24300,24200,24300,24400,24400,24400,24500,24400,24400,24500,24400,24400,24400,24400,24500,24600,24500,24800,24900,25100,25100,25200,25300,25400,25400,25100,25400,25300,25400,25400,25400,25300,25400,25400,25400,25400,25200,25800,25800,25900,26000,25900,25800,25800,25900,26100]
["2016-1","State",0,"Professional and Business Services",60000000,246900,249100,250400,249200,251100,251100,249400,249700,250300,249100,250500,247800,246600,246200,244200,242800,242700,241500,241400,241000,239100,237600,237200,236300,240600,240600,242200,243500,243600,243800,244000,243900,243500,243600,242600,242200,246900,247500,247400,247000,246200,245700,246100,245700,248100,248300,249600,250300,252000,252100,252400,252700,253900,256000,256100.00000000003,259200,256700,259600.00000000003,259700,260100.00000000003,261800,262500,264000,265800,264600,264600,267100,267800,268300,266800,268700,269900,269400,270900,271300,275000,274100,274700,274200,274000,274900,276000,276400,275500,277600,278000,279400,281400,282000,283700,283200,283500,283200,282900,284000,285600,286200,287300,286300,285500,285900,286400,286000,286600,285000,281600,278600,276700,271400,266700,262100.00000000003,259700,259800,258100.00000000003,257800,257100.00000000003,257500,259899.99999999997,262400,263500,264100,267200,266000,271500,272400,272800,275100,277600,277700,281000,282500,284500,285600,285400,287500,286100,285900,286700,288000,288100,289900,289300,290100,289900,291200,291800,295100,295500,294100,294800,293600,293300,294900,295500,297500,295300,296100,298600,301700,298600,300600,302500,302900,303600,303800,302900,305000,305500,306100,306200,305900,306200,307200,307700,307200,308400,308400,309900,311600,309400,310800,310400,311200,312400,313700,314400,315800,317400,316300,317100,317900,319500,322600,322800,322600,322900,321800,320800,322600,321900,322300,321100,320700,320300,321800,323100,326300,324600,327000,322300,324800,321200,322900]
["2016-1","State",0,"Professional, Scientific, and Technical Services",60540000,87700,88000,88400,87700,89100,89700,89400,89400,89800,89100,89400,89500,89600,89900,89700,89600,89500,89400,89400,89400,89200,89200,88500,88000,89600,89300,89300,89200,88900,89000,89600,89400,89400,89400,89600,89800,89600,89500,89300,89000,88800,88500,87900,87900,88200,88400,88500,88300,88100,88300,88400,88800,89300,89400,89700,89900,89800,90100,90500,90600,91200,91400,91600,91600,91800,92100,92700,93100,93400,93500,93800,94300,94400,94600,94600,95500,95400,95700,95800,95800,95900,96100,96100,96000,96700,96800,97200,97800,98200,98500,98800,99000,99100,99100,99300,99400,99600,99900,99900,101200,100900,101000,100900,101100,101200,100800,100300,100000,99200,98500,97600,96400,95300,94900,94000,93400,93200,93100,93500,93000,93000,92900,93000,93000,93100,93100,93600,93700,93500,94300,94500,95000,95300,95600,95500,96300,96100,95800,96100,96300,96700,96600,97300,96800,97100,97300,97600,97900,98000,98500,98000,98100,98200,98700,100200,98600,98800,99200,99300,99300,99600,99600,100300,100100,100300,100400,100700,100900,100500,100500,100800,100800,100900,101600,101500,101700,101400,101400,101600,102000,103100,103000,103500,103800,104300,104800,105000,105100,105300,105800,106000,106100,106500,106700,106800,107100,107200,107100,107800,107900,108300,106600,106500,105600,105900,106300,107900,107600,109100,106900,106400,104500,104600]
["2016-1","State",0,"Mgmt. Of Companies and Enterprises",60550000,null,null,null,null,null,null,null,null,null,null,null,null,null,null,null,null,null,null,null,null,null,null,null,null,null,null,null,null,null,null,null,null,null,null,null,null,40900,40900,41000,40800,40700,40800,40900,41000,41100,41800,41900,41700,43100,43100,43100,43000,43200,43400,43300,43500,43400,43600,43700,43700,43800,44000,44200,44300,44200,44300,44300,44400,44400,44100,44200,44300,44000,43900,44000,44500,44500,44800,44900,45000,45200,45500,45600,45700,46300,46500,46700,47000,47000,47000,46600,46500,46500,46700,46800,46800,47200,47400,47400,47600,48000,48100,48600,48700,48900,48800,49000,49100,48800,48800,48600,48400,48500,48600,48800,48800,49000,49000,49100,49400,48800,49400,49700,50200,50300,50600,50500,51300,51400,51800,52200,52600,52700,53000,53200,53500,53700,53900,54100,54400,54800,55000,55100,55300,55600,55700,56000,56200,56300,56600,56600,56600,56600,56800,57100,57400,57700,58000,58500,58300,58400,58800,58600,58700,58800,59000,59100,59300,59200,59200,59300,59300,59500,59700,59400,59800,59800,59700,59800,59700,61600,61800,62000,62300,62900,63400,64200,64900.000000000007,65300,65900,66300,66800,68200,68300,68800,68800,68700,68600,68800,68700,68700,69200,69400,69600,69400,69600,70000,69700,69800,69400,69900,70200,70400]
["2016-1","State",0,"Administrative and Support and Waste Management and Remediation Services",60560000,127700,129300.00000000001,130100,129600,130100,129400,128000,128199.99999999999,128199.99999999999,127500,128699.99999999999,126000,124800,123900,122000,120600,120300,118900,118500,117800,116000,114100,114200,113700,115900,116100,117300,118900,119200,119100,118800,119200,118500,119000,117800,117000,116400,117100,117100,117200,116700,116400,117300,116800,118800,118100,119200,120300,120800,120700,120900,120900,121400,123200,123100,125800,123500,125900,125500,125800,126800,127100,128199.99999999999,129900,128600,128199.99999999999,130100,130300.00000000001,130500,129199.99999999999,130699.99999999999,131300,131000,132400,132700,135000,134200,134200,133500,133200,133800,134400,134700,133800,134600,134700,135500,136600,136800,138200,137800,138000,137600,137100,137900,139400,139400,140000,139000,136700,137000,137300,136500,136800,134900,132000,129300.00000000001,127600,123400,119400,115900,114900,116000,114600,115000,114900,115300,117800,119800,121100,122300,124900,123300,128300.00000000001,129000,129100,131000,132600,132800,134900,135800,136900,137600,136800,138800,136300,136100,137000,137800,137400,138400,137700,137700,137800,138500,138800,141500,141400,139800,139700,139000,138600,140100,140000,140200,139300,139600,141400,143900,141000,142600,144100,144000,144800,144700,143500,145200,145300,146400,146500,145800,146100,146800,146400,146300,146900,147200,148800,150200,147700,146100,145600,145700,146300,146500,146200,146600,147400,145700,145400,145600,146600,147900,147800,147000,147000,145900,145100,146000,145300,145300,145300,144800,145100,146500,147200,148400,147300,148100,146000,148500,146500,147900]
["2016-1","State",0,"Education and Health Services",65000000,333500,334600,336600,338500,338000,339500,340800,342500,341500,341800,343000,344600,344200,348200,349200,349200,349200,348100,348800,349800,350900,351800,352900,353700,352600,353000,353500,355300,356000,357800,356900,359200,358500,359400,360300,360500,360900,361200,361300,362600,362600,357400,359600,360700,367400,368800,367900,367900,368500,369800,370300,371100,371700,371800,372400,373400,373100,373900,374400,375400,376100,376400,377500,378000,378600,379300,379700,380300,381500,381400,382300,382700,383700,384800,384600,385500,386000,386600,387700,387900,388800,389800,390100,390100,390000,390600,391100,391500,392000,393000,393800,394500,395600,393300,392900,394100,394600,395000,395700,396900,397400,398500,399500,400300,401400,403000,404300,406100,405300,406100,406400,405600,406200,407700,407200,407700,406100,406900,406400,405700,407600,408000,408600,405900,405500,406700,408200,409100,407300,407800,407900,408100,408200,408000,407100,409600,410100,410400,411400,411400,412700,413000,413500,414400,414800,415600,416600,417200,417300,418000,415200,417600,420000,421800,422000,422700,422000,422900,423000,423200,423700,423600,421400,424500,425400,426000,426600,426400,427900,428500,428800,429300,429700,430900,429300,431500,432000,431700,433100,433200,432700,433700,434600,434300,435600,436100,435800,436800,436800,437900,438700,440000,441000,442200,442600,443400,443000,443700,446400,446600,447000,448800,449600,449200,450600,448700,450100,450200,448400,449200,449800,451000,451300]
["2016-1","State",0,"Educational Services",65610000,42100,42700,43200,43800,43700,45000,45200,45700,44000,43900,44200,44600,42700,45800,46100,46000,45300,43000,43300,43100,43600,44000,43800,43700,43700,43800,44000,44700,44600,45400,44800,45900,44500,44200,44500,44300,44200,44200,43900,43600,43800,38500,40200,41200,47700,48400,47200,46700,46000,46700,46600,46900,46700,47000,47000,47400,46900,47100,47100,47400,47600,47600,47800,47800,47800,48000,47800,48100,48000,47800,48100,48000,48300,48500,48400,48800,49000,48800,49100,48800,49000,49100,49500,49100,49100,49200,49400,49100,49400,49200,49500,49700,49800,47400,46600,47000,47100,47100,47000,47800,47600,48100,48600,48700,49300,50300,50600,51400,51000,51000,51000,50100,50100,51300,51200,51300,50100,50000,49800,49500,49900,50000,50100,49300,48600,49800,50800,51500,50400,49700,49400,49400,49600,49200,48300,49700,50100,49900,50400,50600,50600,50700,50900,50800,49700,49800,50200,50300,50500,50200,46200,48100,49400,50100,50100,50300,50100,50400,50100,50100,49800,49500,47000,48900,49500,49900,50000,50000,50000,50100,49900,50000,50300,50000,48300,49800,50000,50000,49900,50200,50000,50400,50400,50100,50400,50200,49400,50200,50000,50100,50100,50300,50200,50300,50400,50500,50100,50800,50400,51200,51500,52300,52500,52500,51700,51700,51400,51000,51000,49800,49100,51300,52100]
["2016-1","State",0,"Health Care and Social Assistance",65620000,291400,291900,293400,294700,294300,294500,295600,296800,297500,297900,298800,300000,301500,302400,303100,303200,303900,305100,305500,306700,307300,307800,309100,310000,308900,309200,309500,310600,311400,312400,312100,313300,314000,315200,315800,316200,316700,317000,317400,319000,318800,318900,319400,319500,319700,320400,320700,321200,322500,323100,323700,324200,325000,324800,325400,326000,326200,326800,327300,328000,328500,328800,329700,330200,330800,331300,331900,332200,333500,333600,334200,334700,335400,336300,336200,336700,337000,337800,338600,339100,339800,340700,340600,341000,340900,341400,341700,342400,342600,343800,344300,344800,345800,345900,346300,347100,347500,347900,348700,349100,349800,350400,350900,351600,352100,352700,353700,354700,354300,355100,355400,355500,356100,356400,356000,356400,356000,356900,356600,356200,357700,358000,358500,356600,356900,356900,357400,357600,356900,358100,358500,358700,358600,358800,358800,359900,360000,360500,361000,360800,362100,362300,362600,363600,365100,365800,366400,366900,366800,367800,369000,369500,370600,371700,371900,372400,371900,372500,372900,373100,373900,374100,374400,375600,375900,376100,376600,376400,377900,378400,378900,379300,379400,380900,381000,381700,382000,381700,383200,383000,382700,383300,384200,384200,385200,385900,386400,386600,386800,387800,388600,389700,390800,391900,392200,392900,392900,392900,396000,395400,395500,396500,397100,396700,398900,397000,398700,399200,397400,399400,400700,399700,399200]
["2016-1","State",0,"Leisure and Hospitality",70000000,233900,235000,236900,236800,235900,236700,237100,238900,238100,237200,237900,236700,237700,238400,238200,240700,240300,239900,240000,239500,237900,237900,237500,234900,239200,239000,237800,238200,238500,239600,241000,241800,241700,242400,241800,242800,244400,242700,242500,242900,244800,245400,244300,244800,246900,247600,249000,248800,249400,248400,248700,249500,249800,248900,252400,252400,252200,253200,252700,253200,252500,253000,253900,257200,255000,254500,255200,255700,256399.99999999997,255300,256700,256300,258000,259000,259800,259899.99999999997,257800,258600.00000000003,259399.99999999997,259700,259600.00000000003,260700,260500,261399.99999999997,262300,262600,262700,261500,261700,262400,261399.99999999997,262000,260300,262000,262700,262300,261800,261100.00000000003,260899.99999999997,260300,260100.00000000003,259500,259300,258700,258100.00000000003,258600.00000000003,257899.99999999997,257000,254800,255200,254200,252500,255100,253900,252300,251300,251600,250300,250200,250000,250800,249900,249700,251800,251200,250500,251600,252300,251800,252700,252900,252800,252300,251500,251000,251800,251500,251900,252700,253400,253400,253900,253400,252900,254200,254800,256800,258200,256600.00000000003,257600.00000000003,257399.99999999997,256899.99999999997,258200,257000,257300,258300,258600.00000000003,259100.00000000003,259200,258100.00000000003,260200,260500,261399.99999999997,262700,263300,263300,263200,263400,262900,263000,262800,263700,263300,264900,263000,263800,263900,264500,265500,266000,267900,267800,269100,269300,270100,270800,270300,270900,271000,273100,274800,274500,275200,276200,275500,275000,274700,274100,275300,275200,274600,274600,274300,274300,273000,278100,275900,277600,278800,284900,282300,282100,278400]
["2016-1","State",0,"Arts, Entertainment, and Recreation",70710000,32200.000000000004,32600,32500,32600,32800,32500,32400,32400,32500,32400,32400,32100,32400,32299.999999999996,31300,32400,32700.000000000004,32299.999999999996,32600,32200.000000000004,32100,32400,32100,30500,32299.999999999996,32200.000000000004,31500,33000,32800,33300,33500,33800,33500,33800,33300,34000,33700,33800,33700,33700,34200,34700,34000,33900,34300,33900,34200,34100,35100,34900,34500,34500,34300,34100,34500,34400,34300,34600,34700,34800,34500,34100,34300,35200,34300,34400,34400,34500,34700,34700,34800,34600,34600,35000,35000,35800,34800,34900,34900,35100,35200,35100,34900,35100,35500,35800,36000,35400,36100,36300,36000,36000,35900,36100,36400,36400,36400,36200,35900,35300,35800,35800,35700,35900,35100,35900,35100,35400,35000,34600,34600,33700,35300,35100,34500,34400,34800,34000,34300,34000,34100,34000,34400,35400,34700,33800,34700,34900,34600,34600,34600,34700,34500,34700,34300,34700,34200,34600,35200,35200,35200,35600,35500,35500,35500,35200,36400,37400,35600,35500,35500,35300,36000,35500,35300,35600,35700,35600,35400,34900,36000,35800,35700,36000,36400,36400,36600,36800,36500,36600,36400,36600,36100,36600,36800,36700,36700,36400,36900,37100,37500,37100,37600,37500,37800,38200,37400,37700,37900,38700,39200,38400,39000,39300,39400,39200,39300,39400,39700,39800,39700,39200,38700,38100,37300,36800,38500,39900,39700,42500,41900,42100,41700]
["2016-1","State",0,"Accommodation and Food Services",70720000,201700,202400,204400,204200,203100,204200,204700,206500,205600,204800,205500,204600,205300,206100,206900,208300,207600,207600,207400,207300,205800,205500,205400,204400,206900,206800,206300,205200,205700,206300,207500,208000,208200,208600,208500,208800,210700,208900,208800,209200,210600,210700,210300,210900,212600,213700,214800,214700,214300,213500,214200,215000,215500,214800,217900,218000,217900,218600,218000,218400,218000,218900,219600,222000,220700,220100,220800,221200,221700,220600,221900,221700,223400,224000,224800,224100,223000,223700,224500,224600,224400,225600,225600,226300,226800,226800,226700,226100,225600,226100,225400,226000,224400,225900,226300,225900,225400,224900,225000,225000,224300,223700,223600,222800,223000,222700,222800,221600,219800,220600,219600,218800,219800,218800,217800,216900,216800,216300,215900,216000,216700,215900,215300,216400,216500,216700,216900,217400,217200,218100,218300,218100,217800,216800,216700,217100,217300,217300,217500,218200,218200,218300,217900,217400,218700,219600,220400,220800,221000,222100,221900,221600,222200,221500,222000,222700,222900,223500,223800,223200,224200,224700,225700,226700,226900,226900,226600,226600,226400,226400,226400,227100,227200,228300,226200,227100,227200,228100,228600,228900,230400,230700,231500,231800,232300,232600,232900,233200,233100,234400,235600,236100,236200,236900,236100,235800,235400,234700,235600,235400,234900,235400,235600,236200,235700,241300,237400,237700,239100,242400,240400,240000,236700]
["2016-1","State",0,"Other Services",80000000,125500,126500,125900,126200,126200,126100,126100,125600,126500,126600,126900,126900,130600,130699.99999999999,130900,130600,130900,131100,131600,131700,131800,131600,131800,132200,132300,132200,132100,132300,132300,132400,132000,132000,131900,132300,132500,132500,132800,132800,132800,132800,132800,132800,132800,132600,132700,132400,132300,132400,134100,134400,134600,134700,134900,135200,135300,135600,135600,137200,135900,135300,135800,136000,136000,136200,136200,135800,136000,136100,136100,136000,135900,136000,135900,135700,135800,135700,135800,135900,136000,136000,136200,136200,136300,136600,137100,137200,137300,137500,137700,137700,137800,137500,137200,137900,138000,138100,138000,138100,138200,138600,138900,138900,139000,139200,139100,141200,140100,139500,139200,139000,139000,138300,138300,138100,137800,137600,137600,137500,137500,137300,136900,136900,137000,137200,136900,136700,136900,136900,136800,137500,137000,136900,137100,137000,137100,137200,137200,136900,137500,137300,137200,137100,137200,137600,137600,137900,137700,137800,137700,138800,137800,137800,137700,137600,137700,137600,137400,137300,137500,137300,137700,137900,137600,137900,138800,138100,139300,139700,140400,141100,141200,141800,142400,143100,143800,144600,145000,145200,145700,146000,147200,147600,147900,148200,148500,148400,148300,148100,148300,148400,148400,148700,149000,148900,148900,148800,148800,148800,149200,149300,149500,150400,150500,151700,150900,152400,152100,152900,150400,152200,152200,152300,151800]
["2016-1","State",0,"Government",90000000,403000,401400,404000,406500,407100,412300,407200,409000,402700,403700,407000,403700,405900,412500,412000,412500,413500,415100,414700,415800,416700,417400,415600,415600,413000,415800,416500,415400,415000,412300,411300,411900,409000,419900,421800,417100,409100,416100,416100,416100,413700,419500,411100,412000,403700,412900,410700,410700,408400,411700,412100,409900,410800,413500,412900,414000,410400,413600,414800,411900,416700,416200,414200,414600,414200,412800,414200,413900,418400,416100,414100,416800,415700,414600,415500,415400,413800,416900,415800,415900,418100,414400,415000,414500,414200,413000,413800,415000,415900,420500,417100,418400,421200,415800,414000,417600,420700,419500,418400,417100,420000,419500,422000,420700,431700,425000,428500,424900,422800,423500,423000,422300,423700,420700,421200,418700,416900,419900,418300,420300,419300,417300,418100,421700,425700,422900,419200,417400,418200,418800,419800,414800,417100,418600,418700,415900,417500,414600,419100,414000,412200,409000,406500,410900,401400,404200,410600,414100,418200,412600,409900,412800,410800,411700,415900,411300,400600,412900,410700,409200,408600,408900,409700,409300,411900,411500,409600,410700,411800,409000,410200,410800,410400,411000,411800,417400,413000,411800,416400,411200,409900,410900,410400,410300,409300,409500,408500,408100,408200,408000,404800,409000,410100,410000,409800,410500,407500,409900,412800,414600,409400,415600,420500,418200,413200,416000,411500,418600,417500,410800,417100,412500,415200]
["2016-1","State",0,"Federal Government",90910000,30700,30700,32299.999999999996,33700,37800,38100,33300,34900,29700,29800,30400,30200,30100,30000,30100,30100,30200,30100,30200,30200,30200,30100,30100,29900,29900,29900,29900,29700,29700,30000,29800,29800,29800,30200,30100,30100,29900,30000,30000,29900,29800,29800,29700,29600,30100,29600,29500,29700,29600,29600,29500,29700,29500,29500,29600,29700,29500,29600,29600,29400,29400,29400,29300,29400,29400,29200,29200,29200,29200,29100,29100,29100,29100,29100,29300,29300,29200,29300,29300,29200,29300,29200,29300,29300,29400,29200,29200,29200,29200,29300,29200,29300,29200,29400,29300,29100,29400,29500,29500,29500,29600,29600,29800,29800,29800,29600,29700,29800,29900,29900,29700,31900,31900,29800,29600,29700,29600,29800,29700,29700,29600,29600,30300,33500,37900,34300,32400,30500,29700,29600,29600,29500,29500,29400,29500,29500,29400,29400,29500,29400,29400,29400,29100,29100,29000,29000,29100,29000,29000,29000,29100,29100,29000,29100,28700,28900,28800,28900,28600,28700,28700,28700,28600,28400,28500,28500,28600,28500,28600,28600,28600,28500,28600,28600,28600,28600,28600,28600,28700,28900,28700,28700,28700,28800,28800,29000,29000,28800,28700,28700,28800,29100,28900,28900,29000,28900,28900,29000,29000,29100,29200,29200,29100,29200,29500,29200,29200,29000,29200,29200,29300,29100,29200]
["2016-1","State",0,"State Government",90920000,100300,99500,99600,99800,98100,100900,97400,96300,94300,95500,96200,96000,94900,101400,101000,100300,101400,101800,102600,101000,101600,101100,100500,100000,95700,99300,100100,100600,99300,99500,97800,100000,99000,101500,102900,100800,95300,100800,101200,101400,100700,104300,98600,100200,100100,100100,100300,99600,99400,99900,99800,99800,99300,102000,102100,102700,104100,102900,102800,102700,104600,101900,101300,100900,101000,100500,101600,100700,104400,102100,101900,103300,103800,102600,102000,102000,101400,104100,103700,103900,105600,103500,102500,103200,102800,103200,103800,102800,103700,104400,103400,104000,104300,102600,102500,103500,104900,103800,103400,102600,103900,103300,104200,104000,103600,105000,104400,104300,103600,103100,103200,99600,100900,99500,99200,99100,97300,97400,98200,99200,97800,98300,97700,99400,99400,100800,100700,100700,100200,99600,99000,97300,97300,97500,98100,96800,99900,97100,97000,91700,94400,95600,95700,96400,87200,90300,95700,96300,96700,94800,96200,95800,97600,97000,97000,96500,86300,96500,96500,96600,94700,96000,97000,97500,98400,98200,98400,97800,99600,98200,97500,97800,97400,97500,97900,98400,99100,98500,98600,98600,98600,98500,98400,98200,96900,96600,96200,95700,96000,96000,95700,96100,95700,95600,95700,95300,95500,95800,96200,95300,93400,96500,98400,100000,96400,99000,94000,99100,100600,96100,96800,95400,97000]
["2016-1","State",0,"Local Government",90930000,272000,271200,272100,273000,271200,273300,276500,277800,278700,278400,280400,277500,280900,281100,280900,282100,281900,283200,281900,284600,284900,286200,285000,285700,287400,286600,286500,285100,286000,282800,283700,282100,280200,288200,288800,286200,283900,285300,284900,284800,283200,285400,282800,282200,273500,283200,280900,281400,279400,282200,282800,280400,282000,282000,281200,281600,276800,281100,282400,279800,282700,284900,283600,284300,283800,283100,283400,284000,284800,284900,283100,284400,282800,282900,284200,284100,283200,283500,282800,282800,283200,281700,283200,282000,282000,280600,280800,283000,283000,286800,284500,285100,287700,283800,282200,285000,286400,286200,285500,285000,286500,286600,288000,286900,298300,290400,294400,290800,289300,290500,290100,290800,290900,291400,292400,289900,290000,292700,290400,291400,291900,289400,290100,288800,288400,287800,286100,286200,288300,289600,291200,288000,290300,291700,291100,289600,288200,288100,292600,292900,288400,284000,281700,285400,285200,284900,285800,288800,292500,288800,284600,287900,284200,285600,290200,285900,285500,287500,285600,283900,285200,284200,284100,283400,285000,284800,282600,284400,283600,282200,284100,284500,284400,284900,285300,290400,285300,284700,289100,283700,282600,283700,283300,283300,283600,283900,283300,283600,283500,283300,280300,283800,285500,285500,285100,286300,283100,285100,287600,290200,286800,289900,293000,289000,287300,287800,288300,290500,287700,285500,291000,288000,289000]